{"text_format":"1","workbook":"xlsx","n_sheets":6,"sheets":["Data Definitions","General Info.","ABT Credit Balances","ABT Transactions","Summary","Supporting"],"not_rendered":{"charts":0,"images":0,"macros":1,"external_links":0,"defined_names":12,"comments":0,"pivot_tables":0},"unopened":[],"bounds":{"document_bytes":16777216,"sheet_cells":100000,"rows_first":2000,"rows_last":500,"rows_between":2000,"halvings":0,"cell_chars":16384,"cell_head_chars":4096},"cells_cut":0,"cells_raw":0,"read":"whole","date_system":"1900"}

{"sheet":"Data Definitions","index":0,"n_rows":41,"n_cols":8,"rows_kept":41,"cut":false,"hidden":false,"merged":[]}
[{"$f":"Header","v":"United States\nDepartment of Transportation\nNational Highway Traffic Safety Administration\nMDHD Credit Plan and Transaction Template\n\nManufacturer Averaging, Banking, and Trading Report for Heavy-Duty Engines (49 CFR Part 535)\nLast Revision: June 2024    Version Number 2.1"}]
[]
[null,null,null,null,null,null,"Agency Message"]
[null,null,null,null,null,null,"This template meets the National Highway Traffic Safety Administration’s (NHTSA’s) regulatory requirements for submitting credit transaction instructions in accordance with 49 CFR 535. This template defines the data and data formats required by NHTSA's regulatory provisions. In accordance with  49 CFR 535.9 (a), manufacturers and other MDHD Fuel Economy ABT accounts holders are required to submit Joint Trade Instructions, Credit Allocation Plans, and Carryback Plans to NHTSA to initiate the debiting and crediting of MDHD Fuel Economy ABT credit accounts, and the resolution of MDHD Fuel Economy credit deficits.\n"]
[]
[null,null,null,null,null,null,"Paperwork Reduction Act Notice"]
[null,null,null,null,null,null,"The public reporting and recordkeeping burden for this collection of information is estimated to average 9 hours per response. Send comments on the Agency's need for this information, the accuracy of the provided burden estimates, and any suggested methods for minimizing respondent burden, including through the use of automated collection techniques to the address below. Include the OMB control number in any correspondence, but do not send the completed documents."]
[null,null,null,null,null,null,"\nOffice of the Chief Information Officer\nOffice of the Secretary\n1200 New Jersey Avenue, SE\nWashington, DC 20590\n"]
[]
[null,"Worksheet","Data Field","Location","Source","Data Type","Data Definition / Description","Regulatory Citations"]
[null,"General Info.","Manufacturer","B7","User-Selected","List","Select the manufacturer name from the dropdown list."]
[null,"General Info.","Model Year","D7","User-Selected","List","Select the applicable model year."]
[null,"General Info.","Date","F7","User-Entered","Date\n(mm/dd/yyyy)","Enter the date the report was completed in the mm/dd/yyyy format."]
[null,"General Info.","Point of Contact's Full Name","B13","User-Entered","Text\n(50 Char. Limit)","Enter the Point of Contact's Full Name."]
[null,"General Info.","Point of Contact's Title","D13","User-Entered","Text\n(50 Char. Limit)","Enter the Point of Contact's Title."]
[null,"General Info.","Point of Contact's Department","F13","User-Entered","Text\n(50 Char. Limit)","Enter the Point of Contact's Department."]
[null,"General Info.","Point of Contact's Company","B17","User-Entered","Text\n(50 Char. Limit)","Enter the Point of Contact's Company."]
[null,"General Info.","Point of Contact's Street Address 1","D17","User-Entered","Text\n(50 Char. Limit)","Enter Part One of the Point of Contact's Street Address."]
[null,"General Info.","Point of Contact's Street Address 2","F17","User-Entered","Text\n(50 Char. Limit)","Enter Part Two of the Point of Contact's Street Address."]
[null,"General Info.","Point of Contact's City / Town","B21","User-Entered","Text\n(50 Char. Limit)","Enter the Point of Contact's City / Town."]
[null,"General Info.","Point of Contact's State / Locality / Jurisdiction","D21","User-Entered","Text\n(50 Char. Limit)","Enter the Point of Contact's State / Locality / Jurisdiction."]
[null,"General Info.","Point of Contact's Zip Code / Postal Code","F21","User-Entered","Text\n(50 Char. Limit)","Enter the Point of Contact's Zip Code / Postal Code."]
[null,"General Info.","Point of Contact's Country","B25","User-Entered","Text\n(50 Char. Limit)","Enter the Point of Contact's Country."]
[null,"General Info.","Point of Contact's Phone Number","D25","User-Entered","Text\n(50 Char. Limit)","Enter the Point of Contact's Phone Number."]
[null,"General Info.","Point of Contact's Email Address","F25","User-Entered","Text\n(50 Char. Limit)","Enter the Point of Contact's Email Address."]
[null,"ABT Credit Balances","Averaging Set","B7:B206","User-Selected","List","Select the Averaging Set from the dropdown list.","49 CFR 535.9"]
[null,"ABT Credit Balances","Credit Status","C7:C206","User-Selected","List","Select if the Credits are Earned, Banked or Projected.","49 CFR 535.9(a)(3)"]
[null,"ABT Credit Balances","Credit Amount","D7:D206","User-Entered","Whole Number","Entere the Credits earned.","48 CFR 535.7"]
[null,"ABT Credit Balances","Model Year","E7:E207","User-Selected","List","Select the Model Year from the dropdown list."]
[null,"ABT Credit Balances","Credit Type","F7:F207","User-Selected","List","Select the Credit Type from the dropdown list."]
[null,"ABT Credit Balances","Manufacturer Comments","G7:G207","User-Entered","Text\n(300 Char. Limit)","Enter the Manufacturer Comments (if, any)."]
[null,"ABT Transactions","Credits","B9:B24","User-Entered","Whole Number","Enter the Credits to be used for making Transaction.","49 CFR 535.9"]
[null,"ABT Transactions","Credit Type","C9:C24","User-Selected","List","Select the Credit Type from the dropdown list.","49 CFR 535.9(a)(3)"]
[null,"ABT Transactions","Transection Type","D9:D24","User-Selected","List","Select the Transection Type from the dropdown list.","48 CFR 535.7"]
[null,"ABT Transactions","From Manufacturer","E9:E24","User-Selected","List","Select the Manufacturer (from the dropdown list) from whose account the transaction will be made."]
[null,"ABT Transactions","From Model Year","F9:F24","User-Selected","List","Select the Model Year (from the dropdown list) from which the credits will be used for the Transaction."]
[null,"ABT Transactions","From Averaging Set","G9:G24","User-Selected","List","Select the Averaging Set (from the dropdown list) from which the credits will be used for the Transaction."]
[null,"ABT Transactions","To Manufacturer","H9:H24","User-Selected","List","Select the Manufacturer (from the dropdown list) to whose account the Transaction will be made."]
[null,"ABT Transactions","To Model Year","I9:I24","User-Selected","List","Select the Model Year (from the dropdown list) to which the credits will be Transferred, Traded or Banked."]
[null,"ABT Transactions","To Averaging Set","J9:J24","User-Selected","List","Select the Averaging Set (from the dropdown list) to which the credits will be Transferred, Traded or Banked."]
[null,"ABT Transactions","Manufacturer Comments","K9:K40","User-Entered","Text\n(300 Char. Limit)","Enter the Manufacturer Comments (if, any)."]

{"sheet":"General Info.","index":1,"n_rows":24,"n_cols":6,"rows_kept":24,"cut":false,"hidden":false,"merged":[]}
[{"$f":"Header","v":"United States\nDepartment of Transportation\nNational Highway Traffic Safety Administration\nMDHD Credit Plan and Transaction Template\n\nManufacturer Averaging, Banking, and Trading Report for Heavy-Duty Engines (49 CFR Part 535)\nLast Revision: June 2024    Version Number 2.1"}]
[]
[]
[null,"SECTION 1: General Information"]
[]
[null,"Manufacturer",null,"Model Year",null,"Date\n(mm/dd/yyyy)"]
[null,"(Select Manufacturer)",null,2016]
[]
[]
[null,"SECTION 2: Point of Contact"]
[]
[null,"Full Name",null,"Title",null,"Department"]
[]
[]
[]
[null,"Company",null,"Street Address 1",null,"Street Address 2"]
[]
[]
[]
[null,"City / Town",null,"State / Locality / Jurisdiction",null,"Zip Code / Postal Code"]
[]
[]
[]
[null,"Country",null,"Phone Number",null,"Email Address"]

{"sheet":"ABT Credit Balances","index":2,"n_rows":208,"n_cols":7,"rows_kept":208,"cut":false,"hidden":false,"merged":[[0,0,0,7],[6,1,6,6]]}
["United States\nDepartment of Transportation\nNational Highway Traffic Safety Administration\nMDHD Credit Plan and Transaction Template\n\nManufacturer Averaging, Banking, and Trading Report for Heavy-Duty Engines (49 CFR Part 535)\nLast Revision: June 2024    Version Number 2.1"]
[]
[null,"NOTE: Please include information for Projected/Banked Credits for upto three Model Years after the current Model Year."]
[]
[null,"Model Year",{"$f":"IF('General Info.'!$D$7=\"\",\"\",'General Info.'!$D$7)","v":2016},null,null,"Manufacturer Name",{"$f":"IF('General Info.'!$B$7=\"\",\"\",'General Info.'!$B$7)","v":"(Select Manufacturer)"}]
[]
[null,"FE Credit Balances prior to ABT Transactions - Final Compliance Values"]
[null,"Averaging Set","Credit Status","Credits Amount","Model Year","Credit Type","Manufacturer Comments"]
[null,"(Select Averaging Set)","(Select Credit Status)",null,"(select Model Year)","(Select Credit Type)"]
[null,"(Select Averaging Set)","(Select Credit Status)",null,"(select Model Year)","(Select Credit Type)"]
[null,"(Select Averaging Set)","(Select Credit Status)",null,"(select Model Year)","(Select Credit Type)"]
[null,"(Select Averaging Set)","(Select Credit Status)",null,"(select Model Year)","(Select Credit Type)"]
[null,"(Select Averaging Set)","(Select Credit Status)",null,"(select Model Year)","(Select Credit Type)"]
[null,"(Select Averaging Set)","(Select Credit Status)",null,"(select Model Year)","(Select Credit Type)"]
[null,"(Select Averaging Set)","(Select Credit Status)",null,"(select Model Year)","(Select Credit Type)"]
[null,"(Select Averaging Set)","(Select Credit Status)",null,"(select Model Year)","(Select Credit Type)"]
[null,"(Select Averaging Set)","(Select Credit Status)",null,"(select Model Year)","(Select Credit Type)"]
[null,"(Select Averaging Set)","(Select Credit Status)",null,"(select Model Year)","(Select Credit Type)"]
[null,"(Select Averaging Set)","(Select Credit Status)",null,"(select Model Year)","(Select Credit Type)"]
[null,"(Select Averaging Set)","(Select Credit Status)",null,"(select Model Year)","(Select Credit Type)"]
[null,"(Select Averaging Set)","(Select Credit Status)",null,"(select Model Year)","(Select Credit Type)"]
[null,"(Select Averaging Set)","(Select Credit Status)",null,"(select Model Year)","(Select Credit Type)"]
[null,"(Select Averaging Set)","(Select Credit Status)",null,"(select Model Year)","(Select Credit Type)"]
[null,"(Select Averaging Set)","(Select Credit Status)",null,"(select Model Year)","(Select Credit Type)"]
[null,"(Select Averaging Set)","(Select Credit Status)",null,"(select Model Year)","(Select Credit Type)"]
[null,"(Select Averaging Set)","(Select Credit Status)",null,"(select Model Year)","(Select Credit Type)"]
[null,"(Select Averaging Set)","(Select Credit Status)",null,"(select Model Year)","(Select Credit Type)"]
[null,"(Select Averaging Set)","(Select Credit Status)",null,"(select Model Year)","(Select Credit Type)"]
[null,"(Select Averaging Set)","(Select Credit Status)",null,"(select Model Year)","(Select Credit Type)"]
[null,"(Select Averaging Set)","(Select Credit Status)",null,"(select Model Year)","(Select Credit Type)"]
[null,"(Select Averaging Set)","(Select Credit Status)",null,"(select Model Year)","(Select Credit Type)"]
[null,"(Select Averaging Set)","(Select Credit Status)",null,"(select Model Year)","(Select Credit Type)"]
[null,"(Select Averaging Set)","(Select Credit Status)",null,"(select Model Year)","(Select Credit Type)"]
[null,"(Select Averaging Set)","(Select Credit Status)",null,"(select Model Year)","(Select Credit Type)"]
[null,"(Select Averaging Set)","(Select Credit Status)",null,"(select Model Year)","(Select Credit Type)"]
[null,"(Select Averaging Set)","(Select Credit Status)",null,"(select Model Year)","(Select Credit Type)"]
[null,"(Select Averaging Set)","(Select Credit Status)",null,"(select Model Year)","(Select Credit Type)"]
[null,"(Select Averaging Set)","(Select Credit Status)",null,"(select Model Year)","(Select Credit Type)"]
[null,"(Select Averaging Set)","(Select Credit Status)",null,"(select Model Year)","(Select Credit Type)"]
[null,"(Select Averaging Set)","(Select Credit Status)",null,"(select Model Year)","(Select Credit Type)"]
[null,"(Select Averaging Set)","(Select Credit Status)",null,"(select Model Year)","(Select Credit Type)"]
[null,"(Select Averaging Set)","(Select Credit Status)",null,"(select Model Year)","(Select Credit Type)"]
[null,"(Select Averaging Set)","(Select Credit Status)",null,"(select Model Year)","(Select Credit Type)"]
[null,"(Select Averaging Set)","(Select Credit Status)",null,"(select Model Year)","(Select Credit Type)"]
[null,"(Select Averaging Set)","(Select Credit Status)",null,"(select Model Year)","(Select Credit Type)"]
[null,"(Select Averaging Set)","(Select Credit Status)",null,"(select Model Year)","(Select Credit Type)"]
[null,"(Select Averaging Set)","(Select Credit Status)",null,"(select Model Year)","(Select Credit Type)"]
[null,"(Select Averaging Set)","(Select Credit Status)",null,"(select Model Year)","(Select Credit Type)"]
[null,"(Select Averaging Set)","(Select Credit Status)",null,"(select Model Year)","(Select Credit Type)"]
[null,"(Select Averaging Set)","(Select Credit Status)",null,"(select Model Year)","(Select Credit Type)"]
[null,"(Select Averaging Set)","(Select Credit Status)",null,"(select Model Year)","(Select Credit Type)"]
[null,"(Select Averaging Set)","(Select Credit Status)",null,"(select Model Year)","(Select Credit Type)"]
[null,"(Select Averaging Set)","(Select Credit Status)",null,"(select Model Year)","(Select Credit Type)"]
[null,"(Select Averaging Set)","(Select Credit Status)",null,"(select Model Year)","(Select Credit Type)"]
[null,"(Select Averaging Set)","(Select Credit Status)",null,"(select Model Year)","(Select Credit Type)"]
[null,"(Select Averaging Set)","(Select Credit Status)",null,"(select Model Year)","(Select Credit Type)"]
[null,"(Select Averaging Set)","(Select Credit Status)",null,"(select Model Year)","(Select Credit Type)"]
[null,"(Select Averaging Set)","(Select Credit Status)",null,"(select Model Year)","(Select Credit Type)"]
[null,"(Select Averaging Set)","(Select Credit Status)",null,"(select Model Year)","(Select Credit Type)"]
[null,"(Select Averaging Set)","(Select Credit Status)",null,"(select Model Year)","(Select Credit Type)"]
[null,"(Select Averaging Set)","(Select Credit Status)",null,"(select Model Year)","(Select Credit Type)"]
[null,"(Select Averaging Set)","(Select Credit Status)",null,"(select Model Year)","(Select Credit Type)"]
[null,"(Select Averaging Set)","(Select Credit Status)",null,"(select Model Year)","(Select Credit Type)"]
[null,"(Select Averaging Set)","(Select Credit Status)",null,"(select Model Year)","(Select Credit Type)"]
[null,"(Select Averaging Set)","(Select Credit Status)",null,"(select Model Year)","(Select Credit Type)"]
[null,"(Select Averaging Set)","(Select Credit Status)",null,"(select Model Year)","(Select Credit Type)"]
[null,"(Select Averaging Set)","(Select Credit Status)",null,"(select Model Year)","(Select Credit Type)"]
[null,"(Select Averaging Set)","(Select Credit Status)",null,"(select Model Year)","(Select Credit Type)"]
[null,"(Select Averaging Set)","(Select Credit Status)",null,"(select Model Year)","(Select Credit Type)"]
[null,"(Select Averaging Set)","(Select Credit Status)",null,"(select Model Year)","(Select Credit Type)"]
[null,"(Select Averaging Set)","(Select Credit Status)",null,"(select Model Year)","(Select Credit Type)"]
[null,"(Select Averaging Set)","(Select Credit Status)",null,"(select Model Year)","(Select Credit Type)"]
[null,"(Select Averaging Set)","(Select Credit Status)",null,"(select Model Year)","(Select Credit Type)"]
[null,"(Select Averaging Set)","(Select Credit Status)",null,"(select Model Year)","(Select Credit Type)"]
[null,"(Select Averaging Set)","(Select Credit Status)",null,"(select Model Year)","(Select Credit Type)"]
[null,"(Select Averaging Set)","(Select Credit Status)",null,"(select Model Year)","(Select Credit Type)"]
[null,"(Select Averaging Set)","(Select Credit Status)",null,"(select Model Year)","(Select Credit Type)"]
[null,"(Select Averaging Set)","(Select Credit Status)",null,"(select Model Year)","(Select Credit Type)"]
[null,"(Select Averaging Set)","(Select Credit Status)",null,"(select Model Year)","(Select Credit Type)"]
[null,"(Select Averaging Set)","(Select Credit Status)",null,"(select Model Year)","(Select Credit Type)"]
[null,"(Select Averaging Set)","(Select Credit Status)",null,"(select Model Year)","(Select Credit Type)"]
[null,"(Select Averaging Set)","(Select Credit Status)",null,"(select Model Year)","(Select Credit Type)"]
[null,"(Select Averaging Set)","(Select Credit Status)",null,"(select Model Year)","(Select Credit Type)"]
[null,"(Select Averaging Set)","(Select Credit Status)",null,"(select Model Year)","(Select Credit Type)"]
[null,"(Select Averaging Set)","(Select Credit Status)",null,"(select Model Year)","(Select Credit Type)"]
[null,"(Select Averaging Set)","(Select Credit Status)",null,"(select Model Year)","(Select Credit Type)"]
[null,"(Select Averaging Set)","(Select Credit Status)",null,"(select Model Year)","(Select Credit Type)"]
[null,"(Select Averaging Set)","(Select Credit Status)",null,"(select Model Year)","(Select Credit Type)"]
[null,"(Select Averaging Set)","(Select Credit Status)",null,"(select Model Year)","(Select Credit Type)"]
[null,"(Select Averaging Set)","(Select Credit Status)",null,"(select Model Year)","(Select Credit Type)"]
[null,"(Select Averaging Set)","(Select Credit Status)",null,"(select Model Year)","(Select Credit Type)"]
[null,"(Select Averaging Set)","(Select Credit Status)",null,"(select Model Year)","(Select Credit Type)"]
[null,"(Select Averaging Set)","(Select Credit Status)",null,"(select Model Year)","(Select Credit Type)"]
[null,"(Select Averaging Set)","(Select Credit Status)",null,"(select Model Year)","(Select Credit Type)"]
[null,"(Select Averaging Set)","(Select Credit Status)",null,"(select Model Year)","(Select Credit Type)"]
[null,"(Select Averaging Set)","(Select Credit Status)",null,"(select Model Year)","(Select Credit Type)"]
[null,"(Select Averaging Set)","(Select Credit Status)",null,"(select Model Year)","(Select Credit Type)"]
[null,"(Select Averaging Set)","(Select Credit Status)",null,"(select Model Year)","(Select Credit Type)"]
[null,"(Select Averaging Set)","(Select Credit Status)",null,"(select Model Year)","(Select Credit Type)"]
[null,"(Select Averaging Set)","(Select Credit Status)",null,"(select Model Year)","(Select Credit Type)"]
[null,"(Select Averaging Set)","(Select Credit Status)",null,"(select Model Year)","(Select Credit Type)"]
[null,"(Select Averaging Set)","(Select Credit Status)",null,"(select Model Year)","(Select Credit Type)"]
[null,"(Select Averaging Set)","(Select Credit Status)",null,"(select Model Year)","(Select Credit Type)"]
[null,"(Select Averaging Set)","(Select Credit Status)",null,"(select Model Year)","(Select Credit Type)"]
[null,"(Select Averaging Set)","(Select Credit Status)",null,"(select Model Year)","(Select Credit Type)"]
[null,"(Select Averaging Set)","(Select Credit Status)",null,"(select Model Year)","(Select Credit Type)"]
[null,"(Select Averaging Set)","(Select Credit Status)",null,"(select Model Year)","(Select Credit Type)"]
[null,"(Select Averaging Set)","(Select Credit Status)",null,"(select Model Year)","(Select Credit Type)"]
[null,"(Select Averaging Set)","(Select Credit Status)",null,"(select Model Year)","(Select Credit Type)"]
[null,"(Select Averaging Set)","(Select Credit Status)",null,"(select Model Year)","(Select Credit Type)"]
[null,"(Select Averaging Set)","(Select Credit Status)",null,"(select Model Year)","(Select Credit Type)"]
[null,"(Select Averaging Set)","(Select Credit Status)",null,"(select Model Year)","(Select Credit Type)"]
[null,"(Select Averaging Set)","(Select Credit Status)",null,"(select Model Year)","(Select Credit Type)"]
[null,"(Select Averaging Set)","(Select Credit Status)",null,"(select Model Year)","(Select Credit Type)"]
[null,"(Select Averaging Set)","(Select Credit Status)",null,"(select Model Year)","(Select Credit Type)"]
[null,"(Select Averaging Set)","(Select Credit Status)",null,"(select Model Year)","(Select Credit Type)"]
[null,"(Select Averaging Set)","(Select Credit Status)",null,"(select Model Year)","(Select Credit Type)"]
[null,"(Select Averaging Set)","(Select Credit Status)",null,"(select Model Year)","(Select Credit Type)"]
[null,"(Select Averaging Set)","(Select Credit Status)",null,"(select Model Year)","(Select Credit Type)"]
[null,"(Select Averaging Set)","(Select Credit Status)",null,"(select Model Year)","(Select Credit Type)"]
[null,"(Select Averaging Set)","(Select Credit Status)",null,"(select Model Year)","(Select Credit Type)"]
[null,"(Select Averaging Set)","(Select Credit Status)",null,"(select Model Year)","(Select Credit Type)"]
[null,"(Select Averaging Set)","(Select Credit Status)",null,"(select Model Year)","(Select Credit Type)"]
[null,"(Select Averaging Set)","(Select Credit Status)",null,"(select Model Year)","(Select Credit Type)"]
[null,"(Select Averaging Set)","(Select Credit Status)",null,"(select Model Year)","(Select Credit Type)"]
[null,"(Select Averaging Set)","(Select Credit Status)",null,"(select Model Year)","(Select Credit Type)"]
[null,"(Select Averaging Set)","(Select Credit Status)",null,"(select Model Year)","(Select Credit Type)"]
[null,"(Select Averaging Set)","(Select Credit Status)",null,"(select Model Year)","(Select Credit Type)"]
[null,"(Select Averaging Set)","(Select Credit Status)",null,"(select Model Year)","(Select Credit Type)"]
[null,"(Select Averaging Set)","(Select Credit Status)",null,"(select Model Year)","(Select Credit Type)"]
[null,"(Select Averaging Set)","(Select Credit Status)",null,"(select Model Year)","(Select Credit Type)"]
[null,"(Select Averaging Set)","(Select Credit Status)",null,"(select Model Year)","(Select Credit Type)"]
[null,"(Select Averaging Set)","(Select Credit Status)",null,"(select Model Year)","(Select Credit Type)"]
[null,"(Select Averaging Set)","(Select Credit Status)",null,"(select Model Year)","(Select Credit Type)"]
[null,"(Select Averaging Set)","(Select Credit Status)",null,"(select Model Year)","(Select Credit Type)"]
[null,"(Select Averaging Set)","(Select Credit Status)",null,"(select Model Year)","(Select Credit Type)"]
[null,"(Select Averaging Set)","(Select Credit Status)",null,"(select Model Year)","(Select Credit Type)"]
[null,"(Select Averaging Set)","(Select Credit Status)",null,"(select Model Year)","(Select Credit Type)"]
[null,"(Select Averaging Set)","(Select Credit Status)",null,"(select Model Year)","(Select Credit Type)"]
[null,"(Select Averaging Set)","(Select Credit Status)",null,"(select Model Year)","(Select Credit Type)"]
[null,"(Select Averaging Set)","(Select Credit Status)",null,"(select Model Year)","(Select Credit Type)"]
[null,"(Select Averaging Set)","(Select Credit Status)",null,"(select Model Year)","(Select Credit Type)"]
[null,"(Select Averaging Set)","(Select Credit Status)",null,"(select Model Year)","(Select Credit Type)"]
[null,"(Select Averaging Set)","(Select Credit Status)",null,"(select Model Year)","(Select Credit Type)"]
[null,"(Select Averaging Set)","(Select Credit Status)",null,"(select Model Year)","(Select Credit Type)"]
[null,"(Select Averaging Set)","(Select Credit Status)",null,"(select Model Year)","(Select Credit Type)"]
[null,"(Select Averaging Set)","(Select Credit Status)",null,"(select Model Year)","(Select Credit Type)"]
[null,"(Select Averaging Set)","(Select Credit Status)",null,"(select Model Year)","(Select Credit Type)"]
[null,"(Select Averaging Set)","(Select Credit Status)",null,"(select Model Year)","(Select Credit Type)"]
[null,"(Select Averaging Set)","(Select Credit Status)",null,"(select Model Year)","(Select Credit Type)"]
[null,"(Select Averaging Set)","(Select Credit Status)",null,"(select Model Year)","(Select Credit Type)"]
[null,"(Select Averaging Set)","(Select Credit Status)",null,"(select Model Year)","(Select Credit Type)"]
[null,"(Select Averaging Set)","(Select Credit Status)",null,"(select Model Year)","(Select Credit Type)"]
[null,"(Select Averaging Set)","(Select Credit Status)",null,"(select Model Year)","(Select Credit Type)"]
[null,"(Select Averaging Set)","(Select Credit Status)",null,"(select Model Year)","(Select Credit Type)"]
[null,"(Select Averaging Set)","(Select Credit Status)",null,"(select Model Year)","(Select Credit Type)"]
[null,"(Select Averaging Set)","(Select Credit Status)",null,"(select Model Year)","(Select Credit Type)"]
[null,"(Select Averaging Set)","(Select Credit Status)",null,"(select Model Year)","(Select Credit Type)"]
[null,"(Select Averaging Set)","(Select Credit Status)",null,"(select Model Year)","(Select Credit Type)"]
[null,"(Select Averaging Set)","(Select Credit Status)",null,"(select Model Year)","(Select Credit Type)"]
[null,"(Select Averaging Set)","(Select Credit Status)",null,"(select Model Year)","(Select Credit Type)"]
[null,"(Select Averaging Set)","(Select Credit Status)",null,"(select Model Year)","(Select Credit Type)"]
[null,"(Select Averaging Set)","(Select Credit Status)",null,"(select Model Year)","(Select Credit Type)"]
[null,"(Select Averaging Set)","(Select Credit Status)",null,"(select Model Year)","(Select Credit Type)"]
[null,"(Select Averaging Set)","(Select Credit Status)",null,"(select Model Year)","(Select Credit Type)"]
[null,"(Select Averaging Set)","(Select Credit Status)",null,"(select Model Year)","(Select Credit Type)"]
[null,"(Select Averaging Set)","(Select Credit Status)",null,"(select Model Year)","(Select Credit Type)"]
[null,"(Select Averaging Set)","(Select Credit Status)",null,"(select Model Year)","(Select Credit Type)"]
[null,"(Select Averaging Set)","(Select Credit Status)",null,"(select Model Year)","(Select Credit Type)"]
[null,"(Select Averaging Set)","(Select Credit Status)",null,"(select Model Year)","(Select Credit Type)"]
[null,"(Select Averaging Set)","(Select Credit Status)",null,"(select Model Year)","(Select Credit Type)"]
[null,"(Select Averaging Set)","(Select Credit Status)",null,"(select Model Year)","(Select Credit Type)"]
[null,"(Select Averaging Set)","(Select Credit Status)",null,"(select Model Year)","(Select Credit Type)"]
[null,"(Select Averaging Set)","(Select Credit Status)",null,"(select Model Year)","(Select Credit Type)"]
[null,"(Select Averaging Set)","(Select Credit Status)",null,"(select Model Year)","(Select Credit Type)"]
[null,"(Select Averaging Set)","(Select Credit Status)",null,"(select Model Year)","(Select Credit Type)"]
[null,"(Select Averaging Set)","(Select Credit Status)",null,"(select Model Year)","(Select Credit Type)"]
[null,"(Select Averaging Set)","(Select Credit Status)",null,"(select Model Year)","(Select Credit Type)"]
[null,"(Select Averaging Set)","(Select Credit Status)",null,"(select Model Year)","(Select Credit Type)"]
[null,"(Select Averaging Set)","(Select Credit Status)",null,"(select Model Year)","(Select Credit Type)"]
[null,"(Select Averaging Set)","(Select Credit Status)",null,"(select Model Year)","(Select Credit Type)"]
[null,"(Select Averaging Set)","(Select Credit Status)",null,"(select Model Year)","(Select Credit Type)"]
[null,"(Select Averaging Set)","(Select Credit Status)",null,"(select Model Year)","(Select Credit Type)"]
[null,"(Select Averaging Set)","(Select Credit Status)",null,"(select Model Year)","(Select Credit Type)"]
[null,"(Select Averaging Set)","(Select Credit Status)",null,"(select Model Year)","(Select Credit Type)"]
[null,"(Select Averaging Set)","(Select Credit Status)",null,"(select Model Year)","(Select Credit Type)"]
[null,"(Select Averaging Set)","(Select Credit Status)",null,"(select Model Year)","(Select Credit Type)"]
[null,"(Select Averaging Set)","(Select Credit Status)",null,"(select Model Year)","(Select Credit Type)"]
[null,"(Select Averaging Set)","(Select Credit Status)",null,"(select Model Year)","(Select Credit Type)"]
[null,"(Select Averaging Set)","(Select Credit Status)",null,"(select Model Year)","(Select Credit Type)"]
[null,"(Select Averaging Set)","(Select Credit Status)",null,"(select Model Year)","(Select Credit Type)"]
[null,"(Select Averaging Set)","(Select Credit Status)",null,"(select Model Year)","(Select Credit Type)"]
[null,"(Select Averaging Set)","(Select Credit Status)",null,"(select Model Year)","(Select Credit Type)"]
[null,"(Select Averaging Set)","(Select Credit Status)",null,"(select Model Year)","(Select Credit Type)"]
[null,"(Select Averaging Set)","(Select Credit Status)",null,"(select Model Year)","(Select Credit Type)"]
[null,"(Select Averaging Set)","(Select Credit Status)",null,"(select Model Year)","(Select Credit Type)"]
[null,"(Select Averaging Set)","(Select Credit Status)",null,"(select Model Year)","(Select Credit Type)"]
[null,"(Select Averaging Set)","(Select Credit Status)",null,"(select Model Year)","(Select Credit Type)"]
[null,"(Select Averaging Set)","(Select Credit Status)",null,"(select Model Year)","(Select Credit Type)"]
[null,"(Select Averaging Set)","(Select Credit Status)",null,"(select Model Year)","(Select Credit Type)"]
[null,"(Select Averaging Set)","(Select Credit Status)",null,"(select Model Year)","(Select Credit Type)"]
[null,"(Select Averaging Set)","(Select Credit Status)",null,"(select Model Year)","(Select Credit Type)"]
[null,"(Select Averaging Set)","(Select Credit Status)",null,"(select Model Year)","(Select Credit Type)"]
[null,"(Select Averaging Set)","(Select Credit Status)",null,"(select Model Year)","(Select Credit Type)"]
[null,"(Select Averaging Set)","(Select Credit Status)",null,"(select Model Year)","(Select Credit Type)"]
[null,"(Select Averaging Set)","(Select Credit Status)",null,"(select Model Year)","(Select Credit Type)"]
[null,"(Select Averaging Set)","(Select Credit Status)",null,"(select Model Year)","(Select Credit Type)"]
[null,"(Select Averaging Set)","(Select Credit Status)",null,"(select Model Year)","(Select Credit Type)"]

{"sheet":"ABT Transactions","index":3,"n_rows":40,"n_cols":11,"rows_kept":40,"cut":false,"hidden":false,"merged":[[0,0,0,11],[6,1,7,1],[6,3,7,3],[6,2,7,2],[6,4,6,6],[6,7,6,9],[6,10,7,10],[4,1,5,10]]}
[{"$f":"Header","v":"United States\nDepartment of Transportation\nNational Highway Traffic Safety Administration\nMDHD Credit Plan and Transaction Template\n\nManufacturer Averaging, Banking, and Trading Report for Heavy-Duty Engines (49 CFR Part 535)\nLast Revision: June 2024    Version Number 2.1"}]
[]
[null,null,{"$f":"IF('General Info.'!$D$7=\"\",\"\",'General Info.'!$D$7)","v":2016},{"$f":"IF('General Info.'!$B$7=\"\",\"\",'General Info.'!$B$7)","v":"(Select Manufacturer)"}]
[]
[null,"FE Credit Transactions\n(Trades, Transfers of ADV Credits and Application of Banked Credits to a Current Averaging Set Deficit)"]
[]
[null,"# CREDITS","Credit Type","Transaction Type","FROM",null,null,"TO",null,null,"Manufacturer Comments"]
[null,null,"Credit Type",null,"Manufacturer","Model Year","Averaging Set","Manufacturer","Model Year","Averaging Set","Message"]
[null,100000,"Advanced Technology Credit","Transfer ADV Credits (in)","Alexander Dennis Limited",2014,"MHDV (Cl 6-7)","ARBOC Specialty Vehicles LLC",2015,"MHDV (Cl 6-7)"]
[null,null,"(Select Credit Type)","(select Transaction Type)","(Select Manufacturer)","(select Model Year)","(Select Averaging Set)","(Select Manufacturer)","(select Model Year)","(Select Averaging Set)"]
[null,null,"(Select Credit Type)","(select Transaction Type)","(Select Manufacturer)","(select Model Year)","(Select Averaging Set)","(Select Manufacturer)","(select Model Year)","(Select Averaging Set)"]
[null,null,"(Select Credit Type)","(select Transaction Type)","(Select Manufacturer)","(select Model Year)","(Select Averaging Set)","(Select Manufacturer)","(select Model Year)","(Select Averaging Set)"]
[null,null,"(Select Credit Type)","(select Transaction Type)","(Select Manufacturer)","(select Model Year)","(Select Averaging Set)","(Select Manufacturer)","(select Model Year)","(Select Averaging Set)"]
[null,null,"(Select Credit Type)","(select Transaction Type)","(Select Manufacturer)","(select Model Year)","(Select Averaging Set)","(Select Manufacturer)","(select Model Year)","(Select Averaging Set)"]
[null,null,"(Select Credit Type)","(select Transaction Type)","(Select Manufacturer)","(select Model Year)","(Select Averaging Set)","(Select Manufacturer)","(select Model Year)","(Select Averaging Set)"]
[null,null,"(Select Credit Type)","(select Transaction Type)","(Select Manufacturer)","(select Model Year)","(Select Averaging Set)","(Select Manufacturer)","(select Model Year)","(Select Averaging Set)"]
[null,null,"(Select Credit Type)","(select Transaction Type)","(Select Manufacturer)","(select Model Year)","(Select Averaging Set)","(Select Manufacturer)","(select Model Year)","(Select Averaging Set)"]
[null,null,"(Select Credit Type)","(select Transaction Type)","(Select Manufacturer)","(select Model Year)","(Select Averaging Set)","(Select Manufacturer)","(select Model Year)","(Select Averaging Set)"]
[null,null,"(Select Credit Type)","(select Transaction Type)","(Select Manufacturer)","(select Model Year)","(Select Averaging Set)","(Select Manufacturer)","(select Model Year)","(Select Averaging Set)"]
[null,null,"(Select Credit Type)","(select Transaction Type)","(Select Manufacturer)","(select Model Year)","(Select Averaging Set)","(Select Manufacturer)","(select Model Year)","(Select Averaging Set)"]
[null,null,"(Select Credit Type)","(select Transaction Type)","(Select Manufacturer)","(select Model Year)","(Select Averaging Set)","(Select Manufacturer)","(select Model Year)","(Select Averaging Set)"]
[null,null,"(Select Credit Type)","(select Transaction Type)","(Select Manufacturer)","(select Model Year)","(Select Averaging Set)","(Select Manufacturer)","(select Model Year)","(Select Averaging Set)"]
[null,null,"(Select Credit Type)","(select Transaction Type)","(Select Manufacturer)","(select Model Year)","(Select Averaging Set)","(Select Manufacturer)","(select Model Year)","(Select Averaging Set)"]
[null,null,"(Select Credit Type)","(select Transaction Type)","(Select Manufacturer)","(select Model Year)","(Select Averaging Set)","(Select Manufacturer)","(select Model Year)","(Select Averaging Set)"]
[null,{"$f":"IF(D25=\"\",\"\",B9)","v":100000},{"$f":"IF(D25=\"\",\"\",C9)","v":"Advanced Technology Credit"},{"$f":"IF(D9=\"(Select Transaction Type)\",\"\",IF(D9=\"Applied Banked Credits (in)\",\"Applied Banked Credits (out)\",IF(D9=\"Transfer ADV Credits (in)\",\"Transfer ADV Credits (out)\",\"\")))","v":"Transfer ADV Credits (out)"},{"$f":"IF(D25=\"\",\"\",E9)","v":"Alexander Dennis Limited"},{"$f":"IF(D25=\"\",\"\",F9)","v":2014},{"$f":"IF(D25=\"\",\"\",G9)","v":"MHDV (Cl 6-7)"},{"$f":"IF(D25=\"\",\"\",H9)","v":"ARBOC Specialty Vehicles LLC"},{"$f":"IF(D25=\"\",\"\",I9)","v":2015},{"$f":"IF(D25=\"\",\"\",J9)","v":"MHDV (Cl 6-7)"}]
[null,{"$f":"IF(D26=\"\",\"\",B10)","v":""},{"$f":"IF(D26=\"\",\"\",C10)","v":""},{"$f":"IF(D10=\"(Select Transaction Type)\",\"\",IF(D10=\"Applied Banked Credits (in)\",\"Applied Banked Credits (out)\",IF(D10=\"Transfer ADV Credits (in)\",\"Transfer ADV Credits (out)\",\"\")))","v":""},{"$f":"IF(D26=\"\",\"\",E10)","v":""},{"$f":"IF(D26=\"\",\"\",F10)","v":""},{"$f":"IF(D26=\"\",\"\",G10)","v":""},{"$f":"IF(D26=\"\",\"\",H10)","v":""},{"$f":"IF(D26=\"\",\"\",I10)","v":""},{"$f":"IF(D26=\"\",\"\",J10)","v":""}]
[null,"","","","","","","","",""]
[null,"","","","","","","","",""]
[null,"","","","","","","","",""]
[null,"","","","","","","","",""]
[null,"","","","","","","","",""]
[null,"","","","","","","","",""]
[null,"","","","","","","","",""]
[null,"","","","","","","","",""]
[null,"","","","","","","","",""]
[null,"","","","","","","","",""]
[null,"","","","","","","","",""]
[null,"","","","","","","","",""]
[null,"","","","","","","","",""]
[null,"","","","","","","","",""]

{"sheet":"Summary","index":4,"n_rows":280,"n_cols":47,"rows_kept":280,"cut":false,"hidden":false,"merged":[[279,29,279,31],[279,32,279,34],[279,35,279,37],[279,38,279,40],[279,41,279,43],[279,44,279,46],[279,2,279,4],[279,5,279,7],[279,8,279,10],[279,11,279,13],[279,14,279,16],[279,17,279,19],[279,20,279,22],[279,23,279,25],[279,26,279,28],[262,35,262,37],[262,38,262,40],[262,41,262,43],[262,44,262,46],[265,2,265,46],[266,2,266,4],[266,5,266,7],[266,8,266,10],[266,11,266,13],[266,14,266,16],[266,17,266,19],[266,20,266,22],[266,23,266,25],[266,26,266,28],[266,29,266,31],[266,32,266,34],[266,35,266,37],[266,38,266,40],[266,41,266,43],[266,44,266,46],[262,2,262,4],[262,5,262,7],[262,8,262,10],[262,11,262,13],[262,14,262,16],[262,17,262,19],[262,20,262,22],[262,23,262,25],[262,26,262,28],[245,29,245,31],[245,32,245,34],[245,14,245,16],[245,17,245,19],[245,20,245,22],[245,23,245,25],[245,26,245,28],[262,29,262,31],[262,32,262,34],[245,35,245,37],[245,38,245,40],[245,41,245,43],[245,44,245,46],[248,2,248,46],[249,2,249,4],[249,5,249,7],[249,8,249,10],[249,11,249,13],[249,14,249,16],[249,17,249,19],[249,20,249,22],[249,23,249,25],[249,26,249,28],[249,29,249,31],[249,32,249,34],[249,35,249,37],[249,38,249,40],[249,41,249,43],[249,44,249,46],[245,2,245,4],[245,5,245,7],[245,8,245,10],[245,11,245,13],[228,35,228,37],[228,38,228,40],[228,41,228,43],[228,44,228,46],[231,2,231,46],[232,2,232,4],[232,5,232,7],[232,8,232,10],[232,11,232,13],[232,14,232,16],[232,17,232,19],[232,20,232,22],[232,23,232,25],[232,26,232,28],[232,29,232,31],[232,32,232,34],[232,35,232,37],[232,38,232,40],[232,41,232,43],[232,44,232,46],[228,2,228,4],[228,5,228,7],[228,8,228,10],[228,11,228,13],[228,14,228,16],[228,17,228,19],[228,20,228,22],[228,23,228,25],[228,26,228,28],[211,29,211,31],[211,32,211,34],[211,14,211,16],[211,17,211,19],[211,20,211,22],[211,23,211,25],[211,26,211,28],[228,29,228,31],[228,32,228,34],[211,35,211,37],[211,38,211,40],[211,41,211,43],[211,44,211,46],[214,2,214,46],[215,2,215,4],[215,5,215,7],[215,8,215,10],[215,11,215,13],[215,14,215,16],[215,17,215,19],[215,20,215,22],[215,23,215,25],[215,26,215,28],[215,29,215,31],[215,32,215,34],[215,35,215,37],[215,38,215,40],[215,41,215,43],[215,44,215,46],[211,2,211,4],[211,5,211,7],[211,8,211,10],[211,11,211,13],[194,35,194,37],[194,38,194,40],[194,41,194,43],[194,44,194,46],[197,2,197,46],[198,2,198,4],[198,5,198,7],[198,8,198,10],[198,11,198,13],[198,14,198,16],[198,17,198,19],[198,20,198,22],[198,23,198,25],[198,26,198,28],[198,29,198,31],[198,32,198,34],[198,35,198,37],[198,38,198,40],[198,41,198,43],[198,44,198,46],[194,2,194,4],[194,5,194,7],[194,8,194,10],[194,11,194,13],[194,14,194,16],[194,17,194,19],[194,20,194,22],[194,23,194,25],[194,26,194,28],[177,29,177,31],[177,32,177,34],[177,14,177,16],[177,17,177,19],[177,20,177,22],[177,23,177,25],[177,26,177,28],[194,29,194,31],[194,32,194,34],[177,35,177,37],[177,38,177,40],[177,41,177,43],[177,44,177,46],[180,2,180,46],[181,2,181,4],[181,5,181,7],[181,8,181,10],[181,11,181,13],[181,14,181,16],[181,17,181,19],[181,20,181,22],[181,23,181,25],[181,26,181,28],[181,29,181,31],[181,32,181,34],[181,35,181,37],[181,38,181,40],[181,41,181,43],[181,44,181,46],[177,2,177,4],[177,5,177,7],[177,8,177,10],[177,11,177,13],[160,35,160,37],[160,38,160,40],[160,41,160,43],[160,44,160,46],[163,2,163,46],[164,2,164,4],[164,5,164,7],[164,8,164,10],[164,11,164,13],[164,14,164,16],[164,17,164,19],[164,20,164,22],[164,23,164,25],[164,26,164,28],[164,29,164,31],[164,32,164,34],[164,35,164,37],[164,38,164,40],[164,41,164,43],[164,44,164,46],[160,2,160,4],[160,5,160,7],[160,8,160,10],[160,11,160,13],[160,14,160,16],[160,17,160,19],[160,20,160,22],[160,23,160,25],[160,26,160,28],[146,2,146,46],[147,2,147,4],[147,5,147,7],[147,8,147,10],[147,11,147,13],[147,14,147,16],[147,17,147,19],[147,20,147,22],[147,23,147,25],[147,26,147,28],[147,29,147,31],[147,32,147,34],[147,35,147,37],[147,38,147,40],[147,41,147,43],[147,44,147,46],[160,29,160,31],[160,32,160,34],[26,23,26,25],[26,26,26,28],[26,29,26,31],[26,32,26,34],[26,35,26,37],[26,38,26,40],[26,41,26,43],[42,20,42,22],[42,23,42,25],[42,26,42,28],[42,29,42,31],[42,32,42,34],[42,35,42,37],[42,38,42,40],[42,41,42,43],[113,20,113,22],[113,23,113,25],[113,26,113,28],[113,29,113,31],[113,32,113,34],[113,35,113,37],[113,38,113,40],[113,41,113,43],[130,20,130,22],[130,23,130,25],[130,26,130,28],[130,29,130,31],[130,32,130,34],[130,35,130,37],[130,38,130,40],[130,41,130,43],[126,20,126,22],[126,23,126,25],[126,26,126,28],[126,29,126,31],[126,32,126,34],[126,35,126,37],[126,38,126,40],[126,41,126,43],[79,20,79,22],[79,23,79,25],[79,26,79,28],[79,29,79,31],[79,32,79,34],[79,35,79,37],[79,38,79,40],[79,41,79,43],[96,20,96,22],[96,23,96,25],[96,26,96,28],[96,29,96,31],[96,32,96,34],[96,35,96,37],[96,38,96,40],[96,41,96,43],[92,20,92,22],[92,23,92,25],[92,26,92,28],[92,29,92,31],[92,32,92,34],[92,35,92,37],[92,38,92,40],[92,41,92,43],[46,20,46,22],[46,23,46,25],[46,26,46,28],[46,29,46,31],[46,32,46,34],[46,35,46,37],[46,38,46,40],[46,41,46,43],[63,20,63,22],[63,23,63,25],[63,26,63,28],[63,29,63,31],[63,32,63,34],[63,35,63,37],[63,38,63,40],[63,41,63,43],[59,20,59,22],[59,23,59,25],[59,26,59,28],[59,29,59,31],[59,32,59,34],[59,35,59,37],[59,38,59,40],[59,41,59,43],[126,44,126,46],[113,44,113,46],[92,44,92,46],[79,44,79,46],[59,44,59,46],[46,44,46,46],[26,44,26,46],[13,44,13,46],[29,44,29,46],[63,44,63,46],[96,44,96,46],[12,2,12,46],[13,2,13,4],[13,5,13,7],[13,8,13,10],[13,11,13,13],[13,14,13,16],[0,0,6,47],[8,0,8,47],[26,17,26,19],[26,2,26,4],[26,5,26,7],[26,8,26,10],[26,11,26,13],[26,14,26,16],[13,17,13,19],[13,20,13,22],[13,23,13,25],[13,26,13,28],[13,41,13,43],[13,29,13,31],[13,32,13,34],[13,35,13,37],[13,38,13,40],[26,20,26,22],[29,2,29,4],[29,5,29,7],[29,8,29,10],[29,11,29,13],[29,14,29,16],[29,17,29,19],[28,2,28,46],[45,2,45,46],[42,44,42,46],[42,2,42,4],[42,5,42,7],[42,8,42,10],[42,11,42,13],[42,14,42,16],[42,17,42,19],[29,20,29,22],[29,23,29,25],[29,26,29,28],[29,29,29,31],[29,32,29,34],[29,35,29,37],[29,38,29,40],[29,41,29,43],[59,2,59,4],[59,5,59,7],[59,8,59,10],[59,11,59,13],[59,14,59,16],[59,17,59,19],[46,2,46,4],[46,5,46,7],[46,8,46,10],[46,11,46,13],[46,14,46,16],[46,17,46,19],[63,2,63,4],[63,5,63,7],[63,8,63,10],[63,11,63,13],[63,14,63,16],[63,17,63,19],[62,2,62,46],[78,2,78,46],[76,44,76,46],[76,2,76,4],[76,5,76,7],[76,8,76,10],[76,11,76,13],[76,14,76,16],[76,17,76,19],[76,20,76,22],[76,23,76,25],[76,26,76,28],[76,29,76,31],[76,32,76,34],[76,35,76,37],[76,38,76,40],[76,41,76,43],[92,2,92,4],[92,5,92,7],[92,8,92,10],[92,11,92,13],[92,14,92,16],[92,17,92,19],[79,2,79,4],[79,5,79,7],[79,8,79,10],[79,11,79,13],[79,14,79,16],[79,17,79,19],[96,2,96,4],[96,5,96,7],[96,8,96,10],[96,11,96,13],[96,14,96,16],[96,17,96,19],[95,2,95,46],[112,2,112,46],[109,44,109,46],[109,2,109,4],[109,5,109,7],[109,8,109,10],[109,11,109,13],[109,14,109,16],[109,17,109,19],[109,20,109,22],[109,23,109,25],[109,26,109,28],[109,29,109,31],[109,32,109,34],[109,35,109,37],[109,38,109,40],[109,41,109,43],[126,2,126,4],[126,5,126,7],[126,8,126,10],[126,11,126,13],[126,14,126,16],[126,17,126,19],[113,2,113,4],[113,5,113,7],[113,8,113,10],[113,11,113,13],[113,14,113,16],[113,17,113,19],[130,2,130,4],[130,5,130,7],[130,8,130,10],[130,11,130,13],[130,14,130,16],[130,17,130,19],[129,2,129,46],[143,2,143,4],[143,5,143,7],[143,8,143,10],[143,11,143,13],[143,14,143,16],[143,17,143,19],[143,44,143,46],[130,44,130,46],[143,20,143,22],[143,23,143,25],[143,26,143,28],[143,29,143,31],[143,32,143,34],[143,35,143,37],[143,38,143,40],[143,41,143,43]]}
[{"$f":"Header","v":"United States\nDepartment of Transportation\nNational Highway Traffic Safety Administration\nMDHD Credit Plan and Transaction Template\n\nManufacturer Averaging, Banking, and Trading Report for Heavy-Duty Engines (49 CFR Part 535)\nLast Revision: June 2024    Version Number 2.1"}]
[]
[]
[]
[]
[]
[]
[]
["MDHD Averaging and Summary"]
[]
[null,{"$f":"IF('General Info.'!$B$7=\"\",\"\",'General Info.'!$B$7)","v":"(Select Manufacturer)"},{"$f":"IF('General Info.'!$D$7=\"\",\"\",'General Info.'!$D$7)","v":2016}]
[]
[null,null,"HD PUV"]
[null,null,2013,null,null,2014,null,null,2015,null,null,2016,null,null,2017,null,null,2018,null,null,2019,null,null,2020,null,null,2021,null,null,2022,null,null,2023,null,null,2024,null,null,2025,null,null,2026,null,null,2027]
[null,"Credit Type","Conventional Credit","Innovative Technology Credit","Advanced Technology Credit","Conventional Credit","Innovative Technology Credit","Advanced Technology Credit","Conventional Credit","Innovative Technology Credit","Advanced Technology Credit","Conventional Credit","Innovative Technology Credit","Advanced Technology Credit","Conventional Credit","Innovative Technology Credit","Advanced Technology Credit","Conventional Credit","Innovative Technology Credit","Advanced Technology Credit","Conventional Credit","Innovative Technology Credit","Advanced Technology Credit","Conventional Credit","Innovative Technology Credit","Advanced Technology Credit","Conventional Credit","Innovative Technology Credit","Advanced Technology Credit","Conventional Credit","Innovative Technology Credit","Advanced Technology Credit","Conventional Credit","Innovative Technology Credit","Advanced Technology Credit","Conventional Credit","Innovative Technology Credit","Advanced Technology Credit","Conventional Credit","Innovative Technology Credit","Advanced Technology Credit","Conventional Credit","Innovative Technology Credit","Advanced Technology Credit","Conventional Credit","Innovative Technology Credit","Advanced Technology Credit"]
[null,"Earned Credits",{"$f":"SUMIFS('ABT Credit Balances'!$D$9:$D$208,'ABT Credit Balances'!$B$9:$B$208,$C$13,'ABT Credit Balances'!$F$9:$F$208,$C$15,'ABT Credit Balances'!$E$9:$E$208,$C$14,'ABT Credit Balances'!$C$9:$C$208,$B$16)","v":0},{"$f":"SUMIFS('ABT Credit Balances'!$D$9:$D$208,'ABT Credit Balances'!$B$9:$B$208,$C$13,'ABT Credit Balances'!$F$9:$F$208,$D$15,'ABT Credit Balances'!$E$9:$E$208,$C$14,'ABT Credit Balances'!$C$9:$C$208,$B$16)","v":0},{"$f":"SUMIFS('ABT Credit Balances'!$D$9:$D$208,'ABT Credit Balances'!$B$9:$B$208,$C$13,'ABT Credit Balances'!$F$9:$F$208,$E$15,'ABT Credit Balances'!$E$9:$E$208,$C$14,'ABT Credit Balances'!$C$9:$C$208,$B$16)","v":0},{"$f":"SUMIFS('ABT Credit Balances'!$D$9:$D$208,'ABT Credit Balances'!$B$9:$B$208,$C$13,'ABT Credit Balances'!$F$9:$F$208,$F$15,'ABT Credit Balances'!$E$9:$E$208,$F$14,'ABT Credit Balances'!$C$9:$C$208,$B$16)","v":0},{"$f":"SUMIFS('ABT Credit Balances'!$D$9:$D$208,'ABT Credit Balances'!$B$9:$B$208,$C$13,'ABT Credit Balances'!$F$9:$F$208,$G$15,'ABT Credit Balances'!$E$9:$E$208,$F$14,'ABT Credit Balances'!$C$9:$C$208,$B$16)","v":0},{"$f":"SUMIFS('ABT Credit Balances'!$D$9:$D$208,'ABT Credit Balances'!$B$9:$B$208,$C$13,'ABT Credit Balances'!$F$9:$F$208,$H$15,'ABT Credit Balances'!$E$9:$E$208,$F$14,'ABT Credit Balances'!$C$9:$C$208,$B$16)","v":0},{"$f":"SUMIFS('ABT Credit Balances'!$D$9:$D$208,'ABT Credit Balances'!$B$9:$B$208,$C$13,'ABT Credit Balances'!$F$9:$F$208,$I$15,'ABT Credit Balances'!$E$9:$E$208,$I$14,'ABT Credit Balances'!$C$9:$C$208,$B$16)","v":0},{"$f":"SUMIFS('ABT Credit Balances'!$D$9:$D$208,'ABT Credit Balances'!$B$9:$B$208,$C$13,'ABT Credit Balances'!$F$9:$F$208,$J$15,'ABT Credit Balances'!$E$9:$E$208,$I$14,'ABT Credit Balances'!$C$9:$C$208,$B$16)","v":0},{"$f":"SUMIFS('ABT Credit Balances'!$D$9:$D$208,'ABT Credit Balances'!$B$9:$B$208,$C$13,'ABT Credit Balances'!$F$9:$F$208,$K$15,'ABT Credit Balances'!$E$9:$E$208,$I$14,'ABT Credit Balances'!$C$9:$C$208,$B$16)","v":0},{"$f":"SUMIFS('ABT Credit Balances'!$D$9:$D$208,'ABT Credit Balances'!$B$9:$B$208,$C$13,'ABT Credit Balances'!$F$9:$F$208,$L$15,'ABT Credit Balances'!$E$9:$E$208,$L$14,'ABT Credit Balances'!$C$9:$C$208,$B$16)","v":0},{"$f":"SUMIFS('ABT Credit Balances'!$D$9:$D$208,'ABT Credit Balances'!$B$9:$B$208,$C$13,'ABT Credit Balances'!$F$9:$F$208,$M$15,'ABT Credit Balances'!$E$9:$E$208,$L$14,'ABT Credit Balances'!$C$9:$C$208,$B$16)","v":0},{"$f":"SUMIFS('ABT Credit Balances'!$D$9:$D$208,'ABT Credit Balances'!$B$9:$B$208,$C$13,'ABT Credit Balances'!$F$9:$F$208,$N$15,'ABT Credit Balances'!$E$9:$E$208,$L$14,'ABT Credit Balances'!$C$9:$C$208,$B$16)","v":0},{"$f":"SUMIFS('ABT Credit Balances'!$D$9:$D$208,'ABT Credit Balances'!$B$9:$B$208,$C$13,'ABT Credit Balances'!$F$9:$F$208,$O$15,'ABT Credit Balances'!$E$9:$E$208,$O$14,'ABT Credit Balances'!$C$9:$C$208,$B$16)","v":0},{"$f":"SUMIFS('ABT Credit Balances'!$D$9:$D$208,'ABT Credit Balances'!$B$9:$B$208,$C$13,'ABT Credit Balances'!$F$9:$F$208,$P$15,'ABT Credit Balances'!$E$9:$E$208,$O$14,'ABT Credit Balances'!$C$9:$C$208,$B$16)","v":0},{"$f":"SUMIFS('ABT Credit Balances'!$D$9:$D$208,'ABT Credit Balances'!$B$9:$B$208,$C$13,'ABT Credit Balances'!$F$9:$F$208,$Q$15,'ABT Credit Balances'!$E$9:$E$208,$O$14,'ABT Credit Balances'!$C$9:$C$208,$B$16)","v":0},{"$f":"SUMIFS('ABT Credit Balances'!$D$9:$D$208,'ABT Credit Balances'!$B$9:$B$208,$C$13,'ABT Credit Balances'!$F$9:$F$208,$R$15,'ABT Credit Balances'!$E$9:$E$208,$R$14,'ABT Credit Balances'!$C$9:$C$208,$B$16)","v":0},{"$f":"SUMIFS('ABT Credit Balances'!$D$9:$D$208,'ABT Credit Balances'!$B$9:$B$208,$C$13,'ABT Credit Balances'!$F$9:$F$208,$S$15,'ABT Credit Balances'!$E$9:$E$208,$R$14,'ABT Credit Balances'!$C$9:$C$208,$B$16)","v":0},{"$f":"SUMIFS('ABT Credit Balances'!$D$9:$D$208,'ABT Credit Balances'!$B$9:$B$208,$C$13,'ABT Credit Balances'!$F$9:$F$208,$T$15,'ABT Credit Balances'!$E$9:$E$208,$R$14,'ABT Credit Balances'!$C$9:$C$208,$B$16)","v":0},{"$f":"SUMIFS('ABT Credit Balances'!$D$9:$D$208,'ABT Credit Balances'!$B$9:$B$208,$C13,'ABT Credit Balances'!$F$9:$F$208,U15,'ABT Credit Balances'!$E$9:$E$208,$U$14,'ABT Credit Balances'!$C$9:$C$208,$B$16)","v":0},{"$f":"SUMIFS('ABT Credit Balances'!$D$9:$D$208,'ABT Credit Balances'!$B$9:$B$208,$C13,'ABT Credit Balances'!$F$9:$F$208,V15,'ABT Credit Balances'!$E$9:$E$208,$U$14,'ABT Credit Balances'!$C$9:$C$208,$B$16)","v":0},{"$f":"SUMIFS('ABT Credit Balances'!$D$9:$D$208,'ABT Credit Balances'!$B$9:$B$208,$C13,'ABT Credit Balances'!$F$9:$F$208,W15,'ABT Credit Balances'!$E$9:$E$208,$U$14,'ABT Credit Balances'!$C$9:$C$208,$B$16)","v":0},{"$f":"SUMIFS('ABT Credit Balances'!$D$9:$D$208,'ABT Credit Balances'!$B$9:$B$208,$C13,'ABT Credit Balances'!$F$9:$F$208,X15,'ABT Credit Balances'!$E$9:$E$208,$X$14,'ABT Credit Balances'!$C$9:$C$208,$B$16)","v":0},{"$f":"SUMIFS('ABT Credit Balances'!$D$9:$D$208,'ABT Credit Balances'!$B$9:$B$208,$C13,'ABT Credit Balances'!$F$9:$F$208,Y15,'ABT Credit Balances'!$E$9:$E$208,$X$14,'ABT Credit Balances'!$C$9:$C$208,$B$16)","v":0},{"$f":"SUMIFS('ABT Credit Balances'!$D$9:$D$208,'ABT Credit Balances'!$B$9:$B$208,$C13,'ABT Credit Balances'!$F$9:$F$208,Z15,'ABT Credit Balances'!$E$9:$E$208,$X$14,'ABT Credit Balances'!$C$9:$C$208,$B$16)","v":0},{"$f":"SUMIFS('ABT Credit Balances'!$D$9:$D$208,'ABT Credit Balances'!$B$9:$B$208,$C13,'ABT Credit Balances'!$F$9:$F$208,AA15,'ABT Credit Balances'!$E$9:$E$208,$AA$14,'ABT Credit Balances'!$C$9:$C$208,$B$16)","v":0},{"$f":"SUMIFS('ABT Credit Balances'!$D$9:$D$208,'ABT Credit Balances'!$B$9:$B$208,$C13,'ABT Credit Balances'!$F$9:$F$208,AB15,'ABT Credit Balances'!$E$9:$E$208,$AA$14,'ABT Credit Balances'!$C$9:$C$208,$B$16)","v":0},{"$f":"SUMIFS('ABT Credit Balances'!$D$9:$D$208,'ABT Credit Balances'!$B$9:$B$208,$C13,'ABT Credit Balances'!$F$9:$F$208,AC15,'ABT Credit Balances'!$E$9:$E$208,$AA$14,'ABT Credit Balances'!$C$9:$C$208,$B$16)","v":0},{"$f":"SUMIFS('ABT Credit Balances'!$D$9:$D$208,'ABT Credit Balances'!$B$9:$B$208,$C13,'ABT Credit Balances'!$F$9:$F$208,AD15,'ABT Credit Balances'!$E$9:$E$208,$AD$14,'ABT Credit Balances'!$C$9:$C$208,$B$16)","v":0},{"$f":"SUMIFS('ABT Credit Balances'!$D$9:$D$208,'ABT Credit Balances'!$B$9:$B$208,$C13,'ABT Credit Balances'!$F$9:$F$208,AE15,'ABT Credit Balances'!$E$9:$E$208,$AD$14,'ABT Credit Balances'!$C$9:$C$208,$B$16)","v":0},{"$f":"SUMIFS('ABT Credit Balances'!$D$9:$D$208,'ABT Credit Balances'!$B$9:$B$208,$C13,'ABT Credit Balances'!$F$9:$F$208,AF15,'ABT Credit Balances'!$E$9:$E$208,$AD$14,'ABT Credit Balances'!$C$9:$C$208,$B$16)","v":0},{"$f":"SUMIFS('ABT Credit Balances'!$D$9:$D$208,'ABT Credit Balances'!$B$9:$B$208,$C13,'ABT Credit Balances'!$F$9:$F$208,AG15,'ABT Credit Balances'!$E$9:$E$208,$AG$14,'ABT Credit Balances'!$C$9:$C$208,$B$16)","v":0},{"$f":"SUMIFS('ABT Credit Balances'!$D$9:$D$208,'ABT Credit Balances'!$B$9:$B$208,$C13,'ABT Credit Balances'!$F$9:$F$208,AH15,'ABT Credit Balances'!$E$9:$E$208,$AG$14,'ABT Credit Balances'!$C$9:$C$208,$B$16)","v":0},{"$f":"SUMIFS('ABT Credit Balances'!$D$9:$D$208,'ABT Credit Balances'!$B$9:$B$208,$C13,'ABT Credit Balances'!$F$9:$F$208,AI15,'ABT Credit Balances'!$E$9:$E$208,$AG$14,'ABT Credit Balances'!$C$9:$C$208,$B$16)","v":0},{"$f":"SUMIFS('ABT Credit Balances'!$D$9:$D$208,'ABT Credit Balances'!$B$9:$B$208,$C13,'ABT Credit Balances'!$F$9:$F$208,AJ15,'ABT Credit Balances'!$E$9:$E$208,$AJ$14,'ABT Credit Balances'!$C$9:$C$208,$B$16)","v":0},{"$f":"SUMIFS('ABT Credit Balances'!$D$9:$D$208,'ABT Credit Balances'!$B$9:$B$208,$C13,'ABT Credit Balances'!$F$9:$F$208,AK15,'ABT Credit Balances'!$E$9:$E$208,$AJ$14,'ABT Credit Balances'!$C$9:$C$208,$B$16)","v":0},{"$f":"SUMIFS('ABT Credit Balances'!$D$9:$D$208,'ABT Credit Balances'!$B$9:$B$208,$C13,'ABT Credit Balances'!$F$9:$F$208,AL15,'ABT Credit Balances'!$E$9:$E$208,$AJ$14,'ABT Credit Balances'!$C$9:$C$208,$B$16)","v":0},{"$f":"SUMIFS('ABT Credit Balances'!$D$9:$D$208,'ABT Credit Balances'!$B$9:$B$208,$C13,'ABT Credit Balances'!$F$9:$F$208,AM15,'ABT Credit Balances'!$E$9:$E$208,$AM$14,'ABT Credit Balances'!$C$9:$C$208,$B$16)","v":0},{"$f":"SUMIFS('ABT Credit Balances'!$D$9:$D$208,'ABT Credit Balances'!$B$9:$B$208,$C13,'ABT Credit Balances'!$F$9:$F$208,AN15,'ABT Credit Balances'!$E$9:$E$208,$AM$14,'ABT Credit Balances'!$C$9:$C$208,$B$16)","v":0},{"$f":"SUMIFS('ABT Credit Balances'!$D$9:$D$208,'ABT Credit Balances'!$B$9:$B$208,$C13,'ABT Credit Balances'!$F$9:$F$208,AO15,'ABT Credit Balances'!$E$9:$E$208,$AM$14,'ABT Credit Balances'!$C$9:$C$208,$B$16)","v":0},{"$f":"SUMIFS('ABT Credit Balances'!$D$9:$D$208,'ABT Credit Balances'!$B$9:$B$208,$C13,'ABT Credit Balances'!$F$9:$F$208,AP15,'ABT Credit Balances'!$E$9:$E$208,$AP$14,'ABT Credit Balances'!$C$9:$C$208,$B$16)","v":0},{"$f":"SUMIFS('ABT Credit Balances'!$D$9:$D$208,'ABT Credit Balances'!$B$9:$B$208,$C13,'ABT Credit Balances'!$F$9:$F$208,AQ15,'ABT Credit Balances'!$E$9:$E$208,$AP$14,'ABT Credit Balances'!$C$9:$C$208,$B$16)","v":0},{"$f":"SUMIFS('ABT Credit Balances'!$D$9:$D$208,'ABT Credit Balances'!$B$9:$B$208,$C13,'ABT Credit Balances'!$F$9:$F$208,AR15,'ABT Credit Balances'!$E$9:$E$208,$AP$14,'ABT Credit Balances'!$C$9:$C$208,$B$16)","v":0},{"$f":"SUMIFS('ABT Credit Balances'!$D$9:$D$208,'ABT Credit Balances'!$B$9:$B$208,$C$13,'ABT Credit Balances'!$F$9:$F$208,$AS$15,'ABT Credit Balances'!$E$9:$E$208,$AS$14,'ABT Credit Balances'!$C$9:$C$208,$B$16)","v":0},{"$f":"SUMIFS('ABT Credit Balances'!$D$9:$D$208,'ABT Credit Balances'!$B$9:$B$208,$C$13,'ABT Credit Balances'!$F$9:$F$208,$AT$15,'ABT Credit Balances'!$E$9:$E$208,$AS$14,'ABT Credit Balances'!$C$9:$C$208,$B$16)","v":0},{"$f":"SUMIFS('ABT Credit Balances'!$D$9:$D$208,'ABT Credit Balances'!$B$9:$B$208,$C$13,'ABT Credit Balances'!$F$9:$F$208,$AU$15,'ABT Credit Balances'!$E$9:$E$208,$AS$14,'ABT Credit Balances'!$C$9:$C$208,$B$16)","v":0}]
[null,"Projected Credits",{"$f":"SUMIFS('ABT Credit Balances'!$D$9:$D$208,'ABT Credit Balances'!$B$9:$B$208,$C$13,'ABT Credit Balances'!$F$9:$F$208,$C$15,'ABT Credit Balances'!$E$9:$E$208,$C$14,'ABT Credit Balances'!$C$9:$C$208,$B$17)","v":0},{"$f":"SUMIFS('ABT Credit Balances'!$D$9:$D$208,'ABT Credit Balances'!$B$9:$B$208,$C$13,'ABT Credit Balances'!$F$9:$F$208,D15,'ABT Credit Balances'!$E$9:$E$208,$C$14,'ABT Credit Balances'!$C$9:$C$208,$B$17)","v":0},{"$f":"SUMIFS('ABT Credit Balances'!$D$9:$D$208,'ABT Credit Balances'!$B$9:$B$208,$C$13,'ABT Credit Balances'!$F$9:$F$208,E15,'ABT Credit Balances'!$E$9:$E$208,$C$14,'ABT Credit Balances'!$C$9:$C$208,$B$17)","v":0},{"$f":"SUMIFS('ABT Credit Balances'!$D$9:$D$208,'ABT Credit Balances'!$B$9:$B$208,$C$13,'ABT Credit Balances'!$F$9:$F$208,F15,'ABT Credit Balances'!$E$9:$E$208,$F$14,'ABT Credit Balances'!$C$9:$C$208,$B$17)","v":0},{"$f":"SUMIFS('ABT Credit Balances'!$D$9:$D$208,'ABT Credit Balances'!$B$9:$B$208,$C$13,'ABT Credit Balances'!$F$9:$F$208,G15,'ABT Credit Balances'!$E$9:$E$208,$F$14,'ABT Credit Balances'!$C$9:$C$208,$B$17)","v":0},{"$f":"SUMIFS('ABT Credit Balances'!$D$9:$D$208,'ABT Credit Balances'!$B$9:$B$208,$C$13,'ABT Credit Balances'!$F$9:$F$208,H15,'ABT Credit Balances'!$E$9:$E$208,$F$14,'ABT Credit Balances'!$C$9:$C$208,$B$17)","v":0},{"$f":"SUMIFS('ABT Credit Balances'!$D$9:$D$208,'ABT Credit Balances'!$B$9:$B$208,$C$13,'ABT Credit Balances'!$F$9:$F$208,I15,'ABT Credit Balances'!$E$9:$E$208,$I$14,'ABT Credit Balances'!$C$9:$C$208,$B$17)","v":0},{"$f":"SUMIFS('ABT Credit Balances'!$D$9:$D$208,'ABT Credit Balances'!$B$9:$B$208,$C$13,'ABT Credit Balances'!$F$9:$F$208,J15,'ABT Credit Balances'!$E$9:$E$208,$I$14,'ABT Credit Balances'!$C$9:$C$208,$B$17)","v":0},{"$f":"SUMIFS('ABT Credit Balances'!$D$9:$D$208,'ABT Credit Balances'!$B$9:$B$208,$C$13,'ABT Credit Balances'!$F$9:$F$208,K15,'ABT Credit Balances'!$E$9:$E$208,$I$14,'ABT Credit Balances'!$C$9:$C$208,$B$17)","v":0},{"$f":"SUMIFS('ABT Credit Balances'!$D$9:$D$208,'ABT Credit Balances'!$B$9:$B$208,$C$13,'ABT Credit Balances'!$F$9:$F$208,L15,'ABT Credit Balances'!$E$9:$E$208,$L$14,'ABT Credit Balances'!$C$9:$C$208,$B$17)","v":0},{"$f":"SUMIFS('ABT Credit Balances'!$D$9:$D$208,'ABT Credit Balances'!$B$9:$B$208,$C$13,'ABT Credit Balances'!$F$9:$F$208,M15,'ABT Credit Balances'!$E$9:$E$208,$L$14,'ABT Credit Balances'!$C$9:$C$208,$B$17)","v":0},{"$f":"SUMIFS('ABT Credit Balances'!$D$9:$D$208,'ABT Credit Balances'!$B$9:$B$208,$C$13,'ABT Credit Balances'!$F$9:$F$208,N15,'ABT Credit Balances'!$E$9:$E$208,$L$14,'ABT Credit Balances'!$C$9:$C$208,$B$17)","v":0},{"$f":"SUMIFS('ABT Credit Balances'!$D$9:$D$208,'ABT Credit Balances'!$B$9:$B$208,$C$13,'ABT Credit Balances'!$F$9:$F$208,O15,'ABT Credit Balances'!$E$9:$E$208,$O$14,'ABT Credit Balances'!$C$9:$C$208,$B$17)","v":0},{"$f":"SUMIFS('ABT Credit Balances'!$D$9:$D$208,'ABT Credit Balances'!$B$9:$B$208,$C$13,'ABT Credit Balances'!$F$9:$F$208,P15,'ABT Credit Balances'!$E$9:$E$208,$O$14,'ABT Credit Balances'!$C$9:$C$208,$B$17)","v":0},{"$f":"SUMIFS('ABT Credit Balances'!$D$9:$D$208,'ABT Credit Balances'!$B$9:$B$208,$C$13,'ABT Credit Balances'!$F$9:$F$208,Q15,'ABT Credit Balances'!$E$9:$E$208,$O$14,'ABT Credit Balances'!$C$9:$C$208,$B$17)","v":0},{"$f":"SUMIFS('ABT Credit Balances'!$D$9:$D$208,'ABT Credit Balances'!$B$9:$B$208,$C$13,'ABT Credit Balances'!$F$9:$F$208,R15,'ABT Credit Balances'!$E$9:$E$208,$R$14,'ABT Credit Balances'!$C$9:$C$208,$B$17)","v":0},{"$f":"SUMIFS('ABT Credit Balances'!$D$9:$D$208,'ABT Credit Balances'!$B$9:$B$208,$C$13,'ABT Credit Balances'!$F$9:$F$208,S15,'ABT Credit Balances'!$E$9:$E$208,$R$14,'ABT Credit Balances'!$C$9:$C$208,$B$17)","v":0},{"$f":"SUMIFS('ABT Credit Balances'!$D$9:$D$208,'ABT Credit Balances'!$B$9:$B$208,$C$13,'ABT Credit Balances'!$F$9:$F$208,T15,'ABT Credit Balances'!$E$9:$E$208,$R$14,'ABT Credit Balances'!$C$9:$C$208,$B$17)","v":0},{"$f":"SUMIFS('ABT Credit Balances'!$D$9:$D$208,'ABT Credit Balances'!$B$9:$B$208,$C13,'ABT Credit Balances'!$F$9:$F$208,U15,'ABT Credit Balances'!$E$9:$E$208,$U$14,'ABT Credit Balances'!$C$9:$C$208,$B$17)","v":0},{"$f":"SUMIFS('ABT Credit Balances'!$D$9:$D$208,'ABT Credit Balances'!$B$9:$B$208,$C13,'ABT Credit Balances'!$F$9:$F$208,V15,'ABT Credit Balances'!$E$9:$E$208,$U$14,'ABT Credit Balances'!$C$9:$C$208,$B$17)","v":0},{"$f":"SUMIFS('ABT Credit Balances'!$D$9:$D$208,'ABT Credit Balances'!$B$9:$B$208,$C13,'ABT Credit Balances'!$F$9:$F$208,W15,'ABT Credit Balances'!$E$9:$E$208,$U$14,'ABT Credit Balances'!$C$9:$C$208,$B$17)","v":0},{"$f":"SUMIFS('ABT Credit Balances'!$D$9:$D$208,'ABT Credit Balances'!$B$9:$B$208,$C13,'ABT Credit Balances'!$F$9:$F$208,X15,'ABT Credit Balances'!$E$9:$E$208,$X$14,'ABT Credit Balances'!$C$9:$C$208,$B$17)","v":0},{"$f":"SUMIFS('ABT Credit Balances'!$D$9:$D$208,'ABT Credit Balances'!$B$9:$B$208,$C13,'ABT Credit Balances'!$F$9:$F$208,Y15,'ABT Credit Balances'!$E$9:$E$208,$X$14,'ABT Credit Balances'!$C$9:$C$208,$B$17)","v":0},{"$f":"SUMIFS('ABT Credit Balances'!$D$9:$D$208,'ABT Credit Balances'!$B$9:$B$208,$C13,'ABT Credit Balances'!$F$9:$F$208,Z15,'ABT Credit Balances'!$E$9:$E$208,$X$14,'ABT Credit Balances'!$C$9:$C$208,$B$17)","v":0},{"$f":"SUMIFS('ABT Credit Balances'!$D$9:$D$208,'ABT Credit Balances'!$B$9:$B$208,$C13,'ABT Credit Balances'!$F$9:$F$208,AA15,'ABT Credit Balances'!$E$9:$E$208,$AA$14,'ABT Credit Balances'!$C$9:$C$208,$B$17)","v":0},{"$f":"SUMIFS('ABT Credit Balances'!$D$9:$D$208,'ABT Credit Balances'!$B$9:$B$208,$C13,'ABT Credit Balances'!$F$9:$F$208,AB15,'ABT Credit Balances'!$E$9:$E$208,$AA$14,'ABT Credit Balances'!$C$9:$C$208,$B$17)","v":0},{"$f":"SUMIFS('ABT Credit Balances'!$D$9:$D$208,'ABT Credit Balances'!$B$9:$B$208,$C13,'ABT Credit Balances'!$F$9:$F$208,AC15,'ABT Credit Balances'!$E$9:$E$208,$AA$14,'ABT Credit Balances'!$C$9:$C$208,$B$17)","v":0},{"$f":"SUMIFS('ABT Credit Balances'!$D$9:$D$208,'ABT Credit Balances'!$B$9:$B$208,$C13,'ABT Credit Balances'!$F$9:$F$208,AD15,'ABT Credit Balances'!$E$9:$E$208,$AD$14,'ABT Credit Balances'!$C$9:$C$208,$B$17)","v":0},{"$f":"SUMIFS('ABT Credit Balances'!$D$9:$D$208,'ABT Credit Balances'!$B$9:$B$208,$C13,'ABT Credit Balances'!$F$9:$F$208,AE15,'ABT Credit Balances'!$E$9:$E$208,$AD$14,'ABT Credit Balances'!$C$9:$C$208,$B$17)","v":0},{"$f":"SUMIFS('ABT Credit Balances'!$D$9:$D$208,'ABT Credit Balances'!$B$9:$B$208,$C13,'ABT Credit Balances'!$F$9:$F$208,AF15,'ABT Credit Balances'!$E$9:$E$208,$AD$14,'ABT Credit Balances'!$C$9:$C$208,$B$17)","v":0},{"$f":"SUMIFS('ABT Credit Balances'!$D$9:$D$208,'ABT Credit Balances'!$B$9:$B$208,$C13,'ABT Credit Balances'!$F$9:$F$208,AG15,'ABT Credit Balances'!$E$9:$E$208,$AG$14,'ABT Credit Balances'!$C$9:$C$208,$B$17)","v":0},{"$f":"SUMIFS('ABT Credit Balances'!$D$9:$D$208,'ABT Credit Balances'!$B$9:$B$208,$C13,'ABT Credit Balances'!$F$9:$F$208,AH15,'ABT Credit Balances'!$E$9:$E$208,$AG$14,'ABT Credit Balances'!$C$9:$C$208,$B$17)","v":0},{"$f":"SUMIFS('ABT Credit Balances'!$D$9:$D$208,'ABT Credit Balances'!$B$9:$B$208,$C13,'ABT Credit Balances'!$F$9:$F$208,AI15,'ABT Credit Balances'!$E$9:$E$208,$AG$14,'ABT Credit Balances'!$C$9:$C$208,$B$17)","v":0},{"$f":"SUMIFS('ABT Credit Balances'!$D$9:$D$208,'ABT Credit Balances'!$B$9:$B$208,$C13,'ABT Credit Balances'!$F$9:$F$208,AJ15,'ABT Credit Balances'!$E$9:$E$208,$AJ$14,'ABT Credit Balances'!$C$9:$C$208,$B$17)","v":0},{"$f":"SUMIFS('ABT Credit Balances'!$D$9:$D$208,'ABT Credit Balances'!$B$9:$B$208,$C13,'ABT Credit Balances'!$F$9:$F$208,AK15,'ABT Credit Balances'!$E$9:$E$208,$AJ$14,'ABT Credit Balances'!$C$9:$C$208,$B$17)","v":0},{"$f":"SUMIFS('ABT Credit Balances'!$D$9:$D$208,'ABT Credit Balances'!$B$9:$B$208,$C13,'ABT Credit Balances'!$F$9:$F$208,AL15,'ABT Credit Balances'!$E$9:$E$208,$AJ$14,'ABT Credit Balances'!$C$9:$C$208,$B$17)","v":0},{"$f":"SUMIFS('ABT Credit Balances'!$D$9:$D$208,'ABT Credit Balances'!$B$9:$B$208,$C13,'ABT Credit Balances'!$F$9:$F$208,AM15,'ABT Credit Balances'!$E$9:$E$208,$AM$14,'ABT Credit Balances'!$C$9:$C$208,$B$17)","v":0},{"$f":"SUMIFS('ABT Credit Balances'!$D$9:$D$208,'ABT Credit Balances'!$B$9:$B$208,$C13,'ABT Credit Balances'!$F$9:$F$208,AN15,'ABT Credit Balances'!$E$9:$E$208,$AM$14,'ABT Credit Balances'!$C$9:$C$208,$B$17)","v":0},{"$f":"SUMIFS('ABT Credit Balances'!$D$9:$D$208,'ABT Credit Balances'!$B$9:$B$208,$C13,'ABT Credit Balances'!$F$9:$F$208,AO15,'ABT Credit Balances'!$E$9:$E$208,$AM$14,'ABT Credit Balances'!$C$9:$C$208,$B$17)","v":0},{"$f":"SUMIFS('ABT Credit Balances'!$D$9:$D$208,'ABT Credit Balances'!$B$9:$B$208,$C13,'ABT Credit Balances'!$F$9:$F$208,AP15,'ABT Credit Balances'!$E$9:$E$208,$AP$14,'ABT Credit Balances'!$C$9:$C$208,$B$17)","v":0},{"$f":"SUMIFS('ABT Credit Balances'!$D$9:$D$208,'ABT Credit Balances'!$B$9:$B$208,$C13,'ABT Credit Balances'!$F$9:$F$208,AQ15,'ABT Credit Balances'!$E$9:$E$208,$AP$14,'ABT Credit Balances'!$C$9:$C$208,$B$17)","v":0},{"$f":"SUMIFS('ABT Credit Balances'!$D$9:$D$208,'ABT Credit Balances'!$B$9:$B$208,$C13,'ABT Credit Balances'!$F$9:$F$208,AR15,'ABT Credit Balances'!$E$9:$E$208,$AP$14,'ABT Credit Balances'!$C$9:$C$208,$B$17)","v":0},{"$f":"SUMIFS('ABT Credit Balances'!$D$9:$D$208,'ABT Credit Balances'!$B$9:$B$208,$C$13,'ABT Credit Balances'!$F$9:$F$208,AS15,'ABT Credit Balances'!$E$9:$E$208,$AS$14,'ABT Credit Balances'!$C$9:$C$208,$B$17)","v":0},{"$f":"SUMIFS('ABT Credit Balances'!$D$9:$D$208,'ABT Credit Balances'!$B$9:$B$208,$C$13,'ABT Credit Balances'!$F$9:$F$208,AT15,'ABT Credit Balances'!$E$9:$E$208,$AS$14,'ABT Credit Balances'!$C$9:$C$208,$B$17)","v":0},{"$f":"SUMIFS('ABT Credit Balances'!$D$9:$D$208,'ABT Credit Balances'!$B$9:$B$208,$C$13,'ABT Credit Balances'!$F$9:$F$208,AU15,'ABT Credit Balances'!$E$9:$E$208,$AS$14,'ABT Credit Balances'!$C$9:$C$208,$B$17)","v":0}]
[null,"Applied Banked Credits (out)",{"$f":"SUMIFS('ABT Transactions'!$B$9:$B$40,'ABT Transactions'!$G$9:$G$40,$C$13,'ABT Transactions'!$F$9:$F$40,C14,'ABT Transactions'!$C$9:$C$40,C15,'ABT Transactions'!$D$9:$D$40,$B$18)","v":0},{"$f":"SUMIFS('ABT Transactions'!$B$9:$B$40,'ABT Transactions'!$G$9:$G$40,$C$13,'ABT Transactions'!$F$9:$F$40,C14,'ABT Transactions'!$C$9:$C$40,D15,'ABT Transactions'!$D$9:$D$40,$B$18)","v":0},{"$f":"SUMIFS('ABT Transactions'!$B$9:$B$40,'ABT Transactions'!$G$9:$G$40,$C$13,'ABT Transactions'!$F$9:$F$40,C14,'ABT Transactions'!$C$9:$C$40,E15,'ABT Transactions'!$D$9:$D$40,$B$18)","v":0},{"$f":"SUMIFS('ABT Transactions'!$B$9:$B$40,'ABT Transactions'!$G$9:$G$40,$C$13,'ABT Transactions'!$F$9:$F$40,$F$14,'ABT Transactions'!$C$9:$C$40,F15,'ABT Transactions'!$D$9:$D$40,$B$18)","v":0},{"$f":"SUMIFS('ABT Transactions'!$B$9:$B$40,'ABT Transactions'!$G$9:$G$40,$C$13,'ABT Transactions'!$F$9:$F$40,$F$14,'ABT Transactions'!$C$9:$C$40,G15,'ABT Transactions'!$D$9:$D$40,$B$18)","v":0},{"$f":"SUMIFS('ABT Transactions'!$B$9:$B$40,'ABT Transactions'!$G$9:$G$40,$C$13,'ABT Transactions'!$F$9:$F$40,$F$14,'ABT Transactions'!$C$9:$C$40,H15,'ABT Transactions'!$D$9:$D$40,$B$18)","v":0},{"$f":"SUMIFS('ABT Transactions'!$B$9:$B$40,'ABT Transactions'!$G$9:$G$40,$C$13,'ABT Transactions'!$F$9:$F$40,$I$14,'ABT Transactions'!$C$9:$C$40,I15,'ABT Transactions'!$D$9:$D$40,$B$18)","v":0},{"$f":"SUMIFS('ABT Transactions'!$B$9:$B$40,'ABT Transactions'!$G$9:$G$40,$C$13,'ABT Transactions'!$F$9:$F$40,$I$14,'ABT Transactions'!$C$9:$C$40,J15,'ABT Transactions'!$D$9:$D$40,$B$18)","v":0},{"$f":"SUMIFS('ABT Transactions'!$B$9:$B$40,'ABT Transactions'!$G$9:$G$40,$C$13,'ABT Transactions'!$F$9:$F$40,$I$14,'ABT Transactions'!$C$9:$C$40,K15,'ABT Transactions'!$D$9:$D$40,$B$18)","v":0},{"$f":"SUMIFS('ABT Transactions'!$B$9:$B$40,'ABT Transactions'!$G$9:$G$40,$C$13,'ABT Transactions'!$F$9:$F$40,$L$14,'ABT Transactions'!$C$9:$C$40,L15,'ABT Transactions'!$D$9:$D$40,$B$18)","v":0},{"$f":"SUMIFS('ABT Transactions'!$B$9:$B$40,'ABT Transactions'!$G$9:$G$40,$C$13,'ABT Transactions'!$F$9:$F$40,$L$14,'ABT Transactions'!$C$9:$C$40,M15,'ABT Transactions'!$D$9:$D$40,$B$18)","v":0},{"$f":"SUMIFS('ABT Transactions'!$B$9:$B$40,'ABT Transactions'!$G$9:$G$40,$C$13,'ABT Transactions'!$F$9:$F$40,$L$14,'ABT Transactions'!$C$9:$C$40,N15,'ABT Transactions'!$D$9:$D$40,$B$18)","v":0},{"$f":"SUMIFS('ABT Transactions'!$B$9:$B$40,'ABT Transactions'!$G$9:$G$40,$C$13,'ABT Transactions'!$F$9:$F$40,$O$14,'ABT Transactions'!$C$9:$C$40,O15,'ABT Transactions'!$D$9:$D$40,$B$18)","v":0},{"$f":"SUMIFS('ABT Transactions'!$B$9:$B$40,'ABT Transactions'!$G$9:$G$40,$C$13,'ABT Transactions'!$F$9:$F$40,$O$14,'ABT Transactions'!$C$9:$C$40,P15,'ABT Transactions'!$D$9:$D$40,$B$18)","v":0},{"$f":"SUMIFS('ABT Transactions'!$B$9:$B$40,'ABT Transactions'!$G$9:$G$40,$C$13,'ABT Transactions'!$F$9:$F$40,$O$14,'ABT Transactions'!$C$9:$C$40,Q15,'ABT Transactions'!$D$9:$D$40,$B$18)","v":0},{"$f":"SUMIFS('ABT Transactions'!$B$9:$B$40,'ABT Transactions'!$G$9:$G$40,$C$13,'ABT Transactions'!$F$9:$F$40,$R$14,'ABT Transactions'!$C$9:$C$40,R15,'ABT Transactions'!$D$9:$D$40,$B$18)","v":0},{"$f":"SUMIFS('ABT Transactions'!$B$9:$B$40,'ABT Transactions'!$G$9:$G$40,$C$13,'ABT Transactions'!$F$9:$F$40,$R$14,'ABT Transactions'!$C$9:$C$40,S15,'ABT Transactions'!$D$9:$D$40,$B$18)","v":0},{"$f":"SUMIFS('ABT Transactions'!$B$9:$B$40,'ABT Transactions'!$G$9:$G$40,$C$13,'ABT Transactions'!$F$9:$F$40,$R$14,'ABT Transactions'!$C$9:$C$40,T15,'ABT Transactions'!$D$9:$D$40,$B$18)","v":0},{"$f":"SUMIFS('ABT Transactions'!$B$9:$B$40,'ABT Transactions'!$G$9:$G$40,$C13,'ABT Transactions'!$F$9:$F$40,$U$14,'ABT Transactions'!$C$9:$C$40,U15,'ABT Transactions'!$D$9:$D$40,$B$18)","v":0},{"$f":"SUMIFS('ABT Transactions'!$B$9:$B$40,'ABT Transactions'!$G$9:$G$40,$C13,'ABT Transactions'!$F$9:$F$40,$U$14,'ABT Transactions'!$C$9:$C$40,V15,'ABT Transactions'!$D$9:$D$40,$B$18)","v":0},{"$f":"SUMIFS('ABT Transactions'!$B$9:$B$40,'ABT Transactions'!$G$9:$G$40,$C13,'ABT Transactions'!$F$9:$F$40,$U$14,'ABT Transactions'!$C$9:$C$40,W15,'ABT Transactions'!$D$9:$D$40,$B$18)","v":0},{"$f":"SUMIFS('ABT Transactions'!$B$9:$B$40,'ABT Transactions'!$G$9:$G$40,$C13,'ABT Transactions'!$F$9:$F$40,$X$14,'ABT Transactions'!$C$9:$C$40,X15,'ABT Transactions'!$D$9:$D$40,$B$18)","v":0},{"$f":"SUMIFS('ABT Transactions'!$B$9:$B$40,'ABT Transactions'!$G$9:$G$40,$C13,'ABT Transactions'!$F$9:$F$40,$X$14,'ABT Transactions'!$C$9:$C$40,Y15,'ABT Transactions'!$D$9:$D$40,$B$18)","v":0},{"$f":"SUMIFS('ABT Transactions'!$B$9:$B$40,'ABT Transactions'!$G$9:$G$40,$C13,'ABT Transactions'!$F$9:$F$40,$X$14,'ABT Transactions'!$C$9:$C$40,Z15,'ABT Transactions'!$D$9:$D$40,$B$18)","v":0},{"$f":"SUMIFS('ABT Transactions'!$B$9:$B$40,'ABT Transactions'!$G$9:$G$40,$C13,'ABT Transactions'!$F$9:$F$40,$AA$14,'ABT Transactions'!$C$9:$C$40,AA15,'ABT Transactions'!$D$9:$D$40,$B$18)","v":0},{"$f":"SUMIFS('ABT Transactions'!$B$9:$B$40,'ABT Transactions'!$G$9:$G$40,$C13,'ABT Transactions'!$F$9:$F$40,$AA$14,'ABT Transactions'!$C$9:$C$40,AB15,'ABT Transactions'!$D$9:$D$40,$B$18)","v":0},{"$f":"SUMIFS('ABT Transactions'!$B$9:$B$40,'ABT Transactions'!$G$9:$G$40,$C13,'ABT Transactions'!$F$9:$F$40,$AA$14,'ABT Transactions'!$C$9:$C$40,AC15,'ABT Transactions'!$D$9:$D$40,$B$18)","v":0},{"$f":"SUMIFS('ABT Transactions'!$B$9:$B$40,'ABT Transactions'!$G$9:$G$40,$C13,'ABT Transactions'!$F$9:$F$40,$AD$14,'ABT Transactions'!$C$9:$C$40,AD15,'ABT Transactions'!$D$9:$D$40,$B$18)","v":0},{"$f":"SUMIFS('ABT Transactions'!$B$9:$B$40,'ABT Transactions'!$G$9:$G$40,$C13,'ABT Transactions'!$F$9:$F$40,$AD$14,'ABT Transactions'!$C$9:$C$40,AE15,'ABT Transactions'!$D$9:$D$40,$B$18)","v":0},{"$f":"SUMIFS('ABT Transactions'!$B$9:$B$40,'ABT Transactions'!$G$9:$G$40,$C13,'ABT Transactions'!$F$9:$F$40,$AD$14,'ABT Transactions'!$C$9:$C$40,AF15,'ABT Transactions'!$D$9:$D$40,$B$18)","v":0},{"$f":"SUMIFS('ABT Transactions'!$B$9:$B$40,'ABT Transactions'!$G$9:$G$40,$C13,'ABT Transactions'!$F$9:$F$40,$AG$14,'ABT Transactions'!$C$9:$C$40,AG15,'ABT Transactions'!$D$9:$D$40,$B$18)","v":0},{"$f":"SUMIFS('ABT Transactions'!$B$9:$B$40,'ABT Transactions'!$G$9:$G$40,$C13,'ABT Transactions'!$F$9:$F$40,$AG$14,'ABT Transactions'!$C$9:$C$40,AH15,'ABT Transactions'!$D$9:$D$40,$B$18)","v":0},{"$f":"SUMIFS('ABT Transactions'!$B$9:$B$40,'ABT Transactions'!$G$9:$G$40,$C13,'ABT Transactions'!$F$9:$F$40,$AG$14,'ABT Transactions'!$C$9:$C$40,AI15,'ABT Transactions'!$D$9:$D$40,$B$18)","v":0},{"$f":"SUMIFS('ABT Transactions'!$B$9:$B$40,'ABT Transactions'!$G$9:$G$40,$C13,'ABT Transactions'!$F$9:$F$40,$AJ$14,'ABT Transactions'!$C$9:$C$40,AJ15,'ABT Transactions'!$D$9:$D$40,$B$18)","v":0},{"$f":"SUMIFS('ABT Transactions'!$B$9:$B$40,'ABT Transactions'!$G$9:$G$40,$C13,'ABT Transactions'!$F$9:$F$40,$AJ$14,'ABT Transactions'!$C$9:$C$40,AK15,'ABT Transactions'!$D$9:$D$40,$B$18)","v":0},{"$f":"SUMIFS('ABT Transactions'!$B$9:$B$40,'ABT Transactions'!$G$9:$G$40,$C13,'ABT Transactions'!$F$9:$F$40,$AJ$14,'ABT Transactions'!$C$9:$C$40,AL15,'ABT Transactions'!$D$9:$D$40,$B$18)","v":0},{"$f":"SUMIFS('ABT Transactions'!$B$9:$B$40,'ABT Transactions'!$G$9:$G$40,$C13,'ABT Transactions'!$F$9:$F$40,$AM$14,'ABT Transactions'!$C$9:$C$40,AM15,'ABT Transactions'!$D$9:$D$40,$B$18)","v":0},{"$f":"SUMIFS('ABT Transactions'!$B$9:$B$40,'ABT Transactions'!$G$9:$G$40,$C13,'ABT Transactions'!$F$9:$F$40,$AM$14,'ABT Transactions'!$C$9:$C$40,AN15,'ABT Transactions'!$D$9:$D$40,$B$18)","v":0},{"$f":"SUMIFS('ABT Transactions'!$B$9:$B$40,'ABT Transactions'!$G$9:$G$40,$C13,'ABT Transactions'!$F$9:$F$40,$AM$14,'ABT Transactions'!$C$9:$C$40,AO15,'ABT Transactions'!$D$9:$D$40,$B$18)","v":0},{"$f":"SUMIFS('ABT Transactions'!$B$9:$B$40,'ABT Transactions'!$G$9:$G$40,$C13,'ABT Transactions'!$F$9:$F$40,$AP$14,'ABT Transactions'!$C$9:$C$40,AP15,'ABT Transactions'!$D$9:$D$40,$B$18)","v":0},{"$f":"SUMIFS('ABT Transactions'!$B$9:$B$40,'ABT Transactions'!$G$9:$G$40,$C13,'ABT Transactions'!$F$9:$F$40,$AP$14,'ABT Transactions'!$C$9:$C$40,AQ15,'ABT Transactions'!$D$9:$D$40,$B$18)","v":0},{"$f":"SUMIFS('ABT Transactions'!$B$9:$B$40,'ABT Transactions'!$G$9:$G$40,$C13,'ABT Transactions'!$F$9:$F$40,$AP$14,'ABT Transactions'!$C$9:$C$40,AR15,'ABT Transactions'!$D$9:$D$40,$B$18)","v":0},{"$f":"SUMIFS('ABT Transactions'!$B$9:$B$40,'ABT Transactions'!$G$9:$G$40,$C$13,'ABT Transactions'!$F$9:$F$40,$AS$14,'ABT Transactions'!$C$9:$C$40,AS15,'ABT Transactions'!$D$9:$D$40,$B$18)","v":0},{"$f":"SUMIFS('ABT Transactions'!$B$9:$B$40,'ABT Transactions'!$G$9:$G$40,$C$13,'ABT Transactions'!$F$9:$F$40,$AS$14,'ABT Transactions'!$C$9:$C$40,AT15,'ABT Transactions'!$D$9:$D$40,$B$18)","v":0},{"$f":"SUMIFS('ABT Transactions'!$B$9:$B$40,'ABT Transactions'!$G$9:$G$40,$C$13,'ABT Transactions'!$F$9:$F$40,AS14,'ABT Transactions'!$C$9:$C$40,AU15,'ABT Transactions'!$D$9:$D$40,$B$18)","v":0}]
[null,"Applied Banked Credits (in)",{"$f":"SUMIFS('ABT Transactions'!$B$9:$B$40,'ABT Transactions'!$J$9:$J$40,$C$13,'ABT Transactions'!$I$9:$I$40,C14,'ABT Transactions'!$C$9:$C$40,C15,'ABT Transactions'!$D$9:$D$40,$B$19)","v":0},{"$f":"SUMIFS('ABT Transactions'!$B$9:$B$40,'ABT Transactions'!$J$9:$J$40,$C$13,'ABT Transactions'!$I$9:$I$40,C14,'ABT Transactions'!$C$9:$C$40,D15,'ABT Transactions'!$D$9:$D$40,$B$19)","v":0},{"$f":"SUMIFS('ABT Transactions'!$B$9:$B$40,'ABT Transactions'!$J$9:$J$40,$C$13,'ABT Transactions'!$I$9:$I$40,C14,'ABT Transactions'!$C$9:$C$40,E15,'ABT Transactions'!$D$9:$D$40,$B$19)","v":0},{"$f":"SUMIFS('ABT Transactions'!$B$9:$B$40,'ABT Transactions'!$J$9:$J$40,$C$13,'ABT Transactions'!$I$9:$I$40,$F$14,'ABT Transactions'!$C$9:$C$40,F15,'ABT Transactions'!$D$9:$D$40,$B$19)","v":0},{"$f":"SUMIFS('ABT Transactions'!$B$9:$B$40,'ABT Transactions'!$J$9:$J$40,$C$13,'ABT Transactions'!$I$9:$I$40,$F$14,'ABT Transactions'!$C$9:$C$40,G15,'ABT Transactions'!$D$9:$D$40,$B$19)","v":0},{"$f":"SUMIFS('ABT Transactions'!$B$9:$B$40,'ABT Transactions'!$J$9:$J$40,$C$13,'ABT Transactions'!$I$9:$I$40,$F$14,'ABT Transactions'!$C$9:$C$40,H15,'ABT Transactions'!$D$9:$D$40,$B$19)","v":0},{"$f":"SUMIFS('ABT Transactions'!$B$9:$B$40,'ABT Transactions'!$J$9:$J$40,$C$13,'ABT Transactions'!$I$9:$I$40,$I$14,'ABT Transactions'!$C$9:$C$40,I15,'ABT Transactions'!$D$9:$D$40,$B$19)","v":0},{"$f":"SUMIFS('ABT Transactions'!$B$9:$B$40,'ABT Transactions'!$J$9:$J$40,$C$13,'ABT Transactions'!$I$9:$I$40,$I$14,'ABT Transactions'!$C$9:$C$40,J15,'ABT Transactions'!$D$9:$D$40,$B$19)","v":0},{"$f":"SUMIFS('ABT Transactions'!$B$9:$B$40,'ABT Transactions'!$J$9:$J$40,$C$13,'ABT Transactions'!$I$9:$I$40,$I$14,'ABT Transactions'!$C$9:$C$40,K15,'ABT Transactions'!$D$9:$D$40,$B$19)","v":0},{"$f":"SUMIFS('ABT Transactions'!$B$9:$B$40,'ABT Transactions'!$J$9:$J$40,$C$13,'ABT Transactions'!$I$9:$I$40,$L$14,'ABT Transactions'!$C$9:$C$40,L15,'ABT Transactions'!$D$9:$D$40,$B$19)","v":0},{"$f":"SUMIFS('ABT Transactions'!$B$9:$B$40,'ABT Transactions'!$J$9:$J$40,$C$13,'ABT Transactions'!$I$9:$I$40,$L$14,'ABT Transactions'!$C$9:$C$40,M15,'ABT Transactions'!$D$9:$D$40,$B$19)","v":0},{"$f":"SUMIFS('ABT Transactions'!$B$9:$B$40,'ABT Transactions'!$J$9:$J$40,$C$13,'ABT Transactions'!$I$9:$I$40,$L$14,'ABT Transactions'!$C$9:$C$40,N15,'ABT Transactions'!$D$9:$D$40,$B$19)","v":0},{"$f":"SUMIFS('ABT Transactions'!$B$9:$B$40,'ABT Transactions'!$J$9:$J$40,$C$13,'ABT Transactions'!$I$9:$I$40,$O$14,'ABT Transactions'!$C$9:$C$40,O15,'ABT Transactions'!$D$9:$D$40,$B$19)","v":0},{"$f":"SUMIFS('ABT Transactions'!$B$9:$B$40,'ABT Transactions'!$J$9:$J$40,$C$13,'ABT Transactions'!$I$9:$I$40,$O$14,'ABT Transactions'!$C$9:$C$40,P15,'ABT Transactions'!$D$9:$D$40,$B$19)","v":0},{"$f":"SUMIFS('ABT Transactions'!$B$9:$B$40,'ABT Transactions'!$J$9:$J$40,$C$13,'ABT Transactions'!$I$9:$I$40,$O$14,'ABT Transactions'!$C$9:$C$40,Q15,'ABT Transactions'!$D$9:$D$40,$B$19)","v":0},{"$f":"SUMIFS('ABT Transactions'!$B$9:$B$40,'ABT Transactions'!$J$9:$J$40,$C$13,'ABT Transactions'!$I$9:$I$40,$R$14,'ABT Transactions'!$C$9:$C$40,R15,'ABT Transactions'!$D$9:$D$40,$B$19)","v":0},{"$f":"SUMIFS('ABT Transactions'!$B$9:$B$40,'ABT Transactions'!$J$9:$J$40,$C$13,'ABT Transactions'!$I$9:$I$40,$R$14,'ABT Transactions'!$C$9:$C$40,S15,'ABT Transactions'!$D$9:$D$40,$B$19)","v":0},{"$f":"SUMIFS('ABT Transactions'!$B$9:$B$40,'ABT Transactions'!$J$9:$J$40,$C$13,'ABT Transactions'!$I$9:$I$40,$R$14,'ABT Transactions'!$C$9:$C$40,T15,'ABT Transactions'!$D$9:$D$40,$B$19)","v":0},{"$f":"SUMIFS('ABT Transactions'!$B$9:$B$40,'ABT Transactions'!$J$9:$J$40,$C13,'ABT Transactions'!$I$9:$I$40,$U$14,'ABT Transactions'!$C$9:$C$40,U15,'ABT Transactions'!$D$9:$D$40,$B$19)","v":0},{"$f":"SUMIFS('ABT Transactions'!$B$9:$B$40,'ABT Transactions'!$J$9:$J$40,$C13,'ABT Transactions'!$I$9:$I$40,$U$14,'ABT Transactions'!$C$9:$C$40,V15,'ABT Transactions'!$D$9:$D$40,$B$19)","v":0},{"$f":"SUMIFS('ABT Transactions'!$B$9:$B$40,'ABT Transactions'!$J$9:$J$40,$C13,'ABT Transactions'!$I$9:$I$40,$U$14,'ABT Transactions'!$C$9:$C$40,W15,'ABT Transactions'!$D$9:$D$40,$B$19)","v":0},{"$f":"SUMIFS('ABT Transactions'!$B$9:$B$40,'ABT Transactions'!$J$9:$J$40,$C13,'ABT Transactions'!$I$9:$I$40,$X$14,'ABT Transactions'!$C$9:$C$40,X15,'ABT Transactions'!$D$9:$D$40,$B$19)","v":0},{"$f":"SUMIFS('ABT Transactions'!$B$9:$B$40,'ABT Transactions'!$J$9:$J$40,$C13,'ABT Transactions'!$I$9:$I$40,$X$14,'ABT Transactions'!$C$9:$C$40,Y15,'ABT Transactions'!$D$9:$D$40,$B$19)","v":0},{"$f":"SUMIFS('ABT Transactions'!$B$9:$B$40,'ABT Transactions'!$J$9:$J$40,$C13,'ABT Transactions'!$I$9:$I$40,$X$14,'ABT Transactions'!$C$9:$C$40,Z15,'ABT Transactions'!$D$9:$D$40,$B$19)","v":0},{"$f":"SUMIFS('ABT Transactions'!$B$9:$B$40,'ABT Transactions'!$J$9:$J$40,$C13,'ABT Transactions'!$I$9:$I$40,$AA$14,'ABT Transactions'!$C$9:$C$40,AA15,'ABT Transactions'!$D$9:$D$40,$B$19)","v":0},{"$f":"SUMIFS('ABT Transactions'!$B$9:$B$40,'ABT Transactions'!$J$9:$J$40,$C13,'ABT Transactions'!$I$9:$I$40,$AA$14,'ABT Transactions'!$C$9:$C$40,AB15,'ABT Transactions'!$D$9:$D$40,$B$19)","v":0},{"$f":"SUMIFS('ABT Transactions'!$B$9:$B$40,'ABT Transactions'!$J$9:$J$40,$C13,'ABT Transactions'!$I$9:$I$40,$AA$14,'ABT Transactions'!$C$9:$C$40,AC15,'ABT Transactions'!$D$9:$D$40,$B$19)","v":0},{"$f":"SUMIFS('ABT Transactions'!$B$9:$B$40,'ABT Transactions'!$J$9:$J$40,$C13,'ABT Transactions'!$I$9:$I$40,$AD$14,'ABT Transactions'!$C$9:$C$40,AD15,'ABT Transactions'!$D$9:$D$40,$B$19)","v":0},{"$f":"SUMIFS('ABT Transactions'!$B$9:$B$40,'ABT Transactions'!$J$9:$J$40,$C13,'ABT Transactions'!$I$9:$I$40,$AD$14,'ABT Transactions'!$C$9:$C$40,AE15,'ABT Transactions'!$D$9:$D$40,$B$19)","v":0},{"$f":"SUMIFS('ABT Transactions'!$B$9:$B$40,'ABT Transactions'!$J$9:$J$40,$C13,'ABT Transactions'!$I$9:$I$40,$AD$14,'ABT Transactions'!$C$9:$C$40,AF15,'ABT Transactions'!$D$9:$D$40,$B$19)","v":0},{"$f":"SUMIFS('ABT Transactions'!$B$9:$B$40,'ABT Transactions'!$J$9:$J$40,$C13,'ABT Transactions'!$I$9:$I$40,$AG$14,'ABT Transactions'!$C$9:$C$40,AG15,'ABT Transactions'!$D$9:$D$40,$B$19)","v":0},{"$f":"SUMIFS('ABT Transactions'!$B$9:$B$40,'ABT Transactions'!$J$9:$J$40,$C13,'ABT Transactions'!$I$9:$I$40,$AG$14,'ABT Transactions'!$C$9:$C$40,AH15,'ABT Transactions'!$D$9:$D$40,$B$19)","v":0},{"$f":"SUMIFS('ABT Transactions'!$B$9:$B$40,'ABT Transactions'!$J$9:$J$40,$C13,'ABT Transactions'!$I$9:$I$40,$AG$14,'ABT Transactions'!$C$9:$C$40,AI15,'ABT Transactions'!$D$9:$D$40,$B$19)","v":0},{"$f":"SUMIFS('ABT Transactions'!$B$9:$B$40,'ABT Transactions'!$J$9:$J$40,$C13,'ABT Transactions'!$I$9:$I$40,$AJ$14,'ABT Transactions'!$C$9:$C$40,AJ15,'ABT Transactions'!$D$9:$D$40,$B$19)","v":0},{"$f":"SUMIFS('ABT Transactions'!$B$9:$B$40,'ABT Transactions'!$J$9:$J$40,$C13,'ABT Transactions'!$I$9:$I$40,$AJ$14,'ABT Transactions'!$C$9:$C$40,AK15,'ABT Transactions'!$D$9:$D$40,$B$19)","v":0},{"$f":"SUMIFS('ABT Transactions'!$B$9:$B$40,'ABT Transactions'!$J$9:$J$40,$C13,'ABT Transactions'!$I$9:$I$40,$AJ$14,'ABT Transactions'!$C$9:$C$40,AL15,'ABT Transactions'!$D$9:$D$40,$B$19)","v":0},{"$f":"SUMIFS('ABT Transactions'!$B$9:$B$40,'ABT Transactions'!$J$9:$J$40,$C13,'ABT Transactions'!$I$9:$I$40,$AM$14,'ABT Transactions'!$C$9:$C$40,AM15,'ABT Transactions'!$D$9:$D$40,$B$19)","v":0},{"$f":"SUMIFS('ABT Transactions'!$B$9:$B$40,'ABT Transactions'!$J$9:$J$40,$C13,'ABT Transactions'!$I$9:$I$40,$AM$14,'ABT Transactions'!$C$9:$C$40,AN15,'ABT Transactions'!$D$9:$D$40,$B$19)","v":0},{"$f":"SUMIFS('ABT Transactions'!$B$9:$B$40,'ABT Transactions'!$J$9:$J$40,$C13,'ABT Transactions'!$I$9:$I$40,$AM$14,'ABT Transactions'!$C$9:$C$40,AO15,'ABT Transactions'!$D$9:$D$40,$B$19)","v":0},{"$f":"SUMIFS('ABT Transactions'!$B$9:$B$40,'ABT Transactions'!$J$9:$J$40,$C13,'ABT Transactions'!$I$9:$I$40,$AP$14,'ABT Transactions'!$C$9:$C$40,AP15,'ABT Transactions'!$D$9:$D$40,$B$19)","v":0},{"$f":"SUMIFS('ABT Transactions'!$B$9:$B$40,'ABT Transactions'!$J$9:$J$40,$C13,'ABT Transactions'!$I$9:$I$40,$AP$14,'ABT Transactions'!$C$9:$C$40,AQ15,'ABT Transactions'!$D$9:$D$40,$B$19)","v":0},{"$f":"SUMIFS('ABT Transactions'!$B$9:$B$40,'ABT Transactions'!$J$9:$J$40,$C13,'ABT Transactions'!$I$9:$I$40,$AP$14,'ABT Transactions'!$C$9:$C$40,AR15,'ABT Transactions'!$D$9:$D$40,$B$19)","v":0},{"$f":"SUMIFS('ABT Transactions'!$B$9:$B$40,'ABT Transactions'!$J$9:$J$40,$C$13,'ABT Transactions'!$I$9:$I$40,$AS$14,'ABT Transactions'!$C$9:$C$40,AS15,'ABT Transactions'!$D$9:$D$40,$B$19)","v":0},{"$f":"SUMIFS('ABT Transactions'!$B$9:$B$40,'ABT Transactions'!$J$9:$J$40,$C$13,'ABT Transactions'!$I$9:$I$40,$AS$14,'ABT Transactions'!$C$9:$C$40,AT15,'ABT Transactions'!$D$9:$D$40,$B$19)","v":0},{"$f":"SUMIFS('ABT Transactions'!$B$9:$B$40,'ABT Transactions'!$J$9:$J$40,$C$13,'ABT Transactions'!$I$9:$I$40,$AS$14,'ABT Transactions'!$C$9:$C$40,AU15,'ABT Transactions'!$D$9:$D$40,$B$19)","v":0}]
[null,"Trade Out",{"$f":"SUMIFS('ABT Transactions'!$B$9:$B$40,'ABT Transactions'!$G$9:$G$40,$C$13,'ABT Transactions'!$F$9:$F$40,$C$14,'ABT Transactions'!$C$9:$C$40,$C$15,'ABT Transactions'!$D$9:$D$40,$B$20)","v":0},{"$f":"SUMIFS('ABT Transactions'!$B$9:$B$40,'ABT Transactions'!$G$9:$G$40,$C$13,'ABT Transactions'!$F$9:$F$40,$C$14,'ABT Transactions'!$C$9:$C$40,D15,'ABT Transactions'!$D$9:$D$40,$B$20)","v":0},{"$f":"SUMIFS('ABT Transactions'!$B$9:$B$40,'ABT Transactions'!$G$9:$G$40,$C$13,'ABT Transactions'!$F$9:$F$40,$C$14,'ABT Transactions'!$C$9:$C$40,E15,'ABT Transactions'!$D$9:$D$40,$B$20)","v":0},{"$f":"SUMIFS('ABT Transactions'!$B$9:$B$40,'ABT Transactions'!$G$9:$G$40,$C$13,'ABT Transactions'!$F$9:$F$40,$F$14,'ABT Transactions'!$C$9:$C$40,F15,'ABT Transactions'!$D$9:$D$40,$B$20)","v":0},{"$f":"SUMIFS('ABT Transactions'!$B$9:$B$40,'ABT Transactions'!$G$9:$G$40,$C$13,'ABT Transactions'!$F$9:$F$40,$F$14,'ABT Transactions'!$C$9:$C$40,G15,'ABT Transactions'!$D$9:$D$40,$B$20)","v":0},{"$f":"SUMIFS('ABT Transactions'!$B$9:$B$40,'ABT Transactions'!$G$9:$G$40,$C$13,'ABT Transactions'!$F$9:$F$40,$F$14,'ABT Transactions'!$C$9:$C$40,H15,'ABT Transactions'!$D$9:$D$40,$B$20)","v":0},{"$f":"SUMIFS('ABT Transactions'!$B$9:$B$40,'ABT Transactions'!$G$9:$G$40,$C$13,'ABT Transactions'!$F$9:$F$40,$I$14,'ABT Transactions'!$C$9:$C$40,I15,'ABT Transactions'!$D$9:$D$40,$B$20)","v":0},{"$f":"SUMIFS('ABT Transactions'!$B$9:$B$40,'ABT Transactions'!$G$9:$G$40,$C$13,'ABT Transactions'!$F$9:$F$40,$I$14,'ABT Transactions'!$C$9:$C$40,J15,'ABT Transactions'!$D$9:$D$40,$B$20)","v":0},{"$f":"SUMIFS('ABT Transactions'!$B$9:$B$40,'ABT Transactions'!$G$9:$G$40,$C$13,'ABT Transactions'!$F$9:$F$40,$I$14,'ABT Transactions'!$C$9:$C$40,K15,'ABT Transactions'!$D$9:$D$40,$B$20)","v":0},{"$f":"SUMIFS('ABT Transactions'!$B$9:$B$40,'ABT Transactions'!$G$9:$G$40,$C$13,'ABT Transactions'!$F$9:$F$40,$L$14,'ABT Transactions'!$C$9:$C$40,L15,'ABT Transactions'!$D$9:$D$40,$B$20)","v":0},{"$f":"SUMIFS('ABT Transactions'!$B$9:$B$40,'ABT Transactions'!$G$9:$G$40,$C$13,'ABT Transactions'!$F$9:$F$40,$L$14,'ABT Transactions'!$C$9:$C$40,M15,'ABT Transactions'!$D$9:$D$40,$B$20)","v":0},{"$f":"SUMIFS('ABT Transactions'!$B$9:$B$40,'ABT Transactions'!$G$9:$G$40,$C$13,'ABT Transactions'!$F$9:$F$40,$L$14,'ABT Transactions'!$C$9:$C$40,N15,'ABT Transactions'!$D$9:$D$40,$B$20)","v":0},{"$f":"SUMIFS('ABT Transactions'!$B$9:$B$40,'ABT Transactions'!$G$9:$G$40,$C$13,'ABT Transactions'!$F$9:$F$40,$O$14,'ABT Transactions'!$C$9:$C$40,O15,'ABT Transactions'!$D$9:$D$40,$B$20)","v":0},{"$f":"SUMIFS('ABT Transactions'!$B$9:$B$40,'ABT Transactions'!$G$9:$G$40,$C$13,'ABT Transactions'!$F$9:$F$40,$O$14,'ABT Transactions'!$C$9:$C$40,P15,'ABT Transactions'!$D$9:$D$40,$B$20)","v":0},{"$f":"SUMIFS('ABT Transactions'!$B$9:$B$40,'ABT Transactions'!$G$9:$G$40,$C$13,'ABT Transactions'!$F$9:$F$40,$O$14,'ABT Transactions'!$C$9:$C$40,Q15,'ABT Transactions'!$D$9:$D$40,$B$20)","v":0},{"$f":"SUMIFS('ABT Transactions'!$B$9:$B$40,'ABT Transactions'!$G$9:$G$40,$C$13,'ABT Transactions'!$F$9:$F$40,$R$14,'ABT Transactions'!$C$9:$C$40,R15,'ABT Transactions'!$D$9:$D$40,$B$20)","v":0},{"$f":"SUMIFS('ABT Transactions'!$B$9:$B$40,'ABT Transactions'!$G$9:$G$40,$C$13,'ABT Transactions'!$F$9:$F$40,$R$14,'ABT Transactions'!$C$9:$C$40,S15,'ABT Transactions'!$D$9:$D$40,$B$20)","v":0},{"$f":"SUMIFS('ABT Transactions'!$B$9:$B$40,'ABT Transactions'!$G$9:$G$40,$C$13,'ABT Transactions'!$F$9:$F$40,$R$14,'ABT Transactions'!$C$9:$C$40,T15,'ABT Transactions'!$D$9:$D$40,$B$20)","v":0},{"$f":"SUMIFS('ABT Transactions'!$B$9:$B$40,'ABT Transactions'!$G$9:$G$40,$C13,'ABT Transactions'!$F$9:$F$40,$U$14,'ABT Transactions'!$C$9:$C$40,U15,'ABT Transactions'!$D$9:$D$40,$B$20)","v":0},{"$f":"SUMIFS('ABT Transactions'!$B$9:$B$40,'ABT Transactions'!$G$9:$G$40,$C13,'ABT Transactions'!$F$9:$F$40,$U$14,'ABT Transactions'!$C$9:$C$40,V15,'ABT Transactions'!$D$9:$D$40,$B$20)","v":0},{"$f":"SUMIFS('ABT Transactions'!$B$9:$B$40,'ABT Transactions'!$G$9:$G$40,$C13,'ABT Transactions'!$F$9:$F$40,$U$14,'ABT Transactions'!$C$9:$C$40,W15,'ABT Transactions'!$D$9:$D$40,$B$20)","v":0},{"$f":"SUMIFS('ABT Transactions'!$B$9:$B$40,'ABT Transactions'!$G$9:$G$40,$C13,'ABT Transactions'!$F$9:$F$40,$X$14,'ABT Transactions'!$C$9:$C$40,X15,'ABT Transactions'!$D$9:$D$40,$B$20)","v":0},{"$f":"SUMIFS('ABT Transactions'!$B$9:$B$40,'ABT Transactions'!$G$9:$G$40,$C13,'ABT Transactions'!$F$9:$F$40,$X$14,'ABT Transactions'!$C$9:$C$40,Y15,'ABT Transactions'!$D$9:$D$40,$B$20)","v":0},{"$f":"SUMIFS('ABT Transactions'!$B$9:$B$40,'ABT Transactions'!$G$9:$G$40,$C13,'ABT Transactions'!$F$9:$F$40,$X$14,'ABT Transactions'!$C$9:$C$40,Z15,'ABT Transactions'!$D$9:$D$40,$B$20)","v":0},{"$f":"SUMIFS('ABT Transactions'!$B$9:$B$40,'ABT Transactions'!$G$9:$G$40,$C13,'ABT Transactions'!$F$9:$F$40,$AA$14,'ABT Transactions'!$C$9:$C$40,AA15,'ABT Transactions'!$D$9:$D$40,$B$20)","v":0},{"$f":"SUMIFS('ABT Transactions'!$B$9:$B$40,'ABT Transactions'!$G$9:$G$40,$C13,'ABT Transactions'!$F$9:$F$40,$AA$14,'ABT Transactions'!$C$9:$C$40,AB15,'ABT Transactions'!$D$9:$D$40,$B$20)","v":0},{"$f":"SUMIFS('ABT Transactions'!$B$9:$B$40,'ABT Transactions'!$G$9:$G$40,$C13,'ABT Transactions'!$F$9:$F$40,$AA$14,'ABT Transactions'!$C$9:$C$40,AC15,'ABT Transactions'!$D$9:$D$40,$B$20)","v":0},{"$f":"SUMIFS('ABT Transactions'!$B$9:$B$40,'ABT Transactions'!$G$9:$G$40,$C13,'ABT Transactions'!$F$9:$F$40,$AD$14,'ABT Transactions'!$C$9:$C$40,AD15,'ABT Transactions'!$D$9:$D$40,$B$20)","v":0},{"$f":"SUMIFS('ABT Transactions'!$B$9:$B$40,'ABT Transactions'!$G$9:$G$40,$C13,'ABT Transactions'!$F$9:$F$40,$AD$14,'ABT Transactions'!$C$9:$C$40,AE15,'ABT Transactions'!$D$9:$D$40,$B$20)","v":0},{"$f":"SUMIFS('ABT Transactions'!$B$9:$B$40,'ABT Transactions'!$G$9:$G$40,$C13,'ABT Transactions'!$F$9:$F$40,$AD$14,'ABT Transactions'!$C$9:$C$40,AF15,'ABT Transactions'!$D$9:$D$40,$B$20)","v":0},{"$f":"SUMIFS('ABT Transactions'!$B$9:$B$40,'ABT Transactions'!$G$9:$G$40,$C13,'ABT Transactions'!$F$9:$F$40,$AG$14,'ABT Transactions'!$C$9:$C$40,AG15,'ABT Transactions'!$D$9:$D$40,$B$20)","v":0},{"$f":"SUMIFS('ABT Transactions'!$B$9:$B$40,'ABT Transactions'!$G$9:$G$40,$C13,'ABT Transactions'!$F$9:$F$40,$AG$14,'ABT Transactions'!$C$9:$C$40,AH15,'ABT Transactions'!$D$9:$D$40,$B$20)","v":0},{"$f":"SUMIFS('ABT Transactions'!$B$9:$B$40,'ABT Transactions'!$G$9:$G$40,$C13,'ABT Transactions'!$F$9:$F$40,$AG$14,'ABT Transactions'!$C$9:$C$40,AI15,'ABT Transactions'!$D$9:$D$40,$B$20)","v":0},{"$f":"SUMIFS('ABT Transactions'!$B$9:$B$40,'ABT Transactions'!$G$9:$G$40,$C13,'ABT Transactions'!$F$9:$F$40,$AJ$14,'ABT Transactions'!$C$9:$C$40,AJ15,'ABT Transactions'!$D$9:$D$40,$B$20)","v":0},{"$f":"SUMIFS('ABT Transactions'!$B$9:$B$40,'ABT Transactions'!$G$9:$G$40,$C13,'ABT Transactions'!$F$9:$F$40,$AJ$14,'ABT Transactions'!$C$9:$C$40,AK15,'ABT Transactions'!$D$9:$D$40,$B$20)","v":0},{"$f":"SUMIFS('ABT Transactions'!$B$9:$B$40,'ABT Transactions'!$G$9:$G$40,$C13,'ABT Transactions'!$F$9:$F$40,$AJ$14,'ABT Transactions'!$C$9:$C$40,AL15,'ABT Transactions'!$D$9:$D$40,$B$20)","v":0},{"$f":"SUMIFS('ABT Transactions'!$B$9:$B$40,'ABT Transactions'!$G$9:$G$40,$C13,'ABT Transactions'!$F$9:$F$40,$AM$14,'ABT Transactions'!$C$9:$C$40,AM15,'ABT Transactions'!$D$9:$D$40,$B$20)","v":0},{"$f":"SUMIFS('ABT Transactions'!$B$9:$B$40,'ABT Transactions'!$G$9:$G$40,$C13,'ABT Transactions'!$F$9:$F$40,$AM$14,'ABT Transactions'!$C$9:$C$40,AN15,'ABT Transactions'!$D$9:$D$40,$B$20)","v":0},{"$f":"SUMIFS('ABT Transactions'!$B$9:$B$40,'ABT Transactions'!$G$9:$G$40,$C13,'ABT Transactions'!$F$9:$F$40,$AM$14,'ABT Transactions'!$C$9:$C$40,AO15,'ABT Transactions'!$D$9:$D$40,$B$20)","v":0},{"$f":"SUMIFS('ABT Transactions'!$B$9:$B$40,'ABT Transactions'!$G$9:$G$40,$C13,'ABT Transactions'!$F$9:$F$40,$AP$14,'ABT Transactions'!$C$9:$C$40,AP15,'ABT Transactions'!$D$9:$D$40,$B$20)","v":0},{"$f":"SUMIFS('ABT Transactions'!$B$9:$B$40,'ABT Transactions'!$G$9:$G$40,$C13,'ABT Transactions'!$F$9:$F$40,$AP$14,'ABT Transactions'!$C$9:$C$40,AQ15,'ABT Transactions'!$D$9:$D$40,$B$20)","v":0},{"$f":"SUMIFS('ABT Transactions'!$B$9:$B$40,'ABT Transactions'!$G$9:$G$40,$C13,'ABT Transactions'!$F$9:$F$40,$AP$14,'ABT Transactions'!$C$9:$C$40,AR15,'ABT Transactions'!$D$9:$D$40,$B$20)","v":0},{"$f":"SUMIFS('ABT Transactions'!$B$9:$B$40,'ABT Transactions'!$G$9:$G$40,$C$13,'ABT Transactions'!$F$9:$F$40,$AS$14,'ABT Transactions'!$C$9:$C$40,AS15,'ABT Transactions'!$D$9:$D$40,$B$20)","v":0},{"$f":"SUMIFS('ABT Transactions'!$B$9:$B$40,'ABT Transactions'!$G$9:$G$40,$C$13,'ABT Transactions'!$F$9:$F$40,$AS$14,'ABT Transactions'!$C$9:$C$40,AT15,'ABT Transactions'!$D$9:$D$40,$B$20)","v":0},{"$f":"SUMIFS('ABT Transactions'!$B$9:$B$40,'ABT Transactions'!$G$9:$G$40,$C$13,'ABT Transactions'!$F$9:$F$40,$AS$14,'ABT Transactions'!$C$9:$C$40,AU15,'ABT Transactions'!$D$9:$D$40,$B$20)","v":0}]
[null,"Trade In",{"$f":"SUMIFS('ABT Transactions'!$B$9:$B$40,'ABT Transactions'!$J$9:$J$40,$C$13,'ABT Transactions'!$I$9:$I$40,$C$14,'ABT Transactions'!$C$9:$C$40,C15,'ABT Transactions'!$D$9:$D$40,$B$21)","v":0},{"$f":"SUMIFS('ABT Transactions'!$B$9:$B$40,'ABT Transactions'!$J$9:$J$40,$C$13,'ABT Transactions'!$I$9:$I$40,$C$14,'ABT Transactions'!$C$9:$C$40,D15,'ABT Transactions'!$D$9:$D$40,$B$21)","v":0},{"$f":"SUMIFS('ABT Transactions'!$B$9:$B$40,'ABT Transactions'!$J$9:$J$40,$C$13,'ABT Transactions'!$I$9:$I$40,$C$14,'ABT Transactions'!$C$9:$C$40,E15,'ABT Transactions'!$D$9:$D$40,$B$21)","v":0},{"$f":"SUMIFS('ABT Transactions'!$B$9:$B$40,'ABT Transactions'!$J$9:$J$40,$C$13,'ABT Transactions'!$I$9:$I$40,$F$14,'ABT Transactions'!$C$9:$C$40,F15,'ABT Transactions'!$D$9:$D$40,$B$21)","v":0},{"$f":"SUMIFS('ABT Transactions'!$B$9:$B$40,'ABT Transactions'!$J$9:$J$40,$C$13,'ABT Transactions'!$I$9:$I$40,$F$14,'ABT Transactions'!$C$9:$C$40,G15,'ABT Transactions'!$D$9:$D$40,$B$21)","v":0},{"$f":"SUMIFS('ABT Transactions'!$B$9:$B$40,'ABT Transactions'!$J$9:$J$40,$C$13,'ABT Transactions'!$I$9:$I$40,$F$14,'ABT Transactions'!$C$9:$C$40,H15,'ABT Transactions'!$D$9:$D$40,$B$21)","v":0},{"$f":"SUMIFS('ABT Transactions'!$B$9:$B$40,'ABT Transactions'!$J$9:$J$40,$C$13,'ABT Transactions'!$I$9:$I$40,$I$14,'ABT Transactions'!$C$9:$C$40,I15,'ABT Transactions'!$D$9:$D$40,$B$21)","v":0},{"$f":"SUMIFS('ABT Transactions'!$B$9:$B$40,'ABT Transactions'!$J$9:$J$40,$C$13,'ABT Transactions'!$I$9:$I$40,$I$14,'ABT Transactions'!$C$9:$C$40,J15,'ABT Transactions'!$D$9:$D$40,$B$21)","v":0},{"$f":"SUMIFS('ABT Transactions'!$B$9:$B$40,'ABT Transactions'!$J$9:$J$40,$C$13,'ABT Transactions'!$I$9:$I$40,$I$14,'ABT Transactions'!$C$9:$C$40,K15,'ABT Transactions'!$D$9:$D$40,$B$21)","v":0},{"$f":"SUMIFS('ABT Transactions'!$B$9:$B$40,'ABT Transactions'!$J$9:$J$40,$C$13,'ABT Transactions'!$I$9:$I$40,$L$14,'ABT Transactions'!$C$9:$C$40,L15,'ABT Transactions'!$D$9:$D$40,$B$21)","v":0},{"$f":"SUMIFS('ABT Transactions'!$B$9:$B$40,'ABT Transactions'!$J$9:$J$40,$C$13,'ABT Transactions'!$I$9:$I$40,$L$14,'ABT Transactions'!$C$9:$C$40,M15,'ABT Transactions'!$D$9:$D$40,$B$21)","v":0},{"$f":"SUMIFS('ABT Transactions'!$B$9:$B$40,'ABT Transactions'!$J$9:$J$40,$C$13,'ABT Transactions'!$I$9:$I$40,$L$14,'ABT Transactions'!$C$9:$C$40,N15,'ABT Transactions'!$D$9:$D$40,$B$21)","v":0},{"$f":"SUMIFS('ABT Transactions'!$B$9:$B$40,'ABT Transactions'!$J$9:$J$40,$C$13,'ABT Transactions'!$I$9:$I$40,$O$14,'ABT Transactions'!$C$9:$C$40,O15,'ABT Transactions'!$D$9:$D$40,$B$21)","v":0},{"$f":"SUMIFS('ABT Transactions'!$B$9:$B$40,'ABT Transactions'!$J$9:$J$40,$C$13,'ABT Transactions'!$I$9:$I$40,$O$14,'ABT Transactions'!$C$9:$C$40,P15,'ABT Transactions'!$D$9:$D$40,$B$21)","v":0},{"$f":"SUMIFS('ABT Transactions'!$B$9:$B$40,'ABT Transactions'!$J$9:$J$40,$C$13,'ABT Transactions'!$I$9:$I$40,$O$14,'ABT Transactions'!$C$9:$C$40,Q15,'ABT Transactions'!$D$9:$D$40,$B$21)","v":0},{"$f":"SUMIFS('ABT Transactions'!$B$9:$B$40,'ABT Transactions'!$J$9:$J$40,$C$13,'ABT Transactions'!$I$9:$I$40,$R$14,'ABT Transactions'!$C$9:$C$40,R15,'ABT Transactions'!$D$9:$D$40,$B$21)","v":0},{"$f":"SUMIFS('ABT Transactions'!$B$9:$B$40,'ABT Transactions'!$J$9:$J$40,$C$13,'ABT Transactions'!$I$9:$I$40,$R$14,'ABT Transactions'!$C$9:$C$40,S15,'ABT Transactions'!$D$9:$D$40,$B$21)","v":0},{"$f":"SUMIFS('ABT Transactions'!$B$9:$B$40,'ABT Transactions'!$J$9:$J$40,$C$13,'ABT Transactions'!$I$9:$I$40,$R$14,'ABT Transactions'!$C$9:$C$40,T15,'ABT Transactions'!$D$9:$D$40,$B$21)","v":0},{"$f":"SUMIFS('ABT Transactions'!$B$9:$B$40,'ABT Transactions'!$J$9:$J$40,$C13,'ABT Transactions'!$I$9:$I$40,$U$14,'ABT Transactions'!$C$9:$C$40,U15,'ABT Transactions'!$D$9:$D$40,$B$21)","v":0},{"$f":"SUMIFS('ABT Transactions'!$B$9:$B$40,'ABT Transactions'!$J$9:$J$40,$C13,'ABT Transactions'!$I$9:$I$40,$U$14,'ABT Transactions'!$C$9:$C$40,V15,'ABT Transactions'!$D$9:$D$40,$B$21)","v":0},{"$f":"SUMIFS('ABT Transactions'!$B$9:$B$40,'ABT Transactions'!$J$9:$J$40,$C13,'ABT Transactions'!$I$9:$I$40,$U$14,'ABT Transactions'!$C$9:$C$40,W15,'ABT Transactions'!$D$9:$D$40,$B$21)","v":0},{"$f":"SUMIFS('ABT Transactions'!$B$9:$B$40,'ABT Transactions'!$J$9:$J$40,$C13,'ABT Transactions'!$I$9:$I$40,$X$14,'ABT Transactions'!$C$9:$C$40,X15,'ABT Transactions'!$D$9:$D$40,$B$21)","v":0},{"$f":"SUMIFS('ABT Transactions'!$B$9:$B$40,'ABT Transactions'!$J$9:$J$40,$C13,'ABT Transactions'!$I$9:$I$40,$X$14,'ABT Transactions'!$C$9:$C$40,Y15,'ABT Transactions'!$D$9:$D$40,$B$21)","v":0},{"$f":"SUMIFS('ABT Transactions'!$B$9:$B$40,'ABT Transactions'!$J$9:$J$40,$C13,'ABT Transactions'!$I$9:$I$40,$X$14,'ABT Transactions'!$C$9:$C$40,Z15,'ABT Transactions'!$D$9:$D$40,$B$21)","v":0},{"$f":"SUMIFS('ABT Transactions'!$B$9:$B$40,'ABT Transactions'!$J$9:$J$40,$C13,'ABT Transactions'!$I$9:$I$40,$AA$14,'ABT Transactions'!$C$9:$C$40,AA15,'ABT Transactions'!$D$9:$D$40,$B$21)","v":0},{"$f":"SUMIFS('ABT Transactions'!$B$9:$B$40,'ABT Transactions'!$J$9:$J$40,$C13,'ABT Transactions'!$I$9:$I$40,$AA$14,'ABT Transactions'!$C$9:$C$40,AB15,'ABT Transactions'!$D$9:$D$40,$B$21)","v":0},{"$f":"SUMIFS('ABT Transactions'!$B$9:$B$40,'ABT Transactions'!$J$9:$J$40,$C13,'ABT Transactions'!$I$9:$I$40,$AA$14,'ABT Transactions'!$C$9:$C$40,AC15,'ABT Transactions'!$D$9:$D$40,$B$21)","v":0},{"$f":"SUMIFS('ABT Transactions'!$B$9:$B$40,'ABT Transactions'!$J$9:$J$40,$C13,'ABT Transactions'!$I$9:$I$40,$AD$14,'ABT Transactions'!$C$9:$C$40,AD15,'ABT Transactions'!$D$9:$D$40,$B$21)","v":0},{"$f":"SUMIFS('ABT Transactions'!$B$9:$B$40,'ABT Transactions'!$J$9:$J$40,$C13,'ABT Transactions'!$I$9:$I$40,$AD$14,'ABT Transactions'!$C$9:$C$40,AE15,'ABT Transactions'!$D$9:$D$40,$B$21)","v":0},{"$f":"SUMIFS('ABT Transactions'!$B$9:$B$40,'ABT Transactions'!$J$9:$J$40,$C13,'ABT Transactions'!$I$9:$I$40,$AD$14,'ABT Transactions'!$C$9:$C$40,AF15,'ABT Transactions'!$D$9:$D$40,$B$21)","v":0},{"$f":"SUMIFS('ABT Transactions'!$B$9:$B$40,'ABT Transactions'!$J$9:$J$40,$C13,'ABT Transactions'!$I$9:$I$40,$AG$14,'ABT Transactions'!$C$9:$C$40,AG15,'ABT Transactions'!$D$9:$D$40,$B$21)","v":0},{"$f":"SUMIFS('ABT Transactions'!$B$9:$B$40,'ABT Transactions'!$J$9:$J$40,$C13,'ABT Transactions'!$I$9:$I$40,$AG$14,'ABT Transactions'!$C$9:$C$40,AH15,'ABT Transactions'!$D$9:$D$40,$B$21)","v":0},{"$f":"SUMIFS('ABT Transactions'!$B$9:$B$40,'ABT Transactions'!$J$9:$J$40,$C13,'ABT Transactions'!$I$9:$I$40,$AG$14,'ABT Transactions'!$C$9:$C$40,AI15,'ABT Transactions'!$D$9:$D$40,$B$21)","v":0},{"$f":"SUMIFS('ABT Transactions'!$B$9:$B$40,'ABT Transactions'!$J$9:$J$40,$C13,'ABT Transactions'!$I$9:$I$40,$AJ$14,'ABT Transactions'!$C$9:$C$40,AJ15,'ABT Transactions'!$D$9:$D$40,$B$21)","v":0},{"$f":"SUMIFS('ABT Transactions'!$B$9:$B$40,'ABT Transactions'!$J$9:$J$40,$C13,'ABT Transactions'!$I$9:$I$40,$AJ$14,'ABT Transactions'!$C$9:$C$40,AK15,'ABT Transactions'!$D$9:$D$40,$B$21)","v":0},{"$f":"SUMIFS('ABT Transactions'!$B$9:$B$40,'ABT Transactions'!$J$9:$J$40,$C13,'ABT Transactions'!$I$9:$I$40,$AJ$14,'ABT Transactions'!$C$9:$C$40,AL15,'ABT Transactions'!$D$9:$D$40,$B$21)","v":0},{"$f":"SUMIFS('ABT Transactions'!$B$9:$B$40,'ABT Transactions'!$J$9:$J$40,$C13,'ABT Transactions'!$I$9:$I$40,$AM$14,'ABT Transactions'!$C$9:$C$40,AM15,'ABT Transactions'!$D$9:$D$40,$B$21)","v":0},{"$f":"SUMIFS('ABT Transactions'!$B$9:$B$40,'ABT Transactions'!$J$9:$J$40,$C13,'ABT Transactions'!$I$9:$I$40,$AM$14,'ABT Transactions'!$C$9:$C$40,AN15,'ABT Transactions'!$D$9:$D$40,$B$21)","v":0},{"$f":"SUMIFS('ABT Transactions'!$B$9:$B$40,'ABT Transactions'!$J$9:$J$40,$C13,'ABT Transactions'!$I$9:$I$40,$AM$14,'ABT Transactions'!$C$9:$C$40,AO15,'ABT Transactions'!$D$9:$D$40,$B$21)","v":0},{"$f":"SUMIFS('ABT Transactions'!$B$9:$B$40,'ABT Transactions'!$J$9:$J$40,$C13,'ABT Transactions'!$I$9:$I$40,$AP$14,'ABT Transactions'!$C$9:$C$40,AP15,'ABT Transactions'!$D$9:$D$40,$B$21)","v":0},{"$f":"SUMIFS('ABT Transactions'!$B$9:$B$40,'ABT Transactions'!$J$9:$J$40,$C13,'ABT Transactions'!$I$9:$I$40,$AP$14,'ABT Transactions'!$C$9:$C$40,AQ15,'ABT Transactions'!$D$9:$D$40,$B$21)","v":0},{"$f":"SUMIFS('ABT Transactions'!$B$9:$B$40,'ABT Transactions'!$J$9:$J$40,$C13,'ABT Transactions'!$I$9:$I$40,$AP$14,'ABT Transactions'!$C$9:$C$40,AR15,'ABT Transactions'!$D$9:$D$40,$B$21)","v":0},{"$f":"SUMIFS('ABT Transactions'!$B$9:$B$40,'ABT Transactions'!$J$9:$J$40,$C$13,'ABT Transactions'!$I$9:$I$40,$AS$14,'ABT Transactions'!$C$9:$C$40,AS15,'ABT Transactions'!$D$9:$D$40,$B$21)","v":0},{"$f":"SUMIFS('ABT Transactions'!$B$9:$B$40,'ABT Transactions'!$J$9:$J$40,$C$13,'ABT Transactions'!$I$9:$I$40,$AS$14,'ABT Transactions'!$C$9:$C$40,AT15,'ABT Transactions'!$D$9:$D$40,$B$21)","v":0},{"$f":"SUMIFS('ABT Transactions'!$B$9:$B$40,'ABT Transactions'!$J$9:$J$40,$C$13,'ABT Transactions'!$I$9:$I$40,$AS$14,'ABT Transactions'!$C$9:$C$40,AU15,'ABT Transactions'!$D$9:$D$40,$B$21)","v":0}]
[null,"Transfer ADV Credits (out)",{"$f":"SUMIFS('ABT Transactions'!$B$9:$B$40,'ABT Transactions'!$G$9:$G$40,$C$13,'ABT Transactions'!$F$9:$F$40,$C$14,'ABT Transactions'!$C$9:$C$40,C$15,'ABT Transactions'!$D$9:$D$40,$B$22)","v":0},{"$f":"SUMIFS('ABT Transactions'!$B$9:$B$40,'ABT Transactions'!$G$9:$G$40,$C$13,'ABT Transactions'!$F$9:$F$40,$C$14,'ABT Transactions'!$C$9:$C$40,D$15,'ABT Transactions'!$D$9:$D$40,$B$22)","v":0},{"$f":"SUMIFS('ABT Transactions'!$B$9:$B$40,'ABT Transactions'!$G$9:$G$40,$C$13,'ABT Transactions'!$F$9:$F$40,$C$14,'ABT Transactions'!$C$9:$C$40,E$15,'ABT Transactions'!$D$9:$D$40,$B$22)","v":0},{"$f":"SUMIFS('ABT Transactions'!$B$9:$B$40,'ABT Transactions'!$G$9:$G$40,$C$13,'ABT Transactions'!$F$9:$F$40,$F$14,'ABT Transactions'!$C$9:$C$40,F$15,'ABT Transactions'!$D$9:$D$40,$B$22)","v":0},{"$f":"SUMIFS('ABT Transactions'!$B$9:$B$40,'ABT Transactions'!$G$9:$G$40,$C$13,'ABT Transactions'!$F$9:$F$40,$F$14,'ABT Transactions'!$C$9:$C$40,G$15,'ABT Transactions'!$D$9:$D$40,$B$22)","v":0},{"$f":"SUMIFS('ABT Transactions'!$B$9:$B$40,'ABT Transactions'!$G$9:$G$40,$C$13,'ABT Transactions'!$F$9:$F$40,$F$14,'ABT Transactions'!$C$9:$C$40,H$15,'ABT Transactions'!$D$9:$D$40,$B$22)","v":0},{"$f":"SUMIFS('ABT Transactions'!$B$9:$B$40,'ABT Transactions'!$G$9:$G$40,$C$13,'ABT Transactions'!$F$9:$F$40,$I$14,'ABT Transactions'!$C$9:$C$40,I$15,'ABT Transactions'!$D$9:$D$40,$B$22)","v":0},{"$f":"SUMIFS('ABT Transactions'!$B$9:$B$40,'ABT Transactions'!$G$9:$G$40,$C$13,'ABT Transactions'!$F$9:$F$40,$I$14,'ABT Transactions'!$C$9:$C$40,J$15,'ABT Transactions'!$D$9:$D$40,$B$22)","v":0},{"$f":"SUMIFS('ABT Transactions'!$B$9:$B$40,'ABT Transactions'!$G$9:$G$40,$C$13,'ABT Transactions'!$F$9:$F$40,$I$14,'ABT Transactions'!$C$9:$C$40,K$15,'ABT Transactions'!$D$9:$D$40,$B$22)","v":0},{"$f":"SUMIFS('ABT Transactions'!$B$9:$B$40,'ABT Transactions'!$G$9:$G$40,$C$13,'ABT Transactions'!$F$9:$F$40,$L$14,'ABT Transactions'!$C$9:$C$40,L$15,'ABT Transactions'!$D$9:$D$40,$B$22)","v":0},{"$f":"SUMIFS('ABT Transactions'!$B$9:$B$40,'ABT Transactions'!$G$9:$G$40,$C$13,'ABT Transactions'!$F$9:$F$40,$L$14,'ABT Transactions'!$C$9:$C$40,M$15,'ABT Transactions'!$D$9:$D$40,$B$22)","v":0},{"$f":"SUMIFS('ABT Transactions'!$B$9:$B$40,'ABT Transactions'!$G$9:$G$40,$C$13,'ABT Transactions'!$F$9:$F$40,$L$14,'ABT Transactions'!$C$9:$C$40,N$15,'ABT Transactions'!$D$9:$D$40,$B$22)","v":0},{"$f":"SUMIFS('ABT Transactions'!$B$9:$B$40,'ABT Transactions'!$G$9:$G$40,$C$13,'ABT Transactions'!$F$9:$F$40,$O$14,'ABT Transactions'!$C$9:$C$40,O$15,'ABT Transactions'!$D$9:$D$40,$B$22)","v":0},{"$f":"SUMIFS('ABT Transactions'!$B$9:$B$40,'ABT Transactions'!$G$9:$G$40,$C$13,'ABT Transactions'!$F$9:$F$40,$O$14,'ABT Transactions'!$C$9:$C$40,P$15,'ABT Transactions'!$D$9:$D$40,$B$22)","v":0},{"$f":"SUMIFS('ABT Transactions'!$B$9:$B$40,'ABT Transactions'!$G$9:$G$40,$C$13,'ABT Transactions'!$F$9:$F$40,$O$14,'ABT Transactions'!$C$9:$C$40,Q$15,'ABT Transactions'!$D$9:$D$40,$B$22)","v":0},{"$f":"SUMIFS('ABT Transactions'!$B$9:$B$40,'ABT Transactions'!$G$9:$G$40,$C$13,'ABT Transactions'!$F$9:$F$40,$R$14,'ABT Transactions'!$C$9:$C$40,R$15,'ABT Transactions'!$D$9:$D$40,$B$22)","v":0},{"$f":"SUMIFS('ABT Transactions'!$B$9:$B$40,'ABT Transactions'!$G$9:$G$40,$C$13,'ABT Transactions'!$F$9:$F$40,$R$14,'ABT Transactions'!$C$9:$C$40,S$15,'ABT Transactions'!$D$9:$D$40,$B$22)","v":0},{"$f":"SUMIFS('ABT Transactions'!$B$9:$B$40,'ABT Transactions'!$G$9:$G$40,$C$13,'ABT Transactions'!$F$9:$F$40,$R$14,'ABT Transactions'!$C$9:$C$40,T$15,'ABT Transactions'!$D$9:$D$40,$B$22)","v":0},{"$f":"SUMIFS('ABT Transactions'!$B$9:$B$40,'ABT Transactions'!$G$9:$G$40,$C13,'ABT Transactions'!$F$9:$F$40,$U$14,'ABT Transactions'!$C$9:$C$40,U$15,'ABT Transactions'!$D$9:$D$40,$B$22)","v":0},{"$f":"SUMIFS('ABT Transactions'!$B$9:$B$40,'ABT Transactions'!$G$9:$G$40,$C13,'ABT Transactions'!$F$9:$F$40,$U$14,'ABT Transactions'!$C$9:$C$40,V$15,'ABT Transactions'!$D$9:$D$40,$B$22)","v":0},{"$f":"SUMIFS('ABT Transactions'!$B$9:$B$40,'ABT Transactions'!$G$9:$G$40,$C13,'ABT Transactions'!$F$9:$F$40,$U$14,'ABT Transactions'!$C$9:$C$40,W$15,'ABT Transactions'!$D$9:$D$40,$B$22)","v":0},{"$f":"SUMIFS('ABT Transactions'!$B$9:$B$40,'ABT Transactions'!$G$9:$G$40,$C13,'ABT Transactions'!$F$9:$F$40,$X$14,'ABT Transactions'!$C$9:$C$40,X$15,'ABT Transactions'!$D$9:$D$40,$B$22)","v":0},{"$f":"SUMIFS('ABT Transactions'!$B$9:$B$40,'ABT Transactions'!$G$9:$G$40,$C13,'ABT Transactions'!$F$9:$F$40,$X$14,'ABT Transactions'!$C$9:$C$40,Y$15,'ABT Transactions'!$D$9:$D$40,$B$22)","v":0},{"$f":"SUMIFS('ABT Transactions'!$B$9:$B$40,'ABT Transactions'!$G$9:$G$40,$C13,'ABT Transactions'!$F$9:$F$40,$X$14,'ABT Transactions'!$C$9:$C$40,Z$15,'ABT Transactions'!$D$9:$D$40,$B$22)","v":0},{"$f":"SUMIFS('ABT Transactions'!$B$9:$B$40,'ABT Transactions'!$G$9:$G$40,$C13,'ABT Transactions'!$F$9:$F$40,$AA$14,'ABT Transactions'!$C$9:$C$40,AA$15,'ABT Transactions'!$D$9:$D$40,$B$22)","v":0},{"$f":"SUMIFS('ABT Transactions'!$B$9:$B$40,'ABT Transactions'!$G$9:$G$40,$C13,'ABT Transactions'!$F$9:$F$40,$AA$14,'ABT Transactions'!$C$9:$C$40,AB$15,'ABT Transactions'!$D$9:$D$40,$B$22)","v":0},{"$f":"SUMIFS('ABT Transactions'!$B$9:$B$40,'ABT Transactions'!$G$9:$G$40,$C13,'ABT Transactions'!$F$9:$F$40,$AA$14,'ABT Transactions'!$C$9:$C$40,AC$15,'ABT Transactions'!$D$9:$D$40,$B$22)","v":0},{"$f":"SUMIFS('ABT Transactions'!$B$9:$B$40,'ABT Transactions'!$G$9:$G$40,$C13,'ABT Transactions'!$F$9:$F$40,$AD$14,'ABT Transactions'!$C$9:$C$40,AD$15,'ABT Transactions'!$D$9:$D$40,$B$22)","v":0},{"$f":"SUMIFS('ABT Transactions'!$B$9:$B$40,'ABT Transactions'!$G$9:$G$40,$C13,'ABT Transactions'!$F$9:$F$40,$AD$14,'ABT Transactions'!$C$9:$C$40,AE$15,'ABT Transactions'!$D$9:$D$40,$B$22)","v":0},{"$f":"SUMIFS('ABT Transactions'!$B$9:$B$40,'ABT Transactions'!$G$9:$G$40,$C13,'ABT Transactions'!$F$9:$F$40,$AD$14,'ABT Transactions'!$C$9:$C$40,AF$15,'ABT Transactions'!$D$9:$D$40,$B$22)","v":0},{"$f":"SUMIFS('ABT Transactions'!$B$9:$B$40,'ABT Transactions'!$G$9:$G$40,$C13,'ABT Transactions'!$F$9:$F$40,$AG$14,'ABT Transactions'!$C$9:$C$40,AG$15,'ABT Transactions'!$D$9:$D$40,$B$22)","v":0},{"$f":"SUMIFS('ABT Transactions'!$B$9:$B$40,'ABT Transactions'!$G$9:$G$40,$C13,'ABT Transactions'!$F$9:$F$40,$AG$14,'ABT Transactions'!$C$9:$C$40,AH$15,'ABT Transactions'!$D$9:$D$40,$B$22)","v":0},{"$f":"SUMIFS('ABT Transactions'!$B$9:$B$40,'ABT Transactions'!$G$9:$G$40,$C13,'ABT Transactions'!$F$9:$F$40,$AG$14,'ABT Transactions'!$C$9:$C$40,AI$15,'ABT Transactions'!$D$9:$D$40,$B$22)","v":0},{"$f":"SUMIFS('ABT Transactions'!$B$9:$B$40,'ABT Transactions'!$G$9:$G$40,$C13,'ABT Transactions'!$F$9:$F$40,$AJ$14,'ABT Transactions'!$C$9:$C$40,AJ$15,'ABT Transactions'!$D$9:$D$40,$B$22)","v":0},{"$f":"SUMIFS('ABT Transactions'!$B$9:$B$40,'ABT Transactions'!$G$9:$G$40,$C13,'ABT Transactions'!$F$9:$F$40,$AJ$14,'ABT Transactions'!$C$9:$C$40,AK$15,'ABT Transactions'!$D$9:$D$40,$B$22)","v":0},{"$f":"SUMIFS('ABT Transactions'!$B$9:$B$40,'ABT Transactions'!$G$9:$G$40,$C13,'ABT Transactions'!$F$9:$F$40,$AJ$14,'ABT Transactions'!$C$9:$C$40,AL$15,'ABT Transactions'!$D$9:$D$40,$B$22)","v":0},{"$f":"SUMIFS('ABT Transactions'!$B$9:$B$40,'ABT Transactions'!$G$9:$G$40,$C13,'ABT Transactions'!$F$9:$F$40,$AM$14,'ABT Transactions'!$C$9:$C$40,AM$15,'ABT Transactions'!$D$9:$D$40,$B$22)","v":0},{"$f":"SUMIFS('ABT Transactions'!$B$9:$B$40,'ABT Transactions'!$G$9:$G$40,$C13,'ABT Transactions'!$F$9:$F$40,$AM$14,'ABT Transactions'!$C$9:$C$40,AN$15,'ABT Transactions'!$D$9:$D$40,$B$22)","v":0},{"$f":"SUMIFS('ABT Transactions'!$B$9:$B$40,'ABT Transactions'!$G$9:$G$40,$C13,'ABT Transactions'!$F$9:$F$40,$AM$14,'ABT Transactions'!$C$9:$C$40,AO$15,'ABT Transactions'!$D$9:$D$40,$B$22)","v":0},{"$f":"SUMIFS('ABT Transactions'!$B$9:$B$40,'ABT Transactions'!$G$9:$G$40,$C13,'ABT Transactions'!$F$9:$F$40,$AP$14,'ABT Transactions'!$C$9:$C$40,AP$15,'ABT Transactions'!$D$9:$D$40,$B$22)","v":0},{"$f":"SUMIFS('ABT Transactions'!$B$9:$B$40,'ABT Transactions'!$G$9:$G$40,$C13,'ABT Transactions'!$F$9:$F$40,$AP$14,'ABT Transactions'!$C$9:$C$40,AQ$15,'ABT Transactions'!$D$9:$D$40,$B$22)","v":0},{"$f":"SUMIFS('ABT Transactions'!$B$9:$B$40,'ABT Transactions'!$G$9:$G$40,$C13,'ABT Transactions'!$F$9:$F$40,$AP$14,'ABT Transactions'!$C$9:$C$40,AR$15,'ABT Transactions'!$D$9:$D$40,$B$22)","v":0},{"$f":"SUMIFS('ABT Transactions'!$B$9:$B$40,'ABT Transactions'!$G$9:$G$40,$C$13,'ABT Transactions'!$F$9:$F$40,$AS$14,'ABT Transactions'!$C$9:$C$40,AS$15,'ABT Transactions'!$D$9:$D$40,$B$22)","v":0},{"$f":"SUMIFS('ABT Transactions'!$B$9:$B$40,'ABT Transactions'!$G$9:$G$40,$C$13,'ABT Transactions'!$F$9:$F$40,$AS$14,'ABT Transactions'!$C$9:$C$40,AT$15,'ABT Transactions'!$D$9:$D$40,$B$22)","v":0},{"$f":"SUMIFS('ABT Transactions'!$B$9:$B$40,'ABT Transactions'!$G$9:$G$40,$C$13,'ABT Transactions'!$F$9:$F$40,$AS$14,'ABT Transactions'!$C$9:$C$40,AU$15,'ABT Transactions'!$D$9:$D$40,$B$22)","v":0}]
[null,"Transfer ADV Credits (in)",{"$f":"SUMIFS('ABT Transactions'!$B$9:$B$40,'ABT Transactions'!$J$9:$J$40,$C$13,'ABT Transactions'!$I$9:$I$40,$C$14,'ABT Transactions'!$C$9:$C$40,C15,'ABT Transactions'!$D$9:$D$40,$B$23)","v":0},{"$f":"SUMIFS('ABT Transactions'!$B$9:$B$40,'ABT Transactions'!$J$9:$J$40,$C$13,'ABT Transactions'!$I$9:$I$40,$C$14,'ABT Transactions'!$C$9:$C$40,D15,'ABT Transactions'!$D$9:$D$40,$B$23)","v":0},{"$f":"SUMIFS('ABT Transactions'!$B$9:$B$40,'ABT Transactions'!$J$9:$J$40,$C$13,'ABT Transactions'!$I$9:$I$40,$C$14,'ABT Transactions'!$C$9:$C$40,E15,'ABT Transactions'!$D$9:$D$40,$B$23)","v":0},{"$f":"SUMIFS('ABT Transactions'!$B$9:$B$40,'ABT Transactions'!$J$9:$J$40,$C$13,'ABT Transactions'!$I$9:$I$40,$F$14,'ABT Transactions'!$C$9:$C$40,F15,'ABT Transactions'!$D$9:$D$40,$B$23)","v":0},{"$f":"SUMIFS('ABT Transactions'!$B$9:$B$40,'ABT Transactions'!$J$9:$J$40,$C$13,'ABT Transactions'!$I$9:$I$40,$F$14,'ABT Transactions'!$C$9:$C$40,G15,'ABT Transactions'!$D$9:$D$40,$B$23)","v":0},{"$f":"SUMIFS('ABT Transactions'!$B$9:$B$40,'ABT Transactions'!$J$9:$J$40,$C$13,'ABT Transactions'!$I$9:$I$40,$F$14,'ABT Transactions'!$C$9:$C$40,H15,'ABT Transactions'!$D$9:$D$40,$B$23)","v":0},{"$f":"SUMIFS('ABT Transactions'!$B$9:$B$40,'ABT Transactions'!$J$9:$J$40,$C$13,'ABT Transactions'!$I$9:$I$40,$I$14,'ABT Transactions'!$C$9:$C$40,I15,'ABT Transactions'!$D$9:$D$40,$B$23)","v":0},{"$f":"SUMIFS('ABT Transactions'!$B$9:$B$40,'ABT Transactions'!$J$9:$J$40,$C$13,'ABT Transactions'!$I$9:$I$40,$I$14,'ABT Transactions'!$C$9:$C$40,J15,'ABT Transactions'!$D$9:$D$40,$B$23)","v":0},{"$f":"SUMIFS('ABT Transactions'!$B$9:$B$40,'ABT Transactions'!$J$9:$J$40,$C$13,'ABT Transactions'!$I$9:$I$40,$I$14,'ABT Transactions'!$C$9:$C$40,K15,'ABT Transactions'!$D$9:$D$40,$B$23)","v":0},{"$f":"SUMIFS('ABT Transactions'!$B$9:$B$40,'ABT Transactions'!$J$9:$J$40,$C$13,'ABT Transactions'!$I$9:$I$40,$L$14,'ABT Transactions'!$C$9:$C$40,L15,'ABT Transactions'!$D$9:$D$40,$B$23)","v":0},{"$f":"SUMIFS('ABT Transactions'!$B$9:$B$40,'ABT Transactions'!$J$9:$J$40,$C$13,'ABT Transactions'!$I$9:$I$40,$L$14,'ABT Transactions'!$C$9:$C$40,M15,'ABT Transactions'!$D$9:$D$40,$B$23)","v":0},{"$f":"SUMIFS('ABT Transactions'!$B$9:$B$40,'ABT Transactions'!$J$9:$J$40,$C$13,'ABT Transactions'!$I$9:$I$40,$L$14,'ABT Transactions'!$C$9:$C$40,N15,'ABT Transactions'!$D$9:$D$40,$B$23)","v":0},{"$f":"SUMIFS('ABT Transactions'!$B$9:$B$40,'ABT Transactions'!$J$9:$J$40,$C$13,'ABT Transactions'!$I$9:$I$40,$O$14,'ABT Transactions'!$C$9:$C$40,O15,'ABT Transactions'!$D$9:$D$40,$B$23)","v":0},{"$f":"SUMIFS('ABT Transactions'!$B$9:$B$40,'ABT Transactions'!$J$9:$J$40,$C$13,'ABT Transactions'!$I$9:$I$40,$O$14,'ABT Transactions'!$C$9:$C$40,P15,'ABT Transactions'!$D$9:$D$40,$B$23)","v":0},{"$f":"SUMIFS('ABT Transactions'!$B$9:$B$40,'ABT Transactions'!$J$9:$J$40,$C$13,'ABT Transactions'!$I$9:$I$40,$O$14,'ABT Transactions'!$C$9:$C$40,Q15,'ABT Transactions'!$D$9:$D$40,$B$23)","v":0},{"$f":"SUMIFS('ABT Transactions'!$B$9:$B$40,'ABT Transactions'!$J$9:$J$40,$C$13,'ABT Transactions'!$I$9:$I$40,$R$14,'ABT Transactions'!$C$9:$C$40,R15,'ABT Transactions'!$D$9:$D$40,$B$23)","v":0},{"$f":"SUMIFS('ABT Transactions'!$B$9:$B$40,'ABT Transactions'!$J$9:$J$40,$C$13,'ABT Transactions'!$I$9:$I$40,$R$14,'ABT Transactions'!$C$9:$C$40,S15,'ABT Transactions'!$D$9:$D$40,$B$23)","v":0},{"$f":"SUMIFS('ABT Transactions'!$B$9:$B$40,'ABT Transactions'!$J$9:$J$40,$C$13,'ABT Transactions'!$I$9:$I$40,$R$14,'ABT Transactions'!$C$9:$C$40,T15,'ABT Transactions'!$D$9:$D$40,$B$23)","v":0},{"$f":"SUMIFS('ABT Transactions'!$B$9:$B$40,'ABT Transactions'!$J$9:$J$40,$C13,'ABT Transactions'!$I$9:$I$40,$U$14,'ABT Transactions'!$C$9:$C$40,U15,'ABT Transactions'!$D$9:$D$40,$B$23)","v":0},{"$f":"SUMIFS('ABT Transactions'!$B$9:$B$40,'ABT Transactions'!$J$9:$J$40,$C13,'ABT Transactions'!$I$9:$I$40,$U$14,'ABT Transactions'!$C$9:$C$40,V15,'ABT Transactions'!$D$9:$D$40,$B$23)","v":0},{"$f":"SUMIFS('ABT Transactions'!$B$9:$B$40,'ABT Transactions'!$J$9:$J$40,$C13,'ABT Transactions'!$I$9:$I$40,$U$14,'ABT Transactions'!$C$9:$C$40,W15,'ABT Transactions'!$D$9:$D$40,$B$23)","v":0},{"$f":"SUMIFS('ABT Transactions'!$B$9:$B$40,'ABT Transactions'!$J$9:$J$40,$C13,'ABT Transactions'!$I$9:$I$40,$X$14,'ABT Transactions'!$C$9:$C$40,X15,'ABT Transactions'!$D$9:$D$40,$B$23)","v":0},{"$f":"SUMIFS('ABT Transactions'!$B$9:$B$40,'ABT Transactions'!$J$9:$J$40,$C13,'ABT Transactions'!$I$9:$I$40,$X$14,'ABT Transactions'!$C$9:$C$40,Y15,'ABT Transactions'!$D$9:$D$40,$B$23)","v":0},{"$f":"SUMIFS('ABT Transactions'!$B$9:$B$40,'ABT Transactions'!$J$9:$J$40,$C13,'ABT Transactions'!$I$9:$I$40,$X$14,'ABT Transactions'!$C$9:$C$40,Z15,'ABT Transactions'!$D$9:$D$40,$B$23)","v":0},{"$f":"SUMIFS('ABT Transactions'!$B$9:$B$40,'ABT Transactions'!$J$9:$J$40,$C13,'ABT Transactions'!$I$9:$I$40,$AA$14,'ABT Transactions'!$C$9:$C$40,AA15,'ABT Transactions'!$D$9:$D$40,$B$23)","v":0},{"$f":"SUMIFS('ABT Transactions'!$B$9:$B$40,'ABT Transactions'!$J$9:$J$40,$C13,'ABT Transactions'!$I$9:$I$40,$AA$14,'ABT Transactions'!$C$9:$C$40,AB15,'ABT Transactions'!$D$9:$D$40,$B$23)","v":0},{"$f":"SUMIFS('ABT Transactions'!$B$9:$B$40,'ABT Transactions'!$J$9:$J$40,$C13,'ABT Transactions'!$I$9:$I$40,$AA$14,'ABT Transactions'!$C$9:$C$40,AC15,'ABT Transactions'!$D$9:$D$40,$B$23)","v":0},{"$f":"SUMIFS('ABT Transactions'!$B$9:$B$40,'ABT Transactions'!$J$9:$J$40,$C13,'ABT Transactions'!$I$9:$I$40,$AD$14,'ABT Transactions'!$C$9:$C$40,AD15,'ABT Transactions'!$D$9:$D$40,$B$23)","v":0},{"$f":"SUMIFS('ABT Transactions'!$B$9:$B$40,'ABT Transactions'!$J$9:$J$40,$C13,'ABT Transactions'!$I$9:$I$40,$AD$14,'ABT Transactions'!$C$9:$C$40,AE15,'ABT Transactions'!$D$9:$D$40,$B$23)","v":0},{"$f":"SUMIFS('ABT Transactions'!$B$9:$B$40,'ABT Transactions'!$J$9:$J$40,$C13,'ABT Transactions'!$I$9:$I$40,$AD$14,'ABT Transactions'!$C$9:$C$40,AF15,'ABT Transactions'!$D$9:$D$40,$B$23)","v":0},{"$f":"SUMIFS('ABT Transactions'!$B$9:$B$40,'ABT Transactions'!$J$9:$J$40,$C13,'ABT Transactions'!$I$9:$I$40,$AG$14,'ABT Transactions'!$C$9:$C$40,AG15,'ABT Transactions'!$D$9:$D$40,$B$23)","v":0},{"$f":"SUMIFS('ABT Transactions'!$B$9:$B$40,'ABT Transactions'!$J$9:$J$40,$C13,'ABT Transactions'!$I$9:$I$40,$AG$14,'ABT Transactions'!$C$9:$C$40,AH15,'ABT Transactions'!$D$9:$D$40,$B$23)","v":0},{"$f":"SUMIFS('ABT Transactions'!$B$9:$B$40,'ABT Transactions'!$J$9:$J$40,$C13,'ABT Transactions'!$I$9:$I$40,$AG$14,'ABT Transactions'!$C$9:$C$40,AI15,'ABT Transactions'!$D$9:$D$40,$B$23)","v":0},{"$f":"SUMIFS('ABT Transactions'!$B$9:$B$40,'ABT Transactions'!$J$9:$J$40,$C13,'ABT Transactions'!$I$9:$I$40,$AJ$14,'ABT Transactions'!$C$9:$C$40,AJ15,'ABT Transactions'!$D$9:$D$40,$B$23)","v":0},{"$f":"SUMIFS('ABT Transactions'!$B$9:$B$40,'ABT Transactions'!$J$9:$J$40,$C13,'ABT Transactions'!$I$9:$I$40,$AJ$14,'ABT Transactions'!$C$9:$C$40,AK15,'ABT Transactions'!$D$9:$D$40,$B$23)","v":0},{"$f":"SUMIFS('ABT Transactions'!$B$9:$B$40,'ABT Transactions'!$J$9:$J$40,$C13,'ABT Transactions'!$I$9:$I$40,$AJ$14,'ABT Transactions'!$C$9:$C$40,AL15,'ABT Transactions'!$D$9:$D$40,$B$23)","v":0},{"$f":"SUMIFS('ABT Transactions'!$B$9:$B$40,'ABT Transactions'!$J$9:$J$40,$C13,'ABT Transactions'!$I$9:$I$40,$AM$14,'ABT Transactions'!$C$9:$C$40,AM15,'ABT Transactions'!$D$9:$D$40,$B$23)","v":0},{"$f":"SUMIFS('ABT Transactions'!$B$9:$B$40,'ABT Transactions'!$J$9:$J$40,$C13,'ABT Transactions'!$I$9:$I$40,$AM$14,'ABT Transactions'!$C$9:$C$40,AN15,'ABT Transactions'!$D$9:$D$40,$B$23)","v":0},{"$f":"SUMIFS('ABT Transactions'!$B$9:$B$40,'ABT Transactions'!$J$9:$J$40,$C13,'ABT Transactions'!$I$9:$I$40,$AM$14,'ABT Transactions'!$C$9:$C$40,AO15,'ABT Transactions'!$D$9:$D$40,$B$23)","v":0},{"$f":"SUMIFS('ABT Transactions'!$B$9:$B$40,'ABT Transactions'!$J$9:$J$40,$C13,'ABT Transactions'!$I$9:$I$40,$AP$14,'ABT Transactions'!$C$9:$C$40,AP15,'ABT Transactions'!$D$9:$D$40,$B$23)","v":0},{"$f":"SUMIFS('ABT Transactions'!$B$9:$B$40,'ABT Transactions'!$J$9:$J$40,$C13,'ABT Transactions'!$I$9:$I$40,$AP$14,'ABT Transactions'!$C$9:$C$40,AQ15,'ABT Transactions'!$D$9:$D$40,$B$23)","v":0},{"$f":"SUMIFS('ABT Transactions'!$B$9:$B$40,'ABT Transactions'!$J$9:$J$40,$C13,'ABT Transactions'!$I$9:$I$40,$AP$14,'ABT Transactions'!$C$9:$C$40,AR15,'ABT Transactions'!$D$9:$D$40,$B$23)","v":0},{"$f":"SUMIFS('ABT Transactions'!$B$9:$B$40,'ABT Transactions'!$J$9:$J$40,$C$13,'ABT Transactions'!$I$9:$I$40,$AS$14,'ABT Transactions'!$C$9:$C$40,AS15,'ABT Transactions'!$D$9:$D$40,$B$23)","v":0},{"$f":"SUMIFS('ABT Transactions'!$B$9:$B$40,'ABT Transactions'!$J$9:$J$40,$C$13,'ABT Transactions'!$I$9:$I$40,$AS$14,'ABT Transactions'!$C$9:$C$40,AT15,'ABT Transactions'!$D$9:$D$40,$B$23)","v":0},{"$f":"SUMIFS('ABT Transactions'!$B$9:$B$40,'ABT Transactions'!$J$9:$J$40,$C$13,'ABT Transactions'!$I$9:$I$40,$AS$14,'ABT Transactions'!$C$9:$C$40,AU15,'ABT Transactions'!$D$9:$D$40,$B$23)","v":0}]
[null,"Retired Credits",{"$f":"SUMIFS('ABT Transactions'!$B$9:$B$40,'ABT Transactions'!$G$9:$G$40,$C$13,'ABT Transactions'!$F$9:$F$40,$C$14,'ABT Transactions'!$C$9:$C$40,C$15,'ABT Transactions'!$D$9:$D$40,$B$24)","v":0},{"$f":"SUMIFS('ABT Transactions'!$B$9:$B$40,'ABT Transactions'!$G$9:$G$40,$C$13,'ABT Transactions'!$F$9:$F$40,$C$14,'ABT Transactions'!$C$9:$C$40,D$15,'ABT Transactions'!$D$9:$D$40,$B$24)","v":0},{"$f":"SUMIFS('ABT Transactions'!$B$9:$B$40,'ABT Transactions'!$G$9:$G$40,$C$13,'ABT Transactions'!$F$9:$F$40,$C$14,'ABT Transactions'!$C$9:$C$40,E$15,'ABT Transactions'!$D$9:$D$40,$B$24)","v":0},{"$f":"SUMIFS('ABT Transactions'!$B$9:$B$40,'ABT Transactions'!$G$9:$G$40,$C$13,'ABT Transactions'!$F$9:$F$40,$F$14,'ABT Transactions'!$C$9:$C$40,F$15,'ABT Transactions'!$D$9:$D$40,$B$24)","v":0},{"$f":"SUMIFS('ABT Transactions'!$B$9:$B$40,'ABT Transactions'!$G$9:$G$40,$C$13,'ABT Transactions'!$F$9:$F$40,$F$14,'ABT Transactions'!$C$9:$C$40,G$15,'ABT Transactions'!$D$9:$D$40,$B$24)","v":0},{"$f":"SUMIFS('ABT Transactions'!$B$9:$B$40,'ABT Transactions'!$G$9:$G$40,$C$13,'ABT Transactions'!$F$9:$F$40,$F$14,'ABT Transactions'!$C$9:$C$40,H$15,'ABT Transactions'!$D$9:$D$40,$B$24)","v":0},{"$f":"SUMIFS('ABT Transactions'!$B$9:$B$40,'ABT Transactions'!$G$9:$G$40,$C$13,'ABT Transactions'!$F$9:$F$40,$I$14,'ABT Transactions'!$C$9:$C$40,I$15,'ABT Transactions'!$D$9:$D$40,$B$24)","v":0},{"$f":"SUMIFS('ABT Transactions'!$B$9:$B$40,'ABT Transactions'!$G$9:$G$40,$C$13,'ABT Transactions'!$F$9:$F$40,$I$14,'ABT Transactions'!$C$9:$C$40,J$15,'ABT Transactions'!$D$9:$D$40,$B$24)","v":0},{"$f":"SUMIFS('ABT Transactions'!$B$9:$B$40,'ABT Transactions'!$G$9:$G$40,$C$13,'ABT Transactions'!$F$9:$F$40,$I$14,'ABT Transactions'!$C$9:$C$40,K$15,'ABT Transactions'!$D$9:$D$40,$B$24)","v":0},{"$f":"SUMIFS('ABT Transactions'!$B$9:$B$40,'ABT Transactions'!$G$9:$G$40,$C$13,'ABT Transactions'!$F$9:$F$40,$L$14,'ABT Transactions'!$C$9:$C$40,L$15,'ABT Transactions'!$D$9:$D$40,$B$24)","v":0},{"$f":"SUMIFS('ABT Transactions'!$B$9:$B$40,'ABT Transactions'!$G$9:$G$40,$C$13,'ABT Transactions'!$F$9:$F$40,$L$14,'ABT Transactions'!$C$9:$C$40,M$15,'ABT Transactions'!$D$9:$D$40,$B$24)","v":0},{"$f":"SUMIFS('ABT Transactions'!$B$9:$B$40,'ABT Transactions'!$G$9:$G$40,$C$13,'ABT Transactions'!$F$9:$F$40,$L$14,'ABT Transactions'!$C$9:$C$40,N$15,'ABT Transactions'!$D$9:$D$40,$B$24)","v":0},{"$f":"SUMIFS('ABT Transactions'!$B$9:$B$40,'ABT Transactions'!$G$9:$G$40,$C$13,'ABT Transactions'!$F$9:$F$40,$O$14,'ABT Transactions'!$C$9:$C$40,O$15,'ABT Transactions'!$D$9:$D$40,$B$24)","v":0},{"$f":"SUMIFS('ABT Transactions'!$B$9:$B$40,'ABT Transactions'!$G$9:$G$40,$C$13,'ABT Transactions'!$F$9:$F$40,$O$14,'ABT Transactions'!$C$9:$C$40,P$15,'ABT Transactions'!$D$9:$D$40,$B$24)","v":0},{"$f":"SUMIFS('ABT Transactions'!$B$9:$B$40,'ABT Transactions'!$G$9:$G$40,$C$13,'ABT Transactions'!$F$9:$F$40,$O$14,'ABT Transactions'!$C$9:$C$40,Q$15,'ABT Transactions'!$D$9:$D$40,$B$24)","v":0},{"$f":"SUMIFS('ABT Transactions'!$B$9:$B$40,'ABT Transactions'!$G$9:$G$40,$C$13,'ABT Transactions'!$F$9:$F$40,$R$14,'ABT Transactions'!$C$9:$C$40,R$15,'ABT Transactions'!$D$9:$D$40,$B$24)","v":0},{"$f":"SUMIFS('ABT Transactions'!$B$9:$B$40,'ABT Transactions'!$G$9:$G$40,$C$13,'ABT Transactions'!$F$9:$F$40,$R$14,'ABT Transactions'!$C$9:$C$40,S$15,'ABT Transactions'!$D$9:$D$40,$B$24)","v":0},{"$f":"SUMIFS('ABT Transactions'!$B$9:$B$40,'ABT Transactions'!$G$9:$G$40,$C$13,'ABT Transactions'!$F$9:$F$40,$R$14,'ABT Transactions'!$C$9:$C$40,T$15,'ABT Transactions'!$D$9:$D$40,$B$24)","v":0},{"$f":"SUMIFS('ABT Transactions'!$B$9:$B$40,'ABT Transactions'!$G$9:$G$40,$C13,'ABT Transactions'!$F$9:$F$40,$U$14,'ABT Transactions'!$C$9:$C$40,U$15,'ABT Transactions'!$D$9:$D$40,$B$24)","v":0},{"$f":"SUMIFS('ABT Transactions'!$B$9:$B$40,'ABT Transactions'!$G$9:$G$40,$C13,'ABT Transactions'!$F$9:$F$40,$U$14,'ABT Transactions'!$C$9:$C$40,V$15,'ABT Transactions'!$D$9:$D$40,$B$24)","v":0},{"$f":"SUMIFS('ABT Transactions'!$B$9:$B$40,'ABT Transactions'!$G$9:$G$40,$C13,'ABT Transactions'!$F$9:$F$40,$U$14,'ABT Transactions'!$C$9:$C$40,W$15,'ABT Transactions'!$D$9:$D$40,$B$24)","v":0},{"$f":"SUMIFS('ABT Transactions'!$B$9:$B$40,'ABT Transactions'!$G$9:$G$40,$C13,'ABT Transactions'!$F$9:$F$40,$X$14,'ABT Transactions'!$C$9:$C$40,X$15,'ABT Transactions'!$D$9:$D$40,$B$24)","v":0},{"$f":"SUMIFS('ABT Transactions'!$B$9:$B$40,'ABT Transactions'!$G$9:$G$40,$C13,'ABT Transactions'!$F$9:$F$40,$X$14,'ABT Transactions'!$C$9:$C$40,Y$15,'ABT Transactions'!$D$9:$D$40,$B$24)","v":0},{"$f":"SUMIFS('ABT Transactions'!$B$9:$B$40,'ABT Transactions'!$G$9:$G$40,$C13,'ABT Transactions'!$F$9:$F$40,$X$14,'ABT Transactions'!$C$9:$C$40,Z$15,'ABT Transactions'!$D$9:$D$40,$B$24)","v":0},{"$f":"SUMIFS('ABT Transactions'!$B$9:$B$40,'ABT Transactions'!$G$9:$G$40,$C13,'ABT Transactions'!$F$9:$F$40,$AA$14,'ABT Transactions'!$C$9:$C$40,AA$15,'ABT Transactions'!$D$9:$D$40,$B$24)","v":0},{"$f":"SUMIFS('ABT Transactions'!$B$9:$B$40,'ABT Transactions'!$G$9:$G$40,$C13,'ABT Transactions'!$F$9:$F$40,$AA$14,'ABT Transactions'!$C$9:$C$40,AB$15,'ABT Transactions'!$D$9:$D$40,$B$24)","v":0},{"$f":"SUMIFS('ABT Transactions'!$B$9:$B$40,'ABT Transactions'!$G$9:$G$40,$C13,'ABT Transactions'!$F$9:$F$40,$AA$14,'ABT Transactions'!$C$9:$C$40,AC$15,'ABT Transactions'!$D$9:$D$40,$B$24)","v":0},{"$f":"SUMIFS('ABT Transactions'!$B$9:$B$40,'ABT Transactions'!$G$9:$G$40,$C13,'ABT Transactions'!$F$9:$F$40,$AD$14,'ABT Transactions'!$C$9:$C$40,AD$15,'ABT Transactions'!$D$9:$D$40,$B$24)","v":0},{"$f":"SUMIFS('ABT Transactions'!$B$9:$B$40,'ABT Transactions'!$G$9:$G$40,$C13,'ABT Transactions'!$F$9:$F$40,$AD$14,'ABT Transactions'!$C$9:$C$40,AE$15,'ABT Transactions'!$D$9:$D$40,$B$24)","v":0},{"$f":"SUMIFS('ABT Transactions'!$B$9:$B$40,'ABT Transactions'!$G$9:$G$40,$C13,'ABT Transactions'!$F$9:$F$40,$AD$14,'ABT Transactions'!$C$9:$C$40,AF$15,'ABT Transactions'!$D$9:$D$40,$B$24)","v":0},{"$f":"SUMIFS('ABT Transactions'!$B$9:$B$40,'ABT Transactions'!$G$9:$G$40,$C13,'ABT Transactions'!$F$9:$F$40,$AG$14,'ABT Transactions'!$C$9:$C$40,AG$15,'ABT Transactions'!$D$9:$D$40,$B$24)","v":0},{"$f":"SUMIFS('ABT Transactions'!$B$9:$B$40,'ABT Transactions'!$G$9:$G$40,$C13,'ABT Transactions'!$F$9:$F$40,$AG$14,'ABT Transactions'!$C$9:$C$40,AH$15,'ABT Transactions'!$D$9:$D$40,$B$24)","v":0},{"$f":"SUMIFS('ABT Transactions'!$B$9:$B$40,'ABT Transactions'!$G$9:$G$40,$C13,'ABT Transactions'!$F$9:$F$40,$AG$14,'ABT Transactions'!$C$9:$C$40,AI$15,'ABT Transactions'!$D$9:$D$40,$B$24)","v":0},{"$f":"SUMIFS('ABT Transactions'!$B$9:$B$40,'ABT Transactions'!$G$9:$G$40,$C13,'ABT Transactions'!$F$9:$F$40,$AJ$14,'ABT Transactions'!$C$9:$C$40,AJ$15,'ABT Transactions'!$D$9:$D$40,$B$24)","v":0},{"$f":"SUMIFS('ABT Transactions'!$B$9:$B$40,'ABT Transactions'!$G$9:$G$40,$C13,'ABT Transactions'!$F$9:$F$40,$AJ$14,'ABT Transactions'!$C$9:$C$40,AK$15,'ABT Transactions'!$D$9:$D$40,$B$24)","v":0},{"$f":"SUMIFS('ABT Transactions'!$B$9:$B$40,'ABT Transactions'!$G$9:$G$40,$C13,'ABT Transactions'!$F$9:$F$40,$AJ$14,'ABT Transactions'!$C$9:$C$40,AL$15,'ABT Transactions'!$D$9:$D$40,$B$24)","v":0},{"$f":"SUMIFS('ABT Transactions'!$B$9:$B$40,'ABT Transactions'!$G$9:$G$40,$C13,'ABT Transactions'!$F$9:$F$40,$AM$14,'ABT Transactions'!$C$9:$C$40,AM$15,'ABT Transactions'!$D$9:$D$40,$B$24)","v":0},{"$f":"SUMIFS('ABT Transactions'!$B$9:$B$40,'ABT Transactions'!$G$9:$G$40,$C13,'ABT Transactions'!$F$9:$F$40,$AM$14,'ABT Transactions'!$C$9:$C$40,AN$15,'ABT Transactions'!$D$9:$D$40,$B$24)","v":0},{"$f":"SUMIFS('ABT Transactions'!$B$9:$B$40,'ABT Transactions'!$G$9:$G$40,$C13,'ABT Transactions'!$F$9:$F$40,$AM$14,'ABT Transactions'!$C$9:$C$40,AO$15,'ABT Transactions'!$D$9:$D$40,$B$24)","v":0},{"$f":"SUMIFS('ABT Transactions'!$B$9:$B$40,'ABT Transactions'!$G$9:$G$40,$C13,'ABT Transactions'!$F$9:$F$40,$AP$14,'ABT Transactions'!$C$9:$C$40,AP$15,'ABT Transactions'!$D$9:$D$40,$B$24)","v":0},{"$f":"SUMIFS('ABT Transactions'!$B$9:$B$40,'ABT Transactions'!$G$9:$G$40,$C13,'ABT Transactions'!$F$9:$F$40,$AP$14,'ABT Transactions'!$C$9:$C$40,AQ$15,'ABT Transactions'!$D$9:$D$40,$B$24)","v":0},{"$f":"SUMIFS('ABT Transactions'!$B$9:$B$40,'ABT Transactions'!$G$9:$G$40,$C13,'ABT Transactions'!$F$9:$F$40,$AP$14,'ABT Transactions'!$C$9:$C$40,AR$15,'ABT Transactions'!$D$9:$D$40,$B$24)","v":0},{"$f":"SUMIFS('ABT Transactions'!$B$9:$B$40,'ABT Transactions'!$G$9:$G$40,$C$13,'ABT Transactions'!$F$9:$F$40,$AS$14,'ABT Transactions'!$C$9:$C$40,AS$15,'ABT Transactions'!$D$9:$D$40,$B$24)","v":0},{"$f":"SUMIFS('ABT Transactions'!$B$9:$B$40,'ABT Transactions'!$G$9:$G$40,$C$13,'ABT Transactions'!$F$9:$F$40,$AS$14,'ABT Transactions'!$C$9:$C$40,AT$15,'ABT Transactions'!$D$9:$D$40,$B$24)","v":0},{"$f":"SUMIFS('ABT Transactions'!$B$9:$B$40,'ABT Transactions'!$G$9:$G$40,$C$13,'ABT Transactions'!$F$9:$F$40,$AS$14,'ABT Transactions'!$C$9:$C$40,AU$15,'ABT Transactions'!$D$9:$D$40,$B$24)","v":0}]
[null,"Expired Credits",{"$f":"SUMIFS('ABT Transactions'!$B$9:$B$40,'ABT Transactions'!$G$9:$G$40,$C$13,'ABT Transactions'!$F$9:$F$40,$C$14,'ABT Transactions'!$C$9:$C$40,C$15,'ABT Transactions'!$D$9:$D$40,$B$25)","v":0},{"$f":"SUMIFS('ABT Transactions'!$B$9:$B$40,'ABT Transactions'!$G$9:$G$40,$C$13,'ABT Transactions'!$F$9:$F$40,$C$14,'ABT Transactions'!$C$9:$C$40,D$15,'ABT Transactions'!$D$9:$D$40,$B$25)","v":0},{"$f":"SUMIFS('ABT Transactions'!$B$9:$B$40,'ABT Transactions'!$G$9:$G$40,$C$13,'ABT Transactions'!$F$9:$F$40,$C$14,'ABT Transactions'!$C$9:$C$40,E$15,'ABT Transactions'!$D$9:$D$40,$B$25)","v":0},{"$f":"SUMIFS('ABT Transactions'!$B$9:$B$40,'ABT Transactions'!$G$9:$G$40,$C$13,'ABT Transactions'!$F$9:$F$40,$F$14,'ABT Transactions'!$C$9:$C$40,F$15,'ABT Transactions'!$D$9:$D$40,$B$25)","v":0},{"$f":"SUMIFS('ABT Transactions'!$B$9:$B$40,'ABT Transactions'!$G$9:$G$40,$C$13,'ABT Transactions'!$F$9:$F$40,$F$14,'ABT Transactions'!$C$9:$C$40,G$15,'ABT Transactions'!$D$9:$D$40,$B$25)","v":0},{"$f":"SUMIFS('ABT Transactions'!$B$9:$B$40,'ABT Transactions'!$G$9:$G$40,$C$13,'ABT Transactions'!$F$9:$F$40,$F$14,'ABT Transactions'!$C$9:$C$40,H$15,'ABT Transactions'!$D$9:$D$40,$B$25)","v":0},{"$f":"SUMIFS('ABT Transactions'!$B$9:$B$40,'ABT Transactions'!$G$9:$G$40,$C$13,'ABT Transactions'!$F$9:$F$40,$I$14,'ABT Transactions'!$C$9:$C$40,I$15,'ABT Transactions'!$D$9:$D$40,$B$25)","v":0},{"$f":"SUMIFS('ABT Transactions'!$B$9:$B$40,'ABT Transactions'!$G$9:$G$40,$C$13,'ABT Transactions'!$F$9:$F$40,$I$14,'ABT Transactions'!$C$9:$C$40,J$15,'ABT Transactions'!$D$9:$D$40,$B$25)","v":0},{"$f":"SUMIFS('ABT Transactions'!$B$9:$B$40,'ABT Transactions'!$G$9:$G$40,$C$13,'ABT Transactions'!$F$9:$F$40,$I$14,'ABT Transactions'!$C$9:$C$40,K$15,'ABT Transactions'!$D$9:$D$40,$B$25)","v":0},{"$f":"SUMIFS('ABT Transactions'!$B$9:$B$40,'ABT Transactions'!$G$9:$G$40,$C$13,'ABT Transactions'!$F$9:$F$40,$L$14,'ABT Transactions'!$C$9:$C$40,L$15,'ABT Transactions'!$D$9:$D$40,$B$25)","v":0},{"$f":"SUMIFS('ABT Transactions'!$B$9:$B$40,'ABT Transactions'!$G$9:$G$40,$C$13,'ABT Transactions'!$F$9:$F$40,$L$14,'ABT Transactions'!$C$9:$C$40,M$15,'ABT Transactions'!$D$9:$D$40,$B$25)","v":0},{"$f":"SUMIFS('ABT Transactions'!$B$9:$B$40,'ABT Transactions'!$G$9:$G$40,$C$13,'ABT Transactions'!$F$9:$F$40,$L$14,'ABT Transactions'!$C$9:$C$40,N$15,'ABT Transactions'!$D$9:$D$40,$B$25)","v":0},{"$f":"SUMIFS('ABT Transactions'!$B$9:$B$40,'ABT Transactions'!$G$9:$G$40,$C$13,'ABT Transactions'!$F$9:$F$40,$O$14,'ABT Transactions'!$C$9:$C$40,O$15,'ABT Transactions'!$D$9:$D$40,$B$25)","v":0},{"$f":"SUMIFS('ABT Transactions'!$B$9:$B$40,'ABT Transactions'!$G$9:$G$40,$C$13,'ABT Transactions'!$F$9:$F$40,$O$14,'ABT Transactions'!$C$9:$C$40,P$15,'ABT Transactions'!$D$9:$D$40,$B$25)","v":0},{"$f":"SUMIFS('ABT Transactions'!$B$9:$B$40,'ABT Transactions'!$G$9:$G$40,$C$13,'ABT Transactions'!$F$9:$F$40,$O$14,'ABT Transactions'!$C$9:$C$40,Q$15,'ABT Transactions'!$D$9:$D$40,$B$25)","v":0},{"$f":"SUMIFS('ABT Transactions'!$B$9:$B$40,'ABT Transactions'!$G$9:$G$40,$C$13,'ABT Transactions'!$F$9:$F$40,$R$14,'ABT Transactions'!$C$9:$C$40,R$15,'ABT Transactions'!$D$9:$D$40,$B$25)","v":0},{"$f":"SUMIFS('ABT Transactions'!$B$9:$B$40,'ABT Transactions'!$G$9:$G$40,$C$13,'ABT Transactions'!$F$9:$F$40,$R$14,'ABT Transactions'!$C$9:$C$40,S$15,'ABT Transactions'!$D$9:$D$40,$B$25)","v":0},{"$f":"SUMIFS('ABT Transactions'!$B$9:$B$40,'ABT Transactions'!$G$9:$G$40,$C$13,'ABT Transactions'!$F$9:$F$40,$R$14,'ABT Transactions'!$C$9:$C$40,T$15,'ABT Transactions'!$D$9:$D$40,$B$25)","v":0},{"$f":"SUMIFS('ABT Transactions'!$B$9:$B$40,'ABT Transactions'!$G$9:$G$40,$C13,'ABT Transactions'!$F$9:$F$40,$U$14,'ABT Transactions'!$C$9:$C$40,U$15,'ABT Transactions'!$D$9:$D$40,$B$25)","v":0},{"$f":"SUMIFS('ABT Transactions'!$B$9:$B$40,'ABT Transactions'!$G$9:$G$40,$C13,'ABT Transactions'!$F$9:$F$40,$U$14,'ABT Transactions'!$C$9:$C$40,V$15,'ABT Transactions'!$D$9:$D$40,$B$25)","v":0},{"$f":"SUMIFS('ABT Transactions'!$B$9:$B$40,'ABT Transactions'!$G$9:$G$40,$C13,'ABT Transactions'!$F$9:$F$40,$U$14,'ABT Transactions'!$C$9:$C$40,W$15,'ABT Transactions'!$D$9:$D$40,$B$25)","v":0},{"$f":"SUMIFS('ABT Transactions'!$B$9:$B$40,'ABT Transactions'!$G$9:$G$40,$C13,'ABT Transactions'!$F$9:$F$40,$X$14,'ABT Transactions'!$C$9:$C$40,X$15,'ABT Transactions'!$D$9:$D$40,$B$25)","v":0},{"$f":"SUMIFS('ABT Transactions'!$B$9:$B$40,'ABT Transactions'!$G$9:$G$40,$C13,'ABT Transactions'!$F$9:$F$40,$X$14,'ABT Transactions'!$C$9:$C$40,Y$15,'ABT Transactions'!$D$9:$D$40,$B$25)","v":0},{"$f":"SUMIFS('ABT Transactions'!$B$9:$B$40,'ABT Transactions'!$G$9:$G$40,$C13,'ABT Transactions'!$F$9:$F$40,$X$14,'ABT Transactions'!$C$9:$C$40,Z$15,'ABT Transactions'!$D$9:$D$40,$B$25)","v":0},{"$f":"SUMIFS('ABT Transactions'!$B$9:$B$40,'ABT Transactions'!$G$9:$G$40,$C13,'ABT Transactions'!$F$9:$F$40,$AA$14,'ABT Transactions'!$C$9:$C$40,AA$15,'ABT Transactions'!$D$9:$D$40,$B$25)","v":0},{"$f":"SUMIFS('ABT Transactions'!$B$9:$B$40,'ABT Transactions'!$G$9:$G$40,$C13,'ABT Transactions'!$F$9:$F$40,$AA$14,'ABT Transactions'!$C$9:$C$40,AB$15,'ABT Transactions'!$D$9:$D$40,$B$25)","v":0},{"$f":"SUMIFS('ABT Transactions'!$B$9:$B$40,'ABT Transactions'!$G$9:$G$40,$C13,'ABT Transactions'!$F$9:$F$40,$AA$14,'ABT Transactions'!$C$9:$C$40,AC$15,'ABT Transactions'!$D$9:$D$40,$B$25)","v":0},{"$f":"SUMIFS('ABT Transactions'!$B$9:$B$40,'ABT Transactions'!$G$9:$G$40,$C13,'ABT Transactions'!$F$9:$F$40,$AD$14,'ABT Transactions'!$C$9:$C$40,AD$15,'ABT Transactions'!$D$9:$D$40,$B$25)","v":0},{"$f":"SUMIFS('ABT Transactions'!$B$9:$B$40,'ABT Transactions'!$G$9:$G$40,$C13,'ABT Transactions'!$F$9:$F$40,$AD$14,'ABT Transactions'!$C$9:$C$40,AE$15,'ABT Transactions'!$D$9:$D$40,$B$25)","v":0},{"$f":"SUMIFS('ABT Transactions'!$B$9:$B$40,'ABT Transactions'!$G$9:$G$40,$C13,'ABT Transactions'!$F$9:$F$40,$AD$14,'ABT Transactions'!$C$9:$C$40,AF$15,'ABT Transactions'!$D$9:$D$40,$B$25)","v":0},{"$f":"SUMIFS('ABT Transactions'!$B$9:$B$40,'ABT Transactions'!$G$9:$G$40,$C13,'ABT Transactions'!$F$9:$F$40,$AG$14,'ABT Transactions'!$C$9:$C$40,AG$15,'ABT Transactions'!$D$9:$D$40,$B$25)","v":0},{"$f":"SUMIFS('ABT Transactions'!$B$9:$B$40,'ABT Transactions'!$G$9:$G$40,$C13,'ABT Transactions'!$F$9:$F$40,$AG$14,'ABT Transactions'!$C$9:$C$40,AH$15,'ABT Transactions'!$D$9:$D$40,$B$25)","v":0},{"$f":"SUMIFS('ABT Transactions'!$B$9:$B$40,'ABT Transactions'!$G$9:$G$40,$C13,'ABT Transactions'!$F$9:$F$40,$AG$14,'ABT Transactions'!$C$9:$C$40,AI$15,'ABT Transactions'!$D$9:$D$40,$B$25)","v":0},{"$f":"SUMIFS('ABT Transactions'!$B$9:$B$40,'ABT Transactions'!$G$9:$G$40,$C13,'ABT Transactions'!$F$9:$F$40,$AJ$14,'ABT Transactions'!$C$9:$C$40,AJ$15,'ABT Transactions'!$D$9:$D$40,$B$25)","v":0},{"$f":"SUMIFS('ABT Transactions'!$B$9:$B$40,'ABT Transactions'!$G$9:$G$40,$C13,'ABT Transactions'!$F$9:$F$40,$AJ$14,'ABT Transactions'!$C$9:$C$40,AK$15,'ABT Transactions'!$D$9:$D$40,$B$25)","v":0},{"$f":"SUMIFS('ABT Transactions'!$B$9:$B$40,'ABT Transactions'!$G$9:$G$40,$C13,'ABT Transactions'!$F$9:$F$40,$AJ$14,'ABT Transactions'!$C$9:$C$40,AL$15,'ABT Transactions'!$D$9:$D$40,$B$25)","v":0},{"$f":"SUMIFS('ABT Transactions'!$B$9:$B$40,'ABT Transactions'!$G$9:$G$40,$C13,'ABT Transactions'!$F$9:$F$40,$AM$14,'ABT Transactions'!$C$9:$C$40,AM$15,'ABT Transactions'!$D$9:$D$40,$B$25)","v":0},{"$f":"SUMIFS('ABT Transactions'!$B$9:$B$40,'ABT Transactions'!$G$9:$G$40,$C13,'ABT Transactions'!$F$9:$F$40,$AM$14,'ABT Transactions'!$C$9:$C$40,AN$15,'ABT Transactions'!$D$9:$D$40,$B$25)","v":0},{"$f":"SUMIFS('ABT Transactions'!$B$9:$B$40,'ABT Transactions'!$G$9:$G$40,$C13,'ABT Transactions'!$F$9:$F$40,$AM$14,'ABT Transactions'!$C$9:$C$40,AO$15,'ABT Transactions'!$D$9:$D$40,$B$25)","v":0},{"$f":"SUMIFS('ABT Transactions'!$B$9:$B$40,'ABT Transactions'!$G$9:$G$40,$C13,'ABT Transactions'!$F$9:$F$40,$AP$14,'ABT Transactions'!$C$9:$C$40,AP$15,'ABT Transactions'!$D$9:$D$40,$B$25)","v":0},{"$f":"SUMIFS('ABT Transactions'!$B$9:$B$40,'ABT Transactions'!$G$9:$G$40,$C13,'ABT Transactions'!$F$9:$F$40,$AP$14,'ABT Transactions'!$C$9:$C$40,AQ$15,'ABT Transactions'!$D$9:$D$40,$B$25)","v":0},{"$f":"SUMIFS('ABT Transactions'!$B$9:$B$40,'ABT Transactions'!$G$9:$G$40,$C13,'ABT Transactions'!$F$9:$F$40,$AP$14,'ABT Transactions'!$C$9:$C$40,AR$15,'ABT Transactions'!$D$9:$D$40,$B$25)","v":0},{"$f":"SUMIFS('ABT Transactions'!$B$9:$B$40,'ABT Transactions'!$G$9:$G$40,$C$13,'ABT Transactions'!$F$9:$F$40,$AS$14,'ABT Transactions'!$C$9:$C$40,AS$15,'ABT Transactions'!$D$9:$D$40,$B$25)","v":0},{"$f":"SUMIFS('ABT Transactions'!$B$9:$B$40,'ABT Transactions'!$G$9:$G$40,$C$13,'ABT Transactions'!$F$9:$F$40,$AS$14,'ABT Transactions'!$C$9:$C$40,AT$15,'ABT Transactions'!$D$9:$D$40,$B$25)","v":0},{"$f":"SUMIFS('ABT Transactions'!$B$9:$B$40,'ABT Transactions'!$G$9:$G$40,$C$13,'ABT Transactions'!$F$9:$F$40,$AS$14,'ABT Transactions'!$C$9:$C$40,AU$15,'ABT Transactions'!$D$9:$D$40,$B$25)","v":0}]
[null,"Final Credit Balance",{"$f":"(C16+C17+C19+C21+C23+C24+C25)-(C18+C20+C22)","v":0},{"$f":"(D16+D17+D19+D21+D23+D24+D25)-(D18+D20+D22)","v":0},0,0,0,0,0,0,0,0,0,0,0,0,0,0,0,0,{"$f":"(U16+U17+U19+U21+U23+U24+U25)-(U18+U20+U22)","v":0},{"$f":"(V16+V17+V19+V21+V23+V24+V25)-(V18+V20+V22)","v":0},{"$f":"(W16+W17+W19+W21+W23+W24+W25)-(W18+W20+W22)","v":0},{"$f":"(X16+X17+X19+X21+X23+X24+X25)-(X18+X20+X22)","v":0},{"$f":"(Y16+Y17+Y19+Y21+Y23+Y24+Y25)-(Y18+Y20+Y22)","v":0},{"$f":"(Z16+Z17+Z19+Z21+Z23+Z24+Z25)-(Z18+Z20+Z22)","v":0},{"$f":"(AA16+AA17+AA19+AA21+AA23+AA24+AA25)-(AA18+AA20+AA22)","v":0},{"$f":"(AB16+AB17+AB19+AB21+AB23+AB24+AB25)-(AB18+AB20+AB22)","v":0},{"$f":"(AC16+AC17+AC19+AC21+AC23+AC24+AC25)-(AC18+AC20+AC22)","v":0},{"$f":"(AD16+AD17+AD19+AD21+AD23+AD24+AD25)-(AD18+AD20+AD22)","v":0},{"$f":"(AE16+AE17+AE19+AE21+AE23+AE24+AE25)-(AE18+AE20+AE22)","v":0},0,{"$f":"(AG16+AG17+AG19+AG21+AG23+AG24+AG25)-(AG18+AG20+AG22)","v":0},{"$f":"(AH16+AH17+AH19+AH21+AH23+AH24+AH25)-(AH18+AH20+AH22)","v":0},0,0,{"$f":"(AK16+AK17+AK19+AK21+AK23+AK24+AK25)-(AK18+AK20+AK22)","v":0},{"$f":"(AL16+AL17+AL19+AL21+AL23+AL24+AL25)-(AL18+AL20+AL22)","v":0},{"$f":"(AM16+AM17+AM19+AM21+AM23+AM24+AM25)-(AM18+AM20+AM22)","v":0},{"$f":"(AN16+AN17+AN19+AN21+AN23+AN24+AN25)-(AN18+AN20+AN22)","v":0},0,{"$f":"(AP16+AP17+AP19+AP21+AP23+AP24+AP25)-(AP18+AP20+AP22)","v":0},{"$f":"(AQ16+AQ17+AQ19+AQ21+AQ23+AQ24+AQ25)-(AQ18+AQ20+AQ22)","v":0},{"$f":"(AR16+AR17+AR19+AR21+AR23+AR24+AR25)-(AR18+AR20+AR22)","v":0},0,0,{"$f":"(AU16+AU17+AU19+AU21+AU23+AU24+AU25)-(AU18+AU20+AU22)","v":0}]
[null,"Averaging Set Credit Balance",{"$f":"SUM(C26:E26)","v":0},null,null,{"$f":"SUM(F26:H26)","v":0},null,null,{"$f":"SUM(I26:K26)","v":0},null,null,{"$f":"SUM(L26:N26)","v":0},null,null,{"$f":"SUM(O26:Q26)","v":0},null,null,{"$f":"SUM(R26:T26)","v":0},null,null,{"$f":"SUM(U26:W26)","v":0},null,null,{"$f":"SUM(X26:Z26)","v":0},null,null,{"$f":"SUM(AA26:AC26)","v":0},null,null,{"$f":"SUM(AD26:AF26)","v":0},null,null,{"$f":"SUM(AG26:AI26)","v":0},null,null,{"$f":"SUM(AJ26:AL26)","v":0},null,null,{"$f":"SUM(AM26:AO26)","v":0},null,null,{"$f":"SUM(AP26:AR26)","v":0},null,null,{"$f":"SUM(AS26:AU26)","v":0}]
[]
[null,null,"LHDV (Cl 2b-5)"]
[null,null,2013,null,null,2014,null,null,2015,null,null,2016,null,null,2017,null,null,2018,null,null,2019,null,null,2020,null,null,2021,null,null,2022,null,null,2023,null,null,2024,null,null,2025,null,null,2026,null,null,2027]
[null,"Credit Type","Conventional Credit","Innovative Technology Credit","Advanced Technology Credit","Conventional Credit","Innovative Technology Credit","Advanced Technology Credit","Conventional Credit","Innovative Technology Credit","Advanced Technology Credit","Conventional Credit","Innovative Technology Credit","Advanced Technology Credit","Conventional Credit","Innovative Technology Credit","Advanced Technology Credit","Conventional Credit","Innovative Technology Credit","Advanced Technology Credit","Conventional Credit","Innovative Technology Credit","Advanced Technology Credit","Conventional Credit","Innovative Technology Credit","Advanced Technology Credit","Conventional Credit","Innovative Technology Credit","Advanced Technology Credit","Conventional Credit","Innovative Technology Credit","Advanced Technology Credit","Conventional Credit","Innovative Technology Credit","Advanced Technology Credit","Conventional Credit","Innovative Technology Credit","Advanced Technology Credit","Conventional Credit","Innovative Technology Credit","Advanced Technology Credit","Conventional Credit","Innovative Technology Credit","Advanced Technology Credit","Conventional Credit","Innovative Technology Credit","Advanced Technology Credit"]
[null,"Earned Credits",{"$f":"SUMIFS('ABT Credit Balances'!$D$9:$D$208,'ABT Credit Balances'!$B$9:$B$208,$C$29,'ABT Credit Balances'!$F$9:$F$208,C31,'ABT Credit Balances'!$E$9:$E$208,$C$30,'ABT Credit Balances'!$C$9:$C$208,$B$32)","v":0},{"$f":"SUMIFS('ABT Credit Balances'!$D$9:$D$208,'ABT Credit Balances'!$B$9:$B$208,$C$29,'ABT Credit Balances'!$F$9:$F$208,D31,'ABT Credit Balances'!$E$9:$E$208,$C$30,'ABT Credit Balances'!$C$9:$C$208,$B$32)","v":0},{"$f":"SUMIFS('ABT Credit Balances'!$D$9:$D$208,'ABT Credit Balances'!$B$9:$B$208,$C$29,'ABT Credit Balances'!$F$9:$F$208,E31,'ABT Credit Balances'!$E$9:$E$208,$C$30,'ABT Credit Balances'!$C$9:$C$208,$B$32)","v":0},{"$f":"SUMIFS('ABT Credit Balances'!$D$9:$D$208,'ABT Credit Balances'!$B$9:$B$208,$C$29,'ABT Credit Balances'!$F$9:$F$208,F31,'ABT Credit Balances'!$E$9:$E$208,$F$30,'ABT Credit Balances'!$C$9:$C$208,$B$32)","v":0},{"$f":"SUMIFS('ABT Credit Balances'!$D$9:$D$208,'ABT Credit Balances'!$B$9:$B$208,$C$29,'ABT Credit Balances'!$F$9:$F$208,G31,'ABT Credit Balances'!$E$9:$E$208,$F$30,'ABT Credit Balances'!$C$9:$C$208,$B$32)","v":0},{"$f":"SUMIFS('ABT Credit Balances'!$D$9:$D$208,'ABT Credit Balances'!$B$9:$B$208,$C$29,'ABT Credit Balances'!$F$9:$F$208,H31,'ABT Credit Balances'!$E$9:$E$208,$F$30,'ABT Credit Balances'!$C$9:$C$208,$B$32)","v":0},{"$f":"SUMIFS('ABT Credit Balances'!$D$9:$D$208,'ABT Credit Balances'!$B$9:$B$208,$C$29,'ABT Credit Balances'!$F$9:$F$208,I31,'ABT Credit Balances'!$E$9:$E$208,$I$30,'ABT Credit Balances'!$C$9:$C$208,$B$32)","v":0},{"$f":"SUMIFS('ABT Credit Balances'!$D$9:$D$208,'ABT Credit Balances'!$B$9:$B$208,$C$29,'ABT Credit Balances'!$F$9:$F$208,J31,'ABT Credit Balances'!$E$9:$E$208,$I$30,'ABT Credit Balances'!$C$9:$C$208,$B$32)","v":0},{"$f":"SUMIFS('ABT Credit Balances'!$D$9:$D$208,'ABT Credit Balances'!$B$9:$B$208,$C$29,'ABT Credit Balances'!$F$9:$F$208,K31,'ABT Credit Balances'!$E$9:$E$208,$I$30,'ABT Credit Balances'!$C$9:$C$208,$B$32)","v":0},{"$f":"SUMIFS('ABT Credit Balances'!$D$9:$D$208,'ABT Credit Balances'!$B$9:$B$208,$C$29,'ABT Credit Balances'!$F$9:$F$208,L31,'ABT Credit Balances'!$E$9:$E$208,$L$30,'ABT Credit Balances'!$C$9:$C$208,$B$32)","v":0},{"$f":"SUMIFS('ABT Credit Balances'!$D$9:$D$208,'ABT Credit Balances'!$B$9:$B$208,$C$29,'ABT Credit Balances'!$F$9:$F$208,M31,'ABT Credit Balances'!$E$9:$E$208,$L$30,'ABT Credit Balances'!$C$9:$C$208,$B$32)","v":0},{"$f":"SUMIFS('ABT Credit Balances'!$D$9:$D$208,'ABT Credit Balances'!$B$9:$B$208,$C$29,'ABT Credit Balances'!$F$9:$F$208,N31,'ABT Credit Balances'!$E$9:$E$208,$L$30,'ABT Credit Balances'!$C$9:$C$208,$B$32)","v":0},{"$f":"SUMIFS('ABT Credit Balances'!$D$9:$D$208,'ABT Credit Balances'!$B$9:$B$208,$C$29,'ABT Credit Balances'!$F$9:$F$208,O31,'ABT Credit Balances'!$E$9:$E$208,$O$30,'ABT Credit Balances'!$C$9:$C$208,$B$32)","v":0},{"$f":"SUMIFS('ABT Credit Balances'!$D$9:$D$208,'ABT Credit Balances'!$B$9:$B$208,$C$29,'ABT Credit Balances'!$F$9:$F$208,P31,'ABT Credit Balances'!$E$9:$E$208,$O$30,'ABT Credit Balances'!$C$9:$C$208,$B$32)","v":0},{"$f":"SUMIFS('ABT Credit Balances'!$D$9:$D$208,'ABT Credit Balances'!$B$9:$B$208,$C$29,'ABT Credit Balances'!$F$9:$F$208,Q31,'ABT Credit Balances'!$E$9:$E$208,$O$30,'ABT Credit Balances'!$C$9:$C$208,$B$32)","v":0},{"$f":"SUMIFS('ABT Credit Balances'!$D$9:$D$208,'ABT Credit Balances'!$B$9:$B$208,$C$29,'ABT Credit Balances'!$F$9:$F$208,R31,'ABT Credit Balances'!$E$9:$E$208,$R$30,'ABT Credit Balances'!$C$9:$C$208,$B$32)","v":0},{"$f":"SUMIFS('ABT Credit Balances'!$D$9:$D$208,'ABT Credit Balances'!$B$9:$B$208,$C$29,'ABT Credit Balances'!$F$9:$F$208,S31,'ABT Credit Balances'!$E$9:$E$208,$R$30,'ABT Credit Balances'!$C$9:$C$208,$B$32)","v":0},{"$f":"SUMIFS('ABT Credit Balances'!$D$9:$D$208,'ABT Credit Balances'!$B$9:$B$208,$C$29,'ABT Credit Balances'!$F$9:$F$208,T31,'ABT Credit Balances'!$E$9:$E$208,$R$30,'ABT Credit Balances'!$C$9:$C$208,$B$32)","v":0},{"$f":"SUMIFS('ABT Credit Balances'!$D$9:$D$208,'ABT Credit Balances'!$B$9:$B$208,$C29,'ABT Credit Balances'!$F$9:$F$208,U31,'ABT Credit Balances'!$E$9:$E$208,$U$14,'ABT Credit Balances'!$C$9:$C$208,$B$16)","v":0},{"$f":"SUMIFS('ABT Credit Balances'!$D$9:$D$208,'ABT Credit Balances'!$B$9:$B$208,$C29,'ABT Credit Balances'!$F$9:$F$208,V31,'ABT Credit Balances'!$E$9:$E$208,$U$14,'ABT Credit Balances'!$C$9:$C$208,$B$16)","v":0},{"$f":"SUMIFS('ABT Credit Balances'!$D$9:$D$208,'ABT Credit Balances'!$B$9:$B$208,$C29,'ABT Credit Balances'!$F$9:$F$208,W31,'ABT Credit Balances'!$E$9:$E$208,$U$14,'ABT Credit Balances'!$C$9:$C$208,$B$16)","v":0},{"$f":"SUMIFS('ABT Credit Balances'!$D$9:$D$208,'ABT Credit Balances'!$B$9:$B$208,$C29,'ABT Credit Balances'!$F$9:$F$208,X31,'ABT Credit Balances'!$E$9:$E$208,$X$14,'ABT Credit Balances'!$C$9:$C$208,$B$16)","v":0},{"$f":"SUMIFS('ABT Credit Balances'!$D$9:$D$208,'ABT Credit Balances'!$B$9:$B$208,$C29,'ABT Credit Balances'!$F$9:$F$208,Y31,'ABT Credit Balances'!$E$9:$E$208,$X$14,'ABT Credit Balances'!$C$9:$C$208,$B$16)","v":0},{"$f":"SUMIFS('ABT Credit Balances'!$D$9:$D$208,'ABT Credit Balances'!$B$9:$B$208,$C29,'ABT Credit Balances'!$F$9:$F$208,Z31,'ABT Credit Balances'!$E$9:$E$208,$X$14,'ABT Credit Balances'!$C$9:$C$208,$B$16)","v":0},{"$f":"SUMIFS('ABT Credit Balances'!$D$9:$D$208,'ABT Credit Balances'!$B$9:$B$208,$C29,'ABT Credit Balances'!$F$9:$F$208,AA31,'ABT Credit Balances'!$E$9:$E$208,$AA$14,'ABT Credit Balances'!$C$9:$C$208,$B$16)","v":0},{"$f":"SUMIFS('ABT Credit Balances'!$D$9:$D$208,'ABT Credit Balances'!$B$9:$B$208,$C29,'ABT Credit Balances'!$F$9:$F$208,AB31,'ABT Credit Balances'!$E$9:$E$208,$AA$14,'ABT Credit Balances'!$C$9:$C$208,$B$16)","v":0},{"$f":"SUMIFS('ABT Credit Balances'!$D$9:$D$208,'ABT Credit Balances'!$B$9:$B$208,$C29,'ABT Credit Balances'!$F$9:$F$208,AC31,'ABT Credit Balances'!$E$9:$E$208,$AA$14,'ABT Credit Balances'!$C$9:$C$208,$B$16)","v":0},{"$f":"SUMIFS('ABT Credit Balances'!$D$9:$D$208,'ABT Credit Balances'!$B$9:$B$208,$C29,'ABT Credit Balances'!$F$9:$F$208,AD31,'ABT Credit Balances'!$E$9:$E$208,$AD$14,'ABT Credit Balances'!$C$9:$C$208,$B$16)","v":0},{"$f":"SUMIFS('ABT Credit Balances'!$D$9:$D$208,'ABT Credit Balances'!$B$9:$B$208,$C29,'ABT Credit Balances'!$F$9:$F$208,AE31,'ABT Credit Balances'!$E$9:$E$208,$AD$14,'ABT Credit Balances'!$C$9:$C$208,$B$16)","v":0},{"$f":"SUMIFS('ABT Credit Balances'!$D$9:$D$208,'ABT Credit Balances'!$B$9:$B$208,$C29,'ABT Credit Balances'!$F$9:$F$208,AF31,'ABT Credit Balances'!$E$9:$E$208,$AD$14,'ABT Credit Balances'!$C$9:$C$208,$B$16)","v":0},{"$f":"SUMIFS('ABT Credit Balances'!$D$9:$D$208,'ABT Credit Balances'!$B$9:$B$208,$C29,'ABT Credit Balances'!$F$9:$F$208,AG31,'ABT Credit Balances'!$E$9:$E$208,$AG$14,'ABT Credit Balances'!$C$9:$C$208,$B$16)","v":0},{"$f":"SUMIFS('ABT Credit Balances'!$D$9:$D$208,'ABT Credit Balances'!$B$9:$B$208,$C29,'ABT Credit Balances'!$F$9:$F$208,AH31,'ABT Credit Balances'!$E$9:$E$208,$AG$14,'ABT Credit Balances'!$C$9:$C$208,$B$16)","v":0},{"$f":"SUMIFS('ABT Credit Balances'!$D$9:$D$208,'ABT Credit Balances'!$B$9:$B$208,$C29,'ABT Credit Balances'!$F$9:$F$208,AI31,'ABT Credit Balances'!$E$9:$E$208,$AG$14,'ABT Credit Balances'!$C$9:$C$208,$B$16)","v":0},{"$f":"SUMIFS('ABT Credit Balances'!$D$9:$D$208,'ABT Credit Balances'!$B$9:$B$208,$C29,'ABT Credit Balances'!$F$9:$F$208,AJ31,'ABT Credit Balances'!$E$9:$E$208,$AJ$14,'ABT Credit Balances'!$C$9:$C$208,$B$16)","v":0},{"$f":"SUMIFS('ABT Credit Balances'!$D$9:$D$208,'ABT Credit Balances'!$B$9:$B$208,$C29,'ABT Credit Balances'!$F$9:$F$208,AK31,'ABT Credit Balances'!$E$9:$E$208,$AJ$14,'ABT Credit Balances'!$C$9:$C$208,$B$16)","v":0},{"$f":"SUMIFS('ABT Credit Balances'!$D$9:$D$208,'ABT Credit Balances'!$B$9:$B$208,$C29,'ABT Credit Balances'!$F$9:$F$208,AL31,'ABT Credit Balances'!$E$9:$E$208,$AJ$14,'ABT Credit Balances'!$C$9:$C$208,$B$16)","v":0},{"$f":"SUMIFS('ABT Credit Balances'!$D$9:$D$208,'ABT Credit Balances'!$B$9:$B$208,$C29,'ABT Credit Balances'!$F$9:$F$208,AM31,'ABT Credit Balances'!$E$9:$E$208,$AM$14,'ABT Credit Balances'!$C$9:$C$208,$B$16)","v":0},{"$f":"SUMIFS('ABT Credit Balances'!$D$9:$D$208,'ABT Credit Balances'!$B$9:$B$208,$C29,'ABT Credit Balances'!$F$9:$F$208,AN31,'ABT Credit Balances'!$E$9:$E$208,$AM$14,'ABT Credit Balances'!$C$9:$C$208,$B$16)","v":0},{"$f":"SUMIFS('ABT Credit Balances'!$D$9:$D$208,'ABT Credit Balances'!$B$9:$B$208,$C29,'ABT Credit Balances'!$F$9:$F$208,AO31,'ABT Credit Balances'!$E$9:$E$208,$AM$14,'ABT Credit Balances'!$C$9:$C$208,$B$16)","v":0},{"$f":"SUMIFS('ABT Credit Balances'!$D$9:$D$208,'ABT Credit Balances'!$B$9:$B$208,$C29,'ABT Credit Balances'!$F$9:$F$208,AP31,'ABT Credit Balances'!$E$9:$E$208,$AP$14,'ABT Credit Balances'!$C$9:$C$208,$B$16)","v":0},{"$f":"SUMIFS('ABT Credit Balances'!$D$9:$D$208,'ABT Credit Balances'!$B$9:$B$208,$C29,'ABT Credit Balances'!$F$9:$F$208,AQ31,'ABT Credit Balances'!$E$9:$E$208,$AP$14,'ABT Credit Balances'!$C$9:$C$208,$B$16)","v":0},{"$f":"SUMIFS('ABT Credit Balances'!$D$9:$D$208,'ABT Credit Balances'!$B$9:$B$208,$C29,'ABT Credit Balances'!$F$9:$F$208,AR31,'ABT Credit Balances'!$E$9:$E$208,$AP$14,'ABT Credit Balances'!$C$9:$C$208,$B$16)","v":0},{"$f":"SUMIFS('ABT Credit Balances'!$D$9:$D$208,'ABT Credit Balances'!$B$9:$B$208,$C$29,'ABT Credit Balances'!$F$9:$F$208,AS31,'ABT Credit Balances'!$E$9:$E$208,$AS$30,'ABT Credit Balances'!$C$9:$C$208,$B$32)","v":0},{"$f":"SUMIFS('ABT Credit Balances'!$D$9:$D$208,'ABT Credit Balances'!$B$9:$B$208,$C$29,'ABT Credit Balances'!$F$9:$F$208,AT31,'ABT Credit Balances'!$E$9:$E$208,$AS$30,'ABT Credit Balances'!$C$9:$C$208,$B$32)","v":0},{"$f":"SUMIFS('ABT Credit Balances'!$D$9:$D$208,'ABT Credit Balances'!$B$9:$B$208,$C$29,'ABT Credit Balances'!$F$9:$F$208,AU31,'ABT Credit Balances'!$E$9:$E$208,$AS$30,'ABT Credit Balances'!$C$9:$C$208,$B$32)","v":0}]
[null,"Projected Credits",{"$f":"SUMIFS('ABT Credit Balances'!$D$9:$D$208,'ABT Credit Balances'!$B$9:$B$208,$C$29,'ABT Credit Balances'!$F$9:$F$208,C31,'ABT Credit Balances'!$E$9:$E$208,$C$30,'ABT Credit Balances'!$C$9:$C$208,$B$33)","v":0},{"$f":"SUMIFS('ABT Credit Balances'!$D$9:$D$208,'ABT Credit Balances'!$B$9:$B$208,$C$29,'ABT Credit Balances'!$F$9:$F$208,D31,'ABT Credit Balances'!$E$9:$E$208,$C$30,'ABT Credit Balances'!$C$9:$C$208,$B$33)","v":0},{"$f":"SUMIFS('ABT Credit Balances'!$D$9:$D$208,'ABT Credit Balances'!$B$9:$B$208,$C$29,'ABT Credit Balances'!$F$9:$F$208,E31,'ABT Credit Balances'!$E$9:$E$208,$C$30,'ABT Credit Balances'!$C$9:$C$208,$B$33)","v":0},{"$f":"SUMIFS('ABT Credit Balances'!$D$9:$D$208,'ABT Credit Balances'!$B$9:$B$208,$C$29,'ABT Credit Balances'!$F$9:$F$208,F31,'ABT Credit Balances'!$E$9:$E$208,$F$30,'ABT Credit Balances'!$C$9:$C$208,$B$33)","v":0},{"$f":"SUMIFS('ABT Credit Balances'!$D$9:$D$208,'ABT Credit Balances'!$B$9:$B$208,$C$29,'ABT Credit Balances'!$F$9:$F$208,G31,'ABT Credit Balances'!$E$9:$E$208,$F$30,'ABT Credit Balances'!$C$9:$C$208,$B$33)","v":0},{"$f":"SUMIFS('ABT Credit Balances'!$D$9:$D$208,'ABT Credit Balances'!$B$9:$B$208,$C$29,'ABT Credit Balances'!$F$9:$F$208,H31,'ABT Credit Balances'!$E$9:$E$208,$F$30,'ABT Credit Balances'!$C$9:$C$208,$B$33)","v":0},{"$f":"SUMIFS('ABT Credit Balances'!$D$9:$D$208,'ABT Credit Balances'!$B$9:$B$208,$C$29,'ABT Credit Balances'!$F$9:$F$208,I31,'ABT Credit Balances'!$E$9:$E$208,$I$30,'ABT Credit Balances'!$C$9:$C$208,$B$33)","v":0},{"$f":"SUMIFS('ABT Credit Balances'!$D$9:$D$208,'ABT Credit Balances'!$B$9:$B$208,$C$29,'ABT Credit Balances'!$F$9:$F$208,J31,'ABT Credit Balances'!$E$9:$E$208,$I$30,'ABT Credit Balances'!$C$9:$C$208,$B$33)","v":0},{"$f":"SUMIFS('ABT Credit Balances'!$D$9:$D$208,'ABT Credit Balances'!$B$9:$B$208,$C$29,'ABT Credit Balances'!$F$9:$F$208,K31,'ABT Credit Balances'!$E$9:$E$208,$I$30,'ABT Credit Balances'!$C$9:$C$208,$B$33)","v":0},{"$f":"SUMIFS('ABT Credit Balances'!$D$9:$D$208,'ABT Credit Balances'!$B$9:$B$208,$C$29,'ABT Credit Balances'!$F$9:$F$208,L31,'ABT Credit Balances'!$E$9:$E$208,$L$30,'ABT Credit Balances'!$C$9:$C$208,$B$33)","v":0},{"$f":"SUMIFS('ABT Credit Balances'!$D$9:$D$208,'ABT Credit Balances'!$B$9:$B$208,$C$29,'ABT Credit Balances'!$F$9:$F$208,M31,'ABT Credit Balances'!$E$9:$E$208,$L$30,'ABT Credit Balances'!$C$9:$C$208,$B$33)","v":0},{"$f":"SUMIFS('ABT Credit Balances'!$D$9:$D$208,'ABT Credit Balances'!$B$9:$B$208,$C$29,'ABT Credit Balances'!$F$9:$F$208,N31,'ABT Credit Balances'!$E$9:$E$208,$L$30,'ABT Credit Balances'!$C$9:$C$208,$B$33)","v":0},{"$f":"SUMIFS('ABT Credit Balances'!$D$9:$D$208,'ABT Credit Balances'!$B$9:$B$208,$C$29,'ABT Credit Balances'!$F$9:$F$208,O31,'ABT Credit Balances'!$E$9:$E$208,$O$30,'ABT Credit Balances'!$C$9:$C$208,$B$33)","v":0},{"$f":"SUMIFS('ABT Credit Balances'!$D$9:$D$208,'ABT Credit Balances'!$B$9:$B$208,$C$29,'ABT Credit Balances'!$F$9:$F$208,P31,'ABT Credit Balances'!$E$9:$E$208,$O$30,'ABT Credit Balances'!$C$9:$C$208,$B$33)","v":0},{"$f":"SUMIFS('ABT Credit Balances'!$D$9:$D$208,'ABT Credit Balances'!$B$9:$B$208,$C$29,'ABT Credit Balances'!$F$9:$F$208,Q31,'ABT Credit Balances'!$E$9:$E$208,$O$30,'ABT Credit Balances'!$C$9:$C$208,$B$33)","v":0},{"$f":"SUMIFS('ABT Credit Balances'!$D$9:$D$208,'ABT Credit Balances'!$B$9:$B$208,$C$29,'ABT Credit Balances'!$F$9:$F$208,R31,'ABT Credit Balances'!$E$9:$E$208,$R$30,'ABT Credit Balances'!$C$9:$C$208,$B$33)","v":0},{"$f":"SUMIFS('ABT Credit Balances'!$D$9:$D$208,'ABT Credit Balances'!$B$9:$B$208,$C$29,'ABT Credit Balances'!$F$9:$F$208,S31,'ABT Credit Balances'!$E$9:$E$208,$R$30,'ABT Credit Balances'!$C$9:$C$208,$B$33)","v":0},{"$f":"SUMIFS('ABT Credit Balances'!$D$9:$D$208,'ABT Credit Balances'!$B$9:$B$208,$C$29,'ABT Credit Balances'!$F$9:$F$208,T31,'ABT Credit Balances'!$E$9:$E$208,$R$30,'ABT Credit Balances'!$C$9:$C$208,$B$33)","v":0},{"$f":"SUMIFS('ABT Credit Balances'!$D$9:$D$208,'ABT Credit Balances'!$B$9:$B$208,$C29,'ABT Credit Balances'!$F$9:$F$208,U31,'ABT Credit Balances'!$E$9:$E$208,$U$14,'ABT Credit Balances'!$C$9:$C$208,$B$17)","v":0},{"$f":"SUMIFS('ABT Credit Balances'!$D$9:$D$208,'ABT Credit Balances'!$B$9:$B$208,$C29,'ABT Credit Balances'!$F$9:$F$208,V31,'ABT Credit Balances'!$E$9:$E$208,$U$14,'ABT Credit Balances'!$C$9:$C$208,$B$17)","v":0},{"$f":"SUMIFS('ABT Credit Balances'!$D$9:$D$208,'ABT Credit Balances'!$B$9:$B$208,$C29,'ABT Credit Balances'!$F$9:$F$208,W31,'ABT Credit Balances'!$E$9:$E$208,$U$14,'ABT Credit Balances'!$C$9:$C$208,$B$17)","v":0},{"$f":"SUMIFS('ABT Credit Balances'!$D$9:$D$208,'ABT Credit Balances'!$B$9:$B$208,$C29,'ABT Credit Balances'!$F$9:$F$208,X31,'ABT Credit Balances'!$E$9:$E$208,$X$14,'ABT Credit Balances'!$C$9:$C$208,$B$17)","v":0},{"$f":"SUMIFS('ABT Credit Balances'!$D$9:$D$208,'ABT Credit Balances'!$B$9:$B$208,$C29,'ABT Credit Balances'!$F$9:$F$208,Y31,'ABT Credit Balances'!$E$9:$E$208,$X$14,'ABT Credit Balances'!$C$9:$C$208,$B$17)","v":0},{"$f":"SUMIFS('ABT Credit Balances'!$D$9:$D$208,'ABT Credit Balances'!$B$9:$B$208,$C29,'ABT Credit Balances'!$F$9:$F$208,Z31,'ABT Credit Balances'!$E$9:$E$208,$X$14,'ABT Credit Balances'!$C$9:$C$208,$B$17)","v":0},{"$f":"SUMIFS('ABT Credit Balances'!$D$9:$D$208,'ABT Credit Balances'!$B$9:$B$208,$C29,'ABT Credit Balances'!$F$9:$F$208,AA31,'ABT Credit Balances'!$E$9:$E$208,$AA$14,'ABT Credit Balances'!$C$9:$C$208,$B$17)","v":0},{"$f":"SUMIFS('ABT Credit Balances'!$D$9:$D$208,'ABT Credit Balances'!$B$9:$B$208,$C29,'ABT Credit Balances'!$F$9:$F$208,AB31,'ABT Credit Balances'!$E$9:$E$208,$AA$14,'ABT Credit Balances'!$C$9:$C$208,$B$17)","v":0},{"$f":"SUMIFS('ABT Credit Balances'!$D$9:$D$208,'ABT Credit Balances'!$B$9:$B$208,$C29,'ABT Credit Balances'!$F$9:$F$208,AC31,'ABT Credit Balances'!$E$9:$E$208,$AA$14,'ABT Credit Balances'!$C$9:$C$208,$B$17)","v":0},{"$f":"SUMIFS('ABT Credit Balances'!$D$9:$D$208,'ABT Credit Balances'!$B$9:$B$208,$C29,'ABT Credit Balances'!$F$9:$F$208,AD31,'ABT Credit Balances'!$E$9:$E$208,$AD$14,'ABT Credit Balances'!$C$9:$C$208,$B$17)","v":0},{"$f":"SUMIFS('ABT Credit Balances'!$D$9:$D$208,'ABT Credit Balances'!$B$9:$B$208,$C29,'ABT Credit Balances'!$F$9:$F$208,AE31,'ABT Credit Balances'!$E$9:$E$208,$AD$14,'ABT Credit Balances'!$C$9:$C$208,$B$17)","v":0},{"$f":"SUMIFS('ABT Credit Balances'!$D$9:$D$208,'ABT Credit Balances'!$B$9:$B$208,$C29,'ABT Credit Balances'!$F$9:$F$208,AF31,'ABT Credit Balances'!$E$9:$E$208,$AD$14,'ABT Credit Balances'!$C$9:$C$208,$B$17)","v":0},{"$f":"SUMIFS('ABT Credit Balances'!$D$9:$D$208,'ABT Credit Balances'!$B$9:$B$208,$C29,'ABT Credit Balances'!$F$9:$F$208,AG31,'ABT Credit Balances'!$E$9:$E$208,$AG$14,'ABT Credit Balances'!$C$9:$C$208,$B$17)","v":0},{"$f":"SUMIFS('ABT Credit Balances'!$D$9:$D$208,'ABT Credit Balances'!$B$9:$B$208,$C29,'ABT Credit Balances'!$F$9:$F$208,AH31,'ABT Credit Balances'!$E$9:$E$208,$AG$14,'ABT Credit Balances'!$C$9:$C$208,$B$17)","v":0},{"$f":"SUMIFS('ABT Credit Balances'!$D$9:$D$208,'ABT Credit Balances'!$B$9:$B$208,$C29,'ABT Credit Balances'!$F$9:$F$208,AI31,'ABT Credit Balances'!$E$9:$E$208,$AG$14,'ABT Credit Balances'!$C$9:$C$208,$B$17)","v":0},{"$f":"SUMIFS('ABT Credit Balances'!$D$9:$D$208,'ABT Credit Balances'!$B$9:$B$208,$C29,'ABT Credit Balances'!$F$9:$F$208,AJ31,'ABT Credit Balances'!$E$9:$E$208,$AJ$14,'ABT Credit Balances'!$C$9:$C$208,$B$17)","v":0},{"$f":"SUMIFS('ABT Credit Balances'!$D$9:$D$208,'ABT Credit Balances'!$B$9:$B$208,$C29,'ABT Credit Balances'!$F$9:$F$208,AK31,'ABT Credit Balances'!$E$9:$E$208,$AJ$14,'ABT Credit Balances'!$C$9:$C$208,$B$17)","v":0},{"$f":"SUMIFS('ABT Credit Balances'!$D$9:$D$208,'ABT Credit Balances'!$B$9:$B$208,$C29,'ABT Credit Balances'!$F$9:$F$208,AL31,'ABT Credit Balances'!$E$9:$E$208,$AJ$14,'ABT Credit Balances'!$C$9:$C$208,$B$17)","v":0},{"$f":"SUMIFS('ABT Credit Balances'!$D$9:$D$208,'ABT Credit Balances'!$B$9:$B$208,$C29,'ABT Credit Balances'!$F$9:$F$208,AM31,'ABT Credit Balances'!$E$9:$E$208,$AM$14,'ABT Credit Balances'!$C$9:$C$208,$B$17)","v":0},{"$f":"SUMIFS('ABT Credit Balances'!$D$9:$D$208,'ABT Credit Balances'!$B$9:$B$208,$C29,'ABT Credit Balances'!$F$9:$F$208,AN31,'ABT Credit Balances'!$E$9:$E$208,$AM$14,'ABT Credit Balances'!$C$9:$C$208,$B$17)","v":0},{"$f":"SUMIFS('ABT Credit Balances'!$D$9:$D$208,'ABT Credit Balances'!$B$9:$B$208,$C29,'ABT Credit Balances'!$F$9:$F$208,AO31,'ABT Credit Balances'!$E$9:$E$208,$AM$14,'ABT Credit Balances'!$C$9:$C$208,$B$17)","v":0},{"$f":"SUMIFS('ABT Credit Balances'!$D$9:$D$208,'ABT Credit Balances'!$B$9:$B$208,$C29,'ABT Credit Balances'!$F$9:$F$208,AP31,'ABT Credit Balances'!$E$9:$E$208,$AP$14,'ABT Credit Balances'!$C$9:$C$208,$B$17)","v":0},{"$f":"SUMIFS('ABT Credit Balances'!$D$9:$D$208,'ABT Credit Balances'!$B$9:$B$208,$C29,'ABT Credit Balances'!$F$9:$F$208,AQ31,'ABT Credit Balances'!$E$9:$E$208,$AP$14,'ABT Credit Balances'!$C$9:$C$208,$B$17)","v":0},{"$f":"SUMIFS('ABT Credit Balances'!$D$9:$D$208,'ABT Credit Balances'!$B$9:$B$208,$C29,'ABT Credit Balances'!$F$9:$F$208,AR31,'ABT Credit Balances'!$E$9:$E$208,$AP$14,'ABT Credit Balances'!$C$9:$C$208,$B$17)","v":0},{"$f":"SUMIFS('ABT Credit Balances'!$D$9:$D$208,'ABT Credit Balances'!$B$9:$B$208,$C$29,'ABT Credit Balances'!$F$9:$F$208,AS31,'ABT Credit Balances'!$E$9:$E$208,$AS$30,'ABT Credit Balances'!$C$9:$C$208,$B$33)","v":0},{"$f":"SUMIFS('ABT Credit Balances'!$D$9:$D$208,'ABT Credit Balances'!$B$9:$B$208,$C$29,'ABT Credit Balances'!$F$9:$F$208,AT31,'ABT Credit Balances'!$E$9:$E$208,$AS$30,'ABT Credit Balances'!$C$9:$C$208,$B$33)","v":0},{"$f":"SUMIFS('ABT Credit Balances'!$D$9:$D$208,'ABT Credit Balances'!$B$9:$B$208,$C$29,'ABT Credit Balances'!$F$9:$F$208,AU31,'ABT Credit Balances'!$E$9:$E$208,$AS$30,'ABT Credit Balances'!$C$9:$C$208,$B$33)","v":0}]
[null,"Applied Banked Credits (out)",{"$f":"SUMIFS('ABT Transactions'!$B$9:$B$40,'ABT Transactions'!$G$9:$G$40,$C$29,'ABT Transactions'!$F$9:$F$40,C30,'ABT Transactions'!$C$9:$C$40,C31,'ABT Transactions'!$D$9:$D$40,$B$34)","v":0},{"$f":"SUMIFS('ABT Transactions'!$B$9:$B$40,'ABT Transactions'!$G$9:$G$40,$C$29,'ABT Transactions'!$F$9:$F$40,$C$30,'ABT Transactions'!$C$9:$C$40,D31,'ABT Transactions'!$D$9:$D$40,$B$34)","v":0},{"$f":"SUMIFS('ABT Transactions'!$B$9:$B$40,'ABT Transactions'!$G$9:$G$40,$C$29,'ABT Transactions'!$F$9:$F$40,$C$30,'ABT Transactions'!$C$9:$C$40,E31,'ABT Transactions'!$D$9:$D$40,$B$34)","v":0},{"$f":"SUMIFS('ABT Transactions'!$B$9:$B$40,'ABT Transactions'!$G$9:$G$40,$C$29,'ABT Transactions'!$F$9:$F$40,F30,'ABT Transactions'!$C$9:$C$40,F31,'ABT Transactions'!$D$9:$D$40,$B$34)","v":0},{"$f":"SUMIFS('ABT Transactions'!$B$9:$B$40,'ABT Transactions'!$G$9:$G$40,$C$29,'ABT Transactions'!$F$9:$F$40,$F$30,'ABT Transactions'!$C$9:$C$40,G31,'ABT Transactions'!$D$9:$D$40,$B$34)","v":0},{"$f":"SUMIFS('ABT Transactions'!$B$9:$B$40,'ABT Transactions'!$G$9:$G$40,$C$29,'ABT Transactions'!$F$9:$F$40,F30,'ABT Transactions'!$C$9:$C$40,H31,'ABT Transactions'!$D$9:$D$40,$B$34)","v":0},{"$f":"SUMIFS('ABT Transactions'!$B$9:$B$40,'ABT Transactions'!$G$9:$G$40,$C$29,'ABT Transactions'!$F$9:$F$40,I30,'ABT Transactions'!$C$9:$C$40,I31,'ABT Transactions'!$D$9:$D$40,$B$34)","v":0},{"$f":"SUMIFS('ABT Transactions'!$B$9:$B$40,'ABT Transactions'!$G$9:$G$40,$C$29,'ABT Transactions'!$F$9:$F$40,I30,'ABT Transactions'!$C$9:$C$40,J31,'ABT Transactions'!$D$9:$D$40,$B$34)","v":0},{"$f":"SUMIFS('ABT Transactions'!$B$9:$B$40,'ABT Transactions'!$G$9:$G$40,$C$29,'ABT Transactions'!$F$9:$F$40,I30,'ABT Transactions'!$C$9:$C$40,K31,'ABT Transactions'!$D$9:$D$40,$B$34)","v":0},{"$f":"SUMIFS('ABT Transactions'!$B$9:$B$40,'ABT Transactions'!$G$9:$G$40,$C$29,'ABT Transactions'!$F$9:$F$40,L30,'ABT Transactions'!$C$9:$C$40,L31,'ABT Transactions'!$D$9:$D$40,$B$34)","v":0},{"$f":"SUMIFS('ABT Transactions'!$B$9:$B$40,'ABT Transactions'!$G$9:$G$40,$C$29,'ABT Transactions'!$F$9:$F$40,L30,'ABT Transactions'!$C$9:$C$40,M31,'ABT Transactions'!$D$9:$D$40,$B$34)","v":0},{"$f":"SUMIFS('ABT Transactions'!$B$9:$B$40,'ABT Transactions'!$G$9:$G$40,$C$29,'ABT Transactions'!$F$9:$F$40,L30,'ABT Transactions'!$C$9:$C$40,N31,'ABT Transactions'!$D$9:$D$40,$B$34)","v":0},{"$f":"SUMIFS('ABT Transactions'!$B$9:$B$40,'ABT Transactions'!$G$9:$G$40,$C$29,'ABT Transactions'!$F$9:$F$40,O30,'ABT Transactions'!$C$9:$C$40,O31,'ABT Transactions'!$D$9:$D$40,$B$34)","v":0},{"$f":"SUMIFS('ABT Transactions'!$B$9:$B$40,'ABT Transactions'!$G$9:$G$40,$C$29,'ABT Transactions'!$F$9:$F$40,O30,'ABT Transactions'!$C$9:$C$40,P31,'ABT Transactions'!$D$9:$D$40,$B$34)","v":0},{"$f":"SUMIFS('ABT Transactions'!$B$9:$B$40,'ABT Transactions'!$G$9:$G$40,$C$29,'ABT Transactions'!$F$9:$F$40,O30,'ABT Transactions'!$C$9:$C$40,Q31,'ABT Transactions'!$D$9:$D$40,$B$34)","v":0},{"$f":"SUMIFS('ABT Transactions'!$B$9:$B$40,'ABT Transactions'!$G$9:$G$40,$C$29,'ABT Transactions'!$F$9:$F$40,R30,'ABT Transactions'!$C$9:$C$40,R31,'ABT Transactions'!$D$9:$D$40,$B$34)","v":0},{"$f":"SUMIFS('ABT Transactions'!$B$9:$B$40,'ABT Transactions'!$G$9:$G$40,$C$29,'ABT Transactions'!$F$9:$F$40,R30,'ABT Transactions'!$C$9:$C$40,S31,'ABT Transactions'!$D$9:$D$40,$B$34)","v":0},{"$f":"SUMIFS('ABT Transactions'!$B$9:$B$40,'ABT Transactions'!$G$9:$G$40,$C$29,'ABT Transactions'!$F$9:$F$40,R30,'ABT Transactions'!$C$9:$C$40,T31,'ABT Transactions'!$D$9:$D$40,$B$34)","v":0},{"$f":"SUMIFS('ABT Transactions'!$B$9:$B$40,'ABT Transactions'!$G$9:$G$40,$C29,'ABT Transactions'!$F$9:$F$40,$U$14,'ABT Transactions'!$C$9:$C$40,U31,'ABT Transactions'!$D$9:$D$40,$B$18)","v":0},{"$f":"SUMIFS('ABT Transactions'!$B$9:$B$40,'ABT Transactions'!$G$9:$G$40,$C29,'ABT Transactions'!$F$9:$F$40,$U$14,'ABT Transactions'!$C$9:$C$40,V31,'ABT Transactions'!$D$9:$D$40,$B$18)","v":0},{"$f":"SUMIFS('ABT Transactions'!$B$9:$B$40,'ABT Transactions'!$G$9:$G$40,$C29,'ABT Transactions'!$F$9:$F$40,$U$14,'ABT Transactions'!$C$9:$C$40,W31,'ABT Transactions'!$D$9:$D$40,$B$18)","v":0},{"$f":"SUMIFS('ABT Transactions'!$B$9:$B$40,'ABT Transactions'!$G$9:$G$40,$C29,'ABT Transactions'!$F$9:$F$40,$X$14,'ABT Transactions'!$C$9:$C$40,X31,'ABT Transactions'!$D$9:$D$40,$B$18)","v":0},{"$f":"SUMIFS('ABT Transactions'!$B$9:$B$40,'ABT Transactions'!$G$9:$G$40,$C29,'ABT Transactions'!$F$9:$F$40,$X$14,'ABT Transactions'!$C$9:$C$40,Y31,'ABT Transactions'!$D$9:$D$40,$B$18)","v":0},{"$f":"SUMIFS('ABT Transactions'!$B$9:$B$40,'ABT Transactions'!$G$9:$G$40,$C29,'ABT Transactions'!$F$9:$F$40,$X$14,'ABT Transactions'!$C$9:$C$40,Z31,'ABT Transactions'!$D$9:$D$40,$B$18)","v":0},{"$f":"SUMIFS('ABT Transactions'!$B$9:$B$40,'ABT Transactions'!$G$9:$G$40,$C29,'ABT Transactions'!$F$9:$F$40,$AA$14,'ABT Transactions'!$C$9:$C$40,AA31,'ABT Transactions'!$D$9:$D$40,$B$18)","v":0},{"$f":"SUMIFS('ABT Transactions'!$B$9:$B$40,'ABT Transactions'!$G$9:$G$40,$C29,'ABT Transactions'!$F$9:$F$40,$AA$14,'ABT Transactions'!$C$9:$C$40,AB31,'ABT Transactions'!$D$9:$D$40,$B$18)","v":0},{"$f":"SUMIFS('ABT Transactions'!$B$9:$B$40,'ABT Transactions'!$G$9:$G$40,$C29,'ABT Transactions'!$F$9:$F$40,$AA$14,'ABT Transactions'!$C$9:$C$40,AC31,'ABT Transactions'!$D$9:$D$40,$B$18)","v":0},{"$f":"SUMIFS('ABT Transactions'!$B$9:$B$40,'ABT Transactions'!$G$9:$G$40,$C29,'ABT Transactions'!$F$9:$F$40,$AD$14,'ABT Transactions'!$C$9:$C$40,AD31,'ABT Transactions'!$D$9:$D$40,$B$18)","v":0},{"$f":"SUMIFS('ABT Transactions'!$B$9:$B$40,'ABT Transactions'!$G$9:$G$40,$C29,'ABT Transactions'!$F$9:$F$40,$AD$14,'ABT Transactions'!$C$9:$C$40,AE31,'ABT Transactions'!$D$9:$D$40,$B$18)","v":0},{"$f":"SUMIFS('ABT Transactions'!$B$9:$B$40,'ABT Transactions'!$G$9:$G$40,$C29,'ABT Transactions'!$F$9:$F$40,$AD$14,'ABT Transactions'!$C$9:$C$40,AF31,'ABT Transactions'!$D$9:$D$40,$B$18)","v":0},{"$f":"SUMIFS('ABT Transactions'!$B$9:$B$40,'ABT Transactions'!$G$9:$G$40,$C29,'ABT Transactions'!$F$9:$F$40,$AG$14,'ABT Transactions'!$C$9:$C$40,AG31,'ABT Transactions'!$D$9:$D$40,$B$18)","v":0},{"$f":"SUMIFS('ABT Transactions'!$B$9:$B$40,'ABT Transactions'!$G$9:$G$40,$C29,'ABT Transactions'!$F$9:$F$40,$AG$14,'ABT Transactions'!$C$9:$C$40,AH31,'ABT Transactions'!$D$9:$D$40,$B$18)","v":0},{"$f":"SUMIFS('ABT Transactions'!$B$9:$B$40,'ABT Transactions'!$G$9:$G$40,$C29,'ABT Transactions'!$F$9:$F$40,$AG$14,'ABT Transactions'!$C$9:$C$40,AI31,'ABT Transactions'!$D$9:$D$40,$B$18)","v":0},{"$f":"SUMIFS('ABT Transactions'!$B$9:$B$40,'ABT Transactions'!$G$9:$G$40,$C29,'ABT Transactions'!$F$9:$F$40,$AJ$14,'ABT Transactions'!$C$9:$C$40,AJ31,'ABT Transactions'!$D$9:$D$40,$B$18)","v":0},{"$f":"SUMIFS('ABT Transactions'!$B$9:$B$40,'ABT Transactions'!$G$9:$G$40,$C29,'ABT Transactions'!$F$9:$F$40,$AJ$14,'ABT Transactions'!$C$9:$C$40,AK31,'ABT Transactions'!$D$9:$D$40,$B$18)","v":0},{"$f":"SUMIFS('ABT Transactions'!$B$9:$B$40,'ABT Transactions'!$G$9:$G$40,$C29,'ABT Transactions'!$F$9:$F$40,$AJ$14,'ABT Transactions'!$C$9:$C$40,AL31,'ABT Transactions'!$D$9:$D$40,$B$18)","v":0},{"$f":"SUMIFS('ABT Transactions'!$B$9:$B$40,'ABT Transactions'!$G$9:$G$40,$C29,'ABT Transactions'!$F$9:$F$40,$AM$14,'ABT Transactions'!$C$9:$C$40,AM31,'ABT Transactions'!$D$9:$D$40,$B$18)","v":0},{"$f":"SUMIFS('ABT Transactions'!$B$9:$B$40,'ABT Transactions'!$G$9:$G$40,$C29,'ABT Transactions'!$F$9:$F$40,$AM$14,'ABT Transactions'!$C$9:$C$40,AN31,'ABT Transactions'!$D$9:$D$40,$B$18)","v":0},{"$f":"SUMIFS('ABT Transactions'!$B$9:$B$40,'ABT Transactions'!$G$9:$G$40,$C29,'ABT Transactions'!$F$9:$F$40,$AM$14,'ABT Transactions'!$C$9:$C$40,AO31,'ABT Transactions'!$D$9:$D$40,$B$18)","v":0},{"$f":"SUMIFS('ABT Transactions'!$B$9:$B$40,'ABT Transactions'!$G$9:$G$40,$C29,'ABT Transactions'!$F$9:$F$40,$AP$14,'ABT Transactions'!$C$9:$C$40,AP31,'ABT Transactions'!$D$9:$D$40,$B$18)","v":0},{"$f":"SUMIFS('ABT Transactions'!$B$9:$B$40,'ABT Transactions'!$G$9:$G$40,$C29,'ABT Transactions'!$F$9:$F$40,$AP$14,'ABT Transactions'!$C$9:$C$40,AQ31,'ABT Transactions'!$D$9:$D$40,$B$18)","v":0},{"$f":"SUMIFS('ABT Transactions'!$B$9:$B$40,'ABT Transactions'!$G$9:$G$40,$C29,'ABT Transactions'!$F$9:$F$40,$AP$14,'ABT Transactions'!$C$9:$C$40,AR31,'ABT Transactions'!$D$9:$D$40,$B$18)","v":0},{"$f":"SUMIFS('ABT Transactions'!$B$9:$B$40,'ABT Transactions'!$G$9:$G$40,$C$29,'ABT Transactions'!$F$9:$F$40,AS30,'ABT Transactions'!$C$9:$C$40,AS31,'ABT Transactions'!$D$9:$D$40,$B$34)","v":0},{"$f":"SUMIFS('ABT Transactions'!$B$9:$B$40,'ABT Transactions'!$G$9:$G$40,$C$29,'ABT Transactions'!$F$9:$F$40,AS30,'ABT Transactions'!$C$9:$C$40,AT31,'ABT Transactions'!$D$9:$D$40,$B$34)","v":0},{"$f":"SUMIFS('ABT Transactions'!$B$9:$B$40,'ABT Transactions'!$G$9:$G$40,$C$29,'ABT Transactions'!$F$9:$F$40,AS30,'ABT Transactions'!$C$9:$C$40,AU31,'ABT Transactions'!$D$9:$D$40,$B$34)","v":0}]
[null,"Applied Banked Credits (in)",{"$f":"SUMIFS('ABT Transactions'!$B$9:$B$40,'ABT Transactions'!$J$9:$J$40,$C$29,'ABT Transactions'!$I$9:$I$40,$C$30,'ABT Transactions'!$C$9:$C$40,C31,'ABT Transactions'!$D$9:$D$40,$B$35)","v":0},{"$f":"SUMIFS('ABT Transactions'!$B$9:$B$40,'ABT Transactions'!$J$9:$J$40,$C$29,'ABT Transactions'!$I$9:$I$40,$C$30,'ABT Transactions'!$C$9:$C$40,D31,'ABT Transactions'!$D$9:$D$40,$B$35)","v":0},{"$f":"SUMIFS('ABT Transactions'!$B$9:$B$40,'ABT Transactions'!$J$9:$J$40,$C$29,'ABT Transactions'!$I$9:$I$40,$C$30,'ABT Transactions'!$C$9:$C$40,E31,'ABT Transactions'!$D$9:$D$40,$B$35)","v":0},{"$f":"SUMIFS('ABT Transactions'!$B$9:$B$40,'ABT Transactions'!$J$9:$J$40,$C$29,'ABT Transactions'!$I$9:$I$40,$F$30,'ABT Transactions'!$C$9:$C$40,F31,'ABT Transactions'!$D$9:$D$40,$B$35)","v":0},{"$f":"SUMIFS('ABT Transactions'!$B$9:$B$40,'ABT Transactions'!$J$9:$J$40,$C$29,'ABT Transactions'!$I$9:$I$40,$F$30,'ABT Transactions'!$C$9:$C$40,G31,'ABT Transactions'!$D$9:$D$40,$B$35)","v":0},{"$f":"SUMIFS('ABT Transactions'!$B$9:$B$40,'ABT Transactions'!$J$9:$J$40,$C$29,'ABT Transactions'!$I$9:$I$40,$F$30,'ABT Transactions'!$C$9:$C$40,H31,'ABT Transactions'!$D$9:$D$40,$B$35)","v":0},{"$f":"SUMIFS('ABT Transactions'!$B$9:$B$40,'ABT Transactions'!$J$9:$J$40,$C$29,'ABT Transactions'!$I$9:$I$40,$I$30,'ABT Transactions'!$C$9:$C$40,I31,'ABT Transactions'!$D$9:$D$40,$B$35)","v":0},{"$f":"SUMIFS('ABT Transactions'!$B$9:$B$40,'ABT Transactions'!$J$9:$J$40,$C$29,'ABT Transactions'!$I$9:$I$40,$I$30,'ABT Transactions'!$C$9:$C$40,J31,'ABT Transactions'!$D$9:$D$40,$B$35)","v":0},{"$f":"SUMIFS('ABT Transactions'!$B$9:$B$40,'ABT Transactions'!$J$9:$J$40,$C$29,'ABT Transactions'!$I$9:$I$40,$I$30,'ABT Transactions'!$C$9:$C$40,K31,'ABT Transactions'!$D$9:$D$40,$B$35)","v":0},{"$f":"SUMIFS('ABT Transactions'!$B$9:$B$40,'ABT Transactions'!$J$9:$J$40,$C$29,'ABT Transactions'!$I$9:$I$40,$L$30,'ABT Transactions'!$C$9:$C$40,L31,'ABT Transactions'!$D$9:$D$40,$B$35)","v":0},{"$f":"SUMIFS('ABT Transactions'!$B$9:$B$40,'ABT Transactions'!$J$9:$J$40,$C$29,'ABT Transactions'!$I$9:$I$40,$L$30,'ABT Transactions'!$C$9:$C$40,M31,'ABT Transactions'!$D$9:$D$40,$B$35)","v":0},{"$f":"SUMIFS('ABT Transactions'!$B$9:$B$40,'ABT Transactions'!$J$9:$J$40,$C$29,'ABT Transactions'!$I$9:$I$40,$L$30,'ABT Transactions'!$C$9:$C$40,N31,'ABT Transactions'!$D$9:$D$40,$B$35)","v":0},{"$f":"SUMIFS('ABT Transactions'!$B$9:$B$40,'ABT Transactions'!$J$9:$J$40,$C$29,'ABT Transactions'!$I$9:$I$40,$O$30,'ABT Transactions'!$C$9:$C$40,O31,'ABT Transactions'!$D$9:$D$40,$B$35)","v":0},{"$f":"SUMIFS('ABT Transactions'!$B$9:$B$40,'ABT Transactions'!$J$9:$J$40,$C$29,'ABT Transactions'!$I$9:$I$40,$O$30,'ABT Transactions'!$C$9:$C$40,P31,'ABT Transactions'!$D$9:$D$40,$B$35)","v":0},{"$f":"SUMIFS('ABT Transactions'!$B$9:$B$40,'ABT Transactions'!$J$9:$J$40,$C$29,'ABT Transactions'!$I$9:$I$40,$O$30,'ABT Transactions'!$C$9:$C$40,Q31,'ABT Transactions'!$D$9:$D$40,$B$35)","v":0},{"$f":"SUMIFS('ABT Transactions'!$B$9:$B$40,'ABT Transactions'!$J$9:$J$40,$C$29,'ABT Transactions'!$I$9:$I$40,$R$30,'ABT Transactions'!$C$9:$C$40,R31,'ABT Transactions'!$D$9:$D$40,$B$35)","v":0},{"$f":"SUMIFS('ABT Transactions'!$B$9:$B$40,'ABT Transactions'!$J$9:$J$40,$C$29,'ABT Transactions'!$I$9:$I$40,$R$30,'ABT Transactions'!$C$9:$C$40,S31,'ABT Transactions'!$D$9:$D$40,$B$35)","v":0},{"$f":"SUMIFS('ABT Transactions'!$B$9:$B$40,'ABT Transactions'!$J$9:$J$40,$C$29,'ABT Transactions'!$I$9:$I$40,$R$30,'ABT Transactions'!$C$9:$C$40,T31,'ABT Transactions'!$D$9:$D$40,$B$35)","v":0},{"$f":"SUMIFS('ABT Transactions'!$B$9:$B$40,'ABT Transactions'!$J$9:$J$40,$C29,'ABT Transactions'!$I$9:$I$40,$U$14,'ABT Transactions'!$C$9:$C$40,U31,'ABT Transactions'!$D$9:$D$40,$B$19)","v":0},{"$f":"SUMIFS('ABT Transactions'!$B$9:$B$40,'ABT Transactions'!$J$9:$J$40,$C29,'ABT Transactions'!$I$9:$I$40,$U$14,'ABT Transactions'!$C$9:$C$40,V31,'ABT Transactions'!$D$9:$D$40,$B$19)","v":0},{"$f":"SUMIFS('ABT Transactions'!$B$9:$B$40,'ABT Transactions'!$J$9:$J$40,$C29,'ABT Transactions'!$I$9:$I$40,$U$14,'ABT Transactions'!$C$9:$C$40,W31,'ABT Transactions'!$D$9:$D$40,$B$19)","v":0},{"$f":"SUMIFS('ABT Transactions'!$B$9:$B$40,'ABT Transactions'!$J$9:$J$40,$C29,'ABT Transactions'!$I$9:$I$40,$X$14,'ABT Transactions'!$C$9:$C$40,X31,'ABT Transactions'!$D$9:$D$40,$B$19)","v":0},{"$f":"SUMIFS('ABT Transactions'!$B$9:$B$40,'ABT Transactions'!$J$9:$J$40,$C29,'ABT Transactions'!$I$9:$I$40,$X$14,'ABT Transactions'!$C$9:$C$40,Y31,'ABT Transactions'!$D$9:$D$40,$B$19)","v":0},{"$f":"SUMIFS('ABT Transactions'!$B$9:$B$40,'ABT Transactions'!$J$9:$J$40,$C29,'ABT Transactions'!$I$9:$I$40,$X$14,'ABT Transactions'!$C$9:$C$40,Z31,'ABT Transactions'!$D$9:$D$40,$B$19)","v":0},{"$f":"SUMIFS('ABT Transactions'!$B$9:$B$40,'ABT Transactions'!$J$9:$J$40,$C29,'ABT Transactions'!$I$9:$I$40,$AA$14,'ABT Transactions'!$C$9:$C$40,AA31,'ABT Transactions'!$D$9:$D$40,$B$19)","v":0},{"$f":"SUMIFS('ABT Transactions'!$B$9:$B$40,'ABT Transactions'!$J$9:$J$40,$C29,'ABT Transactions'!$I$9:$I$40,$AA$14,'ABT Transactions'!$C$9:$C$40,AB31,'ABT Transactions'!$D$9:$D$40,$B$19)","v":0},{"$f":"SUMIFS('ABT Transactions'!$B$9:$B$40,'ABT Transactions'!$J$9:$J$40,$C29,'ABT Transactions'!$I$9:$I$40,$AA$14,'ABT Transactions'!$C$9:$C$40,AC31,'ABT Transactions'!$D$9:$D$40,$B$19)","v":0},{"$f":"SUMIFS('ABT Transactions'!$B$9:$B$40,'ABT Transactions'!$J$9:$J$40,$C29,'ABT Transactions'!$I$9:$I$40,$AD$14,'ABT Transactions'!$C$9:$C$40,AD31,'ABT Transactions'!$D$9:$D$40,$B$19)","v":0},{"$f":"SUMIFS('ABT Transactions'!$B$9:$B$40,'ABT Transactions'!$J$9:$J$40,$C29,'ABT Transactions'!$I$9:$I$40,$AD$14,'ABT Transactions'!$C$9:$C$40,AE31,'ABT Transactions'!$D$9:$D$40,$B$19)","v":0},{"$f":"SUMIFS('ABT Transactions'!$B$9:$B$40,'ABT Transactions'!$J$9:$J$40,$C29,'ABT Transactions'!$I$9:$I$40,$AD$14,'ABT Transactions'!$C$9:$C$40,AF31,'ABT Transactions'!$D$9:$D$40,$B$19)","v":0},{"$f":"SUMIFS('ABT Transactions'!$B$9:$B$40,'ABT Transactions'!$J$9:$J$40,$C29,'ABT Transactions'!$I$9:$I$40,$AG$14,'ABT Transactions'!$C$9:$C$40,AG31,'ABT Transactions'!$D$9:$D$40,$B$19)","v":0},{"$f":"SUMIFS('ABT Transactions'!$B$9:$B$40,'ABT Transactions'!$J$9:$J$40,$C29,'ABT Transactions'!$I$9:$I$40,$AG$14,'ABT Transactions'!$C$9:$C$40,AH31,'ABT Transactions'!$D$9:$D$40,$B$19)","v":0},{"$f":"SUMIFS('ABT Transactions'!$B$9:$B$40,'ABT Transactions'!$J$9:$J$40,$C29,'ABT Transactions'!$I$9:$I$40,$AG$14,'ABT Transactions'!$C$9:$C$40,AI31,'ABT Transactions'!$D$9:$D$40,$B$19)","v":0},{"$f":"SUMIFS('ABT Transactions'!$B$9:$B$40,'ABT Transactions'!$J$9:$J$40,$C29,'ABT Transactions'!$I$9:$I$40,$AJ$14,'ABT Transactions'!$C$9:$C$40,AJ31,'ABT Transactions'!$D$9:$D$40,$B$19)","v":0},{"$f":"SUMIFS('ABT Transactions'!$B$9:$B$40,'ABT Transactions'!$J$9:$J$40,$C29,'ABT Transactions'!$I$9:$I$40,$AJ$14,'ABT Transactions'!$C$9:$C$40,AK31,'ABT Transactions'!$D$9:$D$40,$B$19)","v":0},{"$f":"SUMIFS('ABT Transactions'!$B$9:$B$40,'ABT Transactions'!$J$9:$J$40,$C29,'ABT Transactions'!$I$9:$I$40,$AJ$14,'ABT Transactions'!$C$9:$C$40,AL31,'ABT Transactions'!$D$9:$D$40,$B$19)","v":0},{"$f":"SUMIFS('ABT Transactions'!$B$9:$B$40,'ABT Transactions'!$J$9:$J$40,$C29,'ABT Transactions'!$I$9:$I$40,$AM$14,'ABT Transactions'!$C$9:$C$40,AM31,'ABT Transactions'!$D$9:$D$40,$B$19)","v":0},{"$f":"SUMIFS('ABT Transactions'!$B$9:$B$40,'ABT Transactions'!$J$9:$J$40,$C29,'ABT Transactions'!$I$9:$I$40,$AM$14,'ABT Transactions'!$C$9:$C$40,AN31,'ABT Transactions'!$D$9:$D$40,$B$19)","v":0},{"$f":"SUMIFS('ABT Transactions'!$B$9:$B$40,'ABT Transactions'!$J$9:$J$40,$C29,'ABT Transactions'!$I$9:$I$40,$AM$14,'ABT Transactions'!$C$9:$C$40,AO31,'ABT Transactions'!$D$9:$D$40,$B$19)","v":0},{"$f":"SUMIFS('ABT Transactions'!$B$9:$B$40,'ABT Transactions'!$J$9:$J$40,$C29,'ABT Transactions'!$I$9:$I$40,$AP$14,'ABT Transactions'!$C$9:$C$40,AP31,'ABT Transactions'!$D$9:$D$40,$B$19)","v":0},{"$f":"SUMIFS('ABT Transactions'!$B$9:$B$40,'ABT Transactions'!$J$9:$J$40,$C29,'ABT Transactions'!$I$9:$I$40,$AP$14,'ABT Transactions'!$C$9:$C$40,AQ31,'ABT Transactions'!$D$9:$D$40,$B$19)","v":0},{"$f":"SUMIFS('ABT Transactions'!$B$9:$B$40,'ABT Transactions'!$J$9:$J$40,$C29,'ABT Transactions'!$I$9:$I$40,$AP$14,'ABT Transactions'!$C$9:$C$40,AR31,'ABT Transactions'!$D$9:$D$40,$B$19)","v":0},{"$f":"SUMIFS('ABT Transactions'!$B$9:$B$40,'ABT Transactions'!$J$9:$J$40,$C$29,'ABT Transactions'!$I$9:$I$40,$AS$30,'ABT Transactions'!$C$9:$C$40,AS31,'ABT Transactions'!$D$9:$D$40,$B$35)","v":0},{"$f":"SUMIFS('ABT Transactions'!$B$9:$B$40,'ABT Transactions'!$J$9:$J$40,$C$29,'ABT Transactions'!$I$9:$I$40,$AS$30,'ABT Transactions'!$C$9:$C$40,AT31,'ABT Transactions'!$D$9:$D$40,$B$35)","v":0},{"$f":"SUMIFS('ABT Transactions'!$B$9:$B$40,'ABT Transactions'!$J$9:$J$40,$C$29,'ABT Transactions'!$I$9:$I$40,$AS$30,'ABT Transactions'!$C$9:$C$40,AU31,'ABT Transactions'!$D$9:$D$40,$B$35)","v":0}]
[null,"Trade Out",{"$f":"SUMIFS('ABT Transactions'!$B$9:$B$40,'ABT Transactions'!$G$9:$G$40,$C$29,'ABT Transactions'!$F$9:$F$40,$C$30,'ABT Transactions'!$C$9:$C$40,C$31,'ABT Transactions'!$D$9:$D$40,$B$36)","v":0},{"$f":"SUMIFS('ABT Transactions'!$B$9:$B$40,'ABT Transactions'!$G$9:$G$40,$C$29,'ABT Transactions'!$F$9:$F$40,$C$30,'ABT Transactions'!$C$9:$C$40,D$31,'ABT Transactions'!$D$9:$D$40,$B$36)","v":0},{"$f":"SUMIFS('ABT Transactions'!$B$9:$B$40,'ABT Transactions'!$G$9:$G$40,$C$29,'ABT Transactions'!$F$9:$F$40,$C$30,'ABT Transactions'!$C$9:$C$40,E$31,'ABT Transactions'!$D$9:$D$40,$B$36)","v":0},{"$f":"SUMIFS('ABT Transactions'!$B$9:$B$40,'ABT Transactions'!$G$9:$G$40,$C$29,'ABT Transactions'!$F$9:$F$40,$F$30,'ABT Transactions'!$C$9:$C$40,F$31,'ABT Transactions'!$D$9:$D$40,$B$36)","v":0},{"$f":"SUMIFS('ABT Transactions'!$B$9:$B$40,'ABT Transactions'!$G$9:$G$40,$C$29,'ABT Transactions'!$F$9:$F$40,$F$30,'ABT Transactions'!$C$9:$C$40,G$31,'ABT Transactions'!$D$9:$D$40,$B$36)","v":0},{"$f":"SUMIFS('ABT Transactions'!$B$9:$B$40,'ABT Transactions'!$G$9:$G$40,$C$29,'ABT Transactions'!$F$9:$F$40,$F$30,'ABT Transactions'!$C$9:$C$40,H$31,'ABT Transactions'!$D$9:$D$40,$B$36)","v":0},{"$f":"SUMIFS('ABT Transactions'!$B$9:$B$40,'ABT Transactions'!$G$9:$G$40,$C$29,'ABT Transactions'!$F$9:$F$40,$I$30,'ABT Transactions'!$C$9:$C$40,I$31,'ABT Transactions'!$D$9:$D$40,$B$36)","v":0},{"$f":"SUMIFS('ABT Transactions'!$B$9:$B$40,'ABT Transactions'!$G$9:$G$40,$C$29,'ABT Transactions'!$F$9:$F$40,$I$30,'ABT Transactions'!$C$9:$C$40,J$31,'ABT Transactions'!$D$9:$D$40,$B$36)","v":0},{"$f":"SUMIFS('ABT Transactions'!$B$9:$B$40,'ABT Transactions'!$G$9:$G$40,$C$29,'ABT Transactions'!$F$9:$F$40,$I$30,'ABT Transactions'!$C$9:$C$40,K$31,'ABT Transactions'!$D$9:$D$40,$B$36)","v":0},{"$f":"SUMIFS('ABT Transactions'!$B$9:$B$40,'ABT Transactions'!$G$9:$G$40,$C$29,'ABT Transactions'!$F$9:$F$40,$L$30,'ABT Transactions'!$C$9:$C$40,L$31,'ABT Transactions'!$D$9:$D$40,$B$36)","v":0},{"$f":"SUMIFS('ABT Transactions'!$B$9:$B$40,'ABT Transactions'!$G$9:$G$40,$C$29,'ABT Transactions'!$F$9:$F$40,$L$30,'ABT Transactions'!$C$9:$C$40,M$31,'ABT Transactions'!$D$9:$D$40,$B$36)","v":0},{"$f":"SUMIFS('ABT Transactions'!$B$9:$B$40,'ABT Transactions'!$G$9:$G$40,$C$29,'ABT Transactions'!$F$9:$F$40,$L$30,'ABT Transactions'!$C$9:$C$40,N$31,'ABT Transactions'!$D$9:$D$40,$B$36)","v":0},{"$f":"SUMIFS('ABT Transactions'!$B$9:$B$40,'ABT Transactions'!$G$9:$G$40,$C$29,'ABT Transactions'!$F$9:$F$40,$O$30,'ABT Transactions'!$C$9:$C$40,O$31,'ABT Transactions'!$D$9:$D$40,$B$36)","v":0},{"$f":"SUMIFS('ABT Transactions'!$B$9:$B$40,'ABT Transactions'!$G$9:$G$40,$C$29,'ABT Transactions'!$F$9:$F$40,$O$30,'ABT Transactions'!$C$9:$C$40,P$31,'ABT Transactions'!$D$9:$D$40,$B$36)","v":0},{"$f":"SUMIFS('ABT Transactions'!$B$9:$B$40,'ABT Transactions'!$G$9:$G$40,$C$29,'ABT Transactions'!$F$9:$F$40,$O$30,'ABT Transactions'!$C$9:$C$40,Q$31,'ABT Transactions'!$D$9:$D$40,$B$36)","v":0},{"$f":"SUMIFS('ABT Transactions'!$B$9:$B$40,'ABT Transactions'!$G$9:$G$40,$C$29,'ABT Transactions'!$F$9:$F$40,$R$30,'ABT Transactions'!$C$9:$C$40,R$31,'ABT Transactions'!$D$9:$D$40,$B$36)","v":0},{"$f":"SUMIFS('ABT Transactions'!$B$9:$B$40,'ABT Transactions'!$G$9:$G$40,$C$29,'ABT Transactions'!$F$9:$F$40,$R$30,'ABT Transactions'!$C$9:$C$40,S$31,'ABT Transactions'!$D$9:$D$40,$B$36)","v":0},{"$f":"SUMIFS('ABT Transactions'!$B$9:$B$40,'ABT Transactions'!$G$9:$G$40,$C$29,'ABT Transactions'!$F$9:$F$40,$R$30,'ABT Transactions'!$C$9:$C$40,T$31,'ABT Transactions'!$D$9:$D$40,$B$36)","v":0},{"$f":"SUMIFS('ABT Transactions'!$B$9:$B$40,'ABT Transactions'!$G$9:$G$40,$C29,'ABT Transactions'!$F$9:$F$40,$U$14,'ABT Transactions'!$C$9:$C$40,U31,'ABT Transactions'!$D$9:$D$40,$B$20)","v":0},{"$f":"SUMIFS('ABT Transactions'!$B$9:$B$40,'ABT Transactions'!$G$9:$G$40,$C29,'ABT Transactions'!$F$9:$F$40,$U$14,'ABT Transactions'!$C$9:$C$40,V31,'ABT Transactions'!$D$9:$D$40,$B$20)","v":0},{"$f":"SUMIFS('ABT Transactions'!$B$9:$B$40,'ABT Transactions'!$G$9:$G$40,$C29,'ABT Transactions'!$F$9:$F$40,$U$14,'ABT Transactions'!$C$9:$C$40,W31,'ABT Transactions'!$D$9:$D$40,$B$20)","v":0},{"$f":"SUMIFS('ABT Transactions'!$B$9:$B$40,'ABT Transactions'!$G$9:$G$40,$C29,'ABT Transactions'!$F$9:$F$40,$X$14,'ABT Transactions'!$C$9:$C$40,X31,'ABT Transactions'!$D$9:$D$40,$B$20)","v":0},{"$f":"SUMIFS('ABT Transactions'!$B$9:$B$40,'ABT Transactions'!$G$9:$G$40,$C29,'ABT Transactions'!$F$9:$F$40,$X$14,'ABT Transactions'!$C$9:$C$40,Y31,'ABT Transactions'!$D$9:$D$40,$B$20)","v":0},{"$f":"SUMIFS('ABT Transactions'!$B$9:$B$40,'ABT Transactions'!$G$9:$G$40,$C29,'ABT Transactions'!$F$9:$F$40,$X$14,'ABT Transactions'!$C$9:$C$40,Z31,'ABT Transactions'!$D$9:$D$40,$B$20)","v":0},{"$f":"SUMIFS('ABT Transactions'!$B$9:$B$40,'ABT Transactions'!$G$9:$G$40,$C29,'ABT Transactions'!$F$9:$F$40,$AA$14,'ABT Transactions'!$C$9:$C$40,AA31,'ABT Transactions'!$D$9:$D$40,$B$20)","v":0},{"$f":"SUMIFS('ABT Transactions'!$B$9:$B$40,'ABT Transactions'!$G$9:$G$40,$C29,'ABT Transactions'!$F$9:$F$40,$AA$14,'ABT Transactions'!$C$9:$C$40,AB31,'ABT Transactions'!$D$9:$D$40,$B$20)","v":0},{"$f":"SUMIFS('ABT Transactions'!$B$9:$B$40,'ABT Transactions'!$G$9:$G$40,$C29,'ABT Transactions'!$F$9:$F$40,$AA$14,'ABT Transactions'!$C$9:$C$40,AC31,'ABT Transactions'!$D$9:$D$40,$B$20)","v":0},{"$f":"SUMIFS('ABT Transactions'!$B$9:$B$40,'ABT Transactions'!$G$9:$G$40,$C29,'ABT Transactions'!$F$9:$F$40,$AD$14,'ABT Transactions'!$C$9:$C$40,AD31,'ABT Transactions'!$D$9:$D$40,$B$20)","v":0},{"$f":"SUMIFS('ABT Transactions'!$B$9:$B$40,'ABT Transactions'!$G$9:$G$40,$C29,'ABT Transactions'!$F$9:$F$40,$AD$14,'ABT Transactions'!$C$9:$C$40,AE31,'ABT Transactions'!$D$9:$D$40,$B$20)","v":0},{"$f":"SUMIFS('ABT Transactions'!$B$9:$B$40,'ABT Transactions'!$G$9:$G$40,$C29,'ABT Transactions'!$F$9:$F$40,$AD$14,'ABT Transactions'!$C$9:$C$40,AF31,'ABT Transactions'!$D$9:$D$40,$B$20)","v":0},{"$f":"SUMIFS('ABT Transactions'!$B$9:$B$40,'ABT Transactions'!$G$9:$G$40,$C29,'ABT Transactions'!$F$9:$F$40,$AG$14,'ABT Transactions'!$C$9:$C$40,AG31,'ABT Transactions'!$D$9:$D$40,$B$20)","v":0},{"$f":"SUMIFS('ABT Transactions'!$B$9:$B$40,'ABT Transactions'!$G$9:$G$40,$C29,'ABT Transactions'!$F$9:$F$40,$AG$14,'ABT Transactions'!$C$9:$C$40,AH31,'ABT Transactions'!$D$9:$D$40,$B$20)","v":0},{"$f":"SUMIFS('ABT Transactions'!$B$9:$B$40,'ABT Transactions'!$G$9:$G$40,$C29,'ABT Transactions'!$F$9:$F$40,$AG$14,'ABT Transactions'!$C$9:$C$40,AI31,'ABT Transactions'!$D$9:$D$40,$B$20)","v":0},{"$f":"SUMIFS('ABT Transactions'!$B$9:$B$40,'ABT Transactions'!$G$9:$G$40,$C29,'ABT Transactions'!$F$9:$F$40,$AJ$14,'ABT Transactions'!$C$9:$C$40,AJ31,'ABT Transactions'!$D$9:$D$40,$B$20)","v":0},{"$f":"SUMIFS('ABT Transactions'!$B$9:$B$40,'ABT Transactions'!$G$9:$G$40,$C29,'ABT Transactions'!$F$9:$F$40,$AJ$14,'ABT Transactions'!$C$9:$C$40,AK31,'ABT Transactions'!$D$9:$D$40,$B$20)","v":0},{"$f":"SUMIFS('ABT Transactions'!$B$9:$B$40,'ABT Transactions'!$G$9:$G$40,$C29,'ABT Transactions'!$F$9:$F$40,$AJ$14,'ABT Transactions'!$C$9:$C$40,AL31,'ABT Transactions'!$D$9:$D$40,$B$20)","v":0},{"$f":"SUMIFS('ABT Transactions'!$B$9:$B$40,'ABT Transactions'!$G$9:$G$40,$C29,'ABT Transactions'!$F$9:$F$40,$AM$14,'ABT Transactions'!$C$9:$C$40,AM31,'ABT Transactions'!$D$9:$D$40,$B$20)","v":0},{"$f":"SUMIFS('ABT Transactions'!$B$9:$B$40,'ABT Transactions'!$G$9:$G$40,$C29,'ABT Transactions'!$F$9:$F$40,$AM$14,'ABT Transactions'!$C$9:$C$40,AN31,'ABT Transactions'!$D$9:$D$40,$B$20)","v":0},{"$f":"SUMIFS('ABT Transactions'!$B$9:$B$40,'ABT Transactions'!$G$9:$G$40,$C29,'ABT Transactions'!$F$9:$F$40,$AM$14,'ABT Transactions'!$C$9:$C$40,AO31,'ABT Transactions'!$D$9:$D$40,$B$20)","v":0},{"$f":"SUMIFS('ABT Transactions'!$B$9:$B$40,'ABT Transactions'!$G$9:$G$40,$C29,'ABT Transactions'!$F$9:$F$40,$AP$14,'ABT Transactions'!$C$9:$C$40,AP31,'ABT Transactions'!$D$9:$D$40,$B$20)","v":0},{"$f":"SUMIFS('ABT Transactions'!$B$9:$B$40,'ABT Transactions'!$G$9:$G$40,$C29,'ABT Transactions'!$F$9:$F$40,$AP$14,'ABT Transactions'!$C$9:$C$40,AQ31,'ABT Transactions'!$D$9:$D$40,$B$20)","v":0},{"$f":"SUMIFS('ABT Transactions'!$B$9:$B$40,'ABT Transactions'!$G$9:$G$40,$C29,'ABT Transactions'!$F$9:$F$40,$AP$14,'ABT Transactions'!$C$9:$C$40,AR31,'ABT Transactions'!$D$9:$D$40,$B$20)","v":0},{"$f":"SUMIFS('ABT Transactions'!$B$9:$B$40,'ABT Transactions'!$G$9:$G$40,$C$29,'ABT Transactions'!$F$9:$F$40,$AS$30,'ABT Transactions'!$C$9:$C$40,AS$31,'ABT Transactions'!$D$9:$D$40,$B$36)","v":0},{"$f":"SUMIFS('ABT Transactions'!$B$9:$B$40,'ABT Transactions'!$G$9:$G$40,$C$29,'ABT Transactions'!$F$9:$F$40,$AS$30,'ABT Transactions'!$C$9:$C$40,AT$31,'ABT Transactions'!$D$9:$D$40,$B$36)","v":0},{"$f":"SUMIFS('ABT Transactions'!$B$9:$B$40,'ABT Transactions'!$G$9:$G$40,$C$29,'ABT Transactions'!$F$9:$F$40,$AS$30,'ABT Transactions'!$C$9:$C$40,AU$31,'ABT Transactions'!$D$9:$D$40,$B$36)","v":0}]
[null,"Trade In",{"$f":"SUMIFS('ABT Transactions'!$B$9:$B$40,'ABT Transactions'!$J$9:$J$40,$C$29,'ABT Transactions'!$I$9:$I$40,$C$30,'ABT Transactions'!$C$9:$C$40,C31,'ABT Transactions'!$D$9:$D$40,$B$37)","v":0},{"$f":"SUMIFS('ABT Transactions'!$B$9:$B$40,'ABT Transactions'!$J$9:$J$40,$C$29,'ABT Transactions'!$I$9:$I$40,$C$30,'ABT Transactions'!$C$9:$C$40,D31,'ABT Transactions'!$D$9:$D$40,$B$37)","v":0},{"$f":"SUMIFS('ABT Transactions'!$B$9:$B$40,'ABT Transactions'!$J$9:$J$40,$C$29,'ABT Transactions'!$I$9:$I$40,$C$30,'ABT Transactions'!$C$9:$C$40,E31,'ABT Transactions'!$D$9:$D$40,$B$37)","v":0},{"$f":"SUMIFS('ABT Transactions'!$B$9:$B$40,'ABT Transactions'!$J$9:$J$40,$C$29,'ABT Transactions'!$I$9:$I$40,$F$30,'ABT Transactions'!$C$9:$C$40,F31,'ABT Transactions'!$D$9:$D$40,$B$37)","v":0},{"$f":"SUMIFS('ABT Transactions'!$B$9:$B$40,'ABT Transactions'!$J$9:$J$40,$C$29,'ABT Transactions'!$I$9:$I$40,$F$30,'ABT Transactions'!$C$9:$C$40,G31,'ABT Transactions'!$D$9:$D$40,$B$37)","v":0},{"$f":"SUMIFS('ABT Transactions'!$B$9:$B$40,'ABT Transactions'!$J$9:$J$40,$C$29,'ABT Transactions'!$I$9:$I$40,$F$30,'ABT Transactions'!$C$9:$C$40,H31,'ABT Transactions'!$D$9:$D$40,$B$37)","v":0},{"$f":"SUMIFS('ABT Transactions'!$B$9:$B$40,'ABT Transactions'!$J$9:$J$40,$C$29,'ABT Transactions'!$I$9:$I$40,$I$30,'ABT Transactions'!$C$9:$C$40,I31,'ABT Transactions'!$D$9:$D$40,$B$37)","v":0},{"$f":"SUMIFS('ABT Transactions'!$B$9:$B$40,'ABT Transactions'!$J$9:$J$40,$C$29,'ABT Transactions'!$I$9:$I$40,$I$30,'ABT Transactions'!$C$9:$C$40,J31,'ABT Transactions'!$D$9:$D$40,$B$37)","v":0},{"$f":"SUMIFS('ABT Transactions'!$B$9:$B$40,'ABT Transactions'!$J$9:$J$40,$C$29,'ABT Transactions'!$I$9:$I$40,$I$30,'ABT Transactions'!$C$9:$C$40,K31,'ABT Transactions'!$D$9:$D$40,$B$37)","v":0},{"$f":"SUMIFS('ABT Transactions'!$B$9:$B$40,'ABT Transactions'!$J$9:$J$40,$C$29,'ABT Transactions'!$I$9:$I$40,$L$30,'ABT Transactions'!$C$9:$C$40,L31,'ABT Transactions'!$D$9:$D$40,$B$37)","v":0},{"$f":"SUMIFS('ABT Transactions'!$B$9:$B$40,'ABT Transactions'!$J$9:$J$40,$C$29,'ABT Transactions'!$I$9:$I$40,$L$30,'ABT Transactions'!$C$9:$C$40,M31,'ABT Transactions'!$D$9:$D$40,$B$37)","v":0},{"$f":"SUMIFS('ABT Transactions'!$B$9:$B$40,'ABT Transactions'!$J$9:$J$40,$C$29,'ABT Transactions'!$I$9:$I$40,$L$30,'ABT Transactions'!$C$9:$C$40,N31,'ABT Transactions'!$D$9:$D$40,$B$37)","v":0},{"$f":"SUMIFS('ABT Transactions'!$B$9:$B$40,'ABT Transactions'!$J$9:$J$40,$C$29,'ABT Transactions'!$I$9:$I$40,$O$30,'ABT Transactions'!$C$9:$C$40,O31,'ABT Transactions'!$D$9:$D$40,$B$37)","v":0},{"$f":"SUMIFS('ABT Transactions'!$B$9:$B$40,'ABT Transactions'!$J$9:$J$40,$C$29,'ABT Transactions'!$I$9:$I$40,$O$30,'ABT Transactions'!$C$9:$C$40,P31,'ABT Transactions'!$D$9:$D$40,$B$37)","v":0},{"$f":"SUMIFS('ABT Transactions'!$B$9:$B$40,'ABT Transactions'!$J$9:$J$40,$C$29,'ABT Transactions'!$I$9:$I$40,$O$30,'ABT Transactions'!$C$9:$C$40,Q31,'ABT Transactions'!$D$9:$D$40,$B$37)","v":0},{"$f":"SUMIFS('ABT Transactions'!$B$9:$B$40,'ABT Transactions'!$J$9:$J$40,$C$29,'ABT Transactions'!$I$9:$I$40,$R$30,'ABT Transactions'!$C$9:$C$40,R31,'ABT Transactions'!$D$9:$D$40,$B$37)","v":0},{"$f":"SUMIFS('ABT Transactions'!$B$9:$B$40,'ABT Transactions'!$J$9:$J$40,$C$29,'ABT Transactions'!$I$9:$I$40,$R$30,'ABT Transactions'!$C$9:$C$40,S31,'ABT Transactions'!$D$9:$D$40,$B$37)","v":0},{"$f":"SUMIFS('ABT Transactions'!$B$9:$B$40,'ABT Transactions'!$J$9:$J$40,$C$29,'ABT Transactions'!$I$9:$I$40,$R$30,'ABT Transactions'!$C$9:$C$40,T31,'ABT Transactions'!$D$9:$D$40,$B$37)","v":0},{"$f":"SUMIFS('ABT Transactions'!$B$9:$B$40,'ABT Transactions'!$J$9:$J$40,$C29,'ABT Transactions'!$I$9:$I$40,$U$14,'ABT Transactions'!$C$9:$C$40,U31,'ABT Transactions'!$D$9:$D$40,$B$21)","v":0},{"$f":"SUMIFS('ABT Transactions'!$B$9:$B$40,'ABT Transactions'!$J$9:$J$40,$C29,'ABT Transactions'!$I$9:$I$40,$U$14,'ABT Transactions'!$C$9:$C$40,V31,'ABT Transactions'!$D$9:$D$40,$B$21)","v":0},{"$f":"SUMIFS('ABT Transactions'!$B$9:$B$40,'ABT Transactions'!$J$9:$J$40,$C29,'ABT Transactions'!$I$9:$I$40,$U$14,'ABT Transactions'!$C$9:$C$40,W31,'ABT Transactions'!$D$9:$D$40,$B$21)","v":0},{"$f":"SUMIFS('ABT Transactions'!$B$9:$B$40,'ABT Transactions'!$J$9:$J$40,$C29,'ABT Transactions'!$I$9:$I$40,$X$14,'ABT Transactions'!$C$9:$C$40,X31,'ABT Transactions'!$D$9:$D$40,$B$21)","v":0},{"$f":"SUMIFS('ABT Transactions'!$B$9:$B$40,'ABT Transactions'!$J$9:$J$40,$C29,'ABT Transactions'!$I$9:$I$40,$X$14,'ABT Transactions'!$C$9:$C$40,Y31,'ABT Transactions'!$D$9:$D$40,$B$21)","v":0},{"$f":"SUMIFS('ABT Transactions'!$B$9:$B$40,'ABT Transactions'!$J$9:$J$40,$C29,'ABT Transactions'!$I$9:$I$40,$X$14,'ABT Transactions'!$C$9:$C$40,Z31,'ABT Transactions'!$D$9:$D$40,$B$21)","v":0},{"$f":"SUMIFS('ABT Transactions'!$B$9:$B$40,'ABT Transactions'!$J$9:$J$40,$C29,'ABT Transactions'!$I$9:$I$40,$AA$14,'ABT Transactions'!$C$9:$C$40,AA31,'ABT Transactions'!$D$9:$D$40,$B$21)","v":0},{"$f":"SUMIFS('ABT Transactions'!$B$9:$B$40,'ABT Transactions'!$J$9:$J$40,$C29,'ABT Transactions'!$I$9:$I$40,$AA$14,'ABT Transactions'!$C$9:$C$40,AB31,'ABT Transactions'!$D$9:$D$40,$B$21)","v":0},{"$f":"SUMIFS('ABT Transactions'!$B$9:$B$40,'ABT Transactions'!$J$9:$J$40,$C29,'ABT Transactions'!$I$9:$I$40,$AA$14,'ABT Transactions'!$C$9:$C$40,AC31,'ABT Transactions'!$D$9:$D$40,$B$21)","v":0},{"$f":"SUMIFS('ABT Transactions'!$B$9:$B$40,'ABT Transactions'!$J$9:$J$40,$C29,'ABT Transactions'!$I$9:$I$40,$AD$14,'ABT Transactions'!$C$9:$C$40,AD31,'ABT Transactions'!$D$9:$D$40,$B$21)","v":0},{"$f":"SUMIFS('ABT Transactions'!$B$9:$B$40,'ABT Transactions'!$J$9:$J$40,$C29,'ABT Transactions'!$I$9:$I$40,$AD$14,'ABT Transactions'!$C$9:$C$40,AE31,'ABT Transactions'!$D$9:$D$40,$B$21)","v":0},{"$f":"SUMIFS('ABT Transactions'!$B$9:$B$40,'ABT Transactions'!$J$9:$J$40,$C29,'ABT Transactions'!$I$9:$I$40,$AD$14,'ABT Transactions'!$C$9:$C$40,AF31,'ABT Transactions'!$D$9:$D$40,$B$21)","v":0},{"$f":"SUMIFS('ABT Transactions'!$B$9:$B$40,'ABT Transactions'!$J$9:$J$40,$C29,'ABT Transactions'!$I$9:$I$40,$AG$14,'ABT Transactions'!$C$9:$C$40,AG31,'ABT Transactions'!$D$9:$D$40,$B$21)","v":0},{"$f":"SUMIFS('ABT Transactions'!$B$9:$B$40,'ABT Transactions'!$J$9:$J$40,$C29,'ABT Transactions'!$I$9:$I$40,$AG$14,'ABT Transactions'!$C$9:$C$40,AH31,'ABT Transactions'!$D$9:$D$40,$B$21)","v":0},{"$f":"SUMIFS('ABT Transactions'!$B$9:$B$40,'ABT Transactions'!$J$9:$J$40,$C29,'ABT Transactions'!$I$9:$I$40,$AG$14,'ABT Transactions'!$C$9:$C$40,AI31,'ABT Transactions'!$D$9:$D$40,$B$21)","v":0},{"$f":"SUMIFS('ABT Transactions'!$B$9:$B$40,'ABT Transactions'!$J$9:$J$40,$C29,'ABT Transactions'!$I$9:$I$40,$AJ$14,'ABT Transactions'!$C$9:$C$40,AJ31,'ABT Transactions'!$D$9:$D$40,$B$21)","v":0},{"$f":"SUMIFS('ABT Transactions'!$B$9:$B$40,'ABT Transactions'!$J$9:$J$40,$C29,'ABT Transactions'!$I$9:$I$40,$AJ$14,'ABT Transactions'!$C$9:$C$40,AK31,'ABT Transactions'!$D$9:$D$40,$B$21)","v":0},{"$f":"SUMIFS('ABT Transactions'!$B$9:$B$40,'ABT Transactions'!$J$9:$J$40,$C29,'ABT Transactions'!$I$9:$I$40,$AJ$14,'ABT Transactions'!$C$9:$C$40,AL31,'ABT Transactions'!$D$9:$D$40,$B$21)","v":0},{"$f":"SUMIFS('ABT Transactions'!$B$9:$B$40,'ABT Transactions'!$J$9:$J$40,$C29,'ABT Transactions'!$I$9:$I$40,$AM$14,'ABT Transactions'!$C$9:$C$40,AM31,'ABT Transactions'!$D$9:$D$40,$B$21)","v":0},{"$f":"SUMIFS('ABT Transactions'!$B$9:$B$40,'ABT Transactions'!$J$9:$J$40,$C29,'ABT Transactions'!$I$9:$I$40,$AM$14,'ABT Transactions'!$C$9:$C$40,AN31,'ABT Transactions'!$D$9:$D$40,$B$21)","v":0},{"$f":"SUMIFS('ABT Transactions'!$B$9:$B$40,'ABT Transactions'!$J$9:$J$40,$C29,'ABT Transactions'!$I$9:$I$40,$AM$14,'ABT Transactions'!$C$9:$C$40,AO31,'ABT Transactions'!$D$9:$D$40,$B$21)","v":0},{"$f":"SUMIFS('ABT Transactions'!$B$9:$B$40,'ABT Transactions'!$J$9:$J$40,$C29,'ABT Transactions'!$I$9:$I$40,$AP$14,'ABT Transactions'!$C$9:$C$40,AP31,'ABT Transactions'!$D$9:$D$40,$B$21)","v":0},{"$f":"SUMIFS('ABT Transactions'!$B$9:$B$40,'ABT Transactions'!$J$9:$J$40,$C29,'ABT Transactions'!$I$9:$I$40,$AP$14,'ABT Transactions'!$C$9:$C$40,AQ31,'ABT Transactions'!$D$9:$D$40,$B$21)","v":0},{"$f":"SUMIFS('ABT Transactions'!$B$9:$B$40,'ABT Transactions'!$J$9:$J$40,$C29,'ABT Transactions'!$I$9:$I$40,$AP$14,'ABT Transactions'!$C$9:$C$40,AR31,'ABT Transactions'!$D$9:$D$40,$B$21)","v":0},{"$f":"SUMIFS('ABT Transactions'!$B$9:$B$40,'ABT Transactions'!$J$9:$J$40,$C$29,'ABT Transactions'!$I$9:$I$40,$AS$30,'ABT Transactions'!$C$9:$C$40,AS31,'ABT Transactions'!$D$9:$D$40,$B$37)","v":0},{"$f":"SUMIFS('ABT Transactions'!$B$9:$B$40,'ABT Transactions'!$J$9:$J$40,$C$29,'ABT Transactions'!$I$9:$I$40,$AS$30,'ABT Transactions'!$C$9:$C$40,AT31,'ABT Transactions'!$D$9:$D$40,$B$37)","v":0},{"$f":"SUMIFS('ABT Transactions'!$B$9:$B$40,'ABT Transactions'!$J$9:$J$40,$C$29,'ABT Transactions'!$I$9:$I$40,$AS$30,'ABT Transactions'!$C$9:$C$40,AU31,'ABT Transactions'!$D$9:$D$40,$B$37)","v":0}]
[null,"Transfer ADV Credits (out)",{"$f":"SUMIFS('ABT Transactions'!$B$9:$B$40,'ABT Transactions'!$G$9:$G$40,$C$29,'ABT Transactions'!$F$9:$F$40,$C$30,'ABT Transactions'!$C$9:$C$40,C$31,'ABT Transactions'!$D$9:$D$40,$B$38)","v":0},{"$f":"SUMIFS('ABT Transactions'!$B$9:$B$40,'ABT Transactions'!$G$9:$G$40,$C$29,'ABT Transactions'!$F$9:$F$40,$C$30,'ABT Transactions'!$C$9:$C$40,D$31,'ABT Transactions'!$D$9:$D$40,$B$38)","v":0},{"$f":"SUMIFS('ABT Transactions'!$B$9:$B$40,'ABT Transactions'!$G$9:$G$40,$C$29,'ABT Transactions'!$F$9:$F$40,$C$30,'ABT Transactions'!$C$9:$C$40,E$31,'ABT Transactions'!$D$9:$D$40,$B$38)","v":0},{"$f":"SUMIFS('ABT Transactions'!$B$9:$B$40,'ABT Transactions'!$G$9:$G$40,$C$29,'ABT Transactions'!$F$9:$F$40,$F$30,'ABT Transactions'!$C$9:$C$40,F$31,'ABT Transactions'!$D$9:$D$40,$B$38)","v":0},{"$f":"SUMIFS('ABT Transactions'!$B$9:$B$40,'ABT Transactions'!$G$9:$G$40,$C$29,'ABT Transactions'!$F$9:$F$40,$F$30,'ABT Transactions'!$C$9:$C$40,G$31,'ABT Transactions'!$D$9:$D$40,$B$38)","v":0},{"$f":"SUMIFS('ABT Transactions'!$B$9:$B$40,'ABT Transactions'!$G$9:$G$40,$C$29,'ABT Transactions'!$F$9:$F$40,$F$30,'ABT Transactions'!$C$9:$C$40,H$31,'ABT Transactions'!$D$9:$D$40,$B$38)","v":0},{"$f":"SUMIFS('ABT Transactions'!$B$9:$B$40,'ABT Transactions'!$G$9:$G$40,$C$29,'ABT Transactions'!$F$9:$F$40,$I$30,'ABT Transactions'!$C$9:$C$40,I$31,'ABT Transactions'!$D$9:$D$40,$B$38)","v":0},{"$f":"SUMIFS('ABT Transactions'!$B$9:$B$40,'ABT Transactions'!$G$9:$G$40,$C$29,'ABT Transactions'!$F$9:$F$40,$I$30,'ABT Transactions'!$C$9:$C$40,J$31,'ABT Transactions'!$D$9:$D$40,$B$38)","v":0},{"$f":"SUMIFS('ABT Transactions'!$B$9:$B$40,'ABT Transactions'!$G$9:$G$40,$C$29,'ABT Transactions'!$F$9:$F$40,$I$30,'ABT Transactions'!$C$9:$C$40,K$31,'ABT Transactions'!$D$9:$D$40,$B$38)","v":0},{"$f":"SUMIFS('ABT Transactions'!$B$9:$B$40,'ABT Transactions'!$G$9:$G$40,$C$29,'ABT Transactions'!$F$9:$F$40,$L$30,'ABT Transactions'!$C$9:$C$40,L$31,'ABT Transactions'!$D$9:$D$40,$B$38)","v":0},{"$f":"SUMIFS('ABT Transactions'!$B$9:$B$40,'ABT Transactions'!$G$9:$G$40,$C$29,'ABT Transactions'!$F$9:$F$40,$L$30,'ABT Transactions'!$C$9:$C$40,M$31,'ABT Transactions'!$D$9:$D$40,$B$38)","v":0},{"$f":"SUMIFS('ABT Transactions'!$B$9:$B$40,'ABT Transactions'!$G$9:$G$40,$C$29,'ABT Transactions'!$F$9:$F$40,$L$30,'ABT Transactions'!$C$9:$C$40,N$31,'ABT Transactions'!$D$9:$D$40,$B$38)","v":0},{"$f":"SUMIFS('ABT Transactions'!$B$9:$B$40,'ABT Transactions'!$G$9:$G$40,$C$29,'ABT Transactions'!$F$9:$F$40,$O$30,'ABT Transactions'!$C$9:$C$40,O$31,'ABT Transactions'!$D$9:$D$40,$B$38)","v":0},{"$f":"SUMIFS('ABT Transactions'!$B$9:$B$40,'ABT Transactions'!$G$9:$G$40,$C$29,'ABT Transactions'!$F$9:$F$40,$O$30,'ABT Transactions'!$C$9:$C$40,P$31,'ABT Transactions'!$D$9:$D$40,$B$38)","v":0},{"$f":"SUMIFS('ABT Transactions'!$B$9:$B$40,'ABT Transactions'!$G$9:$G$40,$C$29,'ABT Transactions'!$F$9:$F$40,$O$30,'ABT Transactions'!$C$9:$C$40,Q$31,'ABT Transactions'!$D$9:$D$40,$B$38)","v":0},{"$f":"SUMIFS('ABT Transactions'!$B$9:$B$40,'ABT Transactions'!$G$9:$G$40,$C$29,'ABT Transactions'!$F$9:$F$40,$R$30,'ABT Transactions'!$C$9:$C$40,R$31,'ABT Transactions'!$D$9:$D$40,$B$38)","v":0},{"$f":"SUMIFS('ABT Transactions'!$B$9:$B$40,'ABT Transactions'!$G$9:$G$40,$C$29,'ABT Transactions'!$F$9:$F$40,$R$30,'ABT Transactions'!$C$9:$C$40,S$31,'ABT Transactions'!$D$9:$D$40,$B$38)","v":0},{"$f":"SUMIFS('ABT Transactions'!$B$9:$B$40,'ABT Transactions'!$G$9:$G$40,$C$29,'ABT Transactions'!$F$9:$F$40,$R$30,'ABT Transactions'!$C$9:$C$40,T$31,'ABT Transactions'!$D$9:$D$40,$B$38)","v":0},{"$f":"SUMIFS('ABT Transactions'!$B$9:$B$40,'ABT Transactions'!$G$9:$G$40,$C29,'ABT Transactions'!$F$9:$F$40,$U$14,'ABT Transactions'!$C$9:$C$40,U$15,'ABT Transactions'!$D$9:$D$40,$B$22)","v":0},{"$f":"SUMIFS('ABT Transactions'!$B$9:$B$40,'ABT Transactions'!$G$9:$G$40,$C29,'ABT Transactions'!$F$9:$F$40,$U$14,'ABT Transactions'!$C$9:$C$40,V$15,'ABT Transactions'!$D$9:$D$40,$B$22)","v":0},{"$f":"SUMIFS('ABT Transactions'!$B$9:$B$40,'ABT Transactions'!$G$9:$G$40,$C29,'ABT Transactions'!$F$9:$F$40,$U$14,'ABT Transactions'!$C$9:$C$40,W$15,'ABT Transactions'!$D$9:$D$40,$B$22)","v":0},{"$f":"SUMIFS('ABT Transactions'!$B$9:$B$40,'ABT Transactions'!$G$9:$G$40,$C29,'ABT Transactions'!$F$9:$F$40,$X$14,'ABT Transactions'!$C$9:$C$40,X$15,'ABT Transactions'!$D$9:$D$40,$B$22)","v":0},{"$f":"SUMIFS('ABT Transactions'!$B$9:$B$40,'ABT Transactions'!$G$9:$G$40,$C29,'ABT Transactions'!$F$9:$F$40,$X$14,'ABT Transactions'!$C$9:$C$40,Y$15,'ABT Transactions'!$D$9:$D$40,$B$22)","v":0},{"$f":"SUMIFS('ABT Transactions'!$B$9:$B$40,'ABT Transactions'!$G$9:$G$40,$C29,'ABT Transactions'!$F$9:$F$40,$X$14,'ABT Transactions'!$C$9:$C$40,Z$15,'ABT Transactions'!$D$9:$D$40,$B$22)","v":0},{"$f":"SUMIFS('ABT Transactions'!$B$9:$B$40,'ABT Transactions'!$G$9:$G$40,$C29,'ABT Transactions'!$F$9:$F$40,$AA$14,'ABT Transactions'!$C$9:$C$40,AA$15,'ABT Transactions'!$D$9:$D$40,$B$22)","v":0},{"$f":"SUMIFS('ABT Transactions'!$B$9:$B$40,'ABT Transactions'!$G$9:$G$40,$C29,'ABT Transactions'!$F$9:$F$40,$AA$14,'ABT Transactions'!$C$9:$C$40,AB$15,'ABT Transactions'!$D$9:$D$40,$B$22)","v":0},{"$f":"SUMIFS('ABT Transactions'!$B$9:$B$40,'ABT Transactions'!$G$9:$G$40,$C29,'ABT Transactions'!$F$9:$F$40,$AA$14,'ABT Transactions'!$C$9:$C$40,AC$15,'ABT Transactions'!$D$9:$D$40,$B$22)","v":0},{"$f":"SUMIFS('ABT Transactions'!$B$9:$B$40,'ABT Transactions'!$G$9:$G$40,$C29,'ABT Transactions'!$F$9:$F$40,$AD$14,'ABT Transactions'!$C$9:$C$40,AD$15,'ABT Transactions'!$D$9:$D$40,$B$22)","v":0},{"$f":"SUMIFS('ABT Transactions'!$B$9:$B$40,'ABT Transactions'!$G$9:$G$40,$C29,'ABT Transactions'!$F$9:$F$40,$AD$14,'ABT Transactions'!$C$9:$C$40,AE$15,'ABT Transactions'!$D$9:$D$40,$B$22)","v":0},{"$f":"SUMIFS('ABT Transactions'!$B$9:$B$40,'ABT Transactions'!$G$9:$G$40,$C29,'ABT Transactions'!$F$9:$F$40,$AD$14,'ABT Transactions'!$C$9:$C$40,AF$15,'ABT Transactions'!$D$9:$D$40,$B$22)","v":0},{"$f":"SUMIFS('ABT Transactions'!$B$9:$B$40,'ABT Transactions'!$G$9:$G$40,$C29,'ABT Transactions'!$F$9:$F$40,$AG$14,'ABT Transactions'!$C$9:$C$40,AG$15,'ABT Transactions'!$D$9:$D$40,$B$22)","v":0},{"$f":"SUMIFS('ABT Transactions'!$B$9:$B$40,'ABT Transactions'!$G$9:$G$40,$C29,'ABT Transactions'!$F$9:$F$40,$AG$14,'ABT Transactions'!$C$9:$C$40,AH$15,'ABT Transactions'!$D$9:$D$40,$B$22)","v":0},{"$f":"SUMIFS('ABT Transactions'!$B$9:$B$40,'ABT Transactions'!$G$9:$G$40,$C29,'ABT Transactions'!$F$9:$F$40,$AG$14,'ABT Transactions'!$C$9:$C$40,AI$15,'ABT Transactions'!$D$9:$D$40,$B$22)","v":0},{"$f":"SUMIFS('ABT Transactions'!$B$9:$B$40,'ABT Transactions'!$G$9:$G$40,$C29,'ABT Transactions'!$F$9:$F$40,$AJ$14,'ABT Transactions'!$C$9:$C$40,AJ$15,'ABT Transactions'!$D$9:$D$40,$B$22)","v":0},{"$f":"SUMIFS('ABT Transactions'!$B$9:$B$40,'ABT Transactions'!$G$9:$G$40,$C29,'ABT Transactions'!$F$9:$F$40,$AJ$14,'ABT Transactions'!$C$9:$C$40,AK$15,'ABT Transactions'!$D$9:$D$40,$B$22)","v":0},{"$f":"SUMIFS('ABT Transactions'!$B$9:$B$40,'ABT Transactions'!$G$9:$G$40,$C29,'ABT Transactions'!$F$9:$F$40,$AJ$14,'ABT Transactions'!$C$9:$C$40,AL$15,'ABT Transactions'!$D$9:$D$40,$B$22)","v":0},{"$f":"SUMIFS('ABT Transactions'!$B$9:$B$40,'ABT Transactions'!$G$9:$G$40,$C29,'ABT Transactions'!$F$9:$F$40,$AM$14,'ABT Transactions'!$C$9:$C$40,AM$15,'ABT Transactions'!$D$9:$D$40,$B$22)","v":0},{"$f":"SUMIFS('ABT Transactions'!$B$9:$B$40,'ABT Transactions'!$G$9:$G$40,$C29,'ABT Transactions'!$F$9:$F$40,$AM$14,'ABT Transactions'!$C$9:$C$40,AN$15,'ABT Transactions'!$D$9:$D$40,$B$22)","v":0},{"$f":"SUMIFS('ABT Transactions'!$B$9:$B$40,'ABT Transactions'!$G$9:$G$40,$C29,'ABT Transactions'!$F$9:$F$40,$AM$14,'ABT Transactions'!$C$9:$C$40,AO$15,'ABT Transactions'!$D$9:$D$40,$B$22)","v":0},{"$f":"SUMIFS('ABT Transactions'!$B$9:$B$40,'ABT Transactions'!$G$9:$G$40,$C29,'ABT Transactions'!$F$9:$F$40,$AP$14,'ABT Transactions'!$C$9:$C$40,AP$15,'ABT Transactions'!$D$9:$D$40,$B$22)","v":0},{"$f":"SUMIFS('ABT Transactions'!$B$9:$B$40,'ABT Transactions'!$G$9:$G$40,$C29,'ABT Transactions'!$F$9:$F$40,$AP$14,'ABT Transactions'!$C$9:$C$40,AQ$15,'ABT Transactions'!$D$9:$D$40,$B$22)","v":0},{"$f":"SUMIFS('ABT Transactions'!$B$9:$B$40,'ABT Transactions'!$G$9:$G$40,$C29,'ABT Transactions'!$F$9:$F$40,$AP$14,'ABT Transactions'!$C$9:$C$40,AR$15,'ABT Transactions'!$D$9:$D$40,$B$22)","v":0},{"$f":"SUMIFS('ABT Transactions'!$B$9:$B$40,'ABT Transactions'!$G$9:$G$40,$C$29,'ABT Transactions'!$F$9:$F$40,$AS$30,'ABT Transactions'!$C$9:$C$40,AS$31,'ABT Transactions'!$D$9:$D$40,$B$38)","v":0},{"$f":"SUMIFS('ABT Transactions'!$B$9:$B$40,'ABT Transactions'!$G$9:$G$40,$C$29,'ABT Transactions'!$F$9:$F$40,$AS$30,'ABT Transactions'!$C$9:$C$40,AT$31,'ABT Transactions'!$D$9:$D$40,$B$38)","v":0},{"$f":"SUMIFS('ABT Transactions'!$B$9:$B$40,'ABT Transactions'!$G$9:$G$40,$C$29,'ABT Transactions'!$F$9:$F$40,$AS$30,'ABT Transactions'!$C$9:$C$40,AU$31,'ABT Transactions'!$D$9:$D$40,$B$38)","v":0}]
[null,"Transfer ADV Credits (in)",{"$f":"SUMIFS('ABT Transactions'!$B$9:$B$40,'ABT Transactions'!$J$9:$J$40,$C$29,'ABT Transactions'!$I$9:$I$40,$C$30,'ABT Transactions'!$C$9:$C$40,C31,'ABT Transactions'!$D$9:$D$40,$B$39)","v":0},{"$f":"SUMIFS('ABT Transactions'!$B$9:$B$40,'ABT Transactions'!$J$9:$J$40,$C$29,'ABT Transactions'!$I$9:$I$40,$C$30,'ABT Transactions'!$C$9:$C$40,D31,'ABT Transactions'!$D$9:$D$40,$B$39)","v":0},{"$f":"SUMIFS('ABT Transactions'!$B$9:$B$40,'ABT Transactions'!$J$9:$J$40,$C$29,'ABT Transactions'!$I$9:$I$40,$C$30,'ABT Transactions'!$C$9:$C$40,E31,'ABT Transactions'!$D$9:$D$40,$B$39)","v":0},{"$f":"SUMIFS('ABT Transactions'!$B$9:$B$40,'ABT Transactions'!$J$9:$J$40,$C$29,'ABT Transactions'!$I$9:$I$40,$F$30,'ABT Transactions'!$C$9:$C$40,F31,'ABT Transactions'!$D$9:$D$40,$B$39)","v":0},{"$f":"SUMIFS('ABT Transactions'!$B$9:$B$40,'ABT Transactions'!$J$9:$J$40,$C$29,'ABT Transactions'!$I$9:$I$40,$F$30,'ABT Transactions'!$C$9:$C$40,G31,'ABT Transactions'!$D$9:$D$40,$B$39)","v":0},{"$f":"SUMIFS('ABT Transactions'!$B$9:$B$40,'ABT Transactions'!$J$9:$J$40,$C$29,'ABT Transactions'!$I$9:$I$40,$F$30,'ABT Transactions'!$C$9:$C$40,H31,'ABT Transactions'!$D$9:$D$40,$B$39)","v":0},{"$f":"SUMIFS('ABT Transactions'!$B$9:$B$40,'ABT Transactions'!$J$9:$J$40,$C$29,'ABT Transactions'!$I$9:$I$40,$I$30,'ABT Transactions'!$C$9:$C$40,I31,'ABT Transactions'!$D$9:$D$40,$B$39)","v":0},{"$f":"SUMIFS('ABT Transactions'!$B$9:$B$40,'ABT Transactions'!$J$9:$J$40,$C$29,'ABT Transactions'!$I$9:$I$40,$I$30,'ABT Transactions'!$C$9:$C$40,J31,'ABT Transactions'!$D$9:$D$40,$B$39)","v":0},{"$f":"SUMIFS('ABT Transactions'!$B$9:$B$40,'ABT Transactions'!$J$9:$J$40,$C$29,'ABT Transactions'!$I$9:$I$40,$I$30,'ABT Transactions'!$C$9:$C$40,K31,'ABT Transactions'!$D$9:$D$40,$B$39)","v":0},{"$f":"SUMIFS('ABT Transactions'!$B$9:$B$40,'ABT Transactions'!$J$9:$J$40,$C$29,'ABT Transactions'!$I$9:$I$40,$L$30,'ABT Transactions'!$C$9:$C$40,L31,'ABT Transactions'!$D$9:$D$40,$B$39)","v":0},{"$f":"SUMIFS('ABT Transactions'!$B$9:$B$40,'ABT Transactions'!$J$9:$J$40,$C$29,'ABT Transactions'!$I$9:$I$40,$L$30,'ABT Transactions'!$C$9:$C$40,M31,'ABT Transactions'!$D$9:$D$40,$B$39)","v":0},{"$f":"SUMIFS('ABT Transactions'!$B$9:$B$40,'ABT Transactions'!$J$9:$J$40,$C$29,'ABT Transactions'!$I$9:$I$40,$L$30,'ABT Transactions'!$C$9:$C$40,N31,'ABT Transactions'!$D$9:$D$40,$B$39)","v":0},{"$f":"SUMIFS('ABT Transactions'!$B$9:$B$40,'ABT Transactions'!$J$9:$J$40,$C$29,'ABT Transactions'!$I$9:$I$40,$O$30,'ABT Transactions'!$C$9:$C$40,O31,'ABT Transactions'!$D$9:$D$40,$B$39)","v":0},{"$f":"SUMIFS('ABT Transactions'!$B$9:$B$40,'ABT Transactions'!$J$9:$J$40,$C$29,'ABT Transactions'!$I$9:$I$40,$O$30,'ABT Transactions'!$C$9:$C$40,P31,'ABT Transactions'!$D$9:$D$40,$B$39)","v":0},{"$f":"SUMIFS('ABT Transactions'!$B$9:$B$40,'ABT Transactions'!$J$9:$J$40,$C$29,'ABT Transactions'!$I$9:$I$40,$O$30,'ABT Transactions'!$C$9:$C$40,Q31,'ABT Transactions'!$D$9:$D$40,$B$39)","v":0},{"$f":"SUMIFS('ABT Transactions'!$B$9:$B$40,'ABT Transactions'!$J$9:$J$40,$C$29,'ABT Transactions'!$I$9:$I$40,$R$30,'ABT Transactions'!$C$9:$C$40,R31,'ABT Transactions'!$D$9:$D$40,$B$39)","v":0},{"$f":"SUMIFS('ABT Transactions'!$B$9:$B$40,'ABT Transactions'!$J$9:$J$40,$C$29,'ABT Transactions'!$I$9:$I$40,$R$30,'ABT Transactions'!$C$9:$C$40,S31,'ABT Transactions'!$D$9:$D$40,$B$39)","v":0},{"$f":"SUMIFS('ABT Transactions'!$B$9:$B$40,'ABT Transactions'!$J$9:$J$40,$C$29,'ABT Transactions'!$I$9:$I$40,$R$30,'ABT Transactions'!$C$9:$C$40,T31,'ABT Transactions'!$D$9:$D$40,$B$39)","v":0},{"$f":"SUMIFS('ABT Transactions'!$B$9:$B$40,'ABT Transactions'!$J$9:$J$40,$C29,'ABT Transactions'!$I$9:$I$40,$U$14,'ABT Transactions'!$C$9:$C$40,U31,'ABT Transactions'!$D$9:$D$40,$B$23)","v":0},{"$f":"SUMIFS('ABT Transactions'!$B$9:$B$40,'ABT Transactions'!$J$9:$J$40,$C29,'ABT Transactions'!$I$9:$I$40,$U$14,'ABT Transactions'!$C$9:$C$40,V31,'ABT Transactions'!$D$9:$D$40,$B$23)","v":0},{"$f":"SUMIFS('ABT Transactions'!$B$9:$B$40,'ABT Transactions'!$J$9:$J$40,$C29,'ABT Transactions'!$I$9:$I$40,$U$14,'ABT Transactions'!$C$9:$C$40,W31,'ABT Transactions'!$D$9:$D$40,$B$23)","v":0},{"$f":"SUMIFS('ABT Transactions'!$B$9:$B$40,'ABT Transactions'!$J$9:$J$40,$C29,'ABT Transactions'!$I$9:$I$40,$X$14,'ABT Transactions'!$C$9:$C$40,X31,'ABT Transactions'!$D$9:$D$40,$B$23)","v":0},{"$f":"SUMIFS('ABT Transactions'!$B$9:$B$40,'ABT Transactions'!$J$9:$J$40,$C29,'ABT Transactions'!$I$9:$I$40,$X$14,'ABT Transactions'!$C$9:$C$40,Y31,'ABT Transactions'!$D$9:$D$40,$B$23)","v":0},{"$f":"SUMIFS('ABT Transactions'!$B$9:$B$40,'ABT Transactions'!$J$9:$J$40,$C29,'ABT Transactions'!$I$9:$I$40,$X$14,'ABT Transactions'!$C$9:$C$40,Z31,'ABT Transactions'!$D$9:$D$40,$B$23)","v":0},{"$f":"SUMIFS('ABT Transactions'!$B$9:$B$40,'ABT Transactions'!$J$9:$J$40,$C29,'ABT Transactions'!$I$9:$I$40,$AA$14,'ABT Transactions'!$C$9:$C$40,AA31,'ABT Transactions'!$D$9:$D$40,$B$23)","v":0},{"$f":"SUMIFS('ABT Transactions'!$B$9:$B$40,'ABT Transactions'!$J$9:$J$40,$C29,'ABT Transactions'!$I$9:$I$40,$AA$14,'ABT Transactions'!$C$9:$C$40,AB31,'ABT Transactions'!$D$9:$D$40,$B$23)","v":0},{"$f":"SUMIFS('ABT Transactions'!$B$9:$B$40,'ABT Transactions'!$J$9:$J$40,$C29,'ABT Transactions'!$I$9:$I$40,$AA$14,'ABT Transactions'!$C$9:$C$40,AC31,'ABT Transactions'!$D$9:$D$40,$B$23)","v":0},{"$f":"SUMIFS('ABT Transactions'!$B$9:$B$40,'ABT Transactions'!$J$9:$J$40,$C29,'ABT Transactions'!$I$9:$I$40,$AD$14,'ABT Transactions'!$C$9:$C$40,AD31,'ABT Transactions'!$D$9:$D$40,$B$23)","v":0},{"$f":"SUMIFS('ABT Transactions'!$B$9:$B$40,'ABT Transactions'!$J$9:$J$40,$C29,'ABT Transactions'!$I$9:$I$40,$AD$14,'ABT Transactions'!$C$9:$C$40,AE31,'ABT Transactions'!$D$9:$D$40,$B$23)","v":0},{"$f":"SUMIFS('ABT Transactions'!$B$9:$B$40,'ABT Transactions'!$J$9:$J$40,$C29,'ABT Transactions'!$I$9:$I$40,$AD$14,'ABT Transactions'!$C$9:$C$40,AF31,'ABT Transactions'!$D$9:$D$40,$B$23)","v":0},{"$f":"SUMIFS('ABT Transactions'!$B$9:$B$40,'ABT Transactions'!$J$9:$J$40,$C29,'ABT Transactions'!$I$9:$I$40,$AG$14,'ABT Transactions'!$C$9:$C$40,AG31,'ABT Transactions'!$D$9:$D$40,$B$23)","v":0},{"$f":"SUMIFS('ABT Transactions'!$B$9:$B$40,'ABT Transactions'!$J$9:$J$40,$C29,'ABT Transactions'!$I$9:$I$40,$AG$14,'ABT Transactions'!$C$9:$C$40,AH31,'ABT Transactions'!$D$9:$D$40,$B$23)","v":0},{"$f":"SUMIFS('ABT Transactions'!$B$9:$B$40,'ABT Transactions'!$J$9:$J$40,$C29,'ABT Transactions'!$I$9:$I$40,$AG$14,'ABT Transactions'!$C$9:$C$40,AI31,'ABT Transactions'!$D$9:$D$40,$B$23)","v":0},{"$f":"SUMIFS('ABT Transactions'!$B$9:$B$40,'ABT Transactions'!$J$9:$J$40,$C29,'ABT Transactions'!$I$9:$I$40,$AJ$14,'ABT Transactions'!$C$9:$C$40,AJ31,'ABT Transactions'!$D$9:$D$40,$B$23)","v":0},{"$f":"SUMIFS('ABT Transactions'!$B$9:$B$40,'ABT Transactions'!$J$9:$J$40,$C29,'ABT Transactions'!$I$9:$I$40,$AJ$14,'ABT Transactions'!$C$9:$C$40,AK31,'ABT Transactions'!$D$9:$D$40,$B$23)","v":0},{"$f":"SUMIFS('ABT Transactions'!$B$9:$B$40,'ABT Transactions'!$J$9:$J$40,$C29,'ABT Transactions'!$I$9:$I$40,$AJ$14,'ABT Transactions'!$C$9:$C$40,AL31,'ABT Transactions'!$D$9:$D$40,$B$23)","v":0},{"$f":"SUMIFS('ABT Transactions'!$B$9:$B$40,'ABT Transactions'!$J$9:$J$40,$C29,'ABT Transactions'!$I$9:$I$40,$AM$14,'ABT Transactions'!$C$9:$C$40,AM31,'ABT Transactions'!$D$9:$D$40,$B$23)","v":0},{"$f":"SUMIFS('ABT Transactions'!$B$9:$B$40,'ABT Transactions'!$J$9:$J$40,$C29,'ABT Transactions'!$I$9:$I$40,$AM$14,'ABT Transactions'!$C$9:$C$40,AN31,'ABT Transactions'!$D$9:$D$40,$B$23)","v":0},{"$f":"SUMIFS('ABT Transactions'!$B$9:$B$40,'ABT Transactions'!$J$9:$J$40,$C29,'ABT Transactions'!$I$9:$I$40,$AM$14,'ABT Transactions'!$C$9:$C$40,AO31,'ABT Transactions'!$D$9:$D$40,$B$23)","v":0},{"$f":"SUMIFS('ABT Transactions'!$B$9:$B$40,'ABT Transactions'!$J$9:$J$40,$C29,'ABT Transactions'!$I$9:$I$40,$AP$14,'ABT Transactions'!$C$9:$C$40,AP31,'ABT Transactions'!$D$9:$D$40,$B$23)","v":0},{"$f":"SUMIFS('ABT Transactions'!$B$9:$B$40,'ABT Transactions'!$J$9:$J$40,$C29,'ABT Transactions'!$I$9:$I$40,$AP$14,'ABT Transactions'!$C$9:$C$40,AQ31,'ABT Transactions'!$D$9:$D$40,$B$23)","v":0},{"$f":"SUMIFS('ABT Transactions'!$B$9:$B$40,'ABT Transactions'!$J$9:$J$40,$C29,'ABT Transactions'!$I$9:$I$40,$AP$14,'ABT Transactions'!$C$9:$C$40,AR31,'ABT Transactions'!$D$9:$D$40,$B$23)","v":0},{"$f":"SUMIFS('ABT Transactions'!$B$9:$B$40,'ABT Transactions'!$J$9:$J$40,$C$29,'ABT Transactions'!$I$9:$I$40,$AS$30,'ABT Transactions'!$C$9:$C$40,AS31,'ABT Transactions'!$D$9:$D$40,$B$39)","v":0},{"$f":"SUMIFS('ABT Transactions'!$B$9:$B$40,'ABT Transactions'!$J$9:$J$40,$C$29,'ABT Transactions'!$I$9:$I$40,$AS$30,'ABT Transactions'!$C$9:$C$40,AT31,'ABT Transactions'!$D$9:$D$40,$B$39)","v":0},{"$f":"SUMIFS('ABT Transactions'!$B$9:$B$40,'ABT Transactions'!$J$9:$J$40,$C$29,'ABT Transactions'!$I$9:$I$40,$AS$30,'ABT Transactions'!$C$9:$C$40,AU31,'ABT Transactions'!$D$9:$D$40,$B$39)","v":0}]
[null,"Retired Credits",{"$f":"SUMIFS('ABT Transactions'!$B$9:$B$40,'ABT Transactions'!$G$9:$G$40,$C$29,'ABT Transactions'!$F$9:$F$40,$C$30,'ABT Transactions'!$C$9:$C$40,$C31,'ABT Transactions'!$D$9:$D$40,$B$40)","v":0},{"$f":"SUMIFS('ABT Transactions'!$B$9:$B$40,'ABT Transactions'!$G$9:$G$40,$C$29,'ABT Transactions'!$F$9:$F$40,$C$30,'ABT Transactions'!$C$9:$C$40,D31,'ABT Transactions'!$D$9:$D$40,$B$40)","v":0},{"$f":"SUMIFS('ABT Transactions'!$B$9:$B$40,'ABT Transactions'!$G$9:$G$40,$C$29,'ABT Transactions'!$F$9:$F$40,$C$30,'ABT Transactions'!$C$9:$C$40,E31,'ABT Transactions'!$D$9:$D$40,$B$40)","v":0},{"$f":"SUMIFS('ABT Transactions'!$B$9:$B$40,'ABT Transactions'!$G$9:$G$40,$C$29,'ABT Transactions'!$F$9:$F$40,$F$30,'ABT Transactions'!$C$9:$C$40,F31,'ABT Transactions'!$D$9:$D$40,$B$40)","v":0},{"$f":"SUMIFS('ABT Transactions'!$B$9:$B$40,'ABT Transactions'!$G$9:$G$40,$C$29,'ABT Transactions'!$F$9:$F$40,$F$30,'ABT Transactions'!$C$9:$C$40,G31,'ABT Transactions'!$D$9:$D$40,$B$40)","v":0},{"$f":"SUMIFS('ABT Transactions'!$B$9:$B$40,'ABT Transactions'!$G$9:$G$40,$C$29,'ABT Transactions'!$F$9:$F$40,$F$30,'ABT Transactions'!$C$9:$C$40,H31,'ABT Transactions'!$D$9:$D$40,$B$40)","v":0},{"$f":"SUMIFS('ABT Transactions'!$B$9:$B$40,'ABT Transactions'!$G$9:$G$40,$C$29,'ABT Transactions'!$F$9:$F$40,$I$30,'ABT Transactions'!$C$9:$C$40,I31,'ABT Transactions'!$D$9:$D$40,$B$40)","v":0},{"$f":"SUMIFS('ABT Transactions'!$B$9:$B$40,'ABT Transactions'!$G$9:$G$40,$C$29,'ABT Transactions'!$F$9:$F$40,$I$30,'ABT Transactions'!$C$9:$C$40,J31,'ABT Transactions'!$D$9:$D$40,$B$40)","v":0},{"$f":"SUMIFS('ABT Transactions'!$B$9:$B$40,'ABT Transactions'!$G$9:$G$40,$C$29,'ABT Transactions'!$F$9:$F$40,$I$30,'ABT Transactions'!$C$9:$C$40,K31,'ABT Transactions'!$D$9:$D$40,$B$40)","v":0},{"$f":"SUMIFS('ABT Transactions'!$B$9:$B$40,'ABT Transactions'!$G$9:$G$40,$C$29,'ABT Transactions'!$F$9:$F$40,$L$30,'ABT Transactions'!$C$9:$C$40,L31,'ABT Transactions'!$D$9:$D$40,$B$40)","v":0},{"$f":"SUMIFS('ABT Transactions'!$B$9:$B$40,'ABT Transactions'!$G$9:$G$40,$C$29,'ABT Transactions'!$F$9:$F$40,$L$30,'ABT Transactions'!$C$9:$C$40,M31,'ABT Transactions'!$D$9:$D$40,$B$40)","v":0},{"$f":"SUMIFS('ABT Transactions'!$B$9:$B$40,'ABT Transactions'!$G$9:$G$40,$C$29,'ABT Transactions'!$F$9:$F$40,$L$30,'ABT Transactions'!$C$9:$C$40,N31,'ABT Transactions'!$D$9:$D$40,$B$40)","v":0},{"$f":"SUMIFS('ABT Transactions'!$B$9:$B$40,'ABT Transactions'!$G$9:$G$40,$C$29,'ABT Transactions'!$F$9:$F$40,$O$30,'ABT Transactions'!$C$9:$C$40,O31,'ABT Transactions'!$D$9:$D$40,$B$40)","v":0},{"$f":"SUMIFS('ABT Transactions'!$B$9:$B$40,'ABT Transactions'!$G$9:$G$40,$C$29,'ABT Transactions'!$F$9:$F$40,$O$30,'ABT Transactions'!$C$9:$C$40,P31,'ABT Transactions'!$D$9:$D$40,$B$40)","v":0},{"$f":"SUMIFS('ABT Transactions'!$B$9:$B$40,'ABT Transactions'!$G$9:$G$40,$C$29,'ABT Transactions'!$F$9:$F$40,$O$30,'ABT Transactions'!$C$9:$C$40,Q31,'ABT Transactions'!$D$9:$D$40,$B$40)","v":0},{"$f":"SUMIFS('ABT Transactions'!$B$9:$B$40,'ABT Transactions'!$G$9:$G$40,$C$29,'ABT Transactions'!$F$9:$F$40,$R$30,'ABT Transactions'!$C$9:$C$40,R31,'ABT Transactions'!$D$9:$D$40,$B$40)","v":0},{"$f":"SUMIFS('ABT Transactions'!$B$9:$B$40,'ABT Transactions'!$G$9:$G$40,$C$29,'ABT Transactions'!$F$9:$F$40,$R$30,'ABT Transactions'!$C$9:$C$40,S31,'ABT Transactions'!$D$9:$D$40,$B$40)","v":0},{"$f":"SUMIFS('ABT Transactions'!$B$9:$B$40,'ABT Transactions'!$G$9:$G$40,$C$29,'ABT Transactions'!$F$9:$F$40,$R$30,'ABT Transactions'!$C$9:$C$40,T31,'ABT Transactions'!$D$9:$D$40,$B$40)","v":0},{"$f":"SUMIFS('ABT Transactions'!$B$9:$B$40,'ABT Transactions'!$G$9:$G$40,$C29,'ABT Transactions'!$F$9:$F$40,$U$14,'ABT Transactions'!$C$9:$C$40,U$15,'ABT Transactions'!$D$9:$D$40,$B$24)","v":0},{"$f":"SUMIFS('ABT Transactions'!$B$9:$B$40,'ABT Transactions'!$G$9:$G$40,$C29,'ABT Transactions'!$F$9:$F$40,$U$14,'ABT Transactions'!$C$9:$C$40,V$15,'ABT Transactions'!$D$9:$D$40,$B$24)","v":0},{"$f":"SUMIFS('ABT Transactions'!$B$9:$B$40,'ABT Transactions'!$G$9:$G$40,$C29,'ABT Transactions'!$F$9:$F$40,$U$14,'ABT Transactions'!$C$9:$C$40,W$15,'ABT Transactions'!$D$9:$D$40,$B$24)","v":0},{"$f":"SUMIFS('ABT Transactions'!$B$9:$B$40,'ABT Transactions'!$G$9:$G$40,$C29,'ABT Transactions'!$F$9:$F$40,$X$14,'ABT Transactions'!$C$9:$C$40,X$15,'ABT Transactions'!$D$9:$D$40,$B$24)","v":0},{"$f":"SUMIFS('ABT Transactions'!$B$9:$B$40,'ABT Transactions'!$G$9:$G$40,$C29,'ABT Transactions'!$F$9:$F$40,$X$14,'ABT Transactions'!$C$9:$C$40,Y$15,'ABT Transactions'!$D$9:$D$40,$B$24)","v":0},{"$f":"SUMIFS('ABT Transactions'!$B$9:$B$40,'ABT Transactions'!$G$9:$G$40,$C29,'ABT Transactions'!$F$9:$F$40,$X$14,'ABT Transactions'!$C$9:$C$40,Z$15,'ABT Transactions'!$D$9:$D$40,$B$24)","v":0},{"$f":"SUMIFS('ABT Transactions'!$B$9:$B$40,'ABT Transactions'!$G$9:$G$40,$C29,'ABT Transactions'!$F$9:$F$40,$AA$14,'ABT Transactions'!$C$9:$C$40,AA$15,'ABT Transactions'!$D$9:$D$40,$B$24)","v":0},{"$f":"SUMIFS('ABT Transactions'!$B$9:$B$40,'ABT Transactions'!$G$9:$G$40,$C29,'ABT Transactions'!$F$9:$F$40,$AA$14,'ABT Transactions'!$C$9:$C$40,AB$15,'ABT Transactions'!$D$9:$D$40,$B$24)","v":0},{"$f":"SUMIFS('ABT Transactions'!$B$9:$B$40,'ABT Transactions'!$G$9:$G$40,$C29,'ABT Transactions'!$F$9:$F$40,$AA$14,'ABT Transactions'!$C$9:$C$40,AC$15,'ABT Transactions'!$D$9:$D$40,$B$24)","v":0},{"$f":"SUMIFS('ABT Transactions'!$B$9:$B$40,'ABT Transactions'!$G$9:$G$40,$C29,'ABT Transactions'!$F$9:$F$40,$AD$14,'ABT Transactions'!$C$9:$C$40,AD$15,'ABT Transactions'!$D$9:$D$40,$B$24)","v":0},{"$f":"SUMIFS('ABT Transactions'!$B$9:$B$40,'ABT Transactions'!$G$9:$G$40,$C29,'ABT Transactions'!$F$9:$F$40,$AD$14,'ABT Transactions'!$C$9:$C$40,AE$15,'ABT Transactions'!$D$9:$D$40,$B$24)","v":0},{"$f":"SUMIFS('ABT Transactions'!$B$9:$B$40,'ABT Transactions'!$G$9:$G$40,$C29,'ABT Transactions'!$F$9:$F$40,$AD$14,'ABT Transactions'!$C$9:$C$40,AF$15,'ABT Transactions'!$D$9:$D$40,$B$24)","v":0},{"$f":"SUMIFS('ABT Transactions'!$B$9:$B$40,'ABT Transactions'!$G$9:$G$40,$C29,'ABT Transactions'!$F$9:$F$40,$AG$14,'ABT Transactions'!$C$9:$C$40,AG$15,'ABT Transactions'!$D$9:$D$40,$B$24)","v":0},{"$f":"SUMIFS('ABT Transactions'!$B$9:$B$40,'ABT Transactions'!$G$9:$G$40,$C29,'ABT Transactions'!$F$9:$F$40,$AG$14,'ABT Transactions'!$C$9:$C$40,AH$15,'ABT Transactions'!$D$9:$D$40,$B$24)","v":0},{"$f":"SUMIFS('ABT Transactions'!$B$9:$B$40,'ABT Transactions'!$G$9:$G$40,$C29,'ABT Transactions'!$F$9:$F$40,$AG$14,'ABT Transactions'!$C$9:$C$40,AI$15,'ABT Transactions'!$D$9:$D$40,$B$24)","v":0},{"$f":"SUMIFS('ABT Transactions'!$B$9:$B$40,'ABT Transactions'!$G$9:$G$40,$C29,'ABT Transactions'!$F$9:$F$40,$AJ$14,'ABT Transactions'!$C$9:$C$40,AJ$15,'ABT Transactions'!$D$9:$D$40,$B$24)","v":0},{"$f":"SUMIFS('ABT Transactions'!$B$9:$B$40,'ABT Transactions'!$G$9:$G$40,$C29,'ABT Transactions'!$F$9:$F$40,$AJ$14,'ABT Transactions'!$C$9:$C$40,AK$15,'ABT Transactions'!$D$9:$D$40,$B$24)","v":0},{"$f":"SUMIFS('ABT Transactions'!$B$9:$B$40,'ABT Transactions'!$G$9:$G$40,$C29,'ABT Transactions'!$F$9:$F$40,$AJ$14,'ABT Transactions'!$C$9:$C$40,AL$15,'ABT Transactions'!$D$9:$D$40,$B$24)","v":0},{"$f":"SUMIFS('ABT Transactions'!$B$9:$B$40,'ABT Transactions'!$G$9:$G$40,$C29,'ABT Transactions'!$F$9:$F$40,$AM$14,'ABT Transactions'!$C$9:$C$40,AM$15,'ABT Transactions'!$D$9:$D$40,$B$24)","v":0},{"$f":"SUMIFS('ABT Transactions'!$B$9:$B$40,'ABT Transactions'!$G$9:$G$40,$C29,'ABT Transactions'!$F$9:$F$40,$AM$14,'ABT Transactions'!$C$9:$C$40,AN$15,'ABT Transactions'!$D$9:$D$40,$B$24)","v":0},{"$f":"SUMIFS('ABT Transactions'!$B$9:$B$40,'ABT Transactions'!$G$9:$G$40,$C29,'ABT Transactions'!$F$9:$F$40,$AM$14,'ABT Transactions'!$C$9:$C$40,AO$15,'ABT Transactions'!$D$9:$D$40,$B$24)","v":0},{"$f":"SUMIFS('ABT Transactions'!$B$9:$B$40,'ABT Transactions'!$G$9:$G$40,$C29,'ABT Transactions'!$F$9:$F$40,$AP$14,'ABT Transactions'!$C$9:$C$40,AP$15,'ABT Transactions'!$D$9:$D$40,$B$24)","v":0},{"$f":"SUMIFS('ABT Transactions'!$B$9:$B$40,'ABT Transactions'!$G$9:$G$40,$C29,'ABT Transactions'!$F$9:$F$40,$AP$14,'ABT Transactions'!$C$9:$C$40,AQ$15,'ABT Transactions'!$D$9:$D$40,$B$24)","v":0},{"$f":"SUMIFS('ABT Transactions'!$B$9:$B$40,'ABT Transactions'!$G$9:$G$40,$C29,'ABT Transactions'!$F$9:$F$40,$AP$14,'ABT Transactions'!$C$9:$C$40,AR$15,'ABT Transactions'!$D$9:$D$40,$B$24)","v":0},{"$f":"SUMIFS('ABT Transactions'!$B$9:$B$40,'ABT Transactions'!$G$9:$G$40,$C$29,'ABT Transactions'!$F$9:$F$40,$AS$30,'ABT Transactions'!$C$9:$C$40,AS31,'ABT Transactions'!$D$9:$D$40,$B$40)","v":0},{"$f":"SUMIFS('ABT Transactions'!$B$9:$B$40,'ABT Transactions'!$G$9:$G$40,$C$29,'ABT Transactions'!$F$9:$F$40,$AS$30,'ABT Transactions'!$C$9:$C$40,AT31,'ABT Transactions'!$D$9:$D$40,$B$40)","v":0},{"$f":"SUMIFS('ABT Transactions'!$B$9:$B$40,'ABT Transactions'!$G$9:$G$40,$C$29,'ABT Transactions'!$F$9:$F$40,$AS$30,'ABT Transactions'!$C$9:$C$40,AU31,'ABT Transactions'!$D$9:$D$40,$B$40)","v":0}]
[null,"Expired Credits",{"$f":"SUMIFS('ABT Transactions'!$B$9:$B$40,'ABT Transactions'!$G$9:$G$40,$C$29,'ABT Transactions'!$F$9:$F$40,$C$30,'ABT Transactions'!$C$9:$C$40,C31,'ABT Transactions'!$D$9:$D$40,$B$41)","v":0},{"$f":"SUMIFS('ABT Transactions'!$B$9:$B$40,'ABT Transactions'!$G$9:$G$40,$C$29,'ABT Transactions'!$F$9:$F$40,$C$30,'ABT Transactions'!$C$9:$C$40,D31,'ABT Transactions'!$D$9:$D$40,$B$41)","v":0},{"$f":"SUMIFS('ABT Transactions'!$B$9:$B$40,'ABT Transactions'!$G$9:$G$40,$C$29,'ABT Transactions'!$F$9:$F$40,$C$30,'ABT Transactions'!$C$9:$C$40,E31,'ABT Transactions'!$D$9:$D$40,$B$41)","v":0},{"$f":"SUMIFS('ABT Transactions'!$B$9:$B$40,'ABT Transactions'!$G$9:$G$40,$C$29,'ABT Transactions'!$F$9:$F$40,$F$30,'ABT Transactions'!$C$9:$C$40,F31,'ABT Transactions'!$D$9:$D$40,$B$41)","v":0},{"$f":"SUMIFS('ABT Transactions'!$B$9:$B$40,'ABT Transactions'!$G$9:$G$40,$C$29,'ABT Transactions'!$F$9:$F$40,$F$30,'ABT Transactions'!$C$9:$C$40,G31,'ABT Transactions'!$D$9:$D$40,$B$41)","v":0},{"$f":"SUMIFS('ABT Transactions'!$B$9:$B$40,'ABT Transactions'!$G$9:$G$40,$C$29,'ABT Transactions'!$F$9:$F$40,$F$30,'ABT Transactions'!$C$9:$C$40,H31,'ABT Transactions'!$D$9:$D$40,$B$41)","v":0},{"$f":"SUMIFS('ABT Transactions'!$B$9:$B$40,'ABT Transactions'!$G$9:$G$40,$C$29,'ABT Transactions'!$F$9:$F$40,$I$30,'ABT Transactions'!$C$9:$C$40,I31,'ABT Transactions'!$D$9:$D$40,$B$41)","v":0},{"$f":"SUMIFS('ABT Transactions'!$B$9:$B$40,'ABT Transactions'!$G$9:$G$40,$C$29,'ABT Transactions'!$F$9:$F$40,$I$30,'ABT Transactions'!$C$9:$C$40,J31,'ABT Transactions'!$D$9:$D$40,$B$41)","v":0},{"$f":"SUMIFS('ABT Transactions'!$B$9:$B$40,'ABT Transactions'!$G$9:$G$40,$C$29,'ABT Transactions'!$F$9:$F$40,$I$30,'ABT Transactions'!$C$9:$C$40,K31,'ABT Transactions'!$D$9:$D$40,$B$41)","v":0},{"$f":"SUMIFS('ABT Transactions'!$B$9:$B$40,'ABT Transactions'!$G$9:$G$40,$C$29,'ABT Transactions'!$F$9:$F$40,$L$30,'ABT Transactions'!$C$9:$C$40,L31,'ABT Transactions'!$D$9:$D$40,$B$41)","v":0},{"$f":"SUMIFS('ABT Transactions'!$B$9:$B$40,'ABT Transactions'!$G$9:$G$40,$C$29,'ABT Transactions'!$F$9:$F$40,$L$30,'ABT Transactions'!$C$9:$C$40,M31,'ABT Transactions'!$D$9:$D$40,$B$41)","v":0},{"$f":"SUMIFS('ABT Transactions'!$B$9:$B$40,'ABT Transactions'!$G$9:$G$40,$C$29,'ABT Transactions'!$F$9:$F$40,$L$30,'ABT Transactions'!$C$9:$C$40,N31,'ABT Transactions'!$D$9:$D$40,$B$41)","v":0},{"$f":"SUMIFS('ABT Transactions'!$B$9:$B$40,'ABT Transactions'!$G$9:$G$40,$C$29,'ABT Transactions'!$F$9:$F$40,$O$30,'ABT Transactions'!$C$9:$C$40,O31,'ABT Transactions'!$D$9:$D$40,$B$41)","v":0},{"$f":"SUMIFS('ABT Transactions'!$B$9:$B$40,'ABT Transactions'!$G$9:$G$40,$C$29,'ABT Transactions'!$F$9:$F$40,$O$30,'ABT Transactions'!$C$9:$C$40,P31,'ABT Transactions'!$D$9:$D$40,$B$41)","v":0},{"$f":"SUMIFS('ABT Transactions'!$B$9:$B$40,'ABT Transactions'!$G$9:$G$40,$C$29,'ABT Transactions'!$F$9:$F$40,$O$30,'ABT Transactions'!$C$9:$C$40,Q31,'ABT Transactions'!$D$9:$D$40,$B$41)","v":0},{"$f":"SUMIFS('ABT Transactions'!$B$9:$B$40,'ABT Transactions'!$G$9:$G$40,$C$29,'ABT Transactions'!$F$9:$F$40,$R$30,'ABT Transactions'!$C$9:$C$40,R31,'ABT Transactions'!$D$9:$D$40,$B$41)","v":0},{"$f":"SUMIFS('ABT Transactions'!$B$9:$B$40,'ABT Transactions'!$G$9:$G$40,$C$29,'ABT Transactions'!$F$9:$F$40,$R$30,'ABT Transactions'!$C$9:$C$40,S31,'ABT Transactions'!$D$9:$D$40,$B$41)","v":0},{"$f":"SUMIFS('ABT Transactions'!$B$9:$B$40,'ABT Transactions'!$G$9:$G$40,$C$29,'ABT Transactions'!$F$9:$F$40,$R$30,'ABT Transactions'!$C$9:$C$40,T31,'ABT Transactions'!$D$9:$D$40,$B$41)","v":0},{"$f":"SUMIFS('ABT Transactions'!$B$9:$B$40,'ABT Transactions'!$G$9:$G$40,$C29,'ABT Transactions'!$F$9:$F$40,$U$14,'ABT Transactions'!$C$9:$C$40,U$15,'ABT Transactions'!$D$9:$D$40,$B$25)","v":0},{"$f":"SUMIFS('ABT Transactions'!$B$9:$B$40,'ABT Transactions'!$G$9:$G$40,$C29,'ABT Transactions'!$F$9:$F$40,$U$14,'ABT Transactions'!$C$9:$C$40,V$15,'ABT Transactions'!$D$9:$D$40,$B$25)","v":0},{"$f":"SUMIFS('ABT Transactions'!$B$9:$B$40,'ABT Transactions'!$G$9:$G$40,$C29,'ABT Transactions'!$F$9:$F$40,$U$14,'ABT Transactions'!$C$9:$C$40,W$15,'ABT Transactions'!$D$9:$D$40,$B$25)","v":0},{"$f":"SUMIFS('ABT Transactions'!$B$9:$B$40,'ABT Transactions'!$G$9:$G$40,$C29,'ABT Transactions'!$F$9:$F$40,$X$14,'ABT Transactions'!$C$9:$C$40,X$15,'ABT Transactions'!$D$9:$D$40,$B$25)","v":0},{"$f":"SUMIFS('ABT Transactions'!$B$9:$B$40,'ABT Transactions'!$G$9:$G$40,$C29,'ABT Transactions'!$F$9:$F$40,$X$14,'ABT Transactions'!$C$9:$C$40,Y$15,'ABT Transactions'!$D$9:$D$40,$B$25)","v":0},{"$f":"SUMIFS('ABT Transactions'!$B$9:$B$40,'ABT Transactions'!$G$9:$G$40,$C29,'ABT Transactions'!$F$9:$F$40,$X$14,'ABT Transactions'!$C$9:$C$40,Z$15,'ABT Transactions'!$D$9:$D$40,$B$25)","v":0},{"$f":"SUMIFS('ABT Transactions'!$B$9:$B$40,'ABT Transactions'!$G$9:$G$40,$C29,'ABT Transactions'!$F$9:$F$40,$AA$14,'ABT Transactions'!$C$9:$C$40,AA$15,'ABT Transactions'!$D$9:$D$40,$B$25)","v":0},{"$f":"SUMIFS('ABT Transactions'!$B$9:$B$40,'ABT Transactions'!$G$9:$G$40,$C29,'ABT Transactions'!$F$9:$F$40,$AA$14,'ABT Transactions'!$C$9:$C$40,AB$15,'ABT Transactions'!$D$9:$D$40,$B$25)","v":0},{"$f":"SUMIFS('ABT Transactions'!$B$9:$B$40,'ABT Transactions'!$G$9:$G$40,$C29,'ABT Transactions'!$F$9:$F$40,$AA$14,'ABT Transactions'!$C$9:$C$40,AC$15,'ABT Transactions'!$D$9:$D$40,$B$25)","v":0},{"$f":"SUMIFS('ABT Transactions'!$B$9:$B$40,'ABT Transactions'!$G$9:$G$40,$C29,'ABT Transactions'!$F$9:$F$40,$AD$14,'ABT Transactions'!$C$9:$C$40,AD$15,'ABT Transactions'!$D$9:$D$40,$B$25)","v":0},{"$f":"SUMIFS('ABT Transactions'!$B$9:$B$40,'ABT Transactions'!$G$9:$G$40,$C29,'ABT Transactions'!$F$9:$F$40,$AD$14,'ABT Transactions'!$C$9:$C$40,AE$15,'ABT Transactions'!$D$9:$D$40,$B$25)","v":0},{"$f":"SUMIFS('ABT Transactions'!$B$9:$B$40,'ABT Transactions'!$G$9:$G$40,$C29,'ABT Transactions'!$F$9:$F$40,$AD$14,'ABT Transactions'!$C$9:$C$40,AF$15,'ABT Transactions'!$D$9:$D$40,$B$25)","v":0},{"$f":"SUMIFS('ABT Transactions'!$B$9:$B$40,'ABT Transactions'!$G$9:$G$40,$C29,'ABT Transactions'!$F$9:$F$40,$AG$14,'ABT Transactions'!$C$9:$C$40,AG$15,'ABT Transactions'!$D$9:$D$40,$B$25)","v":0},{"$f":"SUMIFS('ABT Transactions'!$B$9:$B$40,'ABT Transactions'!$G$9:$G$40,$C29,'ABT Transactions'!$F$9:$F$40,$AG$14,'ABT Transactions'!$C$9:$C$40,AH$15,'ABT Transactions'!$D$9:$D$40,$B$25)","v":0},{"$f":"SUMIFS('ABT Transactions'!$B$9:$B$40,'ABT Transactions'!$G$9:$G$40,$C29,'ABT Transactions'!$F$9:$F$40,$AG$14,'ABT Transactions'!$C$9:$C$40,AI$15,'ABT Transactions'!$D$9:$D$40,$B$25)","v":0},{"$f":"SUMIFS('ABT Transactions'!$B$9:$B$40,'ABT Transactions'!$G$9:$G$40,$C29,'ABT Transactions'!$F$9:$F$40,$AJ$14,'ABT Transactions'!$C$9:$C$40,AJ$15,'ABT Transactions'!$D$9:$D$40,$B$25)","v":0},{"$f":"SUMIFS('ABT Transactions'!$B$9:$B$40,'ABT Transactions'!$G$9:$G$40,$C29,'ABT Transactions'!$F$9:$F$40,$AJ$14,'ABT Transactions'!$C$9:$C$40,AK$15,'ABT Transactions'!$D$9:$D$40,$B$25)","v":0},{"$f":"SUMIFS('ABT Transactions'!$B$9:$B$40,'ABT Transactions'!$G$9:$G$40,$C29,'ABT Transactions'!$F$9:$F$40,$AJ$14,'ABT Transactions'!$C$9:$C$40,AL$15,'ABT Transactions'!$D$9:$D$40,$B$25)","v":0},{"$f":"SUMIFS('ABT Transactions'!$B$9:$B$40,'ABT Transactions'!$G$9:$G$40,$C29,'ABT Transactions'!$F$9:$F$40,$AM$14,'ABT Transactions'!$C$9:$C$40,AM$15,'ABT Transactions'!$D$9:$D$40,$B$25)","v":0},{"$f":"SUMIFS('ABT Transactions'!$B$9:$B$40,'ABT Transactions'!$G$9:$G$40,$C29,'ABT Transactions'!$F$9:$F$40,$AM$14,'ABT Transactions'!$C$9:$C$40,AN$15,'ABT Transactions'!$D$9:$D$40,$B$25)","v":0},{"$f":"SUMIFS('ABT Transactions'!$B$9:$B$40,'ABT Transactions'!$G$9:$G$40,$C29,'ABT Transactions'!$F$9:$F$40,$AM$14,'ABT Transactions'!$C$9:$C$40,AO$15,'ABT Transactions'!$D$9:$D$40,$B$25)","v":0},{"$f":"SUMIFS('ABT Transactions'!$B$9:$B$40,'ABT Transactions'!$G$9:$G$40,$C29,'ABT Transactions'!$F$9:$F$40,$AP$14,'ABT Transactions'!$C$9:$C$40,AP$15,'ABT Transactions'!$D$9:$D$40,$B$25)","v":0},{"$f":"SUMIFS('ABT Transactions'!$B$9:$B$40,'ABT Transactions'!$G$9:$G$40,$C29,'ABT Transactions'!$F$9:$F$40,$AP$14,'ABT Transactions'!$C$9:$C$40,AQ$15,'ABT Transactions'!$D$9:$D$40,$B$25)","v":0},{"$f":"SUMIFS('ABT Transactions'!$B$9:$B$40,'ABT Transactions'!$G$9:$G$40,$C29,'ABT Transactions'!$F$9:$F$40,$AP$14,'ABT Transactions'!$C$9:$C$40,AR$15,'ABT Transactions'!$D$9:$D$40,$B$25)","v":0},{"$f":"SUMIFS('ABT Transactions'!$B$9:$B$40,'ABT Transactions'!$G$9:$G$40,$C$29,'ABT Transactions'!$F$9:$F$40,$AS$30,'ABT Transactions'!$C$9:$C$40,AS31,'ABT Transactions'!$D$9:$D$40,$B$41)","v":0},{"$f":"SUMIFS('ABT Transactions'!$B$9:$B$40,'ABT Transactions'!$G$9:$G$40,$C$29,'ABT Transactions'!$F$9:$F$40,$AS$30,'ABT Transactions'!$C$9:$C$40,AT31,'ABT Transactions'!$D$9:$D$40,$B$41)","v":0},{"$f":"SUMIFS('ABT Transactions'!$B$9:$B$40,'ABT Transactions'!$G$9:$G$40,$C$29,'ABT Transactions'!$F$9:$F$40,$AS$30,'ABT Transactions'!$C$9:$C$40,AU31,'ABT Transactions'!$D$9:$D$40,$B$41)","v":0}]
[null,"Final Credit Balance",{"$f":"(C32+C33+C35+C37+C39+C40+C41)-(C34+C36+C38)","v":0},{"$f":"(D32+D33+D35+D37+D39+D40+D41)-(D34+D36+D38)","v":0},0,0,0,0,0,0,0,0,0,0,0,0,0,0,0,0,{"$f":"(U32+U33+U35+U37+U39+U40+U41)-(U34+U36+U38)","v":0},{"$f":"(V32+V33+V35+V37+V39+V40+V41)-(V34+V36+V38)","v":0},{"$f":"(W32+W33+W35+W37+W39+W40+W41)-(W34+W36+W38)","v":0},{"$f":"(X32+X33+X35+X37+X39+X40+X41)-(X34+X36+X38)","v":0},{"$f":"(Y32+Y33+Y35+Y37+Y39+Y40+Y41)-(Y34+Y36+Y38)","v":0},{"$f":"(Z32+Z33+Z35+Z37+Z39+Z40+Z41)-(Z34+Z36+Z38)","v":0},{"$f":"(AA32+AA33+AA35+AA37+AA39+AA40+AA41)-(AA34+AA36+AA38)","v":0},{"$f":"(AB32+AB33+AB35+AB37+AB39+AB40+AB41)-(AB34+AB36+AB38)","v":0},{"$f":"(AC32+AC33+AC35+AC37+AC39+AC40+AC41)-(AC34+AC36+AC38)","v":0},{"$f":"(AD32+AD33+AD35+AD37+AD39+AD40+AD41)-(AD34+AD36+AD38)","v":0},{"$f":"(AE32+AE33+AE35+AE37+AE39+AE40+AE41)-(AE34+AE36+AE38)","v":0},{"$f":"(AF32+AF33+AF35+AF37+AF39+AF40+AF41)-(AF34+AF36+AF38)","v":0},{"$f":"(AG32+AG33+AG35+AG37+AG39+AG40+AG41)-(AG34+AG36+AG38)","v":0},{"$f":"(AH32+AH33+AH35+AH37+AH39+AH40+AH41)-(AH34+AH36+AH38)","v":0},{"$f":"(AI32+AI33+AI35+AI37+AI39+AI40+AI41)-(AI34+AI36+AI38)","v":0},{"$f":"(AJ32+AJ33+AJ35+AJ37+AJ39+AJ40+AJ41)-(AJ34+AJ36+AJ38)","v":0},{"$f":"(AK32+AK33+AK35+AK37+AK39+AK40+AK41)-(AK34+AK36+AK38)","v":0},{"$f":"(AL32+AL33+AL35+AL37+AL39+AL40+AL41)-(AL34+AL36+AL38)","v":0},{"$f":"(AM32+AM33+AM35+AM37+AM39+AM40+AM41)-(AM34+AM36+AM38)","v":0},{"$f":"(AN32+AN33+AN35+AN37+AN39+AN40+AN41)-(AN34+AN36+AN38)","v":0},{"$f":"(AO32+AO33+AO35+AO37+AO39+AO40+AO41)-(AO34+AO36+AO38)","v":0},{"$f":"(AP32+AP33+AP35+AP37+AP39+AP40+AP41)-(AP34+AP36+AP38)","v":0},{"$f":"(AQ32+AQ33+AQ35+AQ37+AQ39+AQ40+AQ41)-(AQ34+AQ36+AQ38)","v":0},{"$f":"(AR32+AR33+AR35+AR37+AR39+AR40+AR41)-(AR34+AR36+AR38)","v":0},0,0,0]
[null,"Averaging Set Credit Balance",{"$f":"SUM(C42:E42)","v":0},null,null,{"$f":"SUM(F42:H42)","v":0},null,null,{"$f":"SUM(I42:K42)","v":0},null,null,{"$f":"SUM(L42:N42)","v":0},null,null,{"$f":"SUM(O42:Q42)","v":0},null,null,{"$f":"SUM(R42:T42)","v":0},null,null,{"$f":"SUM(U42:W42)","v":0},null,null,{"$f":"SUM(X42:Z42)","v":0},null,null,{"$f":"SUM(AA42:AC42)","v":0},null,null,{"$f":"SUM(AD42:AF42)","v":0},null,null,{"$f":"SUM(AG42:AI42)","v":0},null,null,{"$f":"SUM(AJ42:AL42)","v":0},null,null,{"$f":"SUM(AM42:AO42)","v":0},null,null,{"$f":"SUM(AP42:AR42)","v":0},null,null,{"$f":"SUM(AS42:AU42)","v":0}]
[]
[]
[null,null,"MHDV (Cl 6-7)"]
[null,null,2013,null,null,2014,null,null,2015,null,null,2016,null,null,2017,null,null,2018,null,null,2019,null,null,2020,null,null,2021,null,null,2022,null,null,2023,null,null,2024,null,null,2025,null,null,2026,null,null,2027]
[null,"Credit Type","Conventional Credit","Innovative Technology Credit","Advanced Technology Credit","Conventional Credit","Innovative Technology Credit","Advanced Technology Credit","Conventional Credit","Innovative Technology Credit","Advanced Technology Credit","Conventional Credit","Innovative Technology Credit","Advanced Technology Credit","Conventional Credit","Innovative Technology Credit","Advanced Technology Credit","Conventional Credit","Innovative Technology Credit","Advanced Technology Credit","Conventional Credit","Innovative Technology Credit","Advanced Technology Credit","Conventional Credit","Innovative Technology Credit","Advanced Technology Credit","Conventional Credit","Innovative Technology Credit","Advanced Technology Credit","Conventional Credit","Innovative Technology Credit","Advanced Technology Credit","Conventional Credit","Innovative Technology Credit","Advanced Technology Credit","Conventional Credit","Innovative Technology Credit","Advanced Technology Credit","Conventional Credit","Innovative Technology Credit","Advanced Technology Credit","Conventional Credit","Innovative Technology Credit","Advanced Technology Credit","Conventional Credit","Innovative Technology Credit","Advanced Technology Credit"]
[null,"Earned Credits",{"$f":"SUMIFS('ABT Credit Balances'!$D$9:$D$208,'ABT Credit Balances'!$B$9:$B$208,$C$46,'ABT Credit Balances'!$F$9:$F$208,C48,'ABT Credit Balances'!$E$9:$E$208,$C$47,'ABT Credit Balances'!$C$9:$C$208,$B$49)","v":0},{"$f":"SUMIFS('ABT Credit Balances'!$D$9:$D$208,'ABT Credit Balances'!$B$9:$B$208,$C$46,'ABT Credit Balances'!$F$9:$F$208,D48,'ABT Credit Balances'!$E$9:$E$208,$C$47,'ABT Credit Balances'!$C$9:$C$208,$B$49)","v":0},{"$f":"SUMIFS('ABT Credit Balances'!$D$9:$D$208,'ABT Credit Balances'!$B$9:$B$208,$C$46,'ABT Credit Balances'!$F$9:$F$208,E48,'ABT Credit Balances'!$E$9:$E$208,$C$47,'ABT Credit Balances'!$C$9:$C$208,$B$49)","v":0},{"$f":"SUMIFS('ABT Credit Balances'!$D$9:$D$208,'ABT Credit Balances'!$B$9:$B$208,$C$46,'ABT Credit Balances'!$F$9:$F$208,F48,'ABT Credit Balances'!$E$9:$E$208,$F$47,'ABT Credit Balances'!$C$9:$C$208,$B$49)","v":0},{"$f":"SUMIFS('ABT Credit Balances'!$D$9:$D$208,'ABT Credit Balances'!$B$9:$B$208,$C$46,'ABT Credit Balances'!$F$9:$F$208,G48,'ABT Credit Balances'!$E$9:$E$208,$F$47,'ABT Credit Balances'!$C$9:$C$208,$B$49)","v":0},{"$f":"SUMIFS('ABT Credit Balances'!$D$9:$D$208,'ABT Credit Balances'!$B$9:$B$208,$C$46,'ABT Credit Balances'!$F$9:$F$208,H48,'ABT Credit Balances'!$E$9:$E$208,$F$47,'ABT Credit Balances'!$C$9:$C$208,$B$49)","v":0},{"$f":"SUMIFS('ABT Credit Balances'!$D$9:$D$208,'ABT Credit Balances'!$B$9:$B$208,$C$46,'ABT Credit Balances'!$F$9:$F$208,I48,'ABT Credit Balances'!$E$9:$E$208,$I$47,'ABT Credit Balances'!$C$9:$C$208,$B$49)","v":0},{"$f":"SUMIFS('ABT Credit Balances'!$D$9:$D$208,'ABT Credit Balances'!$B$9:$B$208,$C$46,'ABT Credit Balances'!$F$9:$F$208,J48,'ABT Credit Balances'!$E$9:$E$208,$I$47,'ABT Credit Balances'!$C$9:$C$208,$B$49)","v":0},{"$f":"SUMIFS('ABT Credit Balances'!$D$9:$D$208,'ABT Credit Balances'!$B$9:$B$208,$C$46,'ABT Credit Balances'!$F$9:$F$208,K48,'ABT Credit Balances'!$E$9:$E$208,$I$47,'ABT Credit Balances'!$C$9:$C$208,$B$49)","v":0},{"$f":"SUMIFS('ABT Credit Balances'!$D$9:$D$208,'ABT Credit Balances'!$B$9:$B$208,$C$46,'ABT Credit Balances'!$F$9:$F$208,L48,'ABT Credit Balances'!$E$9:$E$208,$L$47,'ABT Credit Balances'!$C$9:$C$208,$B$49)","v":0},{"$f":"SUMIFS('ABT Credit Balances'!$D$9:$D$208,'ABT Credit Balances'!$B$9:$B$208,$C$46,'ABT Credit Balances'!$F$9:$F$208,M48,'ABT Credit Balances'!$E$9:$E$208,$L$47,'ABT Credit Balances'!$C$9:$C$208,$B$49)","v":0},{"$f":"SUMIFS('ABT Credit Balances'!$D$9:$D$208,'ABT Credit Balances'!$B$9:$B$208,$C$46,'ABT Credit Balances'!$F$9:$F$208,N48,'ABT Credit Balances'!$E$9:$E$208,$L$47,'ABT Credit Balances'!$C$9:$C$208,$B$49)","v":0},{"$f":"SUMIFS('ABT Credit Balances'!$D$9:$D$208,'ABT Credit Balances'!$B$9:$B$208,$C$46,'ABT Credit Balances'!$F$9:$F$208,O48,'ABT Credit Balances'!$E$9:$E$208,$O$47,'ABT Credit Balances'!$C$9:$C$208,$B$49)","v":0},{"$f":"SUMIFS('ABT Credit Balances'!$D$9:$D$208,'ABT Credit Balances'!$B$9:$B$208,$C$46,'ABT Credit Balances'!$F$9:$F$208,P48,'ABT Credit Balances'!$E$9:$E$208,$O$47,'ABT Credit Balances'!$C$9:$C$208,$B$49)","v":0},{"$f":"SUMIFS('ABT Credit Balances'!$D$9:$D$208,'ABT Credit Balances'!$B$9:$B$208,$C$46,'ABT Credit Balances'!$F$9:$F$208,Q48,'ABT Credit Balances'!$E$9:$E$208,$O$47,'ABT Credit Balances'!$C$9:$C$208,$B$49)","v":0},{"$f":"SUMIFS('ABT Credit Balances'!$D$9:$D$208,'ABT Credit Balances'!$B$9:$B$208,$C$46,'ABT Credit Balances'!$F$9:$F$208,R48,'ABT Credit Balances'!$E$9:$E$208,$R$47,'ABT Credit Balances'!$C$9:$C$208,$B$49)","v":0},{"$f":"SUMIFS('ABT Credit Balances'!$D$9:$D$208,'ABT Credit Balances'!$B$9:$B$208,$C$46,'ABT Credit Balances'!$F$9:$F$208,S48,'ABT Credit Balances'!$E$9:$E$208,$R$47,'ABT Credit Balances'!$C$9:$C$208,$B$49)","v":0},{"$f":"SUMIFS('ABT Credit Balances'!$D$9:$D$208,'ABT Credit Balances'!$B$9:$B$208,$C$46,'ABT Credit Balances'!$F$9:$F$208,T48,'ABT Credit Balances'!$E$9:$E$208,$R$47,'ABT Credit Balances'!$C$9:$C$208,$B$49)","v":0},{"$f":"SUMIFS('ABT Credit Balances'!$D$9:$D$208,'ABT Credit Balances'!$B$9:$B$208,$C46,'ABT Credit Balances'!$F$9:$F$208,U48,'ABT Credit Balances'!$E$9:$E$208,$U$14,'ABT Credit Balances'!$C$9:$C$208,$B$16)","v":0},{"$f":"SUMIFS('ABT Credit Balances'!$D$9:$D$208,'ABT Credit Balances'!$B$9:$B$208,$C46,'ABT Credit Balances'!$F$9:$F$208,V48,'ABT Credit Balances'!$E$9:$E$208,$U$14,'ABT Credit Balances'!$C$9:$C$208,$B$16)","v":0},{"$f":"SUMIFS('ABT Credit Balances'!$D$9:$D$208,'ABT Credit Balances'!$B$9:$B$208,$C46,'ABT Credit Balances'!$F$9:$F$208,W48,'ABT Credit Balances'!$E$9:$E$208,$U$14,'ABT Credit Balances'!$C$9:$C$208,$B$16)","v":0},{"$f":"SUMIFS('ABT Credit Balances'!$D$9:$D$208,'ABT Credit Balances'!$B$9:$B$208,$C46,'ABT Credit Balances'!$F$9:$F$208,X48,'ABT Credit Balances'!$E$9:$E$208,$X$14,'ABT Credit Balances'!$C$9:$C$208,$B$16)","v":0},{"$f":"SUMIFS('ABT Credit Balances'!$D$9:$D$208,'ABT Credit Balances'!$B$9:$B$208,$C46,'ABT Credit Balances'!$F$9:$F$208,Y48,'ABT Credit Balances'!$E$9:$E$208,$X$14,'ABT Credit Balances'!$C$9:$C$208,$B$16)","v":0},{"$f":"SUMIFS('ABT Credit Balances'!$D$9:$D$208,'ABT Credit Balances'!$B$9:$B$208,$C46,'ABT Credit Balances'!$F$9:$F$208,Z48,'ABT Credit Balances'!$E$9:$E$208,$X$14,'ABT Credit Balances'!$C$9:$C$208,$B$16)","v":0},{"$f":"SUMIFS('ABT Credit Balances'!$D$9:$D$208,'ABT Credit Balances'!$B$9:$B$208,$C46,'ABT Credit Balances'!$F$9:$F$208,AA48,'ABT Credit Balances'!$E$9:$E$208,$AA$14,'ABT Credit Balances'!$C$9:$C$208,$B$16)","v":0},{"$f":"SUMIFS('ABT Credit Balances'!$D$9:$D$208,'ABT Credit Balances'!$B$9:$B$208,$C46,'ABT Credit Balances'!$F$9:$F$208,AB48,'ABT Credit Balances'!$E$9:$E$208,$AA$14,'ABT Credit Balances'!$C$9:$C$208,$B$16)","v":0},{"$f":"SUMIFS('ABT Credit Balances'!$D$9:$D$208,'ABT Credit Balances'!$B$9:$B$208,$C46,'ABT Credit Balances'!$F$9:$F$208,AC48,'ABT Credit Balances'!$E$9:$E$208,$AA$14,'ABT Credit Balances'!$C$9:$C$208,$B$16)","v":0},{"$f":"SUMIFS('ABT Credit Balances'!$D$9:$D$208,'ABT Credit Balances'!$B$9:$B$208,$C46,'ABT Credit Balances'!$F$9:$F$208,AD48,'ABT Credit Balances'!$E$9:$E$208,$AD$14,'ABT Credit Balances'!$C$9:$C$208,$B$16)","v":0},{"$f":"SUMIFS('ABT Credit Balances'!$D$9:$D$208,'ABT Credit Balances'!$B$9:$B$208,$C46,'ABT Credit Balances'!$F$9:$F$208,AE48,'ABT Credit Balances'!$E$9:$E$208,$AD$14,'ABT Credit Balances'!$C$9:$C$208,$B$16)","v":0},{"$f":"SUMIFS('ABT Credit Balances'!$D$9:$D$208,'ABT Credit Balances'!$B$9:$B$208,$C46,'ABT Credit Balances'!$F$9:$F$208,AF48,'ABT Credit Balances'!$E$9:$E$208,$AD$14,'ABT Credit Balances'!$C$9:$C$208,$B$16)","v":0},{"$f":"SUMIFS('ABT Credit Balances'!$D$9:$D$208,'ABT Credit Balances'!$B$9:$B$208,$C46,'ABT Credit Balances'!$F$9:$F$208,AG48,'ABT Credit Balances'!$E$9:$E$208,$AG$14,'ABT Credit Balances'!$C$9:$C$208,$B$16)","v":0},{"$f":"SUMIFS('ABT Credit Balances'!$D$9:$D$208,'ABT Credit Balances'!$B$9:$B$208,$C46,'ABT Credit Balances'!$F$9:$F$208,AH48,'ABT Credit Balances'!$E$9:$E$208,$AG$14,'ABT Credit Balances'!$C$9:$C$208,$B$16)","v":0},{"$f":"SUMIFS('ABT Credit Balances'!$D$9:$D$208,'ABT Credit Balances'!$B$9:$B$208,$C46,'ABT Credit Balances'!$F$9:$F$208,AI48,'ABT Credit Balances'!$E$9:$E$208,$AG$14,'ABT Credit Balances'!$C$9:$C$208,$B$16)","v":0},{"$f":"SUMIFS('ABT Credit Balances'!$D$9:$D$208,'ABT Credit Balances'!$B$9:$B$208,$C46,'ABT Credit Balances'!$F$9:$F$208,AJ48,'ABT Credit Balances'!$E$9:$E$208,$AJ$14,'ABT Credit Balances'!$C$9:$C$208,$B$16)","v":0},{"$f":"SUMIFS('ABT Credit Balances'!$D$9:$D$208,'ABT Credit Balances'!$B$9:$B$208,$C46,'ABT Credit Balances'!$F$9:$F$208,AK48,'ABT Credit Balances'!$E$9:$E$208,$AJ$14,'ABT Credit Balances'!$C$9:$C$208,$B$16)","v":0},{"$f":"SUMIFS('ABT Credit Balances'!$D$9:$D$208,'ABT Credit Balances'!$B$9:$B$208,$C46,'ABT Credit Balances'!$F$9:$F$208,AL48,'ABT Credit Balances'!$E$9:$E$208,$AJ$14,'ABT Credit Balances'!$C$9:$C$208,$B$16)","v":0},{"$f":"SUMIFS('ABT Credit Balances'!$D$9:$D$208,'ABT Credit Balances'!$B$9:$B$208,$C46,'ABT Credit Balances'!$F$9:$F$208,AM48,'ABT Credit Balances'!$E$9:$E$208,$AM$14,'ABT Credit Balances'!$C$9:$C$208,$B$16)","v":0},{"$f":"SUMIFS('ABT Credit Balances'!$D$9:$D$208,'ABT Credit Balances'!$B$9:$B$208,$C46,'ABT Credit Balances'!$F$9:$F$208,AN48,'ABT Credit Balances'!$E$9:$E$208,$AM$14,'ABT Credit Balances'!$C$9:$C$208,$B$16)","v":0},{"$f":"SUMIFS('ABT Credit Balances'!$D$9:$D$208,'ABT Credit Balances'!$B$9:$B$208,$C46,'ABT Credit Balances'!$F$9:$F$208,AO48,'ABT Credit Balances'!$E$9:$E$208,$AM$14,'ABT Credit Balances'!$C$9:$C$208,$B$16)","v":0},{"$f":"SUMIFS('ABT Credit Balances'!$D$9:$D$208,'ABT Credit Balances'!$B$9:$B$208,$C46,'ABT Credit Balances'!$F$9:$F$208,AP48,'ABT Credit Balances'!$E$9:$E$208,$AP$14,'ABT Credit Balances'!$C$9:$C$208,$B$16)","v":0},{"$f":"SUMIFS('ABT Credit Balances'!$D$9:$D$208,'ABT Credit Balances'!$B$9:$B$208,$C46,'ABT Credit Balances'!$F$9:$F$208,AQ48,'ABT Credit Balances'!$E$9:$E$208,$AP$14,'ABT Credit Balances'!$C$9:$C$208,$B$16)","v":0},{"$f":"SUMIFS('ABT Credit Balances'!$D$9:$D$208,'ABT Credit Balances'!$B$9:$B$208,$C46,'ABT Credit Balances'!$F$9:$F$208,AR48,'ABT Credit Balances'!$E$9:$E$208,$AP$14,'ABT Credit Balances'!$C$9:$C$208,$B$16)","v":0},{"$f":"SUMIFS('ABT Credit Balances'!$D$9:$D$208,'ABT Credit Balances'!$B$9:$B$208,$C$46,'ABT Credit Balances'!$F$9:$F$208,AS48,'ABT Credit Balances'!$E$9:$E$208,$AS$47,'ABT Credit Balances'!$C$9:$C$208,$B$49)","v":0},{"$f":"SUMIFS('ABT Credit Balances'!$D$9:$D$208,'ABT Credit Balances'!$B$9:$B$208,$C$46,'ABT Credit Balances'!$F$9:$F$208,AT48,'ABT Credit Balances'!$E$9:$E$208,$AS$47,'ABT Credit Balances'!$C$9:$C$208,$B$49)","v":0},{"$f":"SUMIFS('ABT Credit Balances'!$D$9:$D$208,'ABT Credit Balances'!$B$9:$B$208,$C$46,'ABT Credit Balances'!$F$9:$F$208,AU48,'ABT Credit Balances'!$E$9:$E$208,$AS$47,'ABT Credit Balances'!$C$9:$C$208,$B$49)","v":0}]
[null,"Projected Credits",{"$f":"SUMIFS('ABT Credit Balances'!$D$9:$D$208,'ABT Credit Balances'!$B$9:$B$208,$C$46,'ABT Credit Balances'!$F$9:$F$208,C48,'ABT Credit Balances'!$E$9:$E$208,$C$47,'ABT Credit Balances'!$C$9:$C$208,$B$50)","v":0},{"$f":"SUMIFS('ABT Credit Balances'!$D$9:$D$208,'ABT Credit Balances'!$B$9:$B$208,$C$46,'ABT Credit Balances'!$F$9:$F$208,D48,'ABT Credit Balances'!$E$9:$E$208,$C$47,'ABT Credit Balances'!$C$9:$C$208,$B$50)","v":0},{"$f":"SUMIFS('ABT Credit Balances'!$D$9:$D$208,'ABT Credit Balances'!$B$9:$B$208,$C$46,'ABT Credit Balances'!$F$9:$F$208,E48,'ABT Credit Balances'!$E$9:$E$208,$C$47,'ABT Credit Balances'!$C$9:$C$208,$B$50)","v":0},{"$f":"SUMIFS('ABT Credit Balances'!$D$9:$D$208,'ABT Credit Balances'!$B$9:$B$208,$C$46,'ABT Credit Balances'!$F$9:$F$208,F48,'ABT Credit Balances'!$E$9:$E$208,$F$47,'ABT Credit Balances'!$C$9:$C$208,$B$50)","v":0},{"$f":"SUMIFS('ABT Credit Balances'!$D$9:$D$208,'ABT Credit Balances'!$B$9:$B$208,$C$46,'ABT Credit Balances'!$F$9:$F$208,G48,'ABT Credit Balances'!$E$9:$E$208,$F$47,'ABT Credit Balances'!$C$9:$C$208,$B$50)","v":0},{"$f":"SUMIFS('ABT Credit Balances'!$D$9:$D$208,'ABT Credit Balances'!$B$9:$B$208,$C$46,'ABT Credit Balances'!$F$9:$F$208,H48,'ABT Credit Balances'!$E$9:$E$208,$F$47,'ABT Credit Balances'!$C$9:$C$208,$B$50)","v":0},{"$f":"SUMIFS('ABT Credit Balances'!$D$9:$D$208,'ABT Credit Balances'!$B$9:$B$208,$C$46,'ABT Credit Balances'!$F$9:$F$208,I48,'ABT Credit Balances'!$E$9:$E$208,$I$47,'ABT Credit Balances'!$C$9:$C$208,$B$50)","v":0},{"$f":"SUMIFS('ABT Credit Balances'!$D$9:$D$208,'ABT Credit Balances'!$B$9:$B$208,$C$46,'ABT Credit Balances'!$F$9:$F$208,J48,'ABT Credit Balances'!$E$9:$E$208,$I$47,'ABT Credit Balances'!$C$9:$C$208,$B$50)","v":0},{"$f":"SUMIFS('ABT Credit Balances'!$D$9:$D$208,'ABT Credit Balances'!$B$9:$B$208,$C$46,'ABT Credit Balances'!$F$9:$F$208,K48,'ABT Credit Balances'!$E$9:$E$208,$I$47,'ABT Credit Balances'!$C$9:$C$208,$B$50)","v":0},{"$f":"SUMIFS('ABT Credit Balances'!$D$9:$D$208,'ABT Credit Balances'!$B$9:$B$208,$C$46,'ABT Credit Balances'!$F$9:$F$208,L48,'ABT Credit Balances'!$E$9:$E$208,$L$47,'ABT Credit Balances'!$C$9:$C$208,$B$50)","v":0},{"$f":"SUMIFS('ABT Credit Balances'!$D$9:$D$208,'ABT Credit Balances'!$B$9:$B$208,$C$46,'ABT Credit Balances'!$F$9:$F$208,M48,'ABT Credit Balances'!$E$9:$E$208,$L$47,'ABT Credit Balances'!$C$9:$C$208,$B$50)","v":0},{"$f":"SUMIFS('ABT Credit Balances'!$D$9:$D$208,'ABT Credit Balances'!$B$9:$B$208,$C$46,'ABT Credit Balances'!$F$9:$F$208,N48,'ABT Credit Balances'!$E$9:$E$208,$L$47,'ABT Credit Balances'!$C$9:$C$208,$B$50)","v":0},{"$f":"SUMIFS('ABT Credit Balances'!$D$9:$D$208,'ABT Credit Balances'!$B$9:$B$208,$C$46,'ABT Credit Balances'!$F$9:$F$208,O48,'ABT Credit Balances'!$E$9:$E$208,$O$47,'ABT Credit Balances'!$C$9:$C$208,$B$50)","v":0},{"$f":"SUMIFS('ABT Credit Balances'!$D$9:$D$208,'ABT Credit Balances'!$B$9:$B$208,$C$46,'ABT Credit Balances'!$F$9:$F$208,P48,'ABT Credit Balances'!$E$9:$E$208,$O$47,'ABT Credit Balances'!$C$9:$C$208,$B$50)","v":0},{"$f":"SUMIFS('ABT Credit Balances'!$D$9:$D$208,'ABT Credit Balances'!$B$9:$B$208,$C$46,'ABT Credit Balances'!$F$9:$F$208,Q48,'ABT Credit Balances'!$E$9:$E$208,$O$47,'ABT Credit Balances'!$C$9:$C$208,$B$50)","v":0},{"$f":"SUMIFS('ABT Credit Balances'!$D$9:$D$208,'ABT Credit Balances'!$B$9:$B$208,$C$46,'ABT Credit Balances'!$F$9:$F$208,R48,'ABT Credit Balances'!$E$9:$E$208,$R$47,'ABT Credit Balances'!$C$9:$C$208,$B$50)","v":0},{"$f":"SUMIFS('ABT Credit Balances'!$D$9:$D$208,'ABT Credit Balances'!$B$9:$B$208,$C$46,'ABT Credit Balances'!$F$9:$F$208,S48,'ABT Credit Balances'!$E$9:$E$208,$R$47,'ABT Credit Balances'!$C$9:$C$208,$B$50)","v":0},{"$f":"SUMIFS('ABT Credit Balances'!$D$9:$D$208,'ABT Credit Balances'!$B$9:$B$208,$C$46,'ABT Credit Balances'!$F$9:$F$208,T48,'ABT Credit Balances'!$E$9:$E$208,$R$47,'ABT Credit Balances'!$C$9:$C$208,$B$50)","v":0},{"$f":"SUMIFS('ABT Credit Balances'!$D$9:$D$208,'ABT Credit Balances'!$B$9:$B$208,$C46,'ABT Credit Balances'!$F$9:$F$208,U48,'ABT Credit Balances'!$E$9:$E$208,$U$14,'ABT Credit Balances'!$C$9:$C$208,$B$17)","v":0},{"$f":"SUMIFS('ABT Credit Balances'!$D$9:$D$208,'ABT Credit Balances'!$B$9:$B$208,$C46,'ABT Credit Balances'!$F$9:$F$208,V48,'ABT Credit Balances'!$E$9:$E$208,$U$14,'ABT Credit Balances'!$C$9:$C$208,$B$17)","v":0},{"$f":"SUMIFS('ABT Credit Balances'!$D$9:$D$208,'ABT Credit Balances'!$B$9:$B$208,$C46,'ABT Credit Balances'!$F$9:$F$208,W48,'ABT Credit Balances'!$E$9:$E$208,$U$14,'ABT Credit Balances'!$C$9:$C$208,$B$17)","v":0},{"$f":"SUMIFS('ABT Credit Balances'!$D$9:$D$208,'ABT Credit Balances'!$B$9:$B$208,$C46,'ABT Credit Balances'!$F$9:$F$208,X48,'ABT Credit Balances'!$E$9:$E$208,$X$14,'ABT Credit Balances'!$C$9:$C$208,$B$17)","v":0},{"$f":"SUMIFS('ABT Credit Balances'!$D$9:$D$208,'ABT Credit Balances'!$B$9:$B$208,$C46,'ABT Credit Balances'!$F$9:$F$208,Y48,'ABT Credit Balances'!$E$9:$E$208,$X$14,'ABT Credit Balances'!$C$9:$C$208,$B$17)","v":0},{"$f":"SUMIFS('ABT Credit Balances'!$D$9:$D$208,'ABT Credit Balances'!$B$9:$B$208,$C46,'ABT Credit Balances'!$F$9:$F$208,Z48,'ABT Credit Balances'!$E$9:$E$208,$X$14,'ABT Credit Balances'!$C$9:$C$208,$B$17)","v":0},{"$f":"SUMIFS('ABT Credit Balances'!$D$9:$D$208,'ABT Credit Balances'!$B$9:$B$208,$C46,'ABT Credit Balances'!$F$9:$F$208,AA48,'ABT Credit Balances'!$E$9:$E$208,$AA$14,'ABT Credit Balances'!$C$9:$C$208,$B$17)","v":0},{"$f":"SUMIFS('ABT Credit Balances'!$D$9:$D$208,'ABT Credit Balances'!$B$9:$B$208,$C46,'ABT Credit Balances'!$F$9:$F$208,AB48,'ABT Credit Balances'!$E$9:$E$208,$AA$14,'ABT Credit Balances'!$C$9:$C$208,$B$17)","v":0},{"$f":"SUMIFS('ABT Credit Balances'!$D$9:$D$208,'ABT Credit Balances'!$B$9:$B$208,$C46,'ABT Credit Balances'!$F$9:$F$208,AC48,'ABT Credit Balances'!$E$9:$E$208,$AA$14,'ABT Credit Balances'!$C$9:$C$208,$B$17)","v":0},{"$f":"SUMIFS('ABT Credit Balances'!$D$9:$D$208,'ABT Credit Balances'!$B$9:$B$208,$C46,'ABT Credit Balances'!$F$9:$F$208,AD48,'ABT Credit Balances'!$E$9:$E$208,$AD$14,'ABT Credit Balances'!$C$9:$C$208,$B$17)","v":0},{"$f":"SUMIFS('ABT Credit Balances'!$D$9:$D$208,'ABT Credit Balances'!$B$9:$B$208,$C46,'ABT Credit Balances'!$F$9:$F$208,AE48,'ABT Credit Balances'!$E$9:$E$208,$AD$14,'ABT Credit Balances'!$C$9:$C$208,$B$17)","v":0},{"$f":"SUMIFS('ABT Credit Balances'!$D$9:$D$208,'ABT Credit Balances'!$B$9:$B$208,$C46,'ABT Credit Balances'!$F$9:$F$208,AF48,'ABT Credit Balances'!$E$9:$E$208,$AD$14,'ABT Credit Balances'!$C$9:$C$208,$B$17)","v":0},{"$f":"SUMIFS('ABT Credit Balances'!$D$9:$D$208,'ABT Credit Balances'!$B$9:$B$208,$C46,'ABT Credit Balances'!$F$9:$F$208,AG48,'ABT Credit Balances'!$E$9:$E$208,$AG$14,'ABT Credit Balances'!$C$9:$C$208,$B$17)","v":0},{"$f":"SUMIFS('ABT Credit Balances'!$D$9:$D$208,'ABT Credit Balances'!$B$9:$B$208,$C46,'ABT Credit Balances'!$F$9:$F$208,AH48,'ABT Credit Balances'!$E$9:$E$208,$AG$14,'ABT Credit Balances'!$C$9:$C$208,$B$17)","v":0},{"$f":"SUMIFS('ABT Credit Balances'!$D$9:$D$208,'ABT Credit Balances'!$B$9:$B$208,$C46,'ABT Credit Balances'!$F$9:$F$208,AI48,'ABT Credit Balances'!$E$9:$E$208,$AG$14,'ABT Credit Balances'!$C$9:$C$208,$B$17)","v":0},{"$f":"SUMIFS('ABT Credit Balances'!$D$9:$D$208,'ABT Credit Balances'!$B$9:$B$208,$C46,'ABT Credit Balances'!$F$9:$F$208,AJ48,'ABT Credit Balances'!$E$9:$E$208,$AJ$14,'ABT Credit Balances'!$C$9:$C$208,$B$17)","v":0},{"$f":"SUMIFS('ABT Credit Balances'!$D$9:$D$208,'ABT Credit Balances'!$B$9:$B$208,$C46,'ABT Credit Balances'!$F$9:$F$208,AK48,'ABT Credit Balances'!$E$9:$E$208,$AJ$14,'ABT Credit Balances'!$C$9:$C$208,$B$17)","v":0},{"$f":"SUMIFS('ABT Credit Balances'!$D$9:$D$208,'ABT Credit Balances'!$B$9:$B$208,$C46,'ABT Credit Balances'!$F$9:$F$208,AL48,'ABT Credit Balances'!$E$9:$E$208,$AJ$14,'ABT Credit Balances'!$C$9:$C$208,$B$17)","v":0},{"$f":"SUMIFS('ABT Credit Balances'!$D$9:$D$208,'ABT Credit Balances'!$B$9:$B$208,$C46,'ABT Credit Balances'!$F$9:$F$208,AM48,'ABT Credit Balances'!$E$9:$E$208,$AM$14,'ABT Credit Balances'!$C$9:$C$208,$B$17)","v":0},{"$f":"SUMIFS('ABT Credit Balances'!$D$9:$D$208,'ABT Credit Balances'!$B$9:$B$208,$C46,'ABT Credit Balances'!$F$9:$F$208,AN48,'ABT Credit Balances'!$E$9:$E$208,$AM$14,'ABT Credit Balances'!$C$9:$C$208,$B$17)","v":0},{"$f":"SUMIFS('ABT Credit Balances'!$D$9:$D$208,'ABT Credit Balances'!$B$9:$B$208,$C46,'ABT Credit Balances'!$F$9:$F$208,AO48,'ABT Credit Balances'!$E$9:$E$208,$AM$14,'ABT Credit Balances'!$C$9:$C$208,$B$17)","v":0},{"$f":"SUMIFS('ABT Credit Balances'!$D$9:$D$208,'ABT Credit Balances'!$B$9:$B$208,$C46,'ABT Credit Balances'!$F$9:$F$208,AP48,'ABT Credit Balances'!$E$9:$E$208,$AP$14,'ABT Credit Balances'!$C$9:$C$208,$B$17)","v":0},{"$f":"SUMIFS('ABT Credit Balances'!$D$9:$D$208,'ABT Credit Balances'!$B$9:$B$208,$C46,'ABT Credit Balances'!$F$9:$F$208,AQ48,'ABT Credit Balances'!$E$9:$E$208,$AP$14,'ABT Credit Balances'!$C$9:$C$208,$B$17)","v":0},{"$f":"SUMIFS('ABT Credit Balances'!$D$9:$D$208,'ABT Credit Balances'!$B$9:$B$208,$C46,'ABT Credit Balances'!$F$9:$F$208,AR48,'ABT Credit Balances'!$E$9:$E$208,$AP$14,'ABT Credit Balances'!$C$9:$C$208,$B$17)","v":0},{"$f":"SUMIFS('ABT Credit Balances'!$D$9:$D$208,'ABT Credit Balances'!$B$9:$B$208,$C$46,'ABT Credit Balances'!$F$9:$F$208,AS48,'ABT Credit Balances'!$E$9:$E$208,$AS$47,'ABT Credit Balances'!$C$9:$C$208,$B$50)","v":0},{"$f":"SUMIFS('ABT Credit Balances'!$D$9:$D$208,'ABT Credit Balances'!$B$9:$B$208,$C$46,'ABT Credit Balances'!$F$9:$F$208,AT48,'ABT Credit Balances'!$E$9:$E$208,$AS$47,'ABT Credit Balances'!$C$9:$C$208,$B$50)","v":0},{"$f":"SUMIFS('ABT Credit Balances'!$D$9:$D$208,'ABT Credit Balances'!$B$9:$B$208,$C$46,'ABT Credit Balances'!$F$9:$F$208,AU48,'ABT Credit Balances'!$E$9:$E$208,$AS$47,'ABT Credit Balances'!$C$9:$C$208,$B$50)","v":0}]
[null,"Applied Banked Credits (out)",{"$f":"SUMIFS('ABT Transactions'!$B$9:$B$40,'ABT Transactions'!$G$9:$G$40,$C$46,'ABT Transactions'!$F$9:$F$40,$C47,'ABT Transactions'!$C$9:$C$40,C48,'ABT Transactions'!$D$9:$D$40,$B$51)","v":0},{"$f":"SUMIFS('ABT Transactions'!$B$9:$B$40,'ABT Transactions'!$G$9:$G$40,$C$46,'ABT Transactions'!$F$9:$F$40,$C47,'ABT Transactions'!$C$9:$C$40,D48,'ABT Transactions'!$D$9:$D$40,$B$51)","v":0},{"$f":"SUMIFS('ABT Transactions'!$B$9:$B$40,'ABT Transactions'!$G$9:$G$40,$C$46,'ABT Transactions'!$F$9:$F$40,$C47,'ABT Transactions'!$C$9:$C$40,E48,'ABT Transactions'!$D$9:$D$40,$B$51)","v":0},{"$f":"SUMIFS('ABT Transactions'!$B$9:$B$40,'ABT Transactions'!$G$9:$G$40,$C$46,'ABT Transactions'!$F$9:$F$40,F47,'ABT Transactions'!$C$9:$C$40,F48,'ABT Transactions'!$D$9:$D$40,$B$51)","v":0},{"$f":"SUMIFS('ABT Transactions'!$B$9:$B$40,'ABT Transactions'!$G$9:$G$40,$C$46,'ABT Transactions'!$F$9:$F$40,$F47,'ABT Transactions'!$C$9:$C$40,G48,'ABT Transactions'!$D$9:$D$40,$B$51)","v":0},{"$f":"SUMIFS('ABT Transactions'!$B$9:$B$40,'ABT Transactions'!$G$9:$G$40,$C$46,'ABT Transactions'!$F$9:$F$40,$F47,'ABT Transactions'!$C$9:$C$40,H48,'ABT Transactions'!$D$9:$D$40,$B$51)","v":0},{"$f":"SUMIFS('ABT Transactions'!$B$9:$B$40,'ABT Transactions'!$G$9:$G$40,$C$46,'ABT Transactions'!$F$9:$F$40,$I47,'ABT Transactions'!$C$9:$C$40,I48,'ABT Transactions'!$D$9:$D$40,$B$51)","v":0},{"$f":"SUMIFS('ABT Transactions'!$B$9:$B$40,'ABT Transactions'!$G$9:$G$40,$C$46,'ABT Transactions'!$F$9:$F$40,$I47,'ABT Transactions'!$C$9:$C$40,J48,'ABT Transactions'!$D$9:$D$40,$B$51)","v":0},{"$f":"SUMIFS('ABT Transactions'!$B$9:$B$40,'ABT Transactions'!$G$9:$G$40,$C$46,'ABT Transactions'!$F$9:$F$40,$I47,'ABT Transactions'!$C$9:$C$40,K48,'ABT Transactions'!$D$9:$D$40,$B$51)","v":0},{"$f":"SUMIFS('ABT Transactions'!$B$9:$B$40,'ABT Transactions'!$G$9:$G$40,$C$46,'ABT Transactions'!$F$9:$F$40,$L47,'ABT Transactions'!$C$9:$C$40,L48,'ABT Transactions'!$D$9:$D$40,$B$51)","v":0},{"$f":"SUMIFS('ABT Transactions'!$B$9:$B$40,'ABT Transactions'!$G$9:$G$40,$C$46,'ABT Transactions'!$F$9:$F$40,$L47,'ABT Transactions'!$C$9:$C$40,M48,'ABT Transactions'!$D$9:$D$40,$B$51)","v":0},{"$f":"SUMIFS('ABT Transactions'!$B$9:$B$40,'ABT Transactions'!$G$9:$G$40,$C$46,'ABT Transactions'!$F$9:$F$40,$L47,'ABT Transactions'!$C$9:$C$40,N48,'ABT Transactions'!$D$9:$D$40,$B$51)","v":0},{"$f":"SUMIFS('ABT Transactions'!$B$9:$B$40,'ABT Transactions'!$G$9:$G$40,$C$46,'ABT Transactions'!$F$9:$F$40,$O47,'ABT Transactions'!$C$9:$C$40,O48,'ABT Transactions'!$D$9:$D$40,$B$51)","v":0},{"$f":"SUMIFS('ABT Transactions'!$B$9:$B$40,'ABT Transactions'!$G$9:$G$40,$C$46,'ABT Transactions'!$F$9:$F$40,$O47,'ABT Transactions'!$C$9:$C$40,P48,'ABT Transactions'!$D$9:$D$40,$B$51)","v":0},{"$f":"SUMIFS('ABT Transactions'!$B$9:$B$40,'ABT Transactions'!$G$9:$G$40,$C$46,'ABT Transactions'!$F$9:$F$40,$O47,'ABT Transactions'!$C$9:$C$40,Q48,'ABT Transactions'!$D$9:$D$40,$B$51)","v":0},{"$f":"SUMIFS('ABT Transactions'!$B$9:$B$40,'ABT Transactions'!$G$9:$G$40,$C$46,'ABT Transactions'!$F$9:$F$40,$R47,'ABT Transactions'!$C$9:$C$40,R48,'ABT Transactions'!$D$9:$D$40,$B$51)","v":0},{"$f":"SUMIFS('ABT Transactions'!$B$9:$B$40,'ABT Transactions'!$G$9:$G$40,$C$46,'ABT Transactions'!$F$9:$F$40,$R47,'ABT Transactions'!$C$9:$C$40,S48,'ABT Transactions'!$D$9:$D$40,$B$51)","v":0},{"$f":"SUMIFS('ABT Transactions'!$B$9:$B$40,'ABT Transactions'!$G$9:$G$40,$C$46,'ABT Transactions'!$F$9:$F$40,$R47,'ABT Transactions'!$C$9:$C$40,T48,'ABT Transactions'!$D$9:$D$40,$B$51)","v":0},{"$f":"SUMIFS('ABT Transactions'!$B$9:$B$40,'ABT Transactions'!$G$9:$G$40,$C46,'ABT Transactions'!$F$9:$F$40,$U$14,'ABT Transactions'!$C$9:$C$40,U48,'ABT Transactions'!$D$9:$D$40,$B$18)","v":0},{"$f":"SUMIFS('ABT Transactions'!$B$9:$B$40,'ABT Transactions'!$G$9:$G$40,$C46,'ABT Transactions'!$F$9:$F$40,$U$14,'ABT Transactions'!$C$9:$C$40,V48,'ABT Transactions'!$D$9:$D$40,$B$18)","v":0},{"$f":"SUMIFS('ABT Transactions'!$B$9:$B$40,'ABT Transactions'!$G$9:$G$40,$C46,'ABT Transactions'!$F$9:$F$40,$U$14,'ABT Transactions'!$C$9:$C$40,W48,'ABT Transactions'!$D$9:$D$40,$B$18)","v":0},{"$f":"SUMIFS('ABT Transactions'!$B$9:$B$40,'ABT Transactions'!$G$9:$G$40,$C46,'ABT Transactions'!$F$9:$F$40,$X$14,'ABT Transactions'!$C$9:$C$40,X48,'ABT Transactions'!$D$9:$D$40,$B$18)","v":0},{"$f":"SUMIFS('ABT Transactions'!$B$9:$B$40,'ABT Transactions'!$G$9:$G$40,$C46,'ABT Transactions'!$F$9:$F$40,$X$14,'ABT Transactions'!$C$9:$C$40,Y48,'ABT Transactions'!$D$9:$D$40,$B$18)","v":0},{"$f":"SUMIFS('ABT Transactions'!$B$9:$B$40,'ABT Transactions'!$G$9:$G$40,$C46,'ABT Transactions'!$F$9:$F$40,$X$14,'ABT Transactions'!$C$9:$C$40,Z48,'ABT Transactions'!$D$9:$D$40,$B$18)","v":0},{"$f":"SUMIFS('ABT Transactions'!$B$9:$B$40,'ABT Transactions'!$G$9:$G$40,$C46,'ABT Transactions'!$F$9:$F$40,$AA$14,'ABT Transactions'!$C$9:$C$40,AA48,'ABT Transactions'!$D$9:$D$40,$B$18)","v":0},{"$f":"SUMIFS('ABT Transactions'!$B$9:$B$40,'ABT Transactions'!$G$9:$G$40,$C46,'ABT Transactions'!$F$9:$F$40,$AA$14,'ABT Transactions'!$C$9:$C$40,AB48,'ABT Transactions'!$D$9:$D$40,$B$18)","v":0},{"$f":"SUMIFS('ABT Transactions'!$B$9:$B$40,'ABT Transactions'!$G$9:$G$40,$C46,'ABT Transactions'!$F$9:$F$40,$AA$14,'ABT Transactions'!$C$9:$C$40,AC48,'ABT Transactions'!$D$9:$D$40,$B$18)","v":0},{"$f":"SUMIFS('ABT Transactions'!$B$9:$B$40,'ABT Transactions'!$G$9:$G$40,$C46,'ABT Transactions'!$F$9:$F$40,$AD$14,'ABT Transactions'!$C$9:$C$40,AD48,'ABT Transactions'!$D$9:$D$40,$B$18)","v":0},{"$f":"SUMIFS('ABT Transactions'!$B$9:$B$40,'ABT Transactions'!$G$9:$G$40,$C46,'ABT Transactions'!$F$9:$F$40,$AD$14,'ABT Transactions'!$C$9:$C$40,AE48,'ABT Transactions'!$D$9:$D$40,$B$18)","v":0},{"$f":"SUMIFS('ABT Transactions'!$B$9:$B$40,'ABT Transactions'!$G$9:$G$40,$C46,'ABT Transactions'!$F$9:$F$40,$AD$14,'ABT Transactions'!$C$9:$C$40,AF48,'ABT Transactions'!$D$9:$D$40,$B$18)","v":0},{"$f":"SUMIFS('ABT Transactions'!$B$9:$B$40,'ABT Transactions'!$G$9:$G$40,$C46,'ABT Transactions'!$F$9:$F$40,$AG$14,'ABT Transactions'!$C$9:$C$40,AG48,'ABT Transactions'!$D$9:$D$40,$B$18)","v":0},{"$f":"SUMIFS('ABT Transactions'!$B$9:$B$40,'ABT Transactions'!$G$9:$G$40,$C46,'ABT Transactions'!$F$9:$F$40,$AG$14,'ABT Transactions'!$C$9:$C$40,AH48,'ABT Transactions'!$D$9:$D$40,$B$18)","v":0},{"$f":"SUMIFS('ABT Transactions'!$B$9:$B$40,'ABT Transactions'!$G$9:$G$40,$C46,'ABT Transactions'!$F$9:$F$40,$AG$14,'ABT Transactions'!$C$9:$C$40,AI48,'ABT Transactions'!$D$9:$D$40,$B$18)","v":0},{"$f":"SUMIFS('ABT Transactions'!$B$9:$B$40,'ABT Transactions'!$G$9:$G$40,$C46,'ABT Transactions'!$F$9:$F$40,$AJ$14,'ABT Transactions'!$C$9:$C$40,AJ48,'ABT Transactions'!$D$9:$D$40,$B$18)","v":0},{"$f":"SUMIFS('ABT Transactions'!$B$9:$B$40,'ABT Transactions'!$G$9:$G$40,$C46,'ABT Transactions'!$F$9:$F$40,$AJ$14,'ABT Transactions'!$C$9:$C$40,AK48,'ABT Transactions'!$D$9:$D$40,$B$18)","v":0},{"$f":"SUMIFS('ABT Transactions'!$B$9:$B$40,'ABT Transactions'!$G$9:$G$40,$C46,'ABT Transactions'!$F$9:$F$40,$AJ$14,'ABT Transactions'!$C$9:$C$40,AL48,'ABT Transactions'!$D$9:$D$40,$B$18)","v":0},{"$f":"SUMIFS('ABT Transactions'!$B$9:$B$40,'ABT Transactions'!$G$9:$G$40,$C46,'ABT Transactions'!$F$9:$F$40,$AM$14,'ABT Transactions'!$C$9:$C$40,AM48,'ABT Transactions'!$D$9:$D$40,$B$18)","v":0},{"$f":"SUMIFS('ABT Transactions'!$B$9:$B$40,'ABT Transactions'!$G$9:$G$40,$C46,'ABT Transactions'!$F$9:$F$40,$AM$14,'ABT Transactions'!$C$9:$C$40,AN48,'ABT Transactions'!$D$9:$D$40,$B$18)","v":0},{"$f":"SUMIFS('ABT Transactions'!$B$9:$B$40,'ABT Transactions'!$G$9:$G$40,$C46,'ABT Transactions'!$F$9:$F$40,$AM$14,'ABT Transactions'!$C$9:$C$40,AO48,'ABT Transactions'!$D$9:$D$40,$B$18)","v":0},{"$f":"SUMIFS('ABT Transactions'!$B$9:$B$40,'ABT Transactions'!$G$9:$G$40,$C46,'ABT Transactions'!$F$9:$F$40,$AP$14,'ABT Transactions'!$C$9:$C$40,AP48,'ABT Transactions'!$D$9:$D$40,$B$18)","v":0},{"$f":"SUMIFS('ABT Transactions'!$B$9:$B$40,'ABT Transactions'!$G$9:$G$40,$C46,'ABT Transactions'!$F$9:$F$40,$AP$14,'ABT Transactions'!$C$9:$C$40,AQ48,'ABT Transactions'!$D$9:$D$40,$B$18)","v":0},{"$f":"SUMIFS('ABT Transactions'!$B$9:$B$40,'ABT Transactions'!$G$9:$G$40,$C46,'ABT Transactions'!$F$9:$F$40,$AP$14,'ABT Transactions'!$C$9:$C$40,AR48,'ABT Transactions'!$D$9:$D$40,$B$18)","v":0},{"$f":"SUMIFS('ABT Transactions'!$B$9:$B$40,'ABT Transactions'!$G$9:$G$40,$C$46,'ABT Transactions'!$F$9:$F$40,$AS47,'ABT Transactions'!$C$9:$C$40,AS48,'ABT Transactions'!$D$9:$D$40,$B$51)","v":0},{"$f":"SUMIFS('ABT Transactions'!$B$9:$B$40,'ABT Transactions'!$G$9:$G$40,$C$46,'ABT Transactions'!$F$9:$F$40,$AS47,'ABT Transactions'!$C$9:$C$40,AT48,'ABT Transactions'!$D$9:$D$40,$B$51)","v":0},{"$f":"SUMIFS('ABT Transactions'!$B$9:$B$40,'ABT Transactions'!$G$9:$G$40,$C$46,'ABT Transactions'!$F$9:$F$40,$AS47,'ABT Transactions'!$C$9:$C$40,AU48,'ABT Transactions'!$D$9:$D$40,$B$51)","v":0}]
[null,"Applied Banked Credits (in)",{"$f":"SUMIFS('ABT Transactions'!$B$9:$B$40,'ABT Transactions'!$J$9:$J$40,$C$46,'ABT Transactions'!$I$9:$I$40,$C$47,'ABT Transactions'!$C$9:$C$40,C48,'ABT Transactions'!$D$9:$D$40,$B$52)","v":0},{"$f":"SUMIFS('ABT Transactions'!$B$9:$B$40,'ABT Transactions'!$J$9:$J$40,$C$46,'ABT Transactions'!$I$9:$I$40,$C$47,'ABT Transactions'!$C$9:$C$40,D48,'ABT Transactions'!$D$9:$D$40,$B$52)","v":0},{"$f":"SUMIFS('ABT Transactions'!$B$9:$B$40,'ABT Transactions'!$J$9:$J$40,$C$46,'ABT Transactions'!$I$9:$I$40,$C$47,'ABT Transactions'!$C$9:$C$40,E48,'ABT Transactions'!$D$9:$D$40,$B$52)","v":0},{"$f":"SUMIFS('ABT Transactions'!$B$9:$B$40,'ABT Transactions'!$J$9:$J$40,$C$46,'ABT Transactions'!$I$9:$I$40,$F$47,'ABT Transactions'!$C$9:$C$40,F48,'ABT Transactions'!$D$9:$D$40,$B$52)","v":0},{"$f":"SUMIFS('ABT Transactions'!$B$9:$B$40,'ABT Transactions'!$J$9:$J$40,$C$46,'ABT Transactions'!$I$9:$I$40,$F$47,'ABT Transactions'!$C$9:$C$40,G48,'ABT Transactions'!$D$9:$D$40,$B$52)","v":0},{"$f":"SUMIFS('ABT Transactions'!$B$9:$B$40,'ABT Transactions'!$J$9:$J$40,$C$46,'ABT Transactions'!$I$9:$I$40,$F$47,'ABT Transactions'!$C$9:$C$40,H48,'ABT Transactions'!$D$9:$D$40,$B$52)","v":0},{"$f":"SUMIFS('ABT Transactions'!$B$9:$B$40,'ABT Transactions'!$J$9:$J$40,$C$46,'ABT Transactions'!$I$9:$I$40,$I$47,'ABT Transactions'!$C$9:$C$40,I48,'ABT Transactions'!$D$9:$D$40,$B$52)","v":0},{"$f":"SUMIFS('ABT Transactions'!$B$9:$B$40,'ABT Transactions'!$J$9:$J$40,$C$46,'ABT Transactions'!$I$9:$I$40,$I$47,'ABT Transactions'!$C$9:$C$40,J48,'ABT Transactions'!$D$9:$D$40,$B$52)","v":0},{"$f":"SUMIFS('ABT Transactions'!$B$9:$B$40,'ABT Transactions'!$J$9:$J$40,$C$46,'ABT Transactions'!$I$9:$I$40,$I$47,'ABT Transactions'!$C$9:$C$40,K48,'ABT Transactions'!$D$9:$D$40,$B$52)","v":0},{"$f":"SUMIFS('ABT Transactions'!$B$9:$B$40,'ABT Transactions'!$J$9:$J$40,$C$46,'ABT Transactions'!$I$9:$I$40,$L$47,'ABT Transactions'!$C$9:$C$40,L48,'ABT Transactions'!$D$9:$D$40,$B$52)","v":0},{"$f":"SUMIFS('ABT Transactions'!$B$9:$B$40,'ABT Transactions'!$J$9:$J$40,$C$46,'ABT Transactions'!$I$9:$I$40,$L$47,'ABT Transactions'!$C$9:$C$40,M48,'ABT Transactions'!$D$9:$D$40,$B$52)","v":0},{"$f":"SUMIFS('ABT Transactions'!$B$9:$B$40,'ABT Transactions'!$J$9:$J$40,$C$46,'ABT Transactions'!$I$9:$I$40,$L$47,'ABT Transactions'!$C$9:$C$40,N48,'ABT Transactions'!$D$9:$D$40,$B$52)","v":0},{"$f":"SUMIFS('ABT Transactions'!$B$9:$B$40,'ABT Transactions'!$J$9:$J$40,$C$46,'ABT Transactions'!$I$9:$I$40,$O$47,'ABT Transactions'!$C$9:$C$40,O48,'ABT Transactions'!$D$9:$D$40,$B$52)","v":0},{"$f":"SUMIFS('ABT Transactions'!$B$9:$B$40,'ABT Transactions'!$J$9:$J$40,$C$46,'ABT Transactions'!$I$9:$I$40,$O$47,'ABT Transactions'!$C$9:$C$40,P48,'ABT Transactions'!$D$9:$D$40,$B$52)","v":0},{"$f":"SUMIFS('ABT Transactions'!$B$9:$B$40,'ABT Transactions'!$J$9:$J$40,$C$46,'ABT Transactions'!$I$9:$I$40,$O$47,'ABT Transactions'!$C$9:$C$40,Q48,'ABT Transactions'!$D$9:$D$40,$B$52)","v":0},{"$f":"SUMIFS('ABT Transactions'!$B$9:$B$40,'ABT Transactions'!$J$9:$J$40,$C$46,'ABT Transactions'!$I$9:$I$40,$R$47,'ABT Transactions'!$C$9:$C$40,R48,'ABT Transactions'!$D$9:$D$40,$B$52)","v":0},{"$f":"SUMIFS('ABT Transactions'!$B$9:$B$40,'ABT Transactions'!$J$9:$J$40,$C$46,'ABT Transactions'!$I$9:$I$40,$R$47,'ABT Transactions'!$C$9:$C$40,S48,'ABT Transactions'!$D$9:$D$40,$B$52)","v":0},{"$f":"SUMIFS('ABT Transactions'!$B$9:$B$40,'ABT Transactions'!$J$9:$J$40,$C$46,'ABT Transactions'!$I$9:$I$40,$R$47,'ABT Transactions'!$C$9:$C$40,T48,'ABT Transactions'!$D$9:$D$40,$B$52)","v":0},{"$f":"SUMIFS('ABT Transactions'!$B$9:$B$40,'ABT Transactions'!$J$9:$J$40,$C46,'ABT Transactions'!$I$9:$I$40,$U$14,'ABT Transactions'!$C$9:$C$40,U48,'ABT Transactions'!$D$9:$D$40,$B$19)","v":0},{"$f":"SUMIFS('ABT Transactions'!$B$9:$B$40,'ABT Transactions'!$J$9:$J$40,$C46,'ABT Transactions'!$I$9:$I$40,$U$14,'ABT Transactions'!$C$9:$C$40,V48,'ABT Transactions'!$D$9:$D$40,$B$19)","v":0},{"$f":"SUMIFS('ABT Transactions'!$B$9:$B$40,'ABT Transactions'!$J$9:$J$40,$C46,'ABT Transactions'!$I$9:$I$40,$U$14,'ABT Transactions'!$C$9:$C$40,W48,'ABT Transactions'!$D$9:$D$40,$B$19)","v":0},{"$f":"SUMIFS('ABT Transactions'!$B$9:$B$40,'ABT Transactions'!$J$9:$J$40,$C46,'ABT Transactions'!$I$9:$I$40,$X$14,'ABT Transactions'!$C$9:$C$40,X48,'ABT Transactions'!$D$9:$D$40,$B$19)","v":0},{"$f":"SUMIFS('ABT Transactions'!$B$9:$B$40,'ABT Transactions'!$J$9:$J$40,$C46,'ABT Transactions'!$I$9:$I$40,$X$14,'ABT Transactions'!$C$9:$C$40,Y48,'ABT Transactions'!$D$9:$D$40,$B$19)","v":0},{"$f":"SUMIFS('ABT Transactions'!$B$9:$B$40,'ABT Transactions'!$J$9:$J$40,$C46,'ABT Transactions'!$I$9:$I$40,$X$14,'ABT Transactions'!$C$9:$C$40,Z48,'ABT Transactions'!$D$9:$D$40,$B$19)","v":0},{"$f":"SUMIFS('ABT Transactions'!$B$9:$B$40,'ABT Transactions'!$J$9:$J$40,$C46,'ABT Transactions'!$I$9:$I$40,$AA$14,'ABT Transactions'!$C$9:$C$40,AA48,'ABT Transactions'!$D$9:$D$40,$B$19)","v":0},{"$f":"SUMIFS('ABT Transactions'!$B$9:$B$40,'ABT Transactions'!$J$9:$J$40,$C46,'ABT Transactions'!$I$9:$I$40,$AA$14,'ABT Transactions'!$C$9:$C$40,AB48,'ABT Transactions'!$D$9:$D$40,$B$19)","v":0},{"$f":"SUMIFS('ABT Transactions'!$B$9:$B$40,'ABT Transactions'!$J$9:$J$40,$C46,'ABT Transactions'!$I$9:$I$40,$AA$14,'ABT Transactions'!$C$9:$C$40,AC48,'ABT Transactions'!$D$9:$D$40,$B$19)","v":0},{"$f":"SUMIFS('ABT Transactions'!$B$9:$B$40,'ABT Transactions'!$J$9:$J$40,$C46,'ABT Transactions'!$I$9:$I$40,$AD$14,'ABT Transactions'!$C$9:$C$40,AD48,'ABT Transactions'!$D$9:$D$40,$B$19)","v":0},{"$f":"SUMIFS('ABT Transactions'!$B$9:$B$40,'ABT Transactions'!$J$9:$J$40,$C46,'ABT Transactions'!$I$9:$I$40,$AD$14,'ABT Transactions'!$C$9:$C$40,AE48,'ABT Transactions'!$D$9:$D$40,$B$19)","v":0},{"$f":"SUMIFS('ABT Transactions'!$B$9:$B$40,'ABT Transactions'!$J$9:$J$40,$C46,'ABT Transactions'!$I$9:$I$40,$AD$14,'ABT Transactions'!$C$9:$C$40,AF48,'ABT Transactions'!$D$9:$D$40,$B$19)","v":0},{"$f":"SUMIFS('ABT Transactions'!$B$9:$B$40,'ABT Transactions'!$J$9:$J$40,$C46,'ABT Transactions'!$I$9:$I$40,$AG$14,'ABT Transactions'!$C$9:$C$40,AG48,'ABT Transactions'!$D$9:$D$40,$B$19)","v":0},{"$f":"SUMIFS('ABT Transactions'!$B$9:$B$40,'ABT Transactions'!$J$9:$J$40,$C46,'ABT Transactions'!$I$9:$I$40,$AG$14,'ABT Transactions'!$C$9:$C$40,AH48,'ABT Transactions'!$D$9:$D$40,$B$19)","v":0},{"$f":"SUMIFS('ABT Transactions'!$B$9:$B$40,'ABT Transactions'!$J$9:$J$40,$C46,'ABT Transactions'!$I$9:$I$40,$AG$14,'ABT Transactions'!$C$9:$C$40,AI48,'ABT Transactions'!$D$9:$D$40,$B$19)","v":0},{"$f":"SUMIFS('ABT Transactions'!$B$9:$B$40,'ABT Transactions'!$J$9:$J$40,$C46,'ABT Transactions'!$I$9:$I$40,$AJ$14,'ABT Transactions'!$C$9:$C$40,AJ48,'ABT Transactions'!$D$9:$D$40,$B$19)","v":0},{"$f":"SUMIFS('ABT Transactions'!$B$9:$B$40,'ABT Transactions'!$J$9:$J$40,$C46,'ABT Transactions'!$I$9:$I$40,$AJ$14,'ABT Transactions'!$C$9:$C$40,AK48,'ABT Transactions'!$D$9:$D$40,$B$19)","v":0},{"$f":"SUMIFS('ABT Transactions'!$B$9:$B$40,'ABT Transactions'!$J$9:$J$40,$C46,'ABT Transactions'!$I$9:$I$40,$AJ$14,'ABT Transactions'!$C$9:$C$40,AL48,'ABT Transactions'!$D$9:$D$40,$B$19)","v":0},{"$f":"SUMIFS('ABT Transactions'!$B$9:$B$40,'ABT Transactions'!$J$9:$J$40,$C46,'ABT Transactions'!$I$9:$I$40,$AM$14,'ABT Transactions'!$C$9:$C$40,AM48,'ABT Transactions'!$D$9:$D$40,$B$19)","v":0},{"$f":"SUMIFS('ABT Transactions'!$B$9:$B$40,'ABT Transactions'!$J$9:$J$40,$C46,'ABT Transactions'!$I$9:$I$40,$AM$14,'ABT Transactions'!$C$9:$C$40,AN48,'ABT Transactions'!$D$9:$D$40,$B$19)","v":0},{"$f":"SUMIFS('ABT Transactions'!$B$9:$B$40,'ABT Transactions'!$J$9:$J$40,$C46,'ABT Transactions'!$I$9:$I$40,$AM$14,'ABT Transactions'!$C$9:$C$40,AO48,'ABT Transactions'!$D$9:$D$40,$B$19)","v":0},{"$f":"SUMIFS('ABT Transactions'!$B$9:$B$40,'ABT Transactions'!$J$9:$J$40,$C46,'ABT Transactions'!$I$9:$I$40,$AP$14,'ABT Transactions'!$C$9:$C$40,AP48,'ABT Transactions'!$D$9:$D$40,$B$19)","v":0},{"$f":"SUMIFS('ABT Transactions'!$B$9:$B$40,'ABT Transactions'!$J$9:$J$40,$C46,'ABT Transactions'!$I$9:$I$40,$AP$14,'ABT Transactions'!$C$9:$C$40,AQ48,'ABT Transactions'!$D$9:$D$40,$B$19)","v":0},{"$f":"SUMIFS('ABT Transactions'!$B$9:$B$40,'ABT Transactions'!$J$9:$J$40,$C46,'ABT Transactions'!$I$9:$I$40,$AP$14,'ABT Transactions'!$C$9:$C$40,AR48,'ABT Transactions'!$D$9:$D$40,$B$19)","v":0},{"$f":"SUMIFS('ABT Transactions'!$B$9:$B$40,'ABT Transactions'!$J$9:$J$40,$C$46,'ABT Transactions'!$I$9:$I$40,$AS$47,'ABT Transactions'!$C$9:$C$40,AS48,'ABT Transactions'!$D$9:$D$40,$B$52)","v":0},{"$f":"SUMIFS('ABT Transactions'!$B$9:$B$40,'ABT Transactions'!$J$9:$J$40,$C$46,'ABT Transactions'!$I$9:$I$40,$AS$47,'ABT Transactions'!$C$9:$C$40,AT48,'ABT Transactions'!$D$9:$D$40,$B$52)","v":0},{"$f":"SUMIFS('ABT Transactions'!$B$9:$B$40,'ABT Transactions'!$J$9:$J$40,$C$46,'ABT Transactions'!$I$9:$I$40,$AS$47,'ABT Transactions'!$C$9:$C$40,AU48,'ABT Transactions'!$D$9:$D$40,$B$52)","v":0}]
[null,"Trade Out",{"$f":"SUMIFS('ABT Transactions'!$B$9:$B$40,'ABT Transactions'!$G$9:$G$40,$C$46,'ABT Transactions'!$F$9:$F$40,$C$47,'ABT Transactions'!$C$9:$C$40,C$48,'ABT Transactions'!$D$9:$D$40,$B$53)","v":0},{"$f":"SUMIFS('ABT Transactions'!$B$9:$B$40,'ABT Transactions'!$G$9:$G$40,$C$46,'ABT Transactions'!$F$9:$F$40,$C$47,'ABT Transactions'!$C$9:$C$40,D$48,'ABT Transactions'!$D$9:$D$40,$B$53)","v":0},{"$f":"SUMIFS('ABT Transactions'!$B$9:$B$40,'ABT Transactions'!$G$9:$G$40,$C$46,'ABT Transactions'!$F$9:$F$40,$C$47,'ABT Transactions'!$C$9:$C$40,E$48,'ABT Transactions'!$D$9:$D$40,$B$53)","v":0},{"$f":"SUMIFS('ABT Transactions'!$B$9:$B$40,'ABT Transactions'!$G$9:$G$40,$C$46,'ABT Transactions'!$F$9:$F$40,$F$47,'ABT Transactions'!$C$9:$C$40,F$48,'ABT Transactions'!$D$9:$D$40,$B$53)","v":0},{"$f":"SUMIFS('ABT Transactions'!$B$9:$B$40,'ABT Transactions'!$G$9:$G$40,$C$46,'ABT Transactions'!$F$9:$F$40,$F$47,'ABT Transactions'!$C$9:$C$40,G$48,'ABT Transactions'!$D$9:$D$40,$B$53)","v":0},{"$f":"SUMIFS('ABT Transactions'!$B$9:$B$40,'ABT Transactions'!$G$9:$G$40,$C$46,'ABT Transactions'!$F$9:$F$40,$F$47,'ABT Transactions'!$C$9:$C$40,H$48,'ABT Transactions'!$D$9:$D$40,$B$53)","v":0},{"$f":"SUMIFS('ABT Transactions'!$B$9:$B$40,'ABT Transactions'!$G$9:$G$40,$C$46,'ABT Transactions'!$F$9:$F$40,$I$47,'ABT Transactions'!$C$9:$C$40,I$48,'ABT Transactions'!$D$9:$D$40,$B$53)","v":0},{"$f":"SUMIFS('ABT Transactions'!$B$9:$B$40,'ABT Transactions'!$G$9:$G$40,$C$46,'ABT Transactions'!$F$9:$F$40,$I$47,'ABT Transactions'!$C$9:$C$40,J$48,'ABT Transactions'!$D$9:$D$40,$B$53)","v":0},{"$f":"SUMIFS('ABT Transactions'!$B$9:$B$40,'ABT Transactions'!$G$9:$G$40,$C$46,'ABT Transactions'!$F$9:$F$40,$I$47,'ABT Transactions'!$C$9:$C$40,K$48,'ABT Transactions'!$D$9:$D$40,$B$53)","v":0},{"$f":"SUMIFS('ABT Transactions'!$B$9:$B$40,'ABT Transactions'!$G$9:$G$40,$C$46,'ABT Transactions'!$F$9:$F$40,$L$47,'ABT Transactions'!$C$9:$C$40,L$48,'ABT Transactions'!$D$9:$D$40,$B$53)","v":0},{"$f":"SUMIFS('ABT Transactions'!$B$9:$B$40,'ABT Transactions'!$G$9:$G$40,$C$46,'ABT Transactions'!$F$9:$F$40,$L$47,'ABT Transactions'!$C$9:$C$40,M$48,'ABT Transactions'!$D$9:$D$40,$B$53)","v":0},{"$f":"SUMIFS('ABT Transactions'!$B$9:$B$40,'ABT Transactions'!$G$9:$G$40,$C$46,'ABT Transactions'!$F$9:$F$40,$L$47,'ABT Transactions'!$C$9:$C$40,N$48,'ABT Transactions'!$D$9:$D$40,$B$53)","v":0},{"$f":"SUMIFS('ABT Transactions'!$B$9:$B$40,'ABT Transactions'!$G$9:$G$40,$C$46,'ABT Transactions'!$F$9:$F$40,$O$47,'ABT Transactions'!$C$9:$C$40,O$48,'ABT Transactions'!$D$9:$D$40,$B$53)","v":0},{"$f":"SUMIFS('ABT Transactions'!$B$9:$B$40,'ABT Transactions'!$G$9:$G$40,$C$46,'ABT Transactions'!$F$9:$F$40,$O$47,'ABT Transactions'!$C$9:$C$40,P$48,'ABT Transactions'!$D$9:$D$40,$B$53)","v":0},{"$f":"SUMIFS('ABT Transactions'!$B$9:$B$40,'ABT Transactions'!$G$9:$G$40,$C$46,'ABT Transactions'!$F$9:$F$40,$O$47,'ABT Transactions'!$C$9:$C$40,Q$48,'ABT Transactions'!$D$9:$D$40,$B$53)","v":0},{"$f":"SUMIFS('ABT Transactions'!$B$9:$B$40,'ABT Transactions'!$G$9:$G$40,$C$46,'ABT Transactions'!$F$9:$F$40,$R$47,'ABT Transactions'!$C$9:$C$40,R$48,'ABT Transactions'!$D$9:$D$40,$B$53)","v":0},{"$f":"SUMIFS('ABT Transactions'!$B$9:$B$40,'ABT Transactions'!$G$9:$G$40,$C$46,'ABT Transactions'!$F$9:$F$40,$R$47,'ABT Transactions'!$C$9:$C$40,S$48,'ABT Transactions'!$D$9:$D$40,$B$53)","v":0},{"$f":"SUMIFS('ABT Transactions'!$B$9:$B$40,'ABT Transactions'!$G$9:$G$40,$C$46,'ABT Transactions'!$F$9:$F$40,$R$47,'ABT Transactions'!$C$9:$C$40,T$48,'ABT Transactions'!$D$9:$D$40,$B$53)","v":0},{"$f":"SUMIFS('ABT Transactions'!$B$9:$B$40,'ABT Transactions'!$G$9:$G$40,$C46,'ABT Transactions'!$F$9:$F$40,$U$14,'ABT Transactions'!$C$9:$C$40,U48,'ABT Transactions'!$D$9:$D$40,$B$20)","v":0},{"$f":"SUMIFS('ABT Transactions'!$B$9:$B$40,'ABT Transactions'!$G$9:$G$40,$C46,'ABT Transactions'!$F$9:$F$40,$U$14,'ABT Transactions'!$C$9:$C$40,V48,'ABT Transactions'!$D$9:$D$40,$B$20)","v":0},{"$f":"SUMIFS('ABT Transactions'!$B$9:$B$40,'ABT Transactions'!$G$9:$G$40,$C46,'ABT Transactions'!$F$9:$F$40,$U$14,'ABT Transactions'!$C$9:$C$40,W48,'ABT Transactions'!$D$9:$D$40,$B$20)","v":0},{"$f":"SUMIFS('ABT Transactions'!$B$9:$B$40,'ABT Transactions'!$G$9:$G$40,$C46,'ABT Transactions'!$F$9:$F$40,$X$14,'ABT Transactions'!$C$9:$C$40,X48,'ABT Transactions'!$D$9:$D$40,$B$20)","v":0},{"$f":"SUMIFS('ABT Transactions'!$B$9:$B$40,'ABT Transactions'!$G$9:$G$40,$C46,'ABT Transactions'!$F$9:$F$40,$X$14,'ABT Transactions'!$C$9:$C$40,Y48,'ABT Transactions'!$D$9:$D$40,$B$20)","v":0},{"$f":"SUMIFS('ABT Transactions'!$B$9:$B$40,'ABT Transactions'!$G$9:$G$40,$C46,'ABT Transactions'!$F$9:$F$40,$X$14,'ABT Transactions'!$C$9:$C$40,Z48,'ABT Transactions'!$D$9:$D$40,$B$20)","v":0},{"$f":"SUMIFS('ABT Transactions'!$B$9:$B$40,'ABT Transactions'!$G$9:$G$40,$C46,'ABT Transactions'!$F$9:$F$40,$AA$14,'ABT Transactions'!$C$9:$C$40,AA48,'ABT Transactions'!$D$9:$D$40,$B$20)","v":0},{"$f":"SUMIFS('ABT Transactions'!$B$9:$B$40,'ABT Transactions'!$G$9:$G$40,$C46,'ABT Transactions'!$F$9:$F$40,$AA$14,'ABT Transactions'!$C$9:$C$40,AB48,'ABT Transactions'!$D$9:$D$40,$B$20)","v":0},{"$f":"SUMIFS('ABT Transactions'!$B$9:$B$40,'ABT Transactions'!$G$9:$G$40,$C46,'ABT Transactions'!$F$9:$F$40,$AA$14,'ABT Transactions'!$C$9:$C$40,AC48,'ABT Transactions'!$D$9:$D$40,$B$20)","v":0},{"$f":"SUMIFS('ABT Transactions'!$B$9:$B$40,'ABT Transactions'!$G$9:$G$40,$C46,'ABT Transactions'!$F$9:$F$40,$AD$14,'ABT Transactions'!$C$9:$C$40,AD48,'ABT Transactions'!$D$9:$D$40,$B$20)","v":0},{"$f":"SUMIFS('ABT Transactions'!$B$9:$B$40,'ABT Transactions'!$G$9:$G$40,$C46,'ABT Transactions'!$F$9:$F$40,$AD$14,'ABT Transactions'!$C$9:$C$40,AE48,'ABT Transactions'!$D$9:$D$40,$B$20)","v":0},{"$f":"SUMIFS('ABT Transactions'!$B$9:$B$40,'ABT Transactions'!$G$9:$G$40,$C46,'ABT Transactions'!$F$9:$F$40,$AD$14,'ABT Transactions'!$C$9:$C$40,AF48,'ABT Transactions'!$D$9:$D$40,$B$20)","v":0},{"$f":"SUMIFS('ABT Transactions'!$B$9:$B$40,'ABT Transactions'!$G$9:$G$40,$C46,'ABT Transactions'!$F$9:$F$40,$AG$14,'ABT Transactions'!$C$9:$C$40,AG48,'ABT Transactions'!$D$9:$D$40,$B$20)","v":0},{"$f":"SUMIFS('ABT Transactions'!$B$9:$B$40,'ABT Transactions'!$G$9:$G$40,$C46,'ABT Transactions'!$F$9:$F$40,$AG$14,'ABT Transactions'!$C$9:$C$40,AH48,'ABT Transactions'!$D$9:$D$40,$B$20)","v":0},{"$f":"SUMIFS('ABT Transactions'!$B$9:$B$40,'ABT Transactions'!$G$9:$G$40,$C46,'ABT Transactions'!$F$9:$F$40,$AG$14,'ABT Transactions'!$C$9:$C$40,AI48,'ABT Transactions'!$D$9:$D$40,$B$20)","v":0},{"$f":"SUMIFS('ABT Transactions'!$B$9:$B$40,'ABT Transactions'!$G$9:$G$40,$C46,'ABT Transactions'!$F$9:$F$40,$AJ$14,'ABT Transactions'!$C$9:$C$40,AJ48,'ABT Transactions'!$D$9:$D$40,$B$20)","v":0},{"$f":"SUMIFS('ABT Transactions'!$B$9:$B$40,'ABT Transactions'!$G$9:$G$40,$C46,'ABT Transactions'!$F$9:$F$40,$AJ$14,'ABT Transactions'!$C$9:$C$40,AK48,'ABT Transactions'!$D$9:$D$40,$B$20)","v":0},{"$f":"SUMIFS('ABT Transactions'!$B$9:$B$40,'ABT Transactions'!$G$9:$G$40,$C46,'ABT Transactions'!$F$9:$F$40,$AJ$14,'ABT Transactions'!$C$9:$C$40,AL48,'ABT Transactions'!$D$9:$D$40,$B$20)","v":0},{"$f":"SUMIFS('ABT Transactions'!$B$9:$B$40,'ABT Transactions'!$G$9:$G$40,$C46,'ABT Transactions'!$F$9:$F$40,$AM$14,'ABT Transactions'!$C$9:$C$40,AM48,'ABT Transactions'!$D$9:$D$40,$B$20)","v":0},{"$f":"SUMIFS('ABT Transactions'!$B$9:$B$40,'ABT Transactions'!$G$9:$G$40,$C46,'ABT Transactions'!$F$9:$F$40,$AM$14,'ABT Transactions'!$C$9:$C$40,AN48,'ABT Transactions'!$D$9:$D$40,$B$20)","v":0},{"$f":"SUMIFS('ABT Transactions'!$B$9:$B$40,'ABT Transactions'!$G$9:$G$40,$C46,'ABT Transactions'!$F$9:$F$40,$AM$14,'ABT Transactions'!$C$9:$C$40,AO48,'ABT Transactions'!$D$9:$D$40,$B$20)","v":0},{"$f":"SUMIFS('ABT Transactions'!$B$9:$B$40,'ABT Transactions'!$G$9:$G$40,$C46,'ABT Transactions'!$F$9:$F$40,$AP$14,'ABT Transactions'!$C$9:$C$40,AP48,'ABT Transactions'!$D$9:$D$40,$B$20)","v":0},{"$f":"SUMIFS('ABT Transactions'!$B$9:$B$40,'ABT Transactions'!$G$9:$G$40,$C46,'ABT Transactions'!$F$9:$F$40,$AP$14,'ABT Transactions'!$C$9:$C$40,AQ48,'ABT Transactions'!$D$9:$D$40,$B$20)","v":0},{"$f":"SUMIFS('ABT Transactions'!$B$9:$B$40,'ABT Transactions'!$G$9:$G$40,$C46,'ABT Transactions'!$F$9:$F$40,$AP$14,'ABT Transactions'!$C$9:$C$40,AR48,'ABT Transactions'!$D$9:$D$40,$B$20)","v":0},{"$f":"SUMIFS('ABT Transactions'!$B$9:$B$40,'ABT Transactions'!$G$9:$G$40,$C$46,'ABT Transactions'!$F$9:$F$40,$AS$47,'ABT Transactions'!$C$9:$C$40,AS$48,'ABT Transactions'!$D$9:$D$40,$B$53)","v":0},{"$f":"SUMIFS('ABT Transactions'!$B$9:$B$40,'ABT Transactions'!$G$9:$G$40,$C$46,'ABT Transactions'!$F$9:$F$40,$AS$47,'ABT Transactions'!$C$9:$C$40,AT$48,'ABT Transactions'!$D$9:$D$40,$B$53)","v":0},{"$f":"SUMIFS('ABT Transactions'!$B$9:$B$40,'ABT Transactions'!$G$9:$G$40,$C$46,'ABT Transactions'!$F$9:$F$40,$AS$47,'ABT Transactions'!$C$9:$C$40,AU$48,'ABT Transactions'!$D$9:$D$40,$B$53)","v":0}]
[null,"Trade In",{"$f":"SUMIFS('ABT Transactions'!$B$9:$B$40,'ABT Transactions'!$J$9:$J$40,$C$46,'ABT Transactions'!$I$9:$I$40,$C$47,'ABT Transactions'!$C$9:$C$40,C48,'ABT Transactions'!$D$9:$D$40,$B$54)","v":0},{"$f":"SUMIFS('ABT Transactions'!$B$9:$B$40,'ABT Transactions'!$J$9:$J$40,$C$46,'ABT Transactions'!$I$9:$I$40,$C$47,'ABT Transactions'!$C$9:$C$40,D48,'ABT Transactions'!$D$9:$D$40,$B$54)","v":0},{"$f":"SUMIFS('ABT Transactions'!$B$9:$B$40,'ABT Transactions'!$J$9:$J$40,$C$46,'ABT Transactions'!$I$9:$I$40,$C$47,'ABT Transactions'!$C$9:$C$40,E48,'ABT Transactions'!$D$9:$D$40,$B$54)","v":0},{"$f":"SUMIFS('ABT Transactions'!$B$9:$B$40,'ABT Transactions'!$J$9:$J$40,$C$46,'ABT Transactions'!$I$9:$I$40,$F$47,'ABT Transactions'!$C$9:$C$40,F48,'ABT Transactions'!$D$9:$D$40,$B$54)","v":0},{"$f":"SUMIFS('ABT Transactions'!$B$9:$B$40,'ABT Transactions'!$J$9:$J$40,$C$46,'ABT Transactions'!$I$9:$I$40,$F$47,'ABT Transactions'!$C$9:$C$40,G48,'ABT Transactions'!$D$9:$D$40,$B$54)","v":0},{"$f":"SUMIFS('ABT Transactions'!$B$9:$B$40,'ABT Transactions'!$J$9:$J$40,$C$46,'ABT Transactions'!$I$9:$I$40,$F$47,'ABT Transactions'!$C$9:$C$40,H48,'ABT Transactions'!$D$9:$D$40,$B$54)","v":0},{"$f":"SUMIFS('ABT Transactions'!$B$9:$B$40,'ABT Transactions'!$J$9:$J$40,$C$46,'ABT Transactions'!$I$9:$I$40,$I$47,'ABT Transactions'!$C$9:$C$40,I48,'ABT Transactions'!$D$9:$D$40,$B$54)","v":0},{"$f":"SUMIFS('ABT Transactions'!$B$9:$B$40,'ABT Transactions'!$J$9:$J$40,$C$46,'ABT Transactions'!$I$9:$I$40,$I$47,'ABT Transactions'!$C$9:$C$40,J48,'ABT Transactions'!$D$9:$D$40,$B$54)","v":0},{"$f":"SUMIFS('ABT Transactions'!$B$9:$B$40,'ABT Transactions'!$J$9:$J$40,$C$46,'ABT Transactions'!$I$9:$I$40,$I$47,'ABT Transactions'!$C$9:$C$40,K48,'ABT Transactions'!$D$9:$D$40,$B$54)","v":0},{"$f":"SUMIFS('ABT Transactions'!$B$9:$B$40,'ABT Transactions'!$J$9:$J$40,$C$46,'ABT Transactions'!$I$9:$I$40,$L$47,'ABT Transactions'!$C$9:$C$40,L48,'ABT Transactions'!$D$9:$D$40,$B$54)","v":0},{"$f":"SUMIFS('ABT Transactions'!$B$9:$B$40,'ABT Transactions'!$J$9:$J$40,$C$46,'ABT Transactions'!$I$9:$I$40,$L$47,'ABT Transactions'!$C$9:$C$40,M48,'ABT Transactions'!$D$9:$D$40,$B$54)","v":0},{"$f":"SUMIFS('ABT Transactions'!$B$9:$B$40,'ABT Transactions'!$J$9:$J$40,$C$46,'ABT Transactions'!$I$9:$I$40,$L$47,'ABT Transactions'!$C$9:$C$40,N48,'ABT Transactions'!$D$9:$D$40,$B$54)","v":0},{"$f":"SUMIFS('ABT Transactions'!$B$9:$B$40,'ABT Transactions'!$J$9:$J$40,$C$46,'ABT Transactions'!$I$9:$I$40,$O$47,'ABT Transactions'!$C$9:$C$40,O48,'ABT Transactions'!$D$9:$D$40,$B$54)","v":0},{"$f":"SUMIFS('ABT Transactions'!$B$9:$B$40,'ABT Transactions'!$J$9:$J$40,$C$46,'ABT Transactions'!$I$9:$I$40,$O$47,'ABT Transactions'!$C$9:$C$40,P48,'ABT Transactions'!$D$9:$D$40,$B$54)","v":0},{"$f":"SUMIFS('ABT Transactions'!$B$9:$B$40,'ABT Transactions'!$J$9:$J$40,$C$46,'ABT Transactions'!$I$9:$I$40,$O$47,'ABT Transactions'!$C$9:$C$40,Q48,'ABT Transactions'!$D$9:$D$40,$B$54)","v":0},{"$f":"SUMIFS('ABT Transactions'!$B$9:$B$40,'ABT Transactions'!$J$9:$J$40,$C$46,'ABT Transactions'!$I$9:$I$40,$R$47,'ABT Transactions'!$C$9:$C$40,R48,'ABT Transactions'!$D$9:$D$40,$B$54)","v":0},{"$f":"SUMIFS('ABT Transactions'!$B$9:$B$40,'ABT Transactions'!$J$9:$J$40,$C$46,'ABT Transactions'!$I$9:$I$40,$R$47,'ABT Transactions'!$C$9:$C$40,S48,'ABT Transactions'!$D$9:$D$40,$B$54)","v":0},{"$f":"SUMIFS('ABT Transactions'!$B$9:$B$40,'ABT Transactions'!$J$9:$J$40,$C$46,'ABT Transactions'!$I$9:$I$40,$R$47,'ABT Transactions'!$C$9:$C$40,T48,'ABT Transactions'!$D$9:$D$40,$B$54)","v":0},{"$f":"SUMIFS('ABT Transactions'!$B$9:$B$40,'ABT Transactions'!$J$9:$J$40,$C46,'ABT Transactions'!$I$9:$I$40,$U$14,'ABT Transactions'!$C$9:$C$40,U48,'ABT Transactions'!$D$9:$D$40,$B$21)","v":0},{"$f":"SUMIFS('ABT Transactions'!$B$9:$B$40,'ABT Transactions'!$J$9:$J$40,$C46,'ABT Transactions'!$I$9:$I$40,$U$14,'ABT Transactions'!$C$9:$C$40,V48,'ABT Transactions'!$D$9:$D$40,$B$21)","v":0},{"$f":"SUMIFS('ABT Transactions'!$B$9:$B$40,'ABT Transactions'!$J$9:$J$40,$C46,'ABT Transactions'!$I$9:$I$40,$U$14,'ABT Transactions'!$C$9:$C$40,W48,'ABT Transactions'!$D$9:$D$40,$B$21)","v":0},{"$f":"SUMIFS('ABT Transactions'!$B$9:$B$40,'ABT Transactions'!$J$9:$J$40,$C46,'ABT Transactions'!$I$9:$I$40,$X$14,'ABT Transactions'!$C$9:$C$40,X48,'ABT Transactions'!$D$9:$D$40,$B$21)","v":0},{"$f":"SUMIFS('ABT Transactions'!$B$9:$B$40,'ABT Transactions'!$J$9:$J$40,$C46,'ABT Transactions'!$I$9:$I$40,$X$14,'ABT Transactions'!$C$9:$C$40,Y48,'ABT Transactions'!$D$9:$D$40,$B$21)","v":0},{"$f":"SUMIFS('ABT Transactions'!$B$9:$B$40,'ABT Transactions'!$J$9:$J$40,$C46,'ABT Transactions'!$I$9:$I$40,$X$14,'ABT Transactions'!$C$9:$C$40,Z48,'ABT Transactions'!$D$9:$D$40,$B$21)","v":0},{"$f":"SUMIFS('ABT Transactions'!$B$9:$B$40,'ABT Transactions'!$J$9:$J$40,$C46,'ABT Transactions'!$I$9:$I$40,$AA$14,'ABT Transactions'!$C$9:$C$40,AA48,'ABT Transactions'!$D$9:$D$40,$B$21)","v":0},{"$f":"SUMIFS('ABT Transactions'!$B$9:$B$40,'ABT Transactions'!$J$9:$J$40,$C46,'ABT Transactions'!$I$9:$I$40,$AA$14,'ABT Transactions'!$C$9:$C$40,AB48,'ABT Transactions'!$D$9:$D$40,$B$21)","v":0},{"$f":"SUMIFS('ABT Transactions'!$B$9:$B$40,'ABT Transactions'!$J$9:$J$40,$C46,'ABT Transactions'!$I$9:$I$40,$AA$14,'ABT Transactions'!$C$9:$C$40,AC48,'ABT Transactions'!$D$9:$D$40,$B$21)","v":0},{"$f":"SUMIFS('ABT Transactions'!$B$9:$B$40,'ABT Transactions'!$J$9:$J$40,$C46,'ABT Transactions'!$I$9:$I$40,$AD$14,'ABT Transactions'!$C$9:$C$40,AD48,'ABT Transactions'!$D$9:$D$40,$B$21)","v":0},{"$f":"SUMIFS('ABT Transactions'!$B$9:$B$40,'ABT Transactions'!$J$9:$J$40,$C46,'ABT Transactions'!$I$9:$I$40,$AD$14,'ABT Transactions'!$C$9:$C$40,AE48,'ABT Transactions'!$D$9:$D$40,$B$21)","v":0},{"$f":"SUMIFS('ABT Transactions'!$B$9:$B$40,'ABT Transactions'!$J$9:$J$40,$C46,'ABT Transactions'!$I$9:$I$40,$AD$14,'ABT Transactions'!$C$9:$C$40,AF48,'ABT Transactions'!$D$9:$D$40,$B$21)","v":0},{"$f":"SUMIFS('ABT Transactions'!$B$9:$B$40,'ABT Transactions'!$J$9:$J$40,$C46,'ABT Transactions'!$I$9:$I$40,$AG$14,'ABT Transactions'!$C$9:$C$40,AG48,'ABT Transactions'!$D$9:$D$40,$B$21)","v":0},{"$f":"SUMIFS('ABT Transactions'!$B$9:$B$40,'ABT Transactions'!$J$9:$J$40,$C46,'ABT Transactions'!$I$9:$I$40,$AG$14,'ABT Transactions'!$C$9:$C$40,AH48,'ABT Transactions'!$D$9:$D$40,$B$21)","v":0},{"$f":"SUMIFS('ABT Transactions'!$B$9:$B$40,'ABT Transactions'!$J$9:$J$40,$C46,'ABT Transactions'!$I$9:$I$40,$AG$14,'ABT Transactions'!$C$9:$C$40,AI48,'ABT Transactions'!$D$9:$D$40,$B$21)","v":0},{"$f":"SUMIFS('ABT Transactions'!$B$9:$B$40,'ABT Transactions'!$J$9:$J$40,$C46,'ABT Transactions'!$I$9:$I$40,$AJ$14,'ABT Transactions'!$C$9:$C$40,AJ48,'ABT Transactions'!$D$9:$D$40,$B$21)","v":0},{"$f":"SUMIFS('ABT Transactions'!$B$9:$B$40,'ABT Transactions'!$J$9:$J$40,$C46,'ABT Transactions'!$I$9:$I$40,$AJ$14,'ABT Transactions'!$C$9:$C$40,AK48,'ABT Transactions'!$D$9:$D$40,$B$21)","v":0},{"$f":"SUMIFS('ABT Transactions'!$B$9:$B$40,'ABT Transactions'!$J$9:$J$40,$C46,'ABT Transactions'!$I$9:$I$40,$AJ$14,'ABT Transactions'!$C$9:$C$40,AL48,'ABT Transactions'!$D$9:$D$40,$B$21)","v":0},{"$f":"SUMIFS('ABT Transactions'!$B$9:$B$40,'ABT Transactions'!$J$9:$J$40,$C46,'ABT Transactions'!$I$9:$I$40,$AM$14,'ABT Transactions'!$C$9:$C$40,AM48,'ABT Transactions'!$D$9:$D$40,$B$21)","v":0},{"$f":"SUMIFS('ABT Transactions'!$B$9:$B$40,'ABT Transactions'!$J$9:$J$40,$C46,'ABT Transactions'!$I$9:$I$40,$AM$14,'ABT Transactions'!$C$9:$C$40,AN48,'ABT Transactions'!$D$9:$D$40,$B$21)","v":0},{"$f":"SUMIFS('ABT Transactions'!$B$9:$B$40,'ABT Transactions'!$J$9:$J$40,$C46,'ABT Transactions'!$I$9:$I$40,$AM$14,'ABT Transactions'!$C$9:$C$40,AO48,'ABT Transactions'!$D$9:$D$40,$B$21)","v":0},{"$f":"SUMIFS('ABT Transactions'!$B$9:$B$40,'ABT Transactions'!$J$9:$J$40,$C46,'ABT Transactions'!$I$9:$I$40,$AP$14,'ABT Transactions'!$C$9:$C$40,AP48,'ABT Transactions'!$D$9:$D$40,$B$21)","v":0},{"$f":"SUMIFS('ABT Transactions'!$B$9:$B$40,'ABT Transactions'!$J$9:$J$40,$C46,'ABT Transactions'!$I$9:$I$40,$AP$14,'ABT Transactions'!$C$9:$C$40,AQ48,'ABT Transactions'!$D$9:$D$40,$B$21)","v":0},{"$f":"SUMIFS('ABT Transactions'!$B$9:$B$40,'ABT Transactions'!$J$9:$J$40,$C46,'ABT Transactions'!$I$9:$I$40,$AP$14,'ABT Transactions'!$C$9:$C$40,AR48,'ABT Transactions'!$D$9:$D$40,$B$21)","v":0},{"$f":"SUMIFS('ABT Transactions'!$B$9:$B$40,'ABT Transactions'!$J$9:$J$40,$C$46,'ABT Transactions'!$I$9:$I$40,$AS$47,'ABT Transactions'!$C$9:$C$40,AS48,'ABT Transactions'!$D$9:$D$40,$B$54)","v":0},{"$f":"SUMIFS('ABT Transactions'!$B$9:$B$40,'ABT Transactions'!$J$9:$J$40,$C$46,'ABT Transactions'!$I$9:$I$40,$AS$47,'ABT Transactions'!$C$9:$C$40,AT48,'ABT Transactions'!$D$9:$D$40,$B$54)","v":0},{"$f":"SUMIFS('ABT Transactions'!$B$9:$B$40,'ABT Transactions'!$J$9:$J$40,$C$46,'ABT Transactions'!$I$9:$I$40,$AS$47,'ABT Transactions'!$C$9:$C$40,AU48,'ABT Transactions'!$D$9:$D$40,$B$54)","v":0}]
[null,"Transfer ADV Credits (out)",{"$f":"SUMIFS('ABT Transactions'!$B$9:$B$40,'ABT Transactions'!$G$9:$G$40,$C$46,'ABT Transactions'!$F$9:$F$40,$C$47,'ABT Transactions'!$C$9:$C$40,C$48,'ABT Transactions'!$D$9:$D$40,$B$55)","v":0},{"$f":"SUMIFS('ABT Transactions'!$B$9:$B$40,'ABT Transactions'!$G$9:$G$40,$C$46,'ABT Transactions'!$F$9:$F$40,$C$47,'ABT Transactions'!$C$9:$C$40,D$48,'ABT Transactions'!$D$9:$D$40,$B$55)","v":0},{"$f":"SUMIFS('ABT Transactions'!$B$9:$B$40,'ABT Transactions'!$G$9:$G$40,$C$46,'ABT Transactions'!$F$9:$F$40,$C$47,'ABT Transactions'!$C$9:$C$40,E$48,'ABT Transactions'!$D$9:$D$40,$B$55)","v":0},{"$f":"SUMIFS('ABT Transactions'!$B$9:$B$40,'ABT Transactions'!$G$9:$G$40,$C$46,'ABT Transactions'!$F$9:$F$40,$F$47,'ABT Transactions'!$C$9:$C$40,F$48,'ABT Transactions'!$D$9:$D$40,$B$55)","v":0},{"$f":"SUMIFS('ABT Transactions'!$B$9:$B$40,'ABT Transactions'!$G$9:$G$40,$C$46,'ABT Transactions'!$F$9:$F$40,$F$47,'ABT Transactions'!$C$9:$C$40,G$48,'ABT Transactions'!$D$9:$D$40,$B$55)","v":0},{"$f":"SUMIFS('ABT Transactions'!$B$9:$B$40,'ABT Transactions'!$G$9:$G$40,$C$46,'ABT Transactions'!$F$9:$F$40,$F$47,'ABT Transactions'!$C$9:$C$40,H$48,'ABT Transactions'!$D$9:$D$40,$B$55)","v":100000},{"$f":"SUMIFS('ABT Transactions'!$B$9:$B$40,'ABT Transactions'!$G$9:$G$40,$C$46,'ABT Transactions'!$F$9:$F$40,$I$47,'ABT Transactions'!$C$9:$C$40,I$48,'ABT Transactions'!$D$9:$D$40,$B$55)","v":0},{"$f":"SUMIFS('ABT Transactions'!$B$9:$B$40,'ABT Transactions'!$G$9:$G$40,$C$46,'ABT Transactions'!$F$9:$F$40,$I$47,'ABT Transactions'!$C$9:$C$40,J$48,'ABT Transactions'!$D$9:$D$40,$B$55)","v":0},{"$f":"SUMIFS('ABT Transactions'!$B$9:$B$40,'ABT Transactions'!$G$9:$G$40,$C$46,'ABT Transactions'!$F$9:$F$40,$I$47,'ABT Transactions'!$C$9:$C$40,K$48,'ABT Transactions'!$D$9:$D$40,$B$55)","v":0},{"$f":"SUMIFS('ABT Transactions'!$B$9:$B$40,'ABT Transactions'!$G$9:$G$40,$C$46,'ABT Transactions'!$F$9:$F$40,$L$47,'ABT Transactions'!$C$9:$C$40,L$48,'ABT Transactions'!$D$9:$D$40,$B$55)","v":0},{"$f":"SUMIFS('ABT Transactions'!$B$9:$B$40,'ABT Transactions'!$G$9:$G$40,$C$46,'ABT Transactions'!$F$9:$F$40,$L$47,'ABT Transactions'!$C$9:$C$40,M$48,'ABT Transactions'!$D$9:$D$40,$B$55)","v":0},{"$f":"SUMIFS('ABT Transactions'!$B$9:$B$40,'ABT Transactions'!$G$9:$G$40,$C$46,'ABT Transactions'!$F$9:$F$40,$L$47,'ABT Transactions'!$C$9:$C$40,N$48,'ABT Transactions'!$D$9:$D$40,$B$55)","v":0},{"$f":"SUMIFS('ABT Transactions'!$B$9:$B$40,'ABT Transactions'!$G$9:$G$40,$C$46,'ABT Transactions'!$F$9:$F$40,$O$47,'ABT Transactions'!$C$9:$C$40,O$48,'ABT Transactions'!$D$9:$D$40,$B$55)","v":0},{"$f":"SUMIFS('ABT Transactions'!$B$9:$B$40,'ABT Transactions'!$G$9:$G$40,$C$46,'ABT Transactions'!$F$9:$F$40,$O$47,'ABT Transactions'!$C$9:$C$40,P$48,'ABT Transactions'!$D$9:$D$40,$B$55)","v":0},{"$f":"SUMIFS('ABT Transactions'!$B$9:$B$40,'ABT Transactions'!$G$9:$G$40,$C$46,'ABT Transactions'!$F$9:$F$40,$O$47,'ABT Transactions'!$C$9:$C$40,Q$48,'ABT Transactions'!$D$9:$D$40,$B$55)","v":0},{"$f":"SUMIFS('ABT Transactions'!$B$9:$B$40,'ABT Transactions'!$G$9:$G$40,$C$46,'ABT Transactions'!$F$9:$F$40,$R$47,'ABT Transactions'!$C$9:$C$40,R$48,'ABT Transactions'!$D$9:$D$40,$B$55)","v":0},{"$f":"SUMIFS('ABT Transactions'!$B$9:$B$40,'ABT Transactions'!$G$9:$G$40,$C$46,'ABT Transactions'!$F$9:$F$40,$R$47,'ABT Transactions'!$C$9:$C$40,S$48,'ABT Transactions'!$D$9:$D$40,$B$55)","v":0},{"$f":"SUMIFS('ABT Transactions'!$B$9:$B$40,'ABT Transactions'!$G$9:$G$40,$C$46,'ABT Transactions'!$F$9:$F$40,$R$47,'ABT Transactions'!$C$9:$C$40,T$48,'ABT Transactions'!$D$9:$D$40,$B$55)","v":0},{"$f":"SUMIFS('ABT Transactions'!$B$9:$B$40,'ABT Transactions'!$G$9:$G$40,$C46,'ABT Transactions'!$F$9:$F$40,$U$14,'ABT Transactions'!$C$9:$C$40,U$15,'ABT Transactions'!$D$9:$D$40,$B$22)","v":0},{"$f":"SUMIFS('ABT Transactions'!$B$9:$B$40,'ABT Transactions'!$G$9:$G$40,$C46,'ABT Transactions'!$F$9:$F$40,$U$14,'ABT Transactions'!$C$9:$C$40,V$15,'ABT Transactions'!$D$9:$D$40,$B$22)","v":0},{"$f":"SUMIFS('ABT Transactions'!$B$9:$B$40,'ABT Transactions'!$G$9:$G$40,$C46,'ABT Transactions'!$F$9:$F$40,$U$14,'ABT Transactions'!$C$9:$C$40,W$15,'ABT Transactions'!$D$9:$D$40,$B$22)","v":0},{"$f":"SUMIFS('ABT Transactions'!$B$9:$B$40,'ABT Transactions'!$G$9:$G$40,$C46,'ABT Transactions'!$F$9:$F$40,$X$14,'ABT Transactions'!$C$9:$C$40,X$15,'ABT Transactions'!$D$9:$D$40,$B$22)","v":0},{"$f":"SUMIFS('ABT Transactions'!$B$9:$B$40,'ABT Transactions'!$G$9:$G$40,$C46,'ABT Transactions'!$F$9:$F$40,$X$14,'ABT Transactions'!$C$9:$C$40,Y$15,'ABT Transactions'!$D$9:$D$40,$B$22)","v":0},{"$f":"SUMIFS('ABT Transactions'!$B$9:$B$40,'ABT Transactions'!$G$9:$G$40,$C46,'ABT Transactions'!$F$9:$F$40,$X$14,'ABT Transactions'!$C$9:$C$40,Z$15,'ABT Transactions'!$D$9:$D$40,$B$22)","v":0},{"$f":"SUMIFS('ABT Transactions'!$B$9:$B$40,'ABT Transactions'!$G$9:$G$40,$C46,'ABT Transactions'!$F$9:$F$40,$AA$14,'ABT Transactions'!$C$9:$C$40,AA$15,'ABT Transactions'!$D$9:$D$40,$B$22)","v":0},{"$f":"SUMIFS('ABT Transactions'!$B$9:$B$40,'ABT Transactions'!$G$9:$G$40,$C46,'ABT Transactions'!$F$9:$F$40,$AA$14,'ABT Transactions'!$C$9:$C$40,AB$15,'ABT Transactions'!$D$9:$D$40,$B$22)","v":0},{"$f":"SUMIFS('ABT Transactions'!$B$9:$B$40,'ABT Transactions'!$G$9:$G$40,$C46,'ABT Transactions'!$F$9:$F$40,$AA$14,'ABT Transactions'!$C$9:$C$40,AC$15,'ABT Transactions'!$D$9:$D$40,$B$22)","v":0},{"$f":"SUMIFS('ABT Transactions'!$B$9:$B$40,'ABT Transactions'!$G$9:$G$40,$C46,'ABT Transactions'!$F$9:$F$40,$AD$14,'ABT Transactions'!$C$9:$C$40,AD$15,'ABT Transactions'!$D$9:$D$40,$B$22)","v":0},{"$f":"SUMIFS('ABT Transactions'!$B$9:$B$40,'ABT Transactions'!$G$9:$G$40,$C46,'ABT Transactions'!$F$9:$F$40,$AD$14,'ABT Transactions'!$C$9:$C$40,AE$15,'ABT Transactions'!$D$9:$D$40,$B$22)","v":0},{"$f":"SUMIFS('ABT Transactions'!$B$9:$B$40,'ABT Transactions'!$G$9:$G$40,$C46,'ABT Transactions'!$F$9:$F$40,$AD$14,'ABT Transactions'!$C$9:$C$40,AF$15,'ABT Transactions'!$D$9:$D$40,$B$22)","v":0},{"$f":"SUMIFS('ABT Transactions'!$B$9:$B$40,'ABT Transactions'!$G$9:$G$40,$C46,'ABT Transactions'!$F$9:$F$40,$AG$14,'ABT Transactions'!$C$9:$C$40,AG$15,'ABT Transactions'!$D$9:$D$40,$B$22)","v":0},{"$f":"SUMIFS('ABT Transactions'!$B$9:$B$40,'ABT Transactions'!$G$9:$G$40,$C46,'ABT Transactions'!$F$9:$F$40,$AG$14,'ABT Transactions'!$C$9:$C$40,AH$15,'ABT Transactions'!$D$9:$D$40,$B$22)","v":0},{"$f":"SUMIFS('ABT Transactions'!$B$9:$B$40,'ABT Transactions'!$G$9:$G$40,$C46,'ABT Transactions'!$F$9:$F$40,$AG$14,'ABT Transactions'!$C$9:$C$40,AI$15,'ABT Transactions'!$D$9:$D$40,$B$22)","v":0},{"$f":"SUMIFS('ABT Transactions'!$B$9:$B$40,'ABT Transactions'!$G$9:$G$40,$C46,'ABT Transactions'!$F$9:$F$40,$AJ$14,'ABT Transactions'!$C$9:$C$40,AJ$15,'ABT Transactions'!$D$9:$D$40,$B$22)","v":0},{"$f":"SUMIFS('ABT Transactions'!$B$9:$B$40,'ABT Transactions'!$G$9:$G$40,$C46,'ABT Transactions'!$F$9:$F$40,$AJ$14,'ABT Transactions'!$C$9:$C$40,AK$15,'ABT Transactions'!$D$9:$D$40,$B$22)","v":0},{"$f":"SUMIFS('ABT Transactions'!$B$9:$B$40,'ABT Transactions'!$G$9:$G$40,$C46,'ABT Transactions'!$F$9:$F$40,$AJ$14,'ABT Transactions'!$C$9:$C$40,AL$15,'ABT Transactions'!$D$9:$D$40,$B$22)","v":0},{"$f":"SUMIFS('ABT Transactions'!$B$9:$B$40,'ABT Transactions'!$G$9:$G$40,$C46,'ABT Transactions'!$F$9:$F$40,$AM$14,'ABT Transactions'!$C$9:$C$40,AM$15,'ABT Transactions'!$D$9:$D$40,$B$22)","v":0},{"$f":"SUMIFS('ABT Transactions'!$B$9:$B$40,'ABT Transactions'!$G$9:$G$40,$C46,'ABT Transactions'!$F$9:$F$40,$AM$14,'ABT Transactions'!$C$9:$C$40,AN$15,'ABT Transactions'!$D$9:$D$40,$B$22)","v":0},{"$f":"SUMIFS('ABT Transactions'!$B$9:$B$40,'ABT Transactions'!$G$9:$G$40,$C46,'ABT Transactions'!$F$9:$F$40,$AM$14,'ABT Transactions'!$C$9:$C$40,AO$15,'ABT Transactions'!$D$9:$D$40,$B$22)","v":0},{"$f":"SUMIFS('ABT Transactions'!$B$9:$B$40,'ABT Transactions'!$G$9:$G$40,$C46,'ABT Transactions'!$F$9:$F$40,$AP$14,'ABT Transactions'!$C$9:$C$40,AP$15,'ABT Transactions'!$D$9:$D$40,$B$22)","v":0},{"$f":"SUMIFS('ABT Transactions'!$B$9:$B$40,'ABT Transactions'!$G$9:$G$40,$C46,'ABT Transactions'!$F$9:$F$40,$AP$14,'ABT Transactions'!$C$9:$C$40,AQ$15,'ABT Transactions'!$D$9:$D$40,$B$22)","v":0},{"$f":"SUMIFS('ABT Transactions'!$B$9:$B$40,'ABT Transactions'!$G$9:$G$40,$C46,'ABT Transactions'!$F$9:$F$40,$AP$14,'ABT Transactions'!$C$9:$C$40,AR$15,'ABT Transactions'!$D$9:$D$40,$B$22)","v":0},{"$f":"SUMIFS('ABT Transactions'!$B$9:$B$40,'ABT Transactions'!$G$9:$G$40,$C$46,'ABT Transactions'!$F$9:$F$40,$AS$47,'ABT Transactions'!$C$9:$C$40,AS$48,'ABT Transactions'!$D$9:$D$40,$B$55)","v":0},{"$f":"SUMIFS('ABT Transactions'!$B$9:$B$40,'ABT Transactions'!$G$9:$G$40,$C$46,'ABT Transactions'!$F$9:$F$40,$AS$47,'ABT Transactions'!$C$9:$C$40,AT$48,'ABT Transactions'!$D$9:$D$40,$B$55)","v":0},{"$f":"SUMIFS('ABT Transactions'!$B$9:$B$40,'ABT Transactions'!$G$9:$G$40,$C$46,'ABT Transactions'!$F$9:$F$40,$AS$47,'ABT Transactions'!$C$9:$C$40,AU$48,'ABT Transactions'!$D$9:$D$40,$B$55)","v":0}]
[null,"Transfer ADV Credits (in)",{"$f":"SUMIFS('ABT Transactions'!$B$9:$B$40,'ABT Transactions'!$J$9:$J$40,$C$46,'ABT Transactions'!$I$9:$I$40,$C$47,'ABT Transactions'!$C$9:$C$40,C48,'ABT Transactions'!$D$9:$D$40,$B$56)","v":0},{"$f":"SUMIFS('ABT Transactions'!$B$9:$B$40,'ABT Transactions'!$J$9:$J$40,$C$46,'ABT Transactions'!$I$9:$I$40,$C$47,'ABT Transactions'!$C$9:$C$40,D48,'ABT Transactions'!$D$9:$D$40,$B$56)","v":0},{"$f":"SUMIFS('ABT Transactions'!$B$9:$B$40,'ABT Transactions'!$J$9:$J$40,$C$46,'ABT Transactions'!$I$9:$I$40,$C$47,'ABT Transactions'!$C$9:$C$40,E48,'ABT Transactions'!$D$9:$D$40,$B$56)","v":0},{"$f":"SUMIFS('ABT Transactions'!$B$9:$B$40,'ABT Transactions'!$J$9:$J$40,$C$46,'ABT Transactions'!$I$9:$I$40,$F$47,'ABT Transactions'!$C$9:$C$40,F48,'ABT Transactions'!$D$9:$D$40,$B$56)","v":0},{"$f":"SUMIFS('ABT Transactions'!$B$9:$B$40,'ABT Transactions'!$J$9:$J$40,$C$46,'ABT Transactions'!$I$9:$I$40,$F$47,'ABT Transactions'!$C$9:$C$40,G48,'ABT Transactions'!$D$9:$D$40,$B$56)","v":0},{"$f":"SUMIFS('ABT Transactions'!$B$9:$B$40,'ABT Transactions'!$J$9:$J$40,$C$46,'ABT Transactions'!$I$9:$I$40,$F$47,'ABT Transactions'!$C$9:$C$40,H48,'ABT Transactions'!$D$9:$D$40,$B$56)","v":0},{"$f":"SUMIFS('ABT Transactions'!$B$9:$B$40,'ABT Transactions'!$J$9:$J$40,$C$46,'ABT Transactions'!$I$9:$I$40,$I$47,'ABT Transactions'!$C$9:$C$40,I48,'ABT Transactions'!$D$9:$D$40,$B$56)","v":0},{"$f":"SUMIFS('ABT Transactions'!$B$9:$B$40,'ABT Transactions'!$J$9:$J$40,$C$46,'ABT Transactions'!$I$9:$I$40,$I$47,'ABT Transactions'!$C$9:$C$40,J48,'ABT Transactions'!$D$9:$D$40,$B$56)","v":0},{"$f":"SUMIFS('ABT Transactions'!$B$9:$B$40,'ABT Transactions'!$J$9:$J$40,$C$46,'ABT Transactions'!$I$9:$I$40,$I$47,'ABT Transactions'!$C$9:$C$40,K48,'ABT Transactions'!$D$9:$D$40,$B$56)","v":100000},{"$f":"SUMIFS('ABT Transactions'!$B$9:$B$40,'ABT Transactions'!$J$9:$J$40,$C$46,'ABT Transactions'!$I$9:$I$40,$L$47,'ABT Transactions'!$C$9:$C$40,L48,'ABT Transactions'!$D$9:$D$40,$B$56)","v":0},{"$f":"SUMIFS('ABT Transactions'!$B$9:$B$40,'ABT Transactions'!$J$9:$J$40,$C$46,'ABT Transactions'!$I$9:$I$40,$L$47,'ABT Transactions'!$C$9:$C$40,M48,'ABT Transactions'!$D$9:$D$40,$B$56)","v":0},{"$f":"SUMIFS('ABT Transactions'!$B$9:$B$40,'ABT Transactions'!$J$9:$J$40,$C$46,'ABT Transactions'!$I$9:$I$40,$L$47,'ABT Transactions'!$C$9:$C$40,N48,'ABT Transactions'!$D$9:$D$40,$B$56)","v":0},{"$f":"SUMIFS('ABT Transactions'!$B$9:$B$40,'ABT Transactions'!$J$9:$J$40,$C$46,'ABT Transactions'!$I$9:$I$40,$O$47,'ABT Transactions'!$C$9:$C$40,O48,'ABT Transactions'!$D$9:$D$40,$B$56)","v":0},{"$f":"SUMIFS('ABT Transactions'!$B$9:$B$40,'ABT Transactions'!$J$9:$J$40,$C$46,'ABT Transactions'!$I$9:$I$40,$O$47,'ABT Transactions'!$C$9:$C$40,P48,'ABT Transactions'!$D$9:$D$40,$B$56)","v":0},{"$f":"SUMIFS('ABT Transactions'!$B$9:$B$40,'ABT Transactions'!$J$9:$J$40,$C$46,'ABT Transactions'!$I$9:$I$40,$O$47,'ABT Transactions'!$C$9:$C$40,Q48,'ABT Transactions'!$D$9:$D$40,$B$56)","v":0},{"$f":"SUMIFS('ABT Transactions'!$B$9:$B$40,'ABT Transactions'!$J$9:$J$40,$C$46,'ABT Transactions'!$I$9:$I$40,$R$47,'ABT Transactions'!$C$9:$C$40,R48,'ABT Transactions'!$D$9:$D$40,$B$56)","v":0},{"$f":"SUMIFS('ABT Transactions'!$B$9:$B$40,'ABT Transactions'!$J$9:$J$40,$C$46,'ABT Transactions'!$I$9:$I$40,$R$47,'ABT Transactions'!$C$9:$C$40,S48,'ABT Transactions'!$D$9:$D$40,$B$56)","v":0},{"$f":"SUMIFS('ABT Transactions'!$B$9:$B$40,'ABT Transactions'!$J$9:$J$40,$C$46,'ABT Transactions'!$I$9:$I$40,$R$47,'ABT Transactions'!$C$9:$C$40,T48,'ABT Transactions'!$D$9:$D$40,$B$56)","v":0},{"$f":"SUMIFS('ABT Transactions'!$B$9:$B$40,'ABT Transactions'!$J$9:$J$40,$C46,'ABT Transactions'!$I$9:$I$40,$U$14,'ABT Transactions'!$C$9:$C$40,U48,'ABT Transactions'!$D$9:$D$40,$B$23)","v":0},{"$f":"SUMIFS('ABT Transactions'!$B$9:$B$40,'ABT Transactions'!$J$9:$J$40,$C46,'ABT Transactions'!$I$9:$I$40,$U$14,'ABT Transactions'!$C$9:$C$40,V48,'ABT Transactions'!$D$9:$D$40,$B$23)","v":0},{"$f":"SUMIFS('ABT Transactions'!$B$9:$B$40,'ABT Transactions'!$J$9:$J$40,$C46,'ABT Transactions'!$I$9:$I$40,$U$14,'ABT Transactions'!$C$9:$C$40,W48,'ABT Transactions'!$D$9:$D$40,$B$23)","v":0},{"$f":"SUMIFS('ABT Transactions'!$B$9:$B$40,'ABT Transactions'!$J$9:$J$40,$C46,'ABT Transactions'!$I$9:$I$40,$X$14,'ABT Transactions'!$C$9:$C$40,X48,'ABT Transactions'!$D$9:$D$40,$B$23)","v":0},{"$f":"SUMIFS('ABT Transactions'!$B$9:$B$40,'ABT Transactions'!$J$9:$J$40,$C46,'ABT Transactions'!$I$9:$I$40,$X$14,'ABT Transactions'!$C$9:$C$40,Y48,'ABT Transactions'!$D$9:$D$40,$B$23)","v":0},{"$f":"SUMIFS('ABT Transactions'!$B$9:$B$40,'ABT Transactions'!$J$9:$J$40,$C46,'ABT Transactions'!$I$9:$I$40,$X$14,'ABT Transactions'!$C$9:$C$40,Z48,'ABT Transactions'!$D$9:$D$40,$B$23)","v":0},{"$f":"SUMIFS('ABT Transactions'!$B$9:$B$40,'ABT Transactions'!$J$9:$J$40,$C46,'ABT Transactions'!$I$9:$I$40,$AA$14,'ABT Transactions'!$C$9:$C$40,AA48,'ABT Transactions'!$D$9:$D$40,$B$23)","v":0},{"$f":"SUMIFS('ABT Transactions'!$B$9:$B$40,'ABT Transactions'!$J$9:$J$40,$C46,'ABT Transactions'!$I$9:$I$40,$AA$14,'ABT Transactions'!$C$9:$C$40,AB48,'ABT Transactions'!$D$9:$D$40,$B$23)","v":0},{"$f":"SUMIFS('ABT Transactions'!$B$9:$B$40,'ABT Transactions'!$J$9:$J$40,$C46,'ABT Transactions'!$I$9:$I$40,$AA$14,'ABT Transactions'!$C$9:$C$40,AC48,'ABT Transactions'!$D$9:$D$40,$B$23)","v":0},{"$f":"SUMIFS('ABT Transactions'!$B$9:$B$40,'ABT Transactions'!$J$9:$J$40,$C46,'ABT Transactions'!$I$9:$I$40,$AD$14,'ABT Transactions'!$C$9:$C$40,AD48,'ABT Transactions'!$D$9:$D$40,$B$23)","v":0},{"$f":"SUMIFS('ABT Transactions'!$B$9:$B$40,'ABT Transactions'!$J$9:$J$40,$C46,'ABT Transactions'!$I$9:$I$40,$AD$14,'ABT Transactions'!$C$9:$C$40,AE48,'ABT Transactions'!$D$9:$D$40,$B$23)","v":0},{"$f":"SUMIFS('ABT Transactions'!$B$9:$B$40,'ABT Transactions'!$J$9:$J$40,$C46,'ABT Transactions'!$I$9:$I$40,$AD$14,'ABT Transactions'!$C$9:$C$40,AF48,'ABT Transactions'!$D$9:$D$40,$B$23)","v":0},{"$f":"SUMIFS('ABT Transactions'!$B$9:$B$40,'ABT Transactions'!$J$9:$J$40,$C46,'ABT Transactions'!$I$9:$I$40,$AG$14,'ABT Transactions'!$C$9:$C$40,AG48,'ABT Transactions'!$D$9:$D$40,$B$23)","v":0},{"$f":"SUMIFS('ABT Transactions'!$B$9:$B$40,'ABT Transactions'!$J$9:$J$40,$C46,'ABT Transactions'!$I$9:$I$40,$AG$14,'ABT Transactions'!$C$9:$C$40,AH48,'ABT Transactions'!$D$9:$D$40,$B$23)","v":0},{"$f":"SUMIFS('ABT Transactions'!$B$9:$B$40,'ABT Transactions'!$J$9:$J$40,$C46,'ABT Transactions'!$I$9:$I$40,$AG$14,'ABT Transactions'!$C$9:$C$40,AI48,'ABT Transactions'!$D$9:$D$40,$B$23)","v":0},{"$f":"SUMIFS('ABT Transactions'!$B$9:$B$40,'ABT Transactions'!$J$9:$J$40,$C46,'ABT Transactions'!$I$9:$I$40,$AJ$14,'ABT Transactions'!$C$9:$C$40,AJ48,'ABT Transactions'!$D$9:$D$40,$B$23)","v":0},{"$f":"SUMIFS('ABT Transactions'!$B$9:$B$40,'ABT Transactions'!$J$9:$J$40,$C46,'ABT Transactions'!$I$9:$I$40,$AJ$14,'ABT Transactions'!$C$9:$C$40,AK48,'ABT Transactions'!$D$9:$D$40,$B$23)","v":0},{"$f":"SUMIFS('ABT Transactions'!$B$9:$B$40,'ABT Transactions'!$J$9:$J$40,$C46,'ABT Transactions'!$I$9:$I$40,$AJ$14,'ABT Transactions'!$C$9:$C$40,AL48,'ABT Transactions'!$D$9:$D$40,$B$23)","v":0},{"$f":"SUMIFS('ABT Transactions'!$B$9:$B$40,'ABT Transactions'!$J$9:$J$40,$C46,'ABT Transactions'!$I$9:$I$40,$AM$14,'ABT Transactions'!$C$9:$C$40,AM48,'ABT Transactions'!$D$9:$D$40,$B$23)","v":0},{"$f":"SUMIFS('ABT Transactions'!$B$9:$B$40,'ABT Transactions'!$J$9:$J$40,$C46,'ABT Transactions'!$I$9:$I$40,$AM$14,'ABT Transactions'!$C$9:$C$40,AN48,'ABT Transactions'!$D$9:$D$40,$B$23)","v":0},{"$f":"SUMIFS('ABT Transactions'!$B$9:$B$40,'ABT Transactions'!$J$9:$J$40,$C46,'ABT Transactions'!$I$9:$I$40,$AM$14,'ABT Transactions'!$C$9:$C$40,AO48,'ABT Transactions'!$D$9:$D$40,$B$23)","v":0},{"$f":"SUMIFS('ABT Transactions'!$B$9:$B$40,'ABT Transactions'!$J$9:$J$40,$C46,'ABT Transactions'!$I$9:$I$40,$AP$14,'ABT Transactions'!$C$9:$C$40,AP48,'ABT Transactions'!$D$9:$D$40,$B$23)","v":0},{"$f":"SUMIFS('ABT Transactions'!$B$9:$B$40,'ABT Transactions'!$J$9:$J$40,$C46,'ABT Transactions'!$I$9:$I$40,$AP$14,'ABT Transactions'!$C$9:$C$40,AQ48,'ABT Transactions'!$D$9:$D$40,$B$23)","v":0},{"$f":"SUMIFS('ABT Transactions'!$B$9:$B$40,'ABT Transactions'!$J$9:$J$40,$C46,'ABT Transactions'!$I$9:$I$40,$AP$14,'ABT Transactions'!$C$9:$C$40,AR48,'ABT Transactions'!$D$9:$D$40,$B$23)","v":0},{"$f":"SUMIFS('ABT Transactions'!$B$9:$B$40,'ABT Transactions'!$J$9:$J$40,$C$46,'ABT Transactions'!$I$9:$I$40,$AS$47,'ABT Transactions'!$C$9:$C$40,AS48,'ABT Transactions'!$D$9:$D$40,$B$56)","v":0},{"$f":"SUMIFS('ABT Transactions'!$B$9:$B$40,'ABT Transactions'!$J$9:$J$40,$C$46,'ABT Transactions'!$I$9:$I$40,$AS$47,'ABT Transactions'!$C$9:$C$40,AT48,'ABT Transactions'!$D$9:$D$40,$B$56)","v":0},{"$f":"SUMIFS('ABT Transactions'!$B$9:$B$40,'ABT Transactions'!$J$9:$J$40,$C$46,'ABT Transactions'!$I$9:$I$40,$AS$47,'ABT Transactions'!$C$9:$C$40,AU48,'ABT Transactions'!$D$9:$D$40,$B$56)","v":0}]
[null,"Retired Credits",{"$f":"SUMIFS('ABT Transactions'!$B$9:$B$40,'ABT Transactions'!$G$9:$G$40,$C$46,'ABT Transactions'!$F$9:$F$40,$C$47,'ABT Transactions'!$C$9:$C$40,C48,'ABT Transactions'!$D$9:$D$40,$B$57)","v":0},{"$f":"SUMIFS('ABT Transactions'!$B$9:$B$40,'ABT Transactions'!$G$9:$G$40,$C$46,'ABT Transactions'!$F$9:$F$40,$C$47,'ABT Transactions'!$C$9:$C$40,D48,'ABT Transactions'!$D$9:$D$40,$B$57)","v":0},{"$f":"SUMIFS('ABT Transactions'!$B$9:$B$40,'ABT Transactions'!$G$9:$G$40,$C$46,'ABT Transactions'!$F$9:$F$40,$C$47,'ABT Transactions'!$C$9:$C$40,E48,'ABT Transactions'!$D$9:$D$40,$B$57)","v":0},{"$f":"SUMIFS('ABT Transactions'!$B$9:$B$40,'ABT Transactions'!$G$9:$G$40,$C$46,'ABT Transactions'!$F$9:$F$40,$F$47,'ABT Transactions'!$C$9:$C$40,F48,'ABT Transactions'!$D$9:$D$40,$B$57)","v":0},{"$f":"SUMIFS('ABT Transactions'!$B$9:$B$40,'ABT Transactions'!$G$9:$G$40,$C$46,'ABT Transactions'!$F$9:$F$40,$F$47,'ABT Transactions'!$C$9:$C$40,G48,'ABT Transactions'!$D$9:$D$40,$B$57)","v":0},{"$f":"SUMIFS('ABT Transactions'!$B$9:$B$40,'ABT Transactions'!$G$9:$G$40,$C$46,'ABT Transactions'!$F$9:$F$40,$F$47,'ABT Transactions'!$C$9:$C$40,H48,'ABT Transactions'!$D$9:$D$40,$B$57)","v":0},{"$f":"SUMIFS('ABT Transactions'!$B$9:$B$40,'ABT Transactions'!$G$9:$G$40,$C$46,'ABT Transactions'!$F$9:$F$40,$I$47,'ABT Transactions'!$C$9:$C$40,I48,'ABT Transactions'!$D$9:$D$40,$B$57)","v":0},{"$f":"SUMIFS('ABT Transactions'!$B$9:$B$40,'ABT Transactions'!$G$9:$G$40,$C$46,'ABT Transactions'!$F$9:$F$40,$I$47,'ABT Transactions'!$C$9:$C$40,J48,'ABT Transactions'!$D$9:$D$40,$B$57)","v":0},{"$f":"SUMIFS('ABT Transactions'!$B$9:$B$40,'ABT Transactions'!$G$9:$G$40,$C$46,'ABT Transactions'!$F$9:$F$40,$I$47,'ABT Transactions'!$C$9:$C$40,K48,'ABT Transactions'!$D$9:$D$40,$B$57)","v":0},{"$f":"SUMIFS('ABT Transactions'!$B$9:$B$40,'ABT Transactions'!$G$9:$G$40,$C$46,'ABT Transactions'!$F$9:$F$40,$L$47,'ABT Transactions'!$C$9:$C$40,L48,'ABT Transactions'!$D$9:$D$40,$B$57)","v":0},{"$f":"SUMIFS('ABT Transactions'!$B$9:$B$40,'ABT Transactions'!$G$9:$G$40,$C$46,'ABT Transactions'!$F$9:$F$40,$L$47,'ABT Transactions'!$C$9:$C$40,M48,'ABT Transactions'!$D$9:$D$40,$B$57)","v":0},{"$f":"SUMIFS('ABT Transactions'!$B$9:$B$40,'ABT Transactions'!$G$9:$G$40,$C$46,'ABT Transactions'!$F$9:$F$40,$L$47,'ABT Transactions'!$C$9:$C$40,N48,'ABT Transactions'!$D$9:$D$40,$B$57)","v":0},{"$f":"SUMIFS('ABT Transactions'!$B$9:$B$40,'ABT Transactions'!$G$9:$G$40,$C$46,'ABT Transactions'!$F$9:$F$40,$O$47,'ABT Transactions'!$C$9:$C$40,O48,'ABT Transactions'!$D$9:$D$40,$B$57)","v":0},{"$f":"SUMIFS('ABT Transactions'!$B$9:$B$40,'ABT Transactions'!$G$9:$G$40,$C$46,'ABT Transactions'!$F$9:$F$40,$O$47,'ABT Transactions'!$C$9:$C$40,P48,'ABT Transactions'!$D$9:$D$40,$B$57)","v":0},{"$f":"SUMIFS('ABT Transactions'!$B$9:$B$40,'ABT Transactions'!$G$9:$G$40,$C$46,'ABT Transactions'!$F$9:$F$40,$O$47,'ABT Transactions'!$C$9:$C$40,Q48,'ABT Transactions'!$D$9:$D$40,$B$57)","v":0},{"$f":"SUMIFS('ABT Transactions'!$B$9:$B$40,'ABT Transactions'!$G$9:$G$40,$C$46,'ABT Transactions'!$F$9:$F$40,$R$47,'ABT Transactions'!$C$9:$C$40,R48,'ABT Transactions'!$D$9:$D$40,$B$57)","v":0},{"$f":"SUMIFS('ABT Transactions'!$B$9:$B$40,'ABT Transactions'!$G$9:$G$40,$C$46,'ABT Transactions'!$F$9:$F$40,$R$47,'ABT Transactions'!$C$9:$C$40,S48,'ABT Transactions'!$D$9:$D$40,$B$57)","v":0},{"$f":"SUMIFS('ABT Transactions'!$B$9:$B$40,'ABT Transactions'!$G$9:$G$40,$C$46,'ABT Transactions'!$F$9:$F$40,$R$47,'ABT Transactions'!$C$9:$C$40,T48,'ABT Transactions'!$D$9:$D$40,$B$57)","v":0},{"$f":"SUMIFS('ABT Transactions'!$B$9:$B$40,'ABT Transactions'!$G$9:$G$40,$C46,'ABT Transactions'!$F$9:$F$40,$U$14,'ABT Transactions'!$C$9:$C$40,U$15,'ABT Transactions'!$D$9:$D$40,$B$24)","v":0},{"$f":"SUMIFS('ABT Transactions'!$B$9:$B$40,'ABT Transactions'!$G$9:$G$40,$C46,'ABT Transactions'!$F$9:$F$40,$U$14,'ABT Transactions'!$C$9:$C$40,V$15,'ABT Transactions'!$D$9:$D$40,$B$24)","v":0},{"$f":"SUMIFS('ABT Transactions'!$B$9:$B$40,'ABT Transactions'!$G$9:$G$40,$C46,'ABT Transactions'!$F$9:$F$40,$U$14,'ABT Transactions'!$C$9:$C$40,W$15,'ABT Transactions'!$D$9:$D$40,$B$24)","v":0},{"$f":"SUMIFS('ABT Transactions'!$B$9:$B$40,'ABT Transactions'!$G$9:$G$40,$C46,'ABT Transactions'!$F$9:$F$40,$X$14,'ABT Transactions'!$C$9:$C$40,X$15,'ABT Transactions'!$D$9:$D$40,$B$24)","v":0},{"$f":"SUMIFS('ABT Transactions'!$B$9:$B$40,'ABT Transactions'!$G$9:$G$40,$C46,'ABT Transactions'!$F$9:$F$40,$X$14,'ABT Transactions'!$C$9:$C$40,Y$15,'ABT Transactions'!$D$9:$D$40,$B$24)","v":0},{"$f":"SUMIFS('ABT Transactions'!$B$9:$B$40,'ABT Transactions'!$G$9:$G$40,$C46,'ABT Transactions'!$F$9:$F$40,$X$14,'ABT Transactions'!$C$9:$C$40,Z$15,'ABT Transactions'!$D$9:$D$40,$B$24)","v":0},{"$f":"SUMIFS('ABT Transactions'!$B$9:$B$40,'ABT Transactions'!$G$9:$G$40,$C46,'ABT Transactions'!$F$9:$F$40,$AA$14,'ABT Transactions'!$C$9:$C$40,AA$15,'ABT Transactions'!$D$9:$D$40,$B$24)","v":0},{"$f":"SUMIFS('ABT Transactions'!$B$9:$B$40,'ABT Transactions'!$G$9:$G$40,$C46,'ABT Transactions'!$F$9:$F$40,$AA$14,'ABT Transactions'!$C$9:$C$40,AB$15,'ABT Transactions'!$D$9:$D$40,$B$24)","v":0},{"$f":"SUMIFS('ABT Transactions'!$B$9:$B$40,'ABT Transactions'!$G$9:$G$40,$C46,'ABT Transactions'!$F$9:$F$40,$AA$14,'ABT Transactions'!$C$9:$C$40,AC$15,'ABT Transactions'!$D$9:$D$40,$B$24)","v":0},{"$f":"SUMIFS('ABT Transactions'!$B$9:$B$40,'ABT Transactions'!$G$9:$G$40,$C46,'ABT Transactions'!$F$9:$F$40,$AD$14,'ABT Transactions'!$C$9:$C$40,AD$15,'ABT Transactions'!$D$9:$D$40,$B$24)","v":0},{"$f":"SUMIFS('ABT Transactions'!$B$9:$B$40,'ABT Transactions'!$G$9:$G$40,$C46,'ABT Transactions'!$F$9:$F$40,$AD$14,'ABT Transactions'!$C$9:$C$40,AE$15,'ABT Transactions'!$D$9:$D$40,$B$24)","v":0},{"$f":"SUMIFS('ABT Transactions'!$B$9:$B$40,'ABT Transactions'!$G$9:$G$40,$C46,'ABT Transactions'!$F$9:$F$40,$AD$14,'ABT Transactions'!$C$9:$C$40,AF$15,'ABT Transactions'!$D$9:$D$40,$B$24)","v":0},{"$f":"SUMIFS('ABT Transactions'!$B$9:$B$40,'ABT Transactions'!$G$9:$G$40,$C46,'ABT Transactions'!$F$9:$F$40,$AG$14,'ABT Transactions'!$C$9:$C$40,AG$15,'ABT Transactions'!$D$9:$D$40,$B$24)","v":0},{"$f":"SUMIFS('ABT Transactions'!$B$9:$B$40,'ABT Transactions'!$G$9:$G$40,$C46,'ABT Transactions'!$F$9:$F$40,$AG$14,'ABT Transactions'!$C$9:$C$40,AH$15,'ABT Transactions'!$D$9:$D$40,$B$24)","v":0},{"$f":"SUMIFS('ABT Transactions'!$B$9:$B$40,'ABT Transactions'!$G$9:$G$40,$C46,'ABT Transactions'!$F$9:$F$40,$AG$14,'ABT Transactions'!$C$9:$C$40,AI$15,'ABT Transactions'!$D$9:$D$40,$B$24)","v":0},{"$f":"SUMIFS('ABT Transactions'!$B$9:$B$40,'ABT Transactions'!$G$9:$G$40,$C46,'ABT Transactions'!$F$9:$F$40,$AJ$14,'ABT Transactions'!$C$9:$C$40,AJ$15,'ABT Transactions'!$D$9:$D$40,$B$24)","v":0},{"$f":"SUMIFS('ABT Transactions'!$B$9:$B$40,'ABT Transactions'!$G$9:$G$40,$C46,'ABT Transactions'!$F$9:$F$40,$AJ$14,'ABT Transactions'!$C$9:$C$40,AK$15,'ABT Transactions'!$D$9:$D$40,$B$24)","v":0},{"$f":"SUMIFS('ABT Transactions'!$B$9:$B$40,'ABT Transactions'!$G$9:$G$40,$C46,'ABT Transactions'!$F$9:$F$40,$AJ$14,'ABT Transactions'!$C$9:$C$40,AL$15,'ABT Transactions'!$D$9:$D$40,$B$24)","v":0},{"$f":"SUMIFS('ABT Transactions'!$B$9:$B$40,'ABT Transactions'!$G$9:$G$40,$C46,'ABT Transactions'!$F$9:$F$40,$AM$14,'ABT Transactions'!$C$9:$C$40,AM$15,'ABT Transactions'!$D$9:$D$40,$B$24)","v":0},{"$f":"SUMIFS('ABT Transactions'!$B$9:$B$40,'ABT Transactions'!$G$9:$G$40,$C46,'ABT Transactions'!$F$9:$F$40,$AM$14,'ABT Transactions'!$C$9:$C$40,AN$15,'ABT Transactions'!$D$9:$D$40,$B$24)","v":0},{"$f":"SUMIFS('ABT Transactions'!$B$9:$B$40,'ABT Transactions'!$G$9:$G$40,$C46,'ABT Transactions'!$F$9:$F$40,$AM$14,'ABT Transactions'!$C$9:$C$40,AO$15,'ABT Transactions'!$D$9:$D$40,$B$24)","v":0},{"$f":"SUMIFS('ABT Transactions'!$B$9:$B$40,'ABT Transactions'!$G$9:$G$40,$C46,'ABT Transactions'!$F$9:$F$40,$AP$14,'ABT Transactions'!$C$9:$C$40,AP$15,'ABT Transactions'!$D$9:$D$40,$B$24)","v":0},{"$f":"SUMIFS('ABT Transactions'!$B$9:$B$40,'ABT Transactions'!$G$9:$G$40,$C46,'ABT Transactions'!$F$9:$F$40,$AP$14,'ABT Transactions'!$C$9:$C$40,AQ$15,'ABT Transactions'!$D$9:$D$40,$B$24)","v":0},{"$f":"SUMIFS('ABT Transactions'!$B$9:$B$40,'ABT Transactions'!$G$9:$G$40,$C46,'ABT Transactions'!$F$9:$F$40,$AP$14,'ABT Transactions'!$C$9:$C$40,AR$15,'ABT Transactions'!$D$9:$D$40,$B$24)","v":0},{"$f":"SUMIFS('ABT Transactions'!$B$9:$B$40,'ABT Transactions'!$G$9:$G$40,$C$46,'ABT Transactions'!$F$9:$F$40,$AS$47,'ABT Transactions'!$C$9:$C$40,AS48,'ABT Transactions'!$D$9:$D$40,$B$57)","v":0},{"$f":"SUMIFS('ABT Transactions'!$B$9:$B$40,'ABT Transactions'!$G$9:$G$40,$C$46,'ABT Transactions'!$F$9:$F$40,$AS$47,'ABT Transactions'!$C$9:$C$40,AT48,'ABT Transactions'!$D$9:$D$40,$B$57)","v":0},{"$f":"SUMIFS('ABT Transactions'!$B$9:$B$40,'ABT Transactions'!$G$9:$G$40,$C$46,'ABT Transactions'!$F$9:$F$40,$AS$47,'ABT Transactions'!$C$9:$C$40,AU48,'ABT Transactions'!$D$9:$D$40,$B$57)","v":0}]
[null,"Expired Credits",{"$f":"SUMIFS('ABT Transactions'!$B$9:$B$40,'ABT Transactions'!$G$9:$G$40,$C$46,'ABT Transactions'!$F$9:$F$40,$C$47,'ABT Transactions'!$C$9:$C$40,C48,'ABT Transactions'!$D$9:$D$40,$B$58)","v":0},{"$f":"SUMIFS('ABT Transactions'!$B$9:$B$40,'ABT Transactions'!$G$9:$G$40,$C$46,'ABT Transactions'!$F$9:$F$40,$C$47,'ABT Transactions'!$C$9:$C$40,D48,'ABT Transactions'!$D$9:$D$40,$B$58)","v":0},{"$f":"SUMIFS('ABT Transactions'!$B$9:$B$40,'ABT Transactions'!$G$9:$G$40,$C$46,'ABT Transactions'!$F$9:$F$40,$C$47,'ABT Transactions'!$C$9:$C$40,E48,'ABT Transactions'!$D$9:$D$40,$B$58)","v":0},{"$f":"SUMIFS('ABT Transactions'!$B$9:$B$40,'ABT Transactions'!$G$9:$G$40,$C$46,'ABT Transactions'!$F$9:$F$40,$F$47,'ABT Transactions'!$C$9:$C$40,F48,'ABT Transactions'!$D$9:$D$40,$B$58)","v":0},{"$f":"SUMIFS('ABT Transactions'!$B$9:$B$40,'ABT Transactions'!$G$9:$G$40,$C$46,'ABT Transactions'!$F$9:$F$40,$F$47,'ABT Transactions'!$C$9:$C$40,G48,'ABT Transactions'!$D$9:$D$40,$B$58)","v":0},{"$f":"SUMIFS('ABT Transactions'!$B$9:$B$40,'ABT Transactions'!$G$9:$G$40,$C$46,'ABT Transactions'!$F$9:$F$40,$F$47,'ABT Transactions'!$C$9:$C$40,H48,'ABT Transactions'!$D$9:$D$40,$B$58)","v":0},{"$f":"SUMIFS('ABT Transactions'!$B$9:$B$40,'ABT Transactions'!$G$9:$G$40,$C$46,'ABT Transactions'!$F$9:$F$40,$I$47,'ABT Transactions'!$C$9:$C$40,I48,'ABT Transactions'!$D$9:$D$40,$B$58)","v":0},{"$f":"SUMIFS('ABT Transactions'!$B$9:$B$40,'ABT Transactions'!$G$9:$G$40,$C$46,'ABT Transactions'!$F$9:$F$40,$I$47,'ABT Transactions'!$C$9:$C$40,J48,'ABT Transactions'!$D$9:$D$40,$B$58)","v":0},{"$f":"SUMIFS('ABT Transactions'!$B$9:$B$40,'ABT Transactions'!$G$9:$G$40,$C$46,'ABT Transactions'!$F$9:$F$40,$I$47,'ABT Transactions'!$C$9:$C$40,K48,'ABT Transactions'!$D$9:$D$40,$B$58)","v":0},{"$f":"SUMIFS('ABT Transactions'!$B$9:$B$40,'ABT Transactions'!$G$9:$G$40,$C$46,'ABT Transactions'!$F$9:$F$40,$L$47,'ABT Transactions'!$C$9:$C$40,L48,'ABT Transactions'!$D$9:$D$40,$B$58)","v":0},{"$f":"SUMIFS('ABT Transactions'!$B$9:$B$40,'ABT Transactions'!$G$9:$G$40,$C$46,'ABT Transactions'!$F$9:$F$40,$L$47,'ABT Transactions'!$C$9:$C$40,M48,'ABT Transactions'!$D$9:$D$40,$B$58)","v":0},{"$f":"SUMIFS('ABT Transactions'!$B$9:$B$40,'ABT Transactions'!$G$9:$G$40,$C$46,'ABT Transactions'!$F$9:$F$40,$L$47,'ABT Transactions'!$C$9:$C$40,N48,'ABT Transactions'!$D$9:$D$40,$B$58)","v":0},{"$f":"SUMIFS('ABT Transactions'!$B$9:$B$40,'ABT Transactions'!$G$9:$G$40,$C$46,'ABT Transactions'!$F$9:$F$40,$O$47,'ABT Transactions'!$C$9:$C$40,O48,'ABT Transactions'!$D$9:$D$40,$B$58)","v":0},{"$f":"SUMIFS('ABT Transactions'!$B$9:$B$40,'ABT Transactions'!$G$9:$G$40,$C$46,'ABT Transactions'!$F$9:$F$40,$O$47,'ABT Transactions'!$C$9:$C$40,P48,'ABT Transactions'!$D$9:$D$40,$B$58)","v":0},{"$f":"SUMIFS('ABT Transactions'!$B$9:$B$40,'ABT Transactions'!$G$9:$G$40,$C$46,'ABT Transactions'!$F$9:$F$40,$O$47,'ABT Transactions'!$C$9:$C$40,Q48,'ABT Transactions'!$D$9:$D$40,$B$58)","v":0},{"$f":"SUMIFS('ABT Transactions'!$B$9:$B$40,'ABT Transactions'!$G$9:$G$40,$C$46,'ABT Transactions'!$F$9:$F$40,$R$47,'ABT Transactions'!$C$9:$C$40,R48,'ABT Transactions'!$D$9:$D$40,$B$58)","v":0},{"$f":"SUMIFS('ABT Transactions'!$B$9:$B$40,'ABT Transactions'!$G$9:$G$40,$C$46,'ABT Transactions'!$F$9:$F$40,$R$47,'ABT Transactions'!$C$9:$C$40,S48,'ABT Transactions'!$D$9:$D$40,$B$58)","v":0},{"$f":"SUMIFS('ABT Transactions'!$B$9:$B$40,'ABT Transactions'!$G$9:$G$40,$C$46,'ABT Transactions'!$F$9:$F$40,$R$47,'ABT Transactions'!$C$9:$C$40,T48,'ABT Transactions'!$D$9:$D$40,$B$58)","v":0},{"$f":"SUMIFS('ABT Transactions'!$B$9:$B$40,'ABT Transactions'!$G$9:$G$40,$C46,'ABT Transactions'!$F$9:$F$40,$U$14,'ABT Transactions'!$C$9:$C$40,U$15,'ABT Transactions'!$D$9:$D$40,$B$25)","v":0},{"$f":"SUMIFS('ABT Transactions'!$B$9:$B$40,'ABT Transactions'!$G$9:$G$40,$C46,'ABT Transactions'!$F$9:$F$40,$U$14,'ABT Transactions'!$C$9:$C$40,V$15,'ABT Transactions'!$D$9:$D$40,$B$25)","v":0},{"$f":"SUMIFS('ABT Transactions'!$B$9:$B$40,'ABT Transactions'!$G$9:$G$40,$C46,'ABT Transactions'!$F$9:$F$40,$U$14,'ABT Transactions'!$C$9:$C$40,W$15,'ABT Transactions'!$D$9:$D$40,$B$25)","v":0},{"$f":"SUMIFS('ABT Transactions'!$B$9:$B$40,'ABT Transactions'!$G$9:$G$40,$C46,'ABT Transactions'!$F$9:$F$40,$X$14,'ABT Transactions'!$C$9:$C$40,X$15,'ABT Transactions'!$D$9:$D$40,$B$25)","v":0},{"$f":"SUMIFS('ABT Transactions'!$B$9:$B$40,'ABT Transactions'!$G$9:$G$40,$C46,'ABT Transactions'!$F$9:$F$40,$X$14,'ABT Transactions'!$C$9:$C$40,Y$15,'ABT Transactions'!$D$9:$D$40,$B$25)","v":0},{"$f":"SUMIFS('ABT Transactions'!$B$9:$B$40,'ABT Transactions'!$G$9:$G$40,$C46,'ABT Transactions'!$F$9:$F$40,$X$14,'ABT Transactions'!$C$9:$C$40,Z$15,'ABT Transactions'!$D$9:$D$40,$B$25)","v":0},{"$f":"SUMIFS('ABT Transactions'!$B$9:$B$40,'ABT Transactions'!$G$9:$G$40,$C46,'ABT Transactions'!$F$9:$F$40,$AA$14,'ABT Transactions'!$C$9:$C$40,AA$15,'ABT Transactions'!$D$9:$D$40,$B$25)","v":0},{"$f":"SUMIFS('ABT Transactions'!$B$9:$B$40,'ABT Transactions'!$G$9:$G$40,$C46,'ABT Transactions'!$F$9:$F$40,$AA$14,'ABT Transactions'!$C$9:$C$40,AB$15,'ABT Transactions'!$D$9:$D$40,$B$25)","v":0},{"$f":"SUMIFS('ABT Transactions'!$B$9:$B$40,'ABT Transactions'!$G$9:$G$40,$C46,'ABT Transactions'!$F$9:$F$40,$AA$14,'ABT Transactions'!$C$9:$C$40,AC$15,'ABT Transactions'!$D$9:$D$40,$B$25)","v":0},{"$f":"SUMIFS('ABT Transactions'!$B$9:$B$40,'ABT Transactions'!$G$9:$G$40,$C46,'ABT Transactions'!$F$9:$F$40,$AD$14,'ABT Transactions'!$C$9:$C$40,AD$15,'ABT Transactions'!$D$9:$D$40,$B$25)","v":0},{"$f":"SUMIFS('ABT Transactions'!$B$9:$B$40,'ABT Transactions'!$G$9:$G$40,$C46,'ABT Transactions'!$F$9:$F$40,$AD$14,'ABT Transactions'!$C$9:$C$40,AE$15,'ABT Transactions'!$D$9:$D$40,$B$25)","v":0},{"$f":"SUMIFS('ABT Transactions'!$B$9:$B$40,'ABT Transactions'!$G$9:$G$40,$C46,'ABT Transactions'!$F$9:$F$40,$AD$14,'ABT Transactions'!$C$9:$C$40,AF$15,'ABT Transactions'!$D$9:$D$40,$B$25)","v":0},{"$f":"SUMIFS('ABT Transactions'!$B$9:$B$40,'ABT Transactions'!$G$9:$G$40,$C46,'ABT Transactions'!$F$9:$F$40,$AG$14,'ABT Transactions'!$C$9:$C$40,AG$15,'ABT Transactions'!$D$9:$D$40,$B$25)","v":0},{"$f":"SUMIFS('ABT Transactions'!$B$9:$B$40,'ABT Transactions'!$G$9:$G$40,$C46,'ABT Transactions'!$F$9:$F$40,$AG$14,'ABT Transactions'!$C$9:$C$40,AH$15,'ABT Transactions'!$D$9:$D$40,$B$25)","v":0},{"$f":"SUMIFS('ABT Transactions'!$B$9:$B$40,'ABT Transactions'!$G$9:$G$40,$C46,'ABT Transactions'!$F$9:$F$40,$AG$14,'ABT Transactions'!$C$9:$C$40,AI$15,'ABT Transactions'!$D$9:$D$40,$B$25)","v":0},{"$f":"SUMIFS('ABT Transactions'!$B$9:$B$40,'ABT Transactions'!$G$9:$G$40,$C46,'ABT Transactions'!$F$9:$F$40,$AJ$14,'ABT Transactions'!$C$9:$C$40,AJ$15,'ABT Transactions'!$D$9:$D$40,$B$25)","v":0},{"$f":"SUMIFS('ABT Transactions'!$B$9:$B$40,'ABT Transactions'!$G$9:$G$40,$C46,'ABT Transactions'!$F$9:$F$40,$AJ$14,'ABT Transactions'!$C$9:$C$40,AK$15,'ABT Transactions'!$D$9:$D$40,$B$25)","v":0},{"$f":"SUMIFS('ABT Transactions'!$B$9:$B$40,'ABT Transactions'!$G$9:$G$40,$C46,'ABT Transactions'!$F$9:$F$40,$AJ$14,'ABT Transactions'!$C$9:$C$40,AL$15,'ABT Transactions'!$D$9:$D$40,$B$25)","v":0},{"$f":"SUMIFS('ABT Transactions'!$B$9:$B$40,'ABT Transactions'!$G$9:$G$40,$C46,'ABT Transactions'!$F$9:$F$40,$AM$14,'ABT Transactions'!$C$9:$C$40,AM$15,'ABT Transactions'!$D$9:$D$40,$B$25)","v":0},{"$f":"SUMIFS('ABT Transactions'!$B$9:$B$40,'ABT Transactions'!$G$9:$G$40,$C46,'ABT Transactions'!$F$9:$F$40,$AM$14,'ABT Transactions'!$C$9:$C$40,AN$15,'ABT Transactions'!$D$9:$D$40,$B$25)","v":0},{"$f":"SUMIFS('ABT Transactions'!$B$9:$B$40,'ABT Transactions'!$G$9:$G$40,$C46,'ABT Transactions'!$F$9:$F$40,$AM$14,'ABT Transactions'!$C$9:$C$40,AO$15,'ABT Transactions'!$D$9:$D$40,$B$25)","v":0},{"$f":"SUMIFS('ABT Transactions'!$B$9:$B$40,'ABT Transactions'!$G$9:$G$40,$C46,'ABT Transactions'!$F$9:$F$40,$AP$14,'ABT Transactions'!$C$9:$C$40,AP$15,'ABT Transactions'!$D$9:$D$40,$B$25)","v":0},{"$f":"SUMIFS('ABT Transactions'!$B$9:$B$40,'ABT Transactions'!$G$9:$G$40,$C46,'ABT Transactions'!$F$9:$F$40,$AP$14,'ABT Transactions'!$C$9:$C$40,AQ$15,'ABT Transactions'!$D$9:$D$40,$B$25)","v":0},{"$f":"SUMIFS('ABT Transactions'!$B$9:$B$40,'ABT Transactions'!$G$9:$G$40,$C46,'ABT Transactions'!$F$9:$F$40,$AP$14,'ABT Transactions'!$C$9:$C$40,AR$15,'ABT Transactions'!$D$9:$D$40,$B$25)","v":0},{"$f":"SUMIFS('ABT Transactions'!$B$9:$B$40,'ABT Transactions'!$G$9:$G$40,$C$46,'ABT Transactions'!$F$9:$F$40,$AS$47,'ABT Transactions'!$C$9:$C$40,AS48,'ABT Transactions'!$D$9:$D$40,$B$58)","v":0},{"$f":"SUMIFS('ABT Transactions'!$B$9:$B$40,'ABT Transactions'!$G$9:$G$40,$C$46,'ABT Transactions'!$F$9:$F$40,$AS$47,'ABT Transactions'!$C$9:$C$40,AT48,'ABT Transactions'!$D$9:$D$40,$B$58)","v":0},{"$f":"SUMIFS('ABT Transactions'!$B$9:$B$40,'ABT Transactions'!$G$9:$G$40,$C$46,'ABT Transactions'!$F$9:$F$40,$AS$47,'ABT Transactions'!$C$9:$C$40,AU48,'ABT Transactions'!$D$9:$D$40,$B$58)","v":0}]
[null,"Final Credit Balance",{"$f":"(C49+C50+C52+C54+C56+C57+C58)-(C51+C53+C55)","v":0},{"$f":"(D49+D50+D52+D54+D56+D57+D58)-(D51+D53+D55)","v":0},0,0,0,-100000,0,0,100000,0,0,0,0,0,0,0,0,0,{"$f":"(U49+U50+U52+U54+U56+U57+U58)-(U51+U53+U55)","v":0},{"$f":"(V49+V50+V52+V54+V56+V57+V58)-(V51+V53+V55)","v":0},{"$f":"(W49+W50+W52+W54+W56+W57+W58)-(W51+W53+W55)","v":0},{"$f":"(X49+X50+X52+X54+X56+X57+X58)-(X51+X53+X55)","v":0},{"$f":"(Y49+Y50+Y52+Y54+Y56+Y57+Y58)-(Y51+Y53+Y55)","v":0},{"$f":"(Z49+Z50+Z52+Z54+Z56+Z57+Z58)-(Z51+Z53+Z55)","v":0},{"$f":"(AA49+AA50+AA52+AA54+AA56+AA57+AA58)-(AA51+AA53+AA55)","v":0},{"$f":"(AB49+AB50+AB52+AB54+AB56+AB57+AB58)-(AB51+AB53+AB55)","v":0},{"$f":"(AC49+AC50+AC52+AC54+AC56+AC57+AC58)-(AC51+AC53+AC55)","v":0},{"$f":"(AD49+AD50+AD52+AD54+AD56+AD57+AD58)-(AD51+AD53+AD55)","v":0},{"$f":"(AE49+AE50+AE52+AE54+AE56+AE57+AE58)-(AE51+AE53+AE55)","v":0},{"$f":"(AF49+AF50+AF52+AF54+AF56+AF57+AF58)-(AF51+AF53+AF55)","v":0},{"$f":"(AG49+AG50+AG52+AG54+AG56+AG57+AG58)-(AG51+AG53+AG55)","v":0},{"$f":"(AH49+AH50+AH52+AH54+AH56+AH57+AH58)-(AH51+AH53+AH55)","v":0},{"$f":"(AI49+AI50+AI52+AI54+AI56+AI57+AI58)-(AI51+AI53+AI55)","v":0},{"$f":"(AJ49+AJ50+AJ52+AJ54+AJ56+AJ57+AJ58)-(AJ51+AJ53+AJ55)","v":0},{"$f":"(AK49+AK50+AK52+AK54+AK56+AK57+AK58)-(AK51+AK53+AK55)","v":0},{"$f":"(AL49+AL50+AL52+AL54+AL56+AL57+AL58)-(AL51+AL53+AL55)","v":0},{"$f":"(AM49+AM50+AM52+AM54+AM56+AM57+AM58)-(AM51+AM53+AM55)","v":0},{"$f":"(AN49+AN50+AN52+AN54+AN56+AN57+AN58)-(AN51+AN53+AN55)","v":0},{"$f":"(AO49+AO50+AO52+AO54+AO56+AO57+AO58)-(AO51+AO53+AO55)","v":0},{"$f":"(AP49+AP50+AP52+AP54+AP56+AP57+AP58)-(AP51+AP53+AP55)","v":0},{"$f":"(AQ49+AQ50+AQ52+AQ54+AQ56+AQ57+AQ58)-(AQ51+AQ53+AQ55)","v":0},{"$f":"(AR49+AR50+AR52+AR54+AR56+AR57+AR58)-(AR51+AR53+AR55)","v":0},0,0,0]
[null,"Averaging Set Credit Balance",{"$f":"SUM(C59:E59)","v":0},null,null,{"$f":"SUM(F59:H59)","v":-100000},null,null,{"$f":"SUM(I59:K59)","v":100000},null,null,{"$f":"SUM(L59:N59)","v":0},null,null,{"$f":"SUM(O59:Q59)","v":0},null,null,{"$f":"SUM(R59:T59)","v":0},null,null,{"$f":"SUM(U59:W59)","v":0},null,null,{"$f":"SUM(X59:Z59)","v":0},null,null,{"$f":"SUM(AA59:AC59)","v":0},null,null,{"$f":"SUM(AD59:AF59)","v":0},null,null,{"$f":"SUM(AG59:AI59)","v":0},null,null,{"$f":"SUM(AJ59:AL59)","v":0},null,null,{"$f":"SUM(AM59:AO59)","v":0},null,null,{"$f":"SUM(AP59:AR59)","v":0},null,null,{"$f":"SUM(AS59:AU59)","v":0}]
[]
[]
[null,null,"HHDV (Cl 8)"]
[null,null,2013,null,null,2014,null,null,2015,null,null,2016,null,null,2017,null,null,2018,null,null,2019,null,null,2020,null,null,2021,null,null,2022,null,null,2023,null,null,2024,null,null,2025,null,null,2026,null,null,2027]
[null,"Credit Type","Conventional Credit","Innovative Technology Credit","Advanced Technology Credit","Conventional Credit","Innovative Technology Credit","Advanced Technology Credit","Conventional Credit","Innovative Technology Credit","Advanced Technology Credit","Conventional Credit","Innovative Technology Credit","Advanced Technology Credit","Conventional Credit","Innovative Technology Credit","Advanced Technology Credit","Conventional Credit","Innovative Technology Credit","Advanced Technology Credit","Conventional Credit","Innovative Technology Credit","Advanced Technology Credit","Conventional Credit","Innovative Technology Credit","Advanced Technology Credit","Conventional Credit","Innovative Technology Credit","Advanced Technology Credit","Conventional Credit","Innovative Technology Credit","Advanced Technology Credit","Conventional Credit","Innovative Technology Credit","Advanced Technology Credit","Conventional Credit","Innovative Technology Credit","Advanced Technology Credit","Conventional Credit","Innovative Technology Credit","Advanced Technology Credit","Conventional Credit","Innovative Technology Credit","Advanced Technology Credit","Conventional Credit","Innovative Technology Credit","Advanced Technology Credit"]
[null,"Earned Credits",{"$f":"SUMIFS('ABT Credit Balances'!$D$9:$D$208,'ABT Credit Balances'!$B$9:$B$208,$C$63,'ABT Credit Balances'!$F$9:$F$208,C65,'ABT Credit Balances'!$E$9:$E$208,$C$64,'ABT Credit Balances'!$C$9:$C$208,$B$66)","v":0},{"$f":"SUMIFS('ABT Credit Balances'!$D$9:$D$208,'ABT Credit Balances'!$B$9:$B$208,$C$63,'ABT Credit Balances'!$F$9:$F$208,D65,'ABT Credit Balances'!$E$9:$E$208,$C$64,'ABT Credit Balances'!$C$9:$C$208,$B$66)","v":0},{"$f":"SUMIFS('ABT Credit Balances'!$D$9:$D$208,'ABT Credit Balances'!$B$9:$B$208,$C$63,'ABT Credit Balances'!$F$9:$F$208,E65,'ABT Credit Balances'!$E$9:$E$208,$C$64,'ABT Credit Balances'!$C$9:$C$208,$B$66)","v":0},{"$f":"SUMIFS('ABT Credit Balances'!$D$9:$D$208,'ABT Credit Balances'!$B$9:$B$208,$C$63,'ABT Credit Balances'!$F$9:$F$208,F65,'ABT Credit Balances'!$E$9:$E$208,$F$64,'ABT Credit Balances'!$C$9:$C$208,$B$66)","v":0},{"$f":"SUMIFS('ABT Credit Balances'!$D$9:$D$208,'ABT Credit Balances'!$B$9:$B$208,$C$63,'ABT Credit Balances'!$F$9:$F$208,G65,'ABT Credit Balances'!$E$9:$E$208,$F$64,'ABT Credit Balances'!$C$9:$C$208,$B$66)","v":0},{"$f":"SUMIFS('ABT Credit Balances'!$D$9:$D$208,'ABT Credit Balances'!$B$9:$B$208,$C$63,'ABT Credit Balances'!$F$9:$F$208,H65,'ABT Credit Balances'!$E$9:$E$208,$F$64,'ABT Credit Balances'!$C$9:$C$208,$B$66)","v":0},{"$f":"SUMIFS('ABT Credit Balances'!$D$9:$D$208,'ABT Credit Balances'!$B$9:$B$208,$C$63,'ABT Credit Balances'!$F$9:$F$208,I65,'ABT Credit Balances'!$E$9:$E$208,$I$64,'ABT Credit Balances'!$C$9:$C$208,$B$66)","v":0},{"$f":"SUMIFS('ABT Credit Balances'!$D$9:$D$208,'ABT Credit Balances'!$B$9:$B$208,$C$63,'ABT Credit Balances'!$F$9:$F$208,J65,'ABT Credit Balances'!$E$9:$E$208,$I$64,'ABT Credit Balances'!$C$9:$C$208,$B$66)","v":0},{"$f":"SUMIFS('ABT Credit Balances'!$D$9:$D$208,'ABT Credit Balances'!$B$9:$B$208,$C$63,'ABT Credit Balances'!$F$9:$F$208,K65,'ABT Credit Balances'!$E$9:$E$208,$I$64,'ABT Credit Balances'!$C$9:$C$208,$B$66)","v":0},{"$f":"SUMIFS('ABT Credit Balances'!$D$9:$D$208,'ABT Credit Balances'!$B$9:$B$208,$C$63,'ABT Credit Balances'!$F$9:$F$208,L65,'ABT Credit Balances'!$E$9:$E$208,$L$64,'ABT Credit Balances'!$C$9:$C$208,$B$66)","v":0},{"$f":"SUMIFS('ABT Credit Balances'!$D$9:$D$208,'ABT Credit Balances'!$B$9:$B$208,$C$63,'ABT Credit Balances'!$F$9:$F$208,M65,'ABT Credit Balances'!$E$9:$E$208,$L$64,'ABT Credit Balances'!$C$9:$C$208,$B$66)","v":0},{"$f":"SUMIFS('ABT Credit Balances'!$D$9:$D$208,'ABT Credit Balances'!$B$9:$B$208,$C$63,'ABT Credit Balances'!$F$9:$F$208,N65,'ABT Credit Balances'!$E$9:$E$208,$L$64,'ABT Credit Balances'!$C$9:$C$208,$B$66)","v":0},{"$f":"SUMIFS('ABT Credit Balances'!$D$9:$D$208,'ABT Credit Balances'!$B$9:$B$208,$C$63,'ABT Credit Balances'!$F$9:$F$208,O65,'ABT Credit Balances'!$E$9:$E$208,$O$64,'ABT Credit Balances'!$C$9:$C$208,$B$66)","v":0},{"$f":"SUMIFS('ABT Credit Balances'!$D$9:$D$208,'ABT Credit Balances'!$B$9:$B$208,$C$63,'ABT Credit Balances'!$F$9:$F$208,P65,'ABT Credit Balances'!$E$9:$E$208,$O$64,'ABT Credit Balances'!$C$9:$C$208,$B$66)","v":0},{"$f":"SUMIFS('ABT Credit Balances'!$D$9:$D$208,'ABT Credit Balances'!$B$9:$B$208,$C$63,'ABT Credit Balances'!$F$9:$F$208,Q65,'ABT Credit Balances'!$E$9:$E$208,$O$64,'ABT Credit Balances'!$C$9:$C$208,$B$66)","v":0},{"$f":"SUMIFS('ABT Credit Balances'!$D$9:$D$208,'ABT Credit Balances'!$B$9:$B$208,$C$63,'ABT Credit Balances'!$F$9:$F$208,R65,'ABT Credit Balances'!$E$9:$E$208,$R$64,'ABT Credit Balances'!$C$9:$C$208,$B$66)","v":0},{"$f":"SUMIFS('ABT Credit Balances'!$D$9:$D$208,'ABT Credit Balances'!$B$9:$B$208,$C$63,'ABT Credit Balances'!$F$9:$F$208,S65,'ABT Credit Balances'!$E$9:$E$208,$R$64,'ABT Credit Balances'!$C$9:$C$208,$B$66)","v":0},{"$f":"SUMIFS('ABT Credit Balances'!$D$9:$D$208,'ABT Credit Balances'!$B$9:$B$208,$C$63,'ABT Credit Balances'!$F$9:$F$208,T65,'ABT Credit Balances'!$E$9:$E$208,$R$64,'ABT Credit Balances'!$C$9:$C$208,$B$66)","v":0},{"$f":"SUMIFS('ABT Credit Balances'!$D$9:$D$208,'ABT Credit Balances'!$B$9:$B$208,$C63,'ABT Credit Balances'!$F$9:$F$208,U65,'ABT Credit Balances'!$E$9:$E$208,$U$14,'ABT Credit Balances'!$C$9:$C$208,$B$16)","v":0},{"$f":"SUMIFS('ABT Credit Balances'!$D$9:$D$208,'ABT Credit Balances'!$B$9:$B$208,$C63,'ABT Credit Balances'!$F$9:$F$208,V65,'ABT Credit Balances'!$E$9:$E$208,$U$14,'ABT Credit Balances'!$C$9:$C$208,$B$16)","v":0},{"$f":"SUMIFS('ABT Credit Balances'!$D$9:$D$208,'ABT Credit Balances'!$B$9:$B$208,$C63,'ABT Credit Balances'!$F$9:$F$208,W65,'ABT Credit Balances'!$E$9:$E$208,$U$14,'ABT Credit Balances'!$C$9:$C$208,$B$16)","v":0},{"$f":"SUMIFS('ABT Credit Balances'!$D$9:$D$208,'ABT Credit Balances'!$B$9:$B$208,$C63,'ABT Credit Balances'!$F$9:$F$208,X65,'ABT Credit Balances'!$E$9:$E$208,$X$14,'ABT Credit Balances'!$C$9:$C$208,$B$16)","v":0},{"$f":"SUMIFS('ABT Credit Balances'!$D$9:$D$208,'ABT Credit Balances'!$B$9:$B$208,$C63,'ABT Credit Balances'!$F$9:$F$208,Y65,'ABT Credit Balances'!$E$9:$E$208,$X$14,'ABT Credit Balances'!$C$9:$C$208,$B$16)","v":0},{"$f":"SUMIFS('ABT Credit Balances'!$D$9:$D$208,'ABT Credit Balances'!$B$9:$B$208,$C63,'ABT Credit Balances'!$F$9:$F$208,Z65,'ABT Credit Balances'!$E$9:$E$208,$X$14,'ABT Credit Balances'!$C$9:$C$208,$B$16)","v":0},{"$f":"SUMIFS('ABT Credit Balances'!$D$9:$D$208,'ABT Credit Balances'!$B$9:$B$208,$C63,'ABT Credit Balances'!$F$9:$F$208,AA65,'ABT Credit Balances'!$E$9:$E$208,$AA$14,'ABT Credit Balances'!$C$9:$C$208,$B$16)","v":0},{"$f":"SUMIFS('ABT Credit Balances'!$D$9:$D$208,'ABT Credit Balances'!$B$9:$B$208,$C63,'ABT Credit Balances'!$F$9:$F$208,AB65,'ABT Credit Balances'!$E$9:$E$208,$AA$14,'ABT Credit Balances'!$C$9:$C$208,$B$16)","v":0},{"$f":"SUMIFS('ABT Credit Balances'!$D$9:$D$208,'ABT Credit Balances'!$B$9:$B$208,$C63,'ABT Credit Balances'!$F$9:$F$208,AC65,'ABT Credit Balances'!$E$9:$E$208,$AA$14,'ABT Credit Balances'!$C$9:$C$208,$B$16)","v":0},{"$f":"SUMIFS('ABT Credit Balances'!$D$9:$D$208,'ABT Credit Balances'!$B$9:$B$208,$C63,'ABT Credit Balances'!$F$9:$F$208,AD65,'ABT Credit Balances'!$E$9:$E$208,$AD$14,'ABT Credit Balances'!$C$9:$C$208,$B$16)","v":0},{"$f":"SUMIFS('ABT Credit Balances'!$D$9:$D$208,'ABT Credit Balances'!$B$9:$B$208,$C63,'ABT Credit Balances'!$F$9:$F$208,AE65,'ABT Credit Balances'!$E$9:$E$208,$AD$14,'ABT Credit Balances'!$C$9:$C$208,$B$16)","v":0},{"$f":"SUMIFS('ABT Credit Balances'!$D$9:$D$208,'ABT Credit Balances'!$B$9:$B$208,$C63,'ABT Credit Balances'!$F$9:$F$208,AF65,'ABT Credit Balances'!$E$9:$E$208,$AD$14,'ABT Credit Balances'!$C$9:$C$208,$B$16)","v":0},{"$f":"SUMIFS('ABT Credit Balances'!$D$9:$D$208,'ABT Credit Balances'!$B$9:$B$208,$C63,'ABT Credit Balances'!$F$9:$F$208,AG65,'ABT Credit Balances'!$E$9:$E$208,$AG$14,'ABT Credit Balances'!$C$9:$C$208,$B$16)","v":0},{"$f":"SUMIFS('ABT Credit Balances'!$D$9:$D$208,'ABT Credit Balances'!$B$9:$B$208,$C63,'ABT Credit Balances'!$F$9:$F$208,AH65,'ABT Credit Balances'!$E$9:$E$208,$AG$14,'ABT Credit Balances'!$C$9:$C$208,$B$16)","v":0},{"$f":"SUMIFS('ABT Credit Balances'!$D$9:$D$208,'ABT Credit Balances'!$B$9:$B$208,$C63,'ABT Credit Balances'!$F$9:$F$208,AI65,'ABT Credit Balances'!$E$9:$E$208,$AG$14,'ABT Credit Balances'!$C$9:$C$208,$B$16)","v":0},{"$f":"SUMIFS('ABT Credit Balances'!$D$9:$D$208,'ABT Credit Balances'!$B$9:$B$208,$C63,'ABT Credit Balances'!$F$9:$F$208,AJ65,'ABT Credit Balances'!$E$9:$E$208,$AJ$14,'ABT Credit Balances'!$C$9:$C$208,$B$16)","v":0},{"$f":"SUMIFS('ABT Credit Balances'!$D$9:$D$208,'ABT Credit Balances'!$B$9:$B$208,$C63,'ABT Credit Balances'!$F$9:$F$208,AK65,'ABT Credit Balances'!$E$9:$E$208,$AJ$14,'ABT Credit Balances'!$C$9:$C$208,$B$16)","v":0},{"$f":"SUMIFS('ABT Credit Balances'!$D$9:$D$208,'ABT Credit Balances'!$B$9:$B$208,$C63,'ABT Credit Balances'!$F$9:$F$208,AL65,'ABT Credit Balances'!$E$9:$E$208,$AJ$14,'ABT Credit Balances'!$C$9:$C$208,$B$16)","v":0},{"$f":"SUMIFS('ABT Credit Balances'!$D$9:$D$208,'ABT Credit Balances'!$B$9:$B$208,$C63,'ABT Credit Balances'!$F$9:$F$208,AM65,'ABT Credit Balances'!$E$9:$E$208,$AM$14,'ABT Credit Balances'!$C$9:$C$208,$B$16)","v":0},{"$f":"SUMIFS('ABT Credit Balances'!$D$9:$D$208,'ABT Credit Balances'!$B$9:$B$208,$C63,'ABT Credit Balances'!$F$9:$F$208,AN65,'ABT Credit Balances'!$E$9:$E$208,$AM$14,'ABT Credit Balances'!$C$9:$C$208,$B$16)","v":0},{"$f":"SUMIFS('ABT Credit Balances'!$D$9:$D$208,'ABT Credit Balances'!$B$9:$B$208,$C63,'ABT Credit Balances'!$F$9:$F$208,AO65,'ABT Credit Balances'!$E$9:$E$208,$AM$14,'ABT Credit Balances'!$C$9:$C$208,$B$16)","v":0},{"$f":"SUMIFS('ABT Credit Balances'!$D$9:$D$208,'ABT Credit Balances'!$B$9:$B$208,$C63,'ABT Credit Balances'!$F$9:$F$208,AP65,'ABT Credit Balances'!$E$9:$E$208,$AP$14,'ABT Credit Balances'!$C$9:$C$208,$B$16)","v":0},{"$f":"SUMIFS('ABT Credit Balances'!$D$9:$D$208,'ABT Credit Balances'!$B$9:$B$208,$C63,'ABT Credit Balances'!$F$9:$F$208,AQ65,'ABT Credit Balances'!$E$9:$E$208,$AP$14,'ABT Credit Balances'!$C$9:$C$208,$B$16)","v":0},{"$f":"SUMIFS('ABT Credit Balances'!$D$9:$D$208,'ABT Credit Balances'!$B$9:$B$208,$C63,'ABT Credit Balances'!$F$9:$F$208,AR65,'ABT Credit Balances'!$E$9:$E$208,$AP$14,'ABT Credit Balances'!$C$9:$C$208,$B$16)","v":0},{"$f":"SUMIFS('ABT Credit Balances'!$D$9:$D$208,'ABT Credit Balances'!$B$9:$B$208,$C$63,'ABT Credit Balances'!$F$9:$F$208,AS65,'ABT Credit Balances'!$E$9:$E$208,$AS$64,'ABT Credit Balances'!$C$9:$C$208,$B$66)","v":0},{"$f":"SUMIFS('ABT Credit Balances'!$D$9:$D$208,'ABT Credit Balances'!$B$9:$B$208,$C$63,'ABT Credit Balances'!$F$9:$F$208,AT65,'ABT Credit Balances'!$E$9:$E$208,$AS$64,'ABT Credit Balances'!$C$9:$C$208,$B$66)","v":0},{"$f":"SUMIFS('ABT Credit Balances'!$D$9:$D$208,'ABT Credit Balances'!$B$9:$B$208,$C$63,'ABT Credit Balances'!$F$9:$F$208,AU65,'ABT Credit Balances'!$E$9:$E$208,$AS$64,'ABT Credit Balances'!$C$9:$C$208,$B$66)","v":0}]
[null,"Projected Credits",{"$f":"SUMIFS('ABT Credit Balances'!$D$9:$D$208,'ABT Credit Balances'!$B$9:$B$208,$C$63,'ABT Credit Balances'!$F$9:$F$208,C65,'ABT Credit Balances'!$E$9:$E$208,$C$64,'ABT Credit Balances'!$C$9:$C$208,$B$67)","v":0},{"$f":"SUMIFS('ABT Credit Balances'!$D$9:$D$208,'ABT Credit Balances'!$B$9:$B$208,$C$63,'ABT Credit Balances'!$F$9:$F$208,D65,'ABT Credit Balances'!$E$9:$E$208,$C$64,'ABT Credit Balances'!$C$9:$C$208,$B$67)","v":0},{"$f":"SUMIFS('ABT Credit Balances'!$D$9:$D$208,'ABT Credit Balances'!$B$9:$B$208,$C$63,'ABT Credit Balances'!$F$9:$F$208,E65,'ABT Credit Balances'!$E$9:$E$208,$C$64,'ABT Credit Balances'!$C$9:$C$208,$B$67)","v":0},{"$f":"SUMIFS('ABT Credit Balances'!$D$9:$D$208,'ABT Credit Balances'!$B$9:$B$208,$C$63,'ABT Credit Balances'!$F$9:$F$208,F65,'ABT Credit Balances'!$E$9:$E$208,$F$64,'ABT Credit Balances'!$C$9:$C$208,$B$67)","v":0},{"$f":"SUMIFS('ABT Credit Balances'!$D$9:$D$208,'ABT Credit Balances'!$B$9:$B$208,$C$63,'ABT Credit Balances'!$F$9:$F$208,G65,'ABT Credit Balances'!$E$9:$E$208,$F$64,'ABT Credit Balances'!$C$9:$C$208,$B$67)","v":0},{"$f":"SUMIFS('ABT Credit Balances'!$D$9:$D$208,'ABT Credit Balances'!$B$9:$B$208,$C$63,'ABT Credit Balances'!$F$9:$F$208,H65,'ABT Credit Balances'!$E$9:$E$208,$F$64,'ABT Credit Balances'!$C$9:$C$208,$B$67)","v":0},{"$f":"SUMIFS('ABT Credit Balances'!$D$9:$D$208,'ABT Credit Balances'!$B$9:$B$208,$C$63,'ABT Credit Balances'!$F$9:$F$208,I65,'ABT Credit Balances'!$E$9:$E$208,$I$64,'ABT Credit Balances'!$C$9:$C$208,$B$67)","v":0},{"$f":"SUMIFS('ABT Credit Balances'!$D$9:$D$208,'ABT Credit Balances'!$B$9:$B$208,$C$63,'ABT Credit Balances'!$F$9:$F$208,J65,'ABT Credit Balances'!$E$9:$E$208,$I$64,'ABT Credit Balances'!$C$9:$C$208,$B$67)","v":0},{"$f":"SUMIFS('ABT Credit Balances'!$D$9:$D$208,'ABT Credit Balances'!$B$9:$B$208,$C$63,'ABT Credit Balances'!$F$9:$F$208,K65,'ABT Credit Balances'!$E$9:$E$208,$I$64,'ABT Credit Balances'!$C$9:$C$208,$B$67)","v":0},{"$f":"SUMIFS('ABT Credit Balances'!$D$9:$D$208,'ABT Credit Balances'!$B$9:$B$208,$C$63,'ABT Credit Balances'!$F$9:$F$208,L65,'ABT Credit Balances'!$E$9:$E$208,$L$64,'ABT Credit Balances'!$C$9:$C$208,$B$67)","v":0},{"$f":"SUMIFS('ABT Credit Balances'!$D$9:$D$208,'ABT Credit Balances'!$B$9:$B$208,$C$63,'ABT Credit Balances'!$F$9:$F$208,M65,'ABT Credit Balances'!$E$9:$E$208,$L$64,'ABT Credit Balances'!$C$9:$C$208,$B$67)","v":0},{"$f":"SUMIFS('ABT Credit Balances'!$D$9:$D$208,'ABT Credit Balances'!$B$9:$B$208,$C$63,'ABT Credit Balances'!$F$9:$F$208,N65,'ABT Credit Balances'!$E$9:$E$208,$L$64,'ABT Credit Balances'!$C$9:$C$208,$B$67)","v":0},{"$f":"SUMIFS('ABT Credit Balances'!$D$9:$D$208,'ABT Credit Balances'!$B$9:$B$208,$C$63,'ABT Credit Balances'!$F$9:$F$208,O65,'ABT Credit Balances'!$E$9:$E$208,$O$64,'ABT Credit Balances'!$C$9:$C$208,$B$67)","v":0},{"$f":"SUMIFS('ABT Credit Balances'!$D$9:$D$208,'ABT Credit Balances'!$B$9:$B$208,$C$63,'ABT Credit Balances'!$F$9:$F$208,P65,'ABT Credit Balances'!$E$9:$E$208,$O$64,'ABT Credit Balances'!$C$9:$C$208,$B$67)","v":0},{"$f":"SUMIFS('ABT Credit Balances'!$D$9:$D$208,'ABT Credit Balances'!$B$9:$B$208,$C$63,'ABT Credit Balances'!$F$9:$F$208,Q65,'ABT Credit Balances'!$E$9:$E$208,$O$64,'ABT Credit Balances'!$C$9:$C$208,$B$67)","v":0},{"$f":"SUMIFS('ABT Credit Balances'!$D$9:$D$208,'ABT Credit Balances'!$B$9:$B$208,$C$63,'ABT Credit Balances'!$F$9:$F$208,R65,'ABT Credit Balances'!$E$9:$E$208,$R$64,'ABT Credit Balances'!$C$9:$C$208,$B$67)","v":0},{"$f":"SUMIFS('ABT Credit Balances'!$D$9:$D$208,'ABT Credit Balances'!$B$9:$B$208,$C$63,'ABT Credit Balances'!$F$9:$F$208,S65,'ABT Credit Balances'!$E$9:$E$208,$R$64,'ABT Credit Balances'!$C$9:$C$208,$B$67)","v":0},{"$f":"SUMIFS('ABT Credit Balances'!$D$9:$D$208,'ABT Credit Balances'!$B$9:$B$208,$C$63,'ABT Credit Balances'!$F$9:$F$208,T65,'ABT Credit Balances'!$E$9:$E$208,$R$64,'ABT Credit Balances'!$C$9:$C$208,$B$67)","v":0},{"$f":"SUMIFS('ABT Credit Balances'!$D$9:$D$208,'ABT Credit Balances'!$B$9:$B$208,$C63,'ABT Credit Balances'!$F$9:$F$208,U65,'ABT Credit Balances'!$E$9:$E$208,$U$14,'ABT Credit Balances'!$C$9:$C$208,$B$17)","v":0},{"$f":"SUMIFS('ABT Credit Balances'!$D$9:$D$208,'ABT Credit Balances'!$B$9:$B$208,$C63,'ABT Credit Balances'!$F$9:$F$208,V65,'ABT Credit Balances'!$E$9:$E$208,$U$14,'ABT Credit Balances'!$C$9:$C$208,$B$17)","v":0},{"$f":"SUMIFS('ABT Credit Balances'!$D$9:$D$208,'ABT Credit Balances'!$B$9:$B$208,$C63,'ABT Credit Balances'!$F$9:$F$208,W65,'ABT Credit Balances'!$E$9:$E$208,$U$14,'ABT Credit Balances'!$C$9:$C$208,$B$17)","v":0},{"$f":"SUMIFS('ABT Credit Balances'!$D$9:$D$208,'ABT Credit Balances'!$B$9:$B$208,$C63,'ABT Credit Balances'!$F$9:$F$208,X65,'ABT Credit Balances'!$E$9:$E$208,$X$14,'ABT Credit Balances'!$C$9:$C$208,$B$17)","v":0},{"$f":"SUMIFS('ABT Credit Balances'!$D$9:$D$208,'ABT Credit Balances'!$B$9:$B$208,$C63,'ABT Credit Balances'!$F$9:$F$208,Y65,'ABT Credit Balances'!$E$9:$E$208,$X$14,'ABT Credit Balances'!$C$9:$C$208,$B$17)","v":0},{"$f":"SUMIFS('ABT Credit Balances'!$D$9:$D$208,'ABT Credit Balances'!$B$9:$B$208,$C63,'ABT Credit Balances'!$F$9:$F$208,Z65,'ABT Credit Balances'!$E$9:$E$208,$X$14,'ABT Credit Balances'!$C$9:$C$208,$B$17)","v":0},{"$f":"SUMIFS('ABT Credit Balances'!$D$9:$D$208,'ABT Credit Balances'!$B$9:$B$208,$C63,'ABT Credit Balances'!$F$9:$F$208,AA65,'ABT Credit Balances'!$E$9:$E$208,$AA$14,'ABT Credit Balances'!$C$9:$C$208,$B$17)","v":0},{"$f":"SUMIFS('ABT Credit Balances'!$D$9:$D$208,'ABT Credit Balances'!$B$9:$B$208,$C63,'ABT Credit Balances'!$F$9:$F$208,AB65,'ABT Credit Balances'!$E$9:$E$208,$AA$14,'ABT Credit Balances'!$C$9:$C$208,$B$17)","v":0},{"$f":"SUMIFS('ABT Credit Balances'!$D$9:$D$208,'ABT Credit Balances'!$B$9:$B$208,$C63,'ABT Credit Balances'!$F$9:$F$208,AC65,'ABT Credit Balances'!$E$9:$E$208,$AA$14,'ABT Credit Balances'!$C$9:$C$208,$B$17)","v":0},{"$f":"SUMIFS('ABT Credit Balances'!$D$9:$D$208,'ABT Credit Balances'!$B$9:$B$208,$C63,'ABT Credit Balances'!$F$9:$F$208,AD65,'ABT Credit Balances'!$E$9:$E$208,$AD$14,'ABT Credit Balances'!$C$9:$C$208,$B$17)","v":0},{"$f":"SUMIFS('ABT Credit Balances'!$D$9:$D$208,'ABT Credit Balances'!$B$9:$B$208,$C63,'ABT Credit Balances'!$F$9:$F$208,AE65,'ABT Credit Balances'!$E$9:$E$208,$AD$14,'ABT Credit Balances'!$C$9:$C$208,$B$17)","v":0},{"$f":"SUMIFS('ABT Credit Balances'!$D$9:$D$208,'ABT Credit Balances'!$B$9:$B$208,$C63,'ABT Credit Balances'!$F$9:$F$208,AF65,'ABT Credit Balances'!$E$9:$E$208,$AD$14,'ABT Credit Balances'!$C$9:$C$208,$B$17)","v":0},{"$f":"SUMIFS('ABT Credit Balances'!$D$9:$D$208,'ABT Credit Balances'!$B$9:$B$208,$C63,'ABT Credit Balances'!$F$9:$F$208,AG65,'ABT Credit Balances'!$E$9:$E$208,$AG$14,'ABT Credit Balances'!$C$9:$C$208,$B$17)","v":0},{"$f":"SUMIFS('ABT Credit Balances'!$D$9:$D$208,'ABT Credit Balances'!$B$9:$B$208,$C63,'ABT Credit Balances'!$F$9:$F$208,AH65,'ABT Credit Balances'!$E$9:$E$208,$AG$14,'ABT Credit Balances'!$C$9:$C$208,$B$17)","v":0},{"$f":"SUMIFS('ABT Credit Balances'!$D$9:$D$208,'ABT Credit Balances'!$B$9:$B$208,$C63,'ABT Credit Balances'!$F$9:$F$208,AI65,'ABT Credit Balances'!$E$9:$E$208,$AG$14,'ABT Credit Balances'!$C$9:$C$208,$B$17)","v":0},{"$f":"SUMIFS('ABT Credit Balances'!$D$9:$D$208,'ABT Credit Balances'!$B$9:$B$208,$C63,'ABT Credit Balances'!$F$9:$F$208,AJ65,'ABT Credit Balances'!$E$9:$E$208,$AJ$14,'ABT Credit Balances'!$C$9:$C$208,$B$17)","v":0},{"$f":"SUMIFS('ABT Credit Balances'!$D$9:$D$208,'ABT Credit Balances'!$B$9:$B$208,$C63,'ABT Credit Balances'!$F$9:$F$208,AK65,'ABT Credit Balances'!$E$9:$E$208,$AJ$14,'ABT Credit Balances'!$C$9:$C$208,$B$17)","v":0},{"$f":"SUMIFS('ABT Credit Balances'!$D$9:$D$208,'ABT Credit Balances'!$B$9:$B$208,$C63,'ABT Credit Balances'!$F$9:$F$208,AL65,'ABT Credit Balances'!$E$9:$E$208,$AJ$14,'ABT Credit Balances'!$C$9:$C$208,$B$17)","v":0},{"$f":"SUMIFS('ABT Credit Balances'!$D$9:$D$208,'ABT Credit Balances'!$B$9:$B$208,$C63,'ABT Credit Balances'!$F$9:$F$208,AM65,'ABT Credit Balances'!$E$9:$E$208,$AM$14,'ABT Credit Balances'!$C$9:$C$208,$B$17)","v":0},{"$f":"SUMIFS('ABT Credit Balances'!$D$9:$D$208,'ABT Credit Balances'!$B$9:$B$208,$C63,'ABT Credit Balances'!$F$9:$F$208,AN65,'ABT Credit Balances'!$E$9:$E$208,$AM$14,'ABT Credit Balances'!$C$9:$C$208,$B$17)","v":0},{"$f":"SUMIFS('ABT Credit Balances'!$D$9:$D$208,'ABT Credit Balances'!$B$9:$B$208,$C63,'ABT Credit Balances'!$F$9:$F$208,AO65,'ABT Credit Balances'!$E$9:$E$208,$AM$14,'ABT Credit Balances'!$C$9:$C$208,$B$17)","v":0},{"$f":"SUMIFS('ABT Credit Balances'!$D$9:$D$208,'ABT Credit Balances'!$B$9:$B$208,$C63,'ABT Credit Balances'!$F$9:$F$208,AP65,'ABT Credit Balances'!$E$9:$E$208,$AP$14,'ABT Credit Balances'!$C$9:$C$208,$B$17)","v":0},{"$f":"SUMIFS('ABT Credit Balances'!$D$9:$D$208,'ABT Credit Balances'!$B$9:$B$208,$C63,'ABT Credit Balances'!$F$9:$F$208,AQ65,'ABT Credit Balances'!$E$9:$E$208,$AP$14,'ABT Credit Balances'!$C$9:$C$208,$B$17)","v":0},{"$f":"SUMIFS('ABT Credit Balances'!$D$9:$D$208,'ABT Credit Balances'!$B$9:$B$208,$C63,'ABT Credit Balances'!$F$9:$F$208,AR65,'ABT Credit Balances'!$E$9:$E$208,$AP$14,'ABT Credit Balances'!$C$9:$C$208,$B$17)","v":0},{"$f":"SUMIFS('ABT Credit Balances'!$D$9:$D$208,'ABT Credit Balances'!$B$9:$B$208,$C$63,'ABT Credit Balances'!$F$9:$F$208,AS65,'ABT Credit Balances'!$E$9:$E$208,$AS$64,'ABT Credit Balances'!$C$9:$C$208,$B$67)","v":0},{"$f":"SUMIFS('ABT Credit Balances'!$D$9:$D$208,'ABT Credit Balances'!$B$9:$B$208,$C$63,'ABT Credit Balances'!$F$9:$F$208,AT65,'ABT Credit Balances'!$E$9:$E$208,$AS$64,'ABT Credit Balances'!$C$9:$C$208,$B$67)","v":0},{"$f":"SUMIFS('ABT Credit Balances'!$D$9:$D$208,'ABT Credit Balances'!$B$9:$B$208,$C$63,'ABT Credit Balances'!$F$9:$F$208,AU65,'ABT Credit Balances'!$E$9:$E$208,$AS$64,'ABT Credit Balances'!$C$9:$C$208,$B$67)","v":0}]
[null,"Applied Banked Credits (out)",{"$f":"SUMIFS('ABT Transactions'!$B$9:$B$40,'ABT Transactions'!$G$9:$G$40,$C$63,'ABT Transactions'!$F$9:$F$40,$C64,'ABT Transactions'!$C$9:$C$40,C65,'ABT Transactions'!$D$9:$D$40,$B$68)","v":0},{"$f":"SUMIFS('ABT Transactions'!$B$9:$B$40,'ABT Transactions'!$G$9:$G$40,$C$63,'ABT Transactions'!$F$9:$F$40,$C64,'ABT Transactions'!$C$9:$C$40,D65,'ABT Transactions'!$D$9:$D$40,$B$68)","v":0},{"$f":"SUMIFS('ABT Transactions'!$B$9:$B$40,'ABT Transactions'!$G$9:$G$40,$C$63,'ABT Transactions'!$F$9:$F$40,$C64,'ABT Transactions'!$C$9:$C$40,E65,'ABT Transactions'!$D$9:$D$40,$B$68)","v":0},{"$f":"SUMIFS('ABT Transactions'!$B$9:$B$40,'ABT Transactions'!$G$9:$G$40,$C$63,'ABT Transactions'!$F$9:$F$40,$F64,'ABT Transactions'!$C$9:$C$40,F65,'ABT Transactions'!$D$9:$D$40,$B$68)","v":0},{"$f":"SUMIFS('ABT Transactions'!$B$9:$B$40,'ABT Transactions'!$G$9:$G$40,$C$63,'ABT Transactions'!$F$9:$F$40,$F64,'ABT Transactions'!$C$9:$C$40,G65,'ABT Transactions'!$D$9:$D$40,$B$68)","v":0},{"$f":"SUMIFS('ABT Transactions'!$B$9:$B$40,'ABT Transactions'!$G$9:$G$40,$C$63,'ABT Transactions'!$F$9:$F$40,$F64,'ABT Transactions'!$C$9:$C$40,H65,'ABT Transactions'!$D$9:$D$40,$B$68)","v":0},{"$f":"SUMIFS('ABT Transactions'!$B$9:$B$40,'ABT Transactions'!$G$9:$G$40,$C$63,'ABT Transactions'!$F$9:$F$40,$I$64,'ABT Transactions'!$C$9:$C$40,I65,'ABT Transactions'!$D$9:$D$40,$B$68)","v":0},{"$f":"SUMIFS('ABT Transactions'!$B$9:$B$40,'ABT Transactions'!$G$9:$G$40,$C$63,'ABT Transactions'!$F$9:$F$40,$I$64,'ABT Transactions'!$C$9:$C$40,J65,'ABT Transactions'!$D$9:$D$40,$B$68)","v":0},{"$f":"SUMIFS('ABT Transactions'!$B$9:$B$40,'ABT Transactions'!$G$9:$G$40,$C$63,'ABT Transactions'!$F$9:$F$40,$I$64,'ABT Transactions'!$C$9:$C$40,K65,'ABT Transactions'!$D$9:$D$40,$B$68)","v":0},{"$f":"SUMIFS('ABT Transactions'!$B$9:$B$40,'ABT Transactions'!$G$9:$G$40,$C$63,'ABT Transactions'!$F$9:$F$40,$L$64,'ABT Transactions'!$C$9:$C$40,L65,'ABT Transactions'!$D$9:$D$40,$B$68)","v":0},{"$f":"SUMIFS('ABT Transactions'!$B$9:$B$40,'ABT Transactions'!$G$9:$G$40,$C$63,'ABT Transactions'!$F$9:$F$40,$L$64,'ABT Transactions'!$C$9:$C$40,M65,'ABT Transactions'!$D$9:$D$40,$B$68)","v":0},{"$f":"SUMIFS('ABT Transactions'!$B$9:$B$40,'ABT Transactions'!$G$9:$G$40,$C$63,'ABT Transactions'!$F$9:$F$40,$L$64,'ABT Transactions'!$C$9:$C$40,N65,'ABT Transactions'!$D$9:$D$40,$B$68)","v":0},{"$f":"SUMIFS('ABT Transactions'!$B$9:$B$40,'ABT Transactions'!$G$9:$G$40,$C$63,'ABT Transactions'!$F$9:$F$40,$O64,'ABT Transactions'!$C$9:$C$40,O65,'ABT Transactions'!$D$9:$D$40,$B$68)","v":0},{"$f":"SUMIFS('ABT Transactions'!$B$9:$B$40,'ABT Transactions'!$G$9:$G$40,$C$63,'ABT Transactions'!$F$9:$F$40,$O64,'ABT Transactions'!$C$9:$C$40,P65,'ABT Transactions'!$D$9:$D$40,$B$68)","v":0},{"$f":"SUMIFS('ABT Transactions'!$B$9:$B$40,'ABT Transactions'!$G$9:$G$40,$C$63,'ABT Transactions'!$F$9:$F$40,$O64,'ABT Transactions'!$C$9:$C$40,Q65,'ABT Transactions'!$D$9:$D$40,$B$68)","v":0},{"$f":"SUMIFS('ABT Transactions'!$B$9:$B$40,'ABT Transactions'!$G$9:$G$40,$C$63,'ABT Transactions'!$F$9:$F$40,$R64,'ABT Transactions'!$C$9:$C$40,R65,'ABT Transactions'!$D$9:$D$40,$B$68)","v":0},{"$f":"SUMIFS('ABT Transactions'!$B$9:$B$40,'ABT Transactions'!$G$9:$G$40,$C$63,'ABT Transactions'!$F$9:$F$40,$R64,'ABT Transactions'!$C$9:$C$40,S65,'ABT Transactions'!$D$9:$D$40,$B$68)","v":0},{"$f":"SUMIFS('ABT Transactions'!$B$9:$B$40,'ABT Transactions'!$G$9:$G$40,$C$63,'ABT Transactions'!$F$9:$F$40,$R64,'ABT Transactions'!$C$9:$C$40,T65,'ABT Transactions'!$D$9:$D$40,$B$68)","v":0},{"$f":"SUMIFS('ABT Transactions'!$B$9:$B$40,'ABT Transactions'!$G$9:$G$40,$C63,'ABT Transactions'!$F$9:$F$40,$U$14,'ABT Transactions'!$C$9:$C$40,U65,'ABT Transactions'!$D$9:$D$40,$B$18)","v":0},{"$f":"SUMIFS('ABT Transactions'!$B$9:$B$40,'ABT Transactions'!$G$9:$G$40,$C63,'ABT Transactions'!$F$9:$F$40,$U$14,'ABT Transactions'!$C$9:$C$40,V65,'ABT Transactions'!$D$9:$D$40,$B$18)","v":0},{"$f":"SUMIFS('ABT Transactions'!$B$9:$B$40,'ABT Transactions'!$G$9:$G$40,$C63,'ABT Transactions'!$F$9:$F$40,$U$14,'ABT Transactions'!$C$9:$C$40,W65,'ABT Transactions'!$D$9:$D$40,$B$18)","v":0},{"$f":"SUMIFS('ABT Transactions'!$B$9:$B$40,'ABT Transactions'!$G$9:$G$40,$C63,'ABT Transactions'!$F$9:$F$40,$X$14,'ABT Transactions'!$C$9:$C$40,X65,'ABT Transactions'!$D$9:$D$40,$B$18)","v":0},{"$f":"SUMIFS('ABT Transactions'!$B$9:$B$40,'ABT Transactions'!$G$9:$G$40,$C63,'ABT Transactions'!$F$9:$F$40,$X$14,'ABT Transactions'!$C$9:$C$40,Y65,'ABT Transactions'!$D$9:$D$40,$B$18)","v":0},{"$f":"SUMIFS('ABT Transactions'!$B$9:$B$40,'ABT Transactions'!$G$9:$G$40,$C63,'ABT Transactions'!$F$9:$F$40,$X$14,'ABT Transactions'!$C$9:$C$40,Z65,'ABT Transactions'!$D$9:$D$40,$B$18)","v":0},{"$f":"SUMIFS('ABT Transactions'!$B$9:$B$40,'ABT Transactions'!$G$9:$G$40,$C63,'ABT Transactions'!$F$9:$F$40,$AA$14,'ABT Transactions'!$C$9:$C$40,AA65,'ABT Transactions'!$D$9:$D$40,$B$18)","v":0},{"$f":"SUMIFS('ABT Transactions'!$B$9:$B$40,'ABT Transactions'!$G$9:$G$40,$C63,'ABT Transactions'!$F$9:$F$40,$AA$14,'ABT Transactions'!$C$9:$C$40,AB65,'ABT Transactions'!$D$9:$D$40,$B$18)","v":0},{"$f":"SUMIFS('ABT Transactions'!$B$9:$B$40,'ABT Transactions'!$G$9:$G$40,$C63,'ABT Transactions'!$F$9:$F$40,$AA$14,'ABT Transactions'!$C$9:$C$40,AC65,'ABT Transactions'!$D$9:$D$40,$B$18)","v":0},{"$f":"SUMIFS('ABT Transactions'!$B$9:$B$40,'ABT Transactions'!$G$9:$G$40,$C63,'ABT Transactions'!$F$9:$F$40,$AD$14,'ABT Transactions'!$C$9:$C$40,AD65,'ABT Transactions'!$D$9:$D$40,$B$18)","v":0},{"$f":"SUMIFS('ABT Transactions'!$B$9:$B$40,'ABT Transactions'!$G$9:$G$40,$C63,'ABT Transactions'!$F$9:$F$40,$AD$14,'ABT Transactions'!$C$9:$C$40,AE65,'ABT Transactions'!$D$9:$D$40,$B$18)","v":0},{"$f":"SUMIFS('ABT Transactions'!$B$9:$B$40,'ABT Transactions'!$G$9:$G$40,$C63,'ABT Transactions'!$F$9:$F$40,$AD$14,'ABT Transactions'!$C$9:$C$40,AF65,'ABT Transactions'!$D$9:$D$40,$B$18)","v":0},{"$f":"SUMIFS('ABT Transactions'!$B$9:$B$40,'ABT Transactions'!$G$9:$G$40,$C63,'ABT Transactions'!$F$9:$F$40,$AG$14,'ABT Transactions'!$C$9:$C$40,AG65,'ABT Transactions'!$D$9:$D$40,$B$18)","v":0},{"$f":"SUMIFS('ABT Transactions'!$B$9:$B$40,'ABT Transactions'!$G$9:$G$40,$C63,'ABT Transactions'!$F$9:$F$40,$AG$14,'ABT Transactions'!$C$9:$C$40,AH65,'ABT Transactions'!$D$9:$D$40,$B$18)","v":0},{"$f":"SUMIFS('ABT Transactions'!$B$9:$B$40,'ABT Transactions'!$G$9:$G$40,$C63,'ABT Transactions'!$F$9:$F$40,$AG$14,'ABT Transactions'!$C$9:$C$40,AI65,'ABT Transactions'!$D$9:$D$40,$B$18)","v":0},{"$f":"SUMIFS('ABT Transactions'!$B$9:$B$40,'ABT Transactions'!$G$9:$G$40,$C63,'ABT Transactions'!$F$9:$F$40,$AJ$14,'ABT Transactions'!$C$9:$C$40,AJ65,'ABT Transactions'!$D$9:$D$40,$B$18)","v":0},{"$f":"SUMIFS('ABT Transactions'!$B$9:$B$40,'ABT Transactions'!$G$9:$G$40,$C63,'ABT Transactions'!$F$9:$F$40,$AJ$14,'ABT Transactions'!$C$9:$C$40,AK65,'ABT Transactions'!$D$9:$D$40,$B$18)","v":0},{"$f":"SUMIFS('ABT Transactions'!$B$9:$B$40,'ABT Transactions'!$G$9:$G$40,$C63,'ABT Transactions'!$F$9:$F$40,$AJ$14,'ABT Transactions'!$C$9:$C$40,AL65,'ABT Transactions'!$D$9:$D$40,$B$18)","v":0},{"$f":"SUMIFS('ABT Transactions'!$B$9:$B$40,'ABT Transactions'!$G$9:$G$40,$C63,'ABT Transactions'!$F$9:$F$40,$AM$14,'ABT Transactions'!$C$9:$C$40,AM65,'ABT Transactions'!$D$9:$D$40,$B$18)","v":0},{"$f":"SUMIFS('ABT Transactions'!$B$9:$B$40,'ABT Transactions'!$G$9:$G$40,$C63,'ABT Transactions'!$F$9:$F$40,$AM$14,'ABT Transactions'!$C$9:$C$40,AN65,'ABT Transactions'!$D$9:$D$40,$B$18)","v":0},{"$f":"SUMIFS('ABT Transactions'!$B$9:$B$40,'ABT Transactions'!$G$9:$G$40,$C63,'ABT Transactions'!$F$9:$F$40,$AM$14,'ABT Transactions'!$C$9:$C$40,AO65,'ABT Transactions'!$D$9:$D$40,$B$18)","v":0},{"$f":"SUMIFS('ABT Transactions'!$B$9:$B$40,'ABT Transactions'!$G$9:$G$40,$C63,'ABT Transactions'!$F$9:$F$40,$AP$14,'ABT Transactions'!$C$9:$C$40,AP65,'ABT Transactions'!$D$9:$D$40,$B$18)","v":0},{"$f":"SUMIFS('ABT Transactions'!$B$9:$B$40,'ABT Transactions'!$G$9:$G$40,$C63,'ABT Transactions'!$F$9:$F$40,$AP$14,'ABT Transactions'!$C$9:$C$40,AQ65,'ABT Transactions'!$D$9:$D$40,$B$18)","v":0},{"$f":"SUMIFS('ABT Transactions'!$B$9:$B$40,'ABT Transactions'!$G$9:$G$40,$C63,'ABT Transactions'!$F$9:$F$40,$AP$14,'ABT Transactions'!$C$9:$C$40,AR65,'ABT Transactions'!$D$9:$D$40,$B$18)","v":0},{"$f":"SUMIFS('ABT Transactions'!$B$9:$B$40,'ABT Transactions'!$G$9:$G$40,$C$63,'ABT Transactions'!$F$9:$F$40,$AS64,'ABT Transactions'!$C$9:$C$40,AS65,'ABT Transactions'!$D$9:$D$40,$B$68)","v":0},{"$f":"SUMIFS('ABT Transactions'!$B$9:$B$40,'ABT Transactions'!$G$9:$G$40,$C$63,'ABT Transactions'!$F$9:$F$40,$AS64,'ABT Transactions'!$C$9:$C$40,AT65,'ABT Transactions'!$D$9:$D$40,$B$68)","v":0},{"$f":"SUMIFS('ABT Transactions'!$B$9:$B$40,'ABT Transactions'!$G$9:$G$40,$C$63,'ABT Transactions'!$F$9:$F$40,$AS64,'ABT Transactions'!$C$9:$C$40,AU65,'ABT Transactions'!$D$9:$D$40,$B$68)","v":0}]
[null,"Applied Banked Credits (in)",{"$f":"SUMIFS('ABT Transactions'!$B$9:$B$40,'ABT Transactions'!$J$9:$J$40,$C$63,'ABT Transactions'!$I$9:$I$40,$C$64,'ABT Transactions'!$C$9:$C$40,C65,'ABT Transactions'!$D$9:$D$40,$B$69)","v":0},{"$f":"SUMIFS('ABT Transactions'!$B$9:$B$40,'ABT Transactions'!$J$9:$J$40,$C$63,'ABT Transactions'!$I$9:$I$40,$C$64,'ABT Transactions'!$C$9:$C$40,D65,'ABT Transactions'!$D$9:$D$40,$B$69)","v":0},{"$f":"SUMIFS('ABT Transactions'!$B$9:$B$40,'ABT Transactions'!$J$9:$J$40,$C$63,'ABT Transactions'!$I$9:$I$40,$C$64,'ABT Transactions'!$C$9:$C$40,E65,'ABT Transactions'!$D$9:$D$40,$B$69)","v":0},{"$f":"SUMIFS('ABT Transactions'!$B$9:$B$40,'ABT Transactions'!$J$9:$J$40,$C$63,'ABT Transactions'!$I$9:$I$40,$F$64,'ABT Transactions'!$C$9:$C$40,F65,'ABT Transactions'!$D$9:$D$40,$B$69)","v":0},{"$f":"SUMIFS('ABT Transactions'!$B$9:$B$40,'ABT Transactions'!$J$9:$J$40,$C$63,'ABT Transactions'!$I$9:$I$40,$F$64,'ABT Transactions'!$C$9:$C$40,G65,'ABT Transactions'!$D$9:$D$40,$B$69)","v":0},{"$f":"SUMIFS('ABT Transactions'!$B$9:$B$40,'ABT Transactions'!$J$9:$J$40,$C$63,'ABT Transactions'!$I$9:$I$40,$F$64,'ABT Transactions'!$C$9:$C$40,H65,'ABT Transactions'!$D$9:$D$40,$B$69)","v":0},{"$f":"SUMIFS('ABT Transactions'!$B$9:$B$40,'ABT Transactions'!$J$9:$J$40,$C$63,'ABT Transactions'!$I$9:$I$40,$I$64,'ABT Transactions'!$C$9:$C$40,I65,'ABT Transactions'!$D$9:$D$40,$B$69)","v":0},{"$f":"SUMIFS('ABT Transactions'!$B$9:$B$40,'ABT Transactions'!$J$9:$J$40,$C$63,'ABT Transactions'!$I$9:$I$40,$I$64,'ABT Transactions'!$C$9:$C$40,J65,'ABT Transactions'!$D$9:$D$40,$B$69)","v":0},{"$f":"SUMIFS('ABT Transactions'!$B$9:$B$40,'ABT Transactions'!$J$9:$J$40,$C$63,'ABT Transactions'!$I$9:$I$40,$I$64,'ABT Transactions'!$C$9:$C$40,K65,'ABT Transactions'!$D$9:$D$40,$B$69)","v":0},{"$f":"SUMIFS('ABT Transactions'!$B$9:$B$40,'ABT Transactions'!$J$9:$J$40,$C$63,'ABT Transactions'!$I$9:$I$40,$L$64,'ABT Transactions'!$C$9:$C$40,L65,'ABT Transactions'!$D$9:$D$40,$B$69)","v":0},{"$f":"SUMIFS('ABT Transactions'!$B$9:$B$40,'ABT Transactions'!$J$9:$J$40,$C$63,'ABT Transactions'!$I$9:$I$40,$L$64,'ABT Transactions'!$C$9:$C$40,M65,'ABT Transactions'!$D$9:$D$40,$B$69)","v":0},{"$f":"SUMIFS('ABT Transactions'!$B$9:$B$40,'ABT Transactions'!$J$9:$J$40,$C$63,'ABT Transactions'!$I$9:$I$40,$L$64,'ABT Transactions'!$C$9:$C$40,N65,'ABT Transactions'!$D$9:$D$40,$B$69)","v":0},{"$f":"SUMIFS('ABT Transactions'!$B$9:$B$40,'ABT Transactions'!$J$9:$J$40,$C$63,'ABT Transactions'!$I$9:$I$40,$O$64,'ABT Transactions'!$C$9:$C$40,O65,'ABT Transactions'!$D$9:$D$40,$B$69)","v":0},{"$f":"SUMIFS('ABT Transactions'!$B$9:$B$40,'ABT Transactions'!$J$9:$J$40,$C$63,'ABT Transactions'!$I$9:$I$40,$O$64,'ABT Transactions'!$C$9:$C$40,P65,'ABT Transactions'!$D$9:$D$40,$B$69)","v":0},{"$f":"SUMIFS('ABT Transactions'!$B$9:$B$40,'ABT Transactions'!$J$9:$J$40,$C$63,'ABT Transactions'!$I$9:$I$40,$O$64,'ABT Transactions'!$C$9:$C$40,Q65,'ABT Transactions'!$D$9:$D$40,$B$69)","v":0},{"$f":"SUMIFS('ABT Transactions'!$B$9:$B$40,'ABT Transactions'!$J$9:$J$40,$C$63,'ABT Transactions'!$I$9:$I$40,$R$64,'ABT Transactions'!$C$9:$C$40,R65,'ABT Transactions'!$D$9:$D$40,$B$69)","v":0},{"$f":"SUMIFS('ABT Transactions'!$B$9:$B$40,'ABT Transactions'!$J$9:$J$40,$C$63,'ABT Transactions'!$I$9:$I$40,$R$64,'ABT Transactions'!$C$9:$C$40,S65,'ABT Transactions'!$D$9:$D$40,$B$69)","v":0},{"$f":"SUMIFS('ABT Transactions'!$B$9:$B$40,'ABT Transactions'!$J$9:$J$40,$C$63,'ABT Transactions'!$I$9:$I$40,$R$64,'ABT Transactions'!$C$9:$C$40,T65,'ABT Transactions'!$D$9:$D$40,$B$69)","v":0},{"$f":"SUMIFS('ABT Transactions'!$B$9:$B$40,'ABT Transactions'!$J$9:$J$40,$C63,'ABT Transactions'!$I$9:$I$40,$U$14,'ABT Transactions'!$C$9:$C$40,U65,'ABT Transactions'!$D$9:$D$40,$B$19)","v":0},{"$f":"SUMIFS('ABT Transactions'!$B$9:$B$40,'ABT Transactions'!$J$9:$J$40,$C63,'ABT Transactions'!$I$9:$I$40,$U$14,'ABT Transactions'!$C$9:$C$40,V65,'ABT Transactions'!$D$9:$D$40,$B$19)","v":0},{"$f":"SUMIFS('ABT Transactions'!$B$9:$B$40,'ABT Transactions'!$J$9:$J$40,$C63,'ABT Transactions'!$I$9:$I$40,$U$14,'ABT Transactions'!$C$9:$C$40,W65,'ABT Transactions'!$D$9:$D$40,$B$19)","v":0},{"$f":"SUMIFS('ABT Transactions'!$B$9:$B$40,'ABT Transactions'!$J$9:$J$40,$C63,'ABT Transactions'!$I$9:$I$40,$X$14,'ABT Transactions'!$C$9:$C$40,X65,'ABT Transactions'!$D$9:$D$40,$B$19)","v":0},{"$f":"SUMIFS('ABT Transactions'!$B$9:$B$40,'ABT Transactions'!$J$9:$J$40,$C63,'ABT Transactions'!$I$9:$I$40,$X$14,'ABT Transactions'!$C$9:$C$40,Y65,'ABT Transactions'!$D$9:$D$40,$B$19)","v":0},{"$f":"SUMIFS('ABT Transactions'!$B$9:$B$40,'ABT Transactions'!$J$9:$J$40,$C63,'ABT Transactions'!$I$9:$I$40,$X$14,'ABT Transactions'!$C$9:$C$40,Z65,'ABT Transactions'!$D$9:$D$40,$B$19)","v":0},{"$f":"SUMIFS('ABT Transactions'!$B$9:$B$40,'ABT Transactions'!$J$9:$J$40,$C63,'ABT Transactions'!$I$9:$I$40,$AA$14,'ABT Transactions'!$C$9:$C$40,AA65,'ABT Transactions'!$D$9:$D$40,$B$19)","v":0},{"$f":"SUMIFS('ABT Transactions'!$B$9:$B$40,'ABT Transactions'!$J$9:$J$40,$C63,'ABT Transactions'!$I$9:$I$40,$AA$14,'ABT Transactions'!$C$9:$C$40,AB65,'ABT Transactions'!$D$9:$D$40,$B$19)","v":0},{"$f":"SUMIFS('ABT Transactions'!$B$9:$B$40,'ABT Transactions'!$J$9:$J$40,$C63,'ABT Transactions'!$I$9:$I$40,$AA$14,'ABT Transactions'!$C$9:$C$40,AC65,'ABT Transactions'!$D$9:$D$40,$B$19)","v":0},{"$f":"SUMIFS('ABT Transactions'!$B$9:$B$40,'ABT Transactions'!$J$9:$J$40,$C63,'ABT Transactions'!$I$9:$I$40,$AD$14,'ABT Transactions'!$C$9:$C$40,AD65,'ABT Transactions'!$D$9:$D$40,$B$19)","v":0},{"$f":"SUMIFS('ABT Transactions'!$B$9:$B$40,'ABT Transactions'!$J$9:$J$40,$C63,'ABT Transactions'!$I$9:$I$40,$AD$14,'ABT Transactions'!$C$9:$C$40,AE65,'ABT Transactions'!$D$9:$D$40,$B$19)","v":0},{"$f":"SUMIFS('ABT Transactions'!$B$9:$B$40,'ABT Transactions'!$J$9:$J$40,$C63,'ABT Transactions'!$I$9:$I$40,$AD$14,'ABT Transactions'!$C$9:$C$40,AF65,'ABT Transactions'!$D$9:$D$40,$B$19)","v":0},{"$f":"SUMIFS('ABT Transactions'!$B$9:$B$40,'ABT Transactions'!$J$9:$J$40,$C63,'ABT Transactions'!$I$9:$I$40,$AG$14,'ABT Transactions'!$C$9:$C$40,AG65,'ABT Transactions'!$D$9:$D$40,$B$19)","v":0},{"$f":"SUMIFS('ABT Transactions'!$B$9:$B$40,'ABT Transactions'!$J$9:$J$40,$C63,'ABT Transactions'!$I$9:$I$40,$AG$14,'ABT Transactions'!$C$9:$C$40,AH65,'ABT Transactions'!$D$9:$D$40,$B$19)","v":0},{"$f":"SUMIFS('ABT Transactions'!$B$9:$B$40,'ABT Transactions'!$J$9:$J$40,$C63,'ABT Transactions'!$I$9:$I$40,$AG$14,'ABT Transactions'!$C$9:$C$40,AI65,'ABT Transactions'!$D$9:$D$40,$B$19)","v":0},{"$f":"SUMIFS('ABT Transactions'!$B$9:$B$40,'ABT Transactions'!$J$9:$J$40,$C63,'ABT Transactions'!$I$9:$I$40,$AJ$14,'ABT Transactions'!$C$9:$C$40,AJ65,'ABT Transactions'!$D$9:$D$40,$B$19)","v":0},{"$f":"SUMIFS('ABT Transactions'!$B$9:$B$40,'ABT Transactions'!$J$9:$J$40,$C63,'ABT Transactions'!$I$9:$I$40,$AJ$14,'ABT Transactions'!$C$9:$C$40,AK65,'ABT Transactions'!$D$9:$D$40,$B$19)","v":0},{"$f":"SUMIFS('ABT Transactions'!$B$9:$B$40,'ABT Transactions'!$J$9:$J$40,$C63,'ABT Transactions'!$I$9:$I$40,$AJ$14,'ABT Transactions'!$C$9:$C$40,AL65,'ABT Transactions'!$D$9:$D$40,$B$19)","v":0},{"$f":"SUMIFS('ABT Transactions'!$B$9:$B$40,'ABT Transactions'!$J$9:$J$40,$C63,'ABT Transactions'!$I$9:$I$40,$AM$14,'ABT Transactions'!$C$9:$C$40,AM65,'ABT Transactions'!$D$9:$D$40,$B$19)","v":0},{"$f":"SUMIFS('ABT Transactions'!$B$9:$B$40,'ABT Transactions'!$J$9:$J$40,$C63,'ABT Transactions'!$I$9:$I$40,$AM$14,'ABT Transactions'!$C$9:$C$40,AN65,'ABT Transactions'!$D$9:$D$40,$B$19)","v":0},{"$f":"SUMIFS('ABT Transactions'!$B$9:$B$40,'ABT Transactions'!$J$9:$J$40,$C63,'ABT Transactions'!$I$9:$I$40,$AM$14,'ABT Transactions'!$C$9:$C$40,AO65,'ABT Transactions'!$D$9:$D$40,$B$19)","v":0},{"$f":"SUMIFS('ABT Transactions'!$B$9:$B$40,'ABT Transactions'!$J$9:$J$40,$C63,'ABT Transactions'!$I$9:$I$40,$AP$14,'ABT Transactions'!$C$9:$C$40,AP65,'ABT Transactions'!$D$9:$D$40,$B$19)","v":0},{"$f":"SUMIFS('ABT Transactions'!$B$9:$B$40,'ABT Transactions'!$J$9:$J$40,$C63,'ABT Transactions'!$I$9:$I$40,$AP$14,'ABT Transactions'!$C$9:$C$40,AQ65,'ABT Transactions'!$D$9:$D$40,$B$19)","v":0},{"$f":"SUMIFS('ABT Transactions'!$B$9:$B$40,'ABT Transactions'!$J$9:$J$40,$C63,'ABT Transactions'!$I$9:$I$40,$AP$14,'ABT Transactions'!$C$9:$C$40,AR65,'ABT Transactions'!$D$9:$D$40,$B$19)","v":0},{"$f":"SUMIFS('ABT Transactions'!$B$9:$B$40,'ABT Transactions'!$J$9:$J$40,$C$63,'ABT Transactions'!$I$9:$I$40,$AS$64,'ABT Transactions'!$C$9:$C$40,AS65,'ABT Transactions'!$D$9:$D$40,$B$69)","v":0},{"$f":"SUMIFS('ABT Transactions'!$B$9:$B$40,'ABT Transactions'!$J$9:$J$40,$C$63,'ABT Transactions'!$I$9:$I$40,$AS$64,'ABT Transactions'!$C$9:$C$40,AT65,'ABT Transactions'!$D$9:$D$40,$B$69)","v":0},{"$f":"SUMIFS('ABT Transactions'!$B$9:$B$40,'ABT Transactions'!$J$9:$J$40,$C$63,'ABT Transactions'!$I$9:$I$40,$AS$64,'ABT Transactions'!$C$9:$C$40,AU65,'ABT Transactions'!$D$9:$D$40,$B$69)","v":0}]
[null,"Trade Out",{"$f":"SUMIFS('ABT Transactions'!$B$9:$B$40,'ABT Transactions'!$G$9:$G$40,$C$63,'ABT Transactions'!$F$9:$F$40,$C$64,'ABT Transactions'!$C$9:$C$40,C$65,'ABT Transactions'!$D$9:$D$40,$B$70)","v":0},{"$f":"SUMIFS('ABT Transactions'!$B$9:$B$40,'ABT Transactions'!$G$9:$G$40,$C$63,'ABT Transactions'!$F$9:$F$40,$C$64,'ABT Transactions'!$C$9:$C$40,D$65,'ABT Transactions'!$D$9:$D$40,$B$70)","v":0},{"$f":"SUMIFS('ABT Transactions'!$B$9:$B$40,'ABT Transactions'!$G$9:$G$40,$C$63,'ABT Transactions'!$F$9:$F$40,$C$64,'ABT Transactions'!$C$9:$C$40,E$65,'ABT Transactions'!$D$9:$D$40,$B$70)","v":0},{"$f":"SUMIFS('ABT Transactions'!$B$9:$B$40,'ABT Transactions'!$G$9:$G$40,$C$63,'ABT Transactions'!$F$9:$F$40,$F$64,'ABT Transactions'!$C$9:$C$40,F$65,'ABT Transactions'!$D$9:$D$40,$B$70)","v":0},{"$f":"SUMIFS('ABT Transactions'!$B$9:$B$40,'ABT Transactions'!$G$9:$G$40,$C$63,'ABT Transactions'!$F$9:$F$40,$F$64,'ABT Transactions'!$C$9:$C$40,G$65,'ABT Transactions'!$D$9:$D$40,$B$70)","v":0},{"$f":"SUMIFS('ABT Transactions'!$B$9:$B$40,'ABT Transactions'!$G$9:$G$40,$C$63,'ABT Transactions'!$F$9:$F$40,$F$64,'ABT Transactions'!$C$9:$C$40,H$65,'ABT Transactions'!$D$9:$D$40,$B$70)","v":0},{"$f":"SUMIFS('ABT Transactions'!$B$9:$B$40,'ABT Transactions'!$G$9:$G$40,$C$63,'ABT Transactions'!$F$9:$F$40,$I$64,'ABT Transactions'!$C$9:$C$40,I$65,'ABT Transactions'!$D$9:$D$40,$B$70)","v":0},{"$f":"SUMIFS('ABT Transactions'!$B$9:$B$40,'ABT Transactions'!$G$9:$G$40,$C$63,'ABT Transactions'!$F$9:$F$40,$I$64,'ABT Transactions'!$C$9:$C$40,J$65,'ABT Transactions'!$D$9:$D$40,$B$70)","v":0},{"$f":"SUMIFS('ABT Transactions'!$B$9:$B$40,'ABT Transactions'!$G$9:$G$40,$C$63,'ABT Transactions'!$F$9:$F$40,$I$64,'ABT Transactions'!$C$9:$C$40,K$65,'ABT Transactions'!$D$9:$D$40,$B$70)","v":0},{"$f":"SUMIFS('ABT Transactions'!$B$9:$B$40,'ABT Transactions'!$G$9:$G$40,$C$63,'ABT Transactions'!$F$9:$F$40,$L$64,'ABT Transactions'!$C$9:$C$40,L$65,'ABT Transactions'!$D$9:$D$40,$B$70)","v":0},{"$f":"SUMIFS('ABT Transactions'!$B$9:$B$40,'ABT Transactions'!$G$9:$G$40,$C$63,'ABT Transactions'!$F$9:$F$40,$L$64,'ABT Transactions'!$C$9:$C$40,M$65,'ABT Transactions'!$D$9:$D$40,$B$70)","v":0},{"$f":"SUMIFS('ABT Transactions'!$B$9:$B$40,'ABT Transactions'!$G$9:$G$40,$C$63,'ABT Transactions'!$F$9:$F$40,$L$64,'ABT Transactions'!$C$9:$C$40,N$65,'ABT Transactions'!$D$9:$D$40,$B$70)","v":0},{"$f":"SUMIFS('ABT Transactions'!$B$9:$B$40,'ABT Transactions'!$G$9:$G$40,$C$63,'ABT Transactions'!$F$9:$F$40,$O$64,'ABT Transactions'!$C$9:$C$40,O$65,'ABT Transactions'!$D$9:$D$40,$B$70)","v":0},{"$f":"SUMIFS('ABT Transactions'!$B$9:$B$40,'ABT Transactions'!$G$9:$G$40,$C$63,'ABT Transactions'!$F$9:$F$40,$O$64,'ABT Transactions'!$C$9:$C$40,P$65,'ABT Transactions'!$D$9:$D$40,$B$70)","v":0},{"$f":"SUMIFS('ABT Transactions'!$B$9:$B$40,'ABT Transactions'!$G$9:$G$40,$C$63,'ABT Transactions'!$F$9:$F$40,$O$64,'ABT Transactions'!$C$9:$C$40,Q$65,'ABT Transactions'!$D$9:$D$40,$B$70)","v":0},{"$f":"SUMIFS('ABT Transactions'!$B$9:$B$40,'ABT Transactions'!$G$9:$G$40,$C$63,'ABT Transactions'!$F$9:$F$40,$R$64,'ABT Transactions'!$C$9:$C$40,R$65,'ABT Transactions'!$D$9:$D$40,$B$70)","v":0},{"$f":"SUMIFS('ABT Transactions'!$B$9:$B$40,'ABT Transactions'!$G$9:$G$40,$C$63,'ABT Transactions'!$F$9:$F$40,$R$64,'ABT Transactions'!$C$9:$C$40,S$65,'ABT Transactions'!$D$9:$D$40,$B$70)","v":0},{"$f":"SUMIFS('ABT Transactions'!$B$9:$B$40,'ABT Transactions'!$G$9:$G$40,$C$63,'ABT Transactions'!$F$9:$F$40,$R$64,'ABT Transactions'!$C$9:$C$40,T$65,'ABT Transactions'!$D$9:$D$40,$B$70)","v":0},{"$f":"SUMIFS('ABT Transactions'!$B$9:$B$40,'ABT Transactions'!$G$9:$G$40,$C63,'ABT Transactions'!$F$9:$F$40,$U$14,'ABT Transactions'!$C$9:$C$40,U65,'ABT Transactions'!$D$9:$D$40,$B$20)","v":0},{"$f":"SUMIFS('ABT Transactions'!$B$9:$B$40,'ABT Transactions'!$G$9:$G$40,$C63,'ABT Transactions'!$F$9:$F$40,$U$14,'ABT Transactions'!$C$9:$C$40,V65,'ABT Transactions'!$D$9:$D$40,$B$20)","v":0},{"$f":"SUMIFS('ABT Transactions'!$B$9:$B$40,'ABT Transactions'!$G$9:$G$40,$C63,'ABT Transactions'!$F$9:$F$40,$U$14,'ABT Transactions'!$C$9:$C$40,W65,'ABT Transactions'!$D$9:$D$40,$B$20)","v":0},{"$f":"SUMIFS('ABT Transactions'!$B$9:$B$40,'ABT Transactions'!$G$9:$G$40,$C63,'ABT Transactions'!$F$9:$F$40,$X$14,'ABT Transactions'!$C$9:$C$40,X65,'ABT Transactions'!$D$9:$D$40,$B$20)","v":0},{"$f":"SUMIFS('ABT Transactions'!$B$9:$B$40,'ABT Transactions'!$G$9:$G$40,$C63,'ABT Transactions'!$F$9:$F$40,$X$14,'ABT Transactions'!$C$9:$C$40,Y65,'ABT Transactions'!$D$9:$D$40,$B$20)","v":0},{"$f":"SUMIFS('ABT Transactions'!$B$9:$B$40,'ABT Transactions'!$G$9:$G$40,$C63,'ABT Transactions'!$F$9:$F$40,$X$14,'ABT Transactions'!$C$9:$C$40,Z65,'ABT Transactions'!$D$9:$D$40,$B$20)","v":0},{"$f":"SUMIFS('ABT Transactions'!$B$9:$B$40,'ABT Transactions'!$G$9:$G$40,$C63,'ABT Transactions'!$F$9:$F$40,$AA$14,'ABT Transactions'!$C$9:$C$40,AA65,'ABT Transactions'!$D$9:$D$40,$B$20)","v":0},{"$f":"SUMIFS('ABT Transactions'!$B$9:$B$40,'ABT Transactions'!$G$9:$G$40,$C63,'ABT Transactions'!$F$9:$F$40,$AA$14,'ABT Transactions'!$C$9:$C$40,AB65,'ABT Transactions'!$D$9:$D$40,$B$20)","v":0},{"$f":"SUMIFS('ABT Transactions'!$B$9:$B$40,'ABT Transactions'!$G$9:$G$40,$C63,'ABT Transactions'!$F$9:$F$40,$AA$14,'ABT Transactions'!$C$9:$C$40,AC65,'ABT Transactions'!$D$9:$D$40,$B$20)","v":0},{"$f":"SUMIFS('ABT Transactions'!$B$9:$B$40,'ABT Transactions'!$G$9:$G$40,$C63,'ABT Transactions'!$F$9:$F$40,$AD$14,'ABT Transactions'!$C$9:$C$40,AD65,'ABT Transactions'!$D$9:$D$40,$B$20)","v":0},{"$f":"SUMIFS('ABT Transactions'!$B$9:$B$40,'ABT Transactions'!$G$9:$G$40,$C63,'ABT Transactions'!$F$9:$F$40,$AD$14,'ABT Transactions'!$C$9:$C$40,AE65,'ABT Transactions'!$D$9:$D$40,$B$20)","v":0},{"$f":"SUMIFS('ABT Transactions'!$B$9:$B$40,'ABT Transactions'!$G$9:$G$40,$C63,'ABT Transactions'!$F$9:$F$40,$AD$14,'ABT Transactions'!$C$9:$C$40,AF65,'ABT Transactions'!$D$9:$D$40,$B$20)","v":0},{"$f":"SUMIFS('ABT Transactions'!$B$9:$B$40,'ABT Transactions'!$G$9:$G$40,$C63,'ABT Transactions'!$F$9:$F$40,$AG$14,'ABT Transactions'!$C$9:$C$40,AG65,'ABT Transactions'!$D$9:$D$40,$B$20)","v":0},{"$f":"SUMIFS('ABT Transactions'!$B$9:$B$40,'ABT Transactions'!$G$9:$G$40,$C63,'ABT Transactions'!$F$9:$F$40,$AG$14,'ABT Transactions'!$C$9:$C$40,AH65,'ABT Transactions'!$D$9:$D$40,$B$20)","v":0},{"$f":"SUMIFS('ABT Transactions'!$B$9:$B$40,'ABT Transactions'!$G$9:$G$40,$C63,'ABT Transactions'!$F$9:$F$40,$AG$14,'ABT Transactions'!$C$9:$C$40,AI65,'ABT Transactions'!$D$9:$D$40,$B$20)","v":0},{"$f":"SUMIFS('ABT Transactions'!$B$9:$B$40,'ABT Transactions'!$G$9:$G$40,$C63,'ABT Transactions'!$F$9:$F$40,$AJ$14,'ABT Transactions'!$C$9:$C$40,AJ65,'ABT Transactions'!$D$9:$D$40,$B$20)","v":0},{"$f":"SUMIFS('ABT Transactions'!$B$9:$B$40,'ABT Transactions'!$G$9:$G$40,$C63,'ABT Transactions'!$F$9:$F$40,$AJ$14,'ABT Transactions'!$C$9:$C$40,AK65,'ABT Transactions'!$D$9:$D$40,$B$20)","v":0},{"$f":"SUMIFS('ABT Transactions'!$B$9:$B$40,'ABT Transactions'!$G$9:$G$40,$C63,'ABT Transactions'!$F$9:$F$40,$AJ$14,'ABT Transactions'!$C$9:$C$40,AL65,'ABT Transactions'!$D$9:$D$40,$B$20)","v":0},{"$f":"SUMIFS('ABT Transactions'!$B$9:$B$40,'ABT Transactions'!$G$9:$G$40,$C63,'ABT Transactions'!$F$9:$F$40,$AM$14,'ABT Transactions'!$C$9:$C$40,AM65,'ABT Transactions'!$D$9:$D$40,$B$20)","v":0},{"$f":"SUMIFS('ABT Transactions'!$B$9:$B$40,'ABT Transactions'!$G$9:$G$40,$C63,'ABT Transactions'!$F$9:$F$40,$AM$14,'ABT Transactions'!$C$9:$C$40,AN65,'ABT Transactions'!$D$9:$D$40,$B$20)","v":0},{"$f":"SUMIFS('ABT Transactions'!$B$9:$B$40,'ABT Transactions'!$G$9:$G$40,$C63,'ABT Transactions'!$F$9:$F$40,$AM$14,'ABT Transactions'!$C$9:$C$40,AO65,'ABT Transactions'!$D$9:$D$40,$B$20)","v":0},{"$f":"SUMIFS('ABT Transactions'!$B$9:$B$40,'ABT Transactions'!$G$9:$G$40,$C63,'ABT Transactions'!$F$9:$F$40,$AP$14,'ABT Transactions'!$C$9:$C$40,AP65,'ABT Transactions'!$D$9:$D$40,$B$20)","v":0},{"$f":"SUMIFS('ABT Transactions'!$B$9:$B$40,'ABT Transactions'!$G$9:$G$40,$C63,'ABT Transactions'!$F$9:$F$40,$AP$14,'ABT Transactions'!$C$9:$C$40,AQ65,'ABT Transactions'!$D$9:$D$40,$B$20)","v":0},{"$f":"SUMIFS('ABT Transactions'!$B$9:$B$40,'ABT Transactions'!$G$9:$G$40,$C63,'ABT Transactions'!$F$9:$F$40,$AP$14,'ABT Transactions'!$C$9:$C$40,AR65,'ABT Transactions'!$D$9:$D$40,$B$20)","v":0},{"$f":"SUMIFS('ABT Transactions'!$B$9:$B$40,'ABT Transactions'!$G$9:$G$40,$C$63,'ABT Transactions'!$F$9:$F$40,$AS$64,'ABT Transactions'!$C$9:$C$40,AS$65,'ABT Transactions'!$D$9:$D$40,$B$70)","v":0},{"$f":"SUMIFS('ABT Transactions'!$B$9:$B$40,'ABT Transactions'!$G$9:$G$40,$C$63,'ABT Transactions'!$F$9:$F$40,$AS$64,'ABT Transactions'!$C$9:$C$40,AT$65,'ABT Transactions'!$D$9:$D$40,$B$70)","v":0},{"$f":"SUMIFS('ABT Transactions'!$B$9:$B$40,'ABT Transactions'!$G$9:$G$40,$C$63,'ABT Transactions'!$F$9:$F$40,$AS$64,'ABT Transactions'!$C$9:$C$40,AU$65,'ABT Transactions'!$D$9:$D$40,$B$70)","v":0}]
[null,"Trade In",{"$f":"SUMIFS('ABT Transactions'!$B$9:$B$40,'ABT Transactions'!$J$9:$J$40,$C$63,'ABT Transactions'!$I$9:$I$40,$C$64,'ABT Transactions'!$C$9:$C$40,C65,'ABT Transactions'!$D$9:$D$40,$B$71)","v":0},{"$f":"SUMIFS('ABT Transactions'!$B$9:$B$40,'ABT Transactions'!$J$9:$J$40,$C$63,'ABT Transactions'!$I$9:$I$40,$C$64,'ABT Transactions'!$C$9:$C$40,D65,'ABT Transactions'!$D$9:$D$40,$B$71)","v":0},{"$f":"SUMIFS('ABT Transactions'!$B$9:$B$40,'ABT Transactions'!$J$9:$J$40,$C$63,'ABT Transactions'!$I$9:$I$40,$C$64,'ABT Transactions'!$C$9:$C$40,E65,'ABT Transactions'!$D$9:$D$40,$B$71)","v":0},{"$f":"SUMIFS('ABT Transactions'!$B$9:$B$40,'ABT Transactions'!$J$9:$J$40,$C$63,'ABT Transactions'!$I$9:$I$40,$F$64,'ABT Transactions'!$C$9:$C$40,F65,'ABT Transactions'!$D$9:$D$40,$B$71)","v":0},{"$f":"SUMIFS('ABT Transactions'!$B$9:$B$40,'ABT Transactions'!$J$9:$J$40,$C$63,'ABT Transactions'!$I$9:$I$40,$F$64,'ABT Transactions'!$C$9:$C$40,G65,'ABT Transactions'!$D$9:$D$40,$B$71)","v":0},{"$f":"SUMIFS('ABT Transactions'!$B$9:$B$40,'ABT Transactions'!$J$9:$J$40,$C$63,'ABT Transactions'!$I$9:$I$40,$F$64,'ABT Transactions'!$C$9:$C$40,H65,'ABT Transactions'!$D$9:$D$40,$B$71)","v":0},{"$f":"SUMIFS('ABT Transactions'!$B$9:$B$40,'ABT Transactions'!$J$9:$J$40,$C$63,'ABT Transactions'!$I$9:$I$40,$I$64,'ABT Transactions'!$C$9:$C$40,I65,'ABT Transactions'!$D$9:$D$40,$B$71)","v":0},{"$f":"SUMIFS('ABT Transactions'!$B$9:$B$40,'ABT Transactions'!$J$9:$J$40,$C$63,'ABT Transactions'!$I$9:$I$40,$I$64,'ABT Transactions'!$C$9:$C$40,J65,'ABT Transactions'!$D$9:$D$40,$B$71)","v":0},{"$f":"SUMIFS('ABT Transactions'!$B$9:$B$40,'ABT Transactions'!$J$9:$J$40,$C$63,'ABT Transactions'!$I$9:$I$40,$I$64,'ABT Transactions'!$C$9:$C$40,K65,'ABT Transactions'!$D$9:$D$40,$B$71)","v":0},{"$f":"SUMIFS('ABT Transactions'!$B$9:$B$40,'ABT Transactions'!$J$9:$J$40,$C$63,'ABT Transactions'!$I$9:$I$40,$L$64,'ABT Transactions'!$C$9:$C$40,L65,'ABT Transactions'!$D$9:$D$40,$B$71)","v":0},{"$f":"SUMIFS('ABT Transactions'!$B$9:$B$40,'ABT Transactions'!$J$9:$J$40,$C$63,'ABT Transactions'!$I$9:$I$40,$L$64,'ABT Transactions'!$C$9:$C$40,M65,'ABT Transactions'!$D$9:$D$40,$B$71)","v":0},{"$f":"SUMIFS('ABT Transactions'!$B$9:$B$40,'ABT Transactions'!$J$9:$J$40,$C$63,'ABT Transactions'!$I$9:$I$40,$L$64,'ABT Transactions'!$C$9:$C$40,N65,'ABT Transactions'!$D$9:$D$40,$B$71)","v":0},{"$f":"SUMIFS('ABT Transactions'!$B$9:$B$40,'ABT Transactions'!$J$9:$J$40,$C$63,'ABT Transactions'!$I$9:$I$40,$O$64,'ABT Transactions'!$C$9:$C$40,O65,'ABT Transactions'!$D$9:$D$40,$B$71)","v":0},{"$f":"SUMIFS('ABT Transactions'!$B$9:$B$40,'ABT Transactions'!$J$9:$J$40,$C$63,'ABT Transactions'!$I$9:$I$40,$O$64,'ABT Transactions'!$C$9:$C$40,P65,'ABT Transactions'!$D$9:$D$40,$B$71)","v":0},{"$f":"SUMIFS('ABT Transactions'!$B$9:$B$40,'ABT Transactions'!$J$9:$J$40,$C$63,'ABT Transactions'!$I$9:$I$40,$O$64,'ABT Transactions'!$C$9:$C$40,Q65,'ABT Transactions'!$D$9:$D$40,$B$71)","v":0},{"$f":"SUMIFS('ABT Transactions'!$B$9:$B$40,'ABT Transactions'!$J$9:$J$40,$C$63,'ABT Transactions'!$I$9:$I$40,$R$64,'ABT Transactions'!$C$9:$C$40,R65,'ABT Transactions'!$D$9:$D$40,$B$71)","v":0},{"$f":"SUMIFS('ABT Transactions'!$B$9:$B$40,'ABT Transactions'!$J$9:$J$40,$C$63,'ABT Transactions'!$I$9:$I$40,$R$64,'ABT Transactions'!$C$9:$C$40,S65,'ABT Transactions'!$D$9:$D$40,$B$71)","v":0},{"$f":"SUMIFS('ABT Transactions'!$B$9:$B$40,'ABT Transactions'!$J$9:$J$40,$C$63,'ABT Transactions'!$I$9:$I$40,$R$64,'ABT Transactions'!$C$9:$C$40,T65,'ABT Transactions'!$D$9:$D$40,$B$71)","v":0},{"$f":"SUMIFS('ABT Transactions'!$B$9:$B$40,'ABT Transactions'!$J$9:$J$40,$C63,'ABT Transactions'!$I$9:$I$40,$U$14,'ABT Transactions'!$C$9:$C$40,U65,'ABT Transactions'!$D$9:$D$40,$B$21)","v":0},{"$f":"SUMIFS('ABT Transactions'!$B$9:$B$40,'ABT Transactions'!$J$9:$J$40,$C63,'ABT Transactions'!$I$9:$I$40,$U$14,'ABT Transactions'!$C$9:$C$40,V65,'ABT Transactions'!$D$9:$D$40,$B$21)","v":0},{"$f":"SUMIFS('ABT Transactions'!$B$9:$B$40,'ABT Transactions'!$J$9:$J$40,$C63,'ABT Transactions'!$I$9:$I$40,$U$14,'ABT Transactions'!$C$9:$C$40,W65,'ABT Transactions'!$D$9:$D$40,$B$21)","v":0},{"$f":"SUMIFS('ABT Transactions'!$B$9:$B$40,'ABT Transactions'!$J$9:$J$40,$C63,'ABT Transactions'!$I$9:$I$40,$X$14,'ABT Transactions'!$C$9:$C$40,X65,'ABT Transactions'!$D$9:$D$40,$B$21)","v":0},{"$f":"SUMIFS('ABT Transactions'!$B$9:$B$40,'ABT Transactions'!$J$9:$J$40,$C63,'ABT Transactions'!$I$9:$I$40,$X$14,'ABT Transactions'!$C$9:$C$40,Y65,'ABT Transactions'!$D$9:$D$40,$B$21)","v":0},{"$f":"SUMIFS('ABT Transactions'!$B$9:$B$40,'ABT Transactions'!$J$9:$J$40,$C63,'ABT Transactions'!$I$9:$I$40,$X$14,'ABT Transactions'!$C$9:$C$40,Z65,'ABT Transactions'!$D$9:$D$40,$B$21)","v":0},{"$f":"SUMIFS('ABT Transactions'!$B$9:$B$40,'ABT Transactions'!$J$9:$J$40,$C63,'ABT Transactions'!$I$9:$I$40,$AA$14,'ABT Transactions'!$C$9:$C$40,AA65,'ABT Transactions'!$D$9:$D$40,$B$21)","v":0},{"$f":"SUMIFS('ABT Transactions'!$B$9:$B$40,'ABT Transactions'!$J$9:$J$40,$C63,'ABT Transactions'!$I$9:$I$40,$AA$14,'ABT Transactions'!$C$9:$C$40,AB65,'ABT Transactions'!$D$9:$D$40,$B$21)","v":0},{"$f":"SUMIFS('ABT Transactions'!$B$9:$B$40,'ABT Transactions'!$J$9:$J$40,$C63,'ABT Transactions'!$I$9:$I$40,$AA$14,'ABT Transactions'!$C$9:$C$40,AC65,'ABT Transactions'!$D$9:$D$40,$B$21)","v":0},{"$f":"SUMIFS('ABT Transactions'!$B$9:$B$40,'ABT Transactions'!$J$9:$J$40,$C63,'ABT Transactions'!$I$9:$I$40,$AD$14,'ABT Transactions'!$C$9:$C$40,AD65,'ABT Transactions'!$D$9:$D$40,$B$21)","v":0},{"$f":"SUMIFS('ABT Transactions'!$B$9:$B$40,'ABT Transactions'!$J$9:$J$40,$C63,'ABT Transactions'!$I$9:$I$40,$AD$14,'ABT Transactions'!$C$9:$C$40,AE65,'ABT Transactions'!$D$9:$D$40,$B$21)","v":0},{"$f":"SUMIFS('ABT Transactions'!$B$9:$B$40,'ABT Transactions'!$J$9:$J$40,$C63,'ABT Transactions'!$I$9:$I$40,$AD$14,'ABT Transactions'!$C$9:$C$40,AF65,'ABT Transactions'!$D$9:$D$40,$B$21)","v":0},{"$f":"SUMIFS('ABT Transactions'!$B$9:$B$40,'ABT Transactions'!$J$9:$J$40,$C63,'ABT Transactions'!$I$9:$I$40,$AG$14,'ABT Transactions'!$C$9:$C$40,AG65,'ABT Transactions'!$D$9:$D$40,$B$21)","v":0},{"$f":"SUMIFS('ABT Transactions'!$B$9:$B$40,'ABT Transactions'!$J$9:$J$40,$C63,'ABT Transactions'!$I$9:$I$40,$AG$14,'ABT Transactions'!$C$9:$C$40,AH65,'ABT Transactions'!$D$9:$D$40,$B$21)","v":0},{"$f":"SUMIFS('ABT Transactions'!$B$9:$B$40,'ABT Transactions'!$J$9:$J$40,$C63,'ABT Transactions'!$I$9:$I$40,$AG$14,'ABT Transactions'!$C$9:$C$40,AI65,'ABT Transactions'!$D$9:$D$40,$B$21)","v":0},{"$f":"SUMIFS('ABT Transactions'!$B$9:$B$40,'ABT Transactions'!$J$9:$J$40,$C63,'ABT Transactions'!$I$9:$I$40,$AJ$14,'ABT Transactions'!$C$9:$C$40,AJ65,'ABT Transactions'!$D$9:$D$40,$B$21)","v":0},{"$f":"SUMIFS('ABT Transactions'!$B$9:$B$40,'ABT Transactions'!$J$9:$J$40,$C63,'ABT Transactions'!$I$9:$I$40,$AJ$14,'ABT Transactions'!$C$9:$C$40,AK65,'ABT Transactions'!$D$9:$D$40,$B$21)","v":0},{"$f":"SUMIFS('ABT Transactions'!$B$9:$B$40,'ABT Transactions'!$J$9:$J$40,$C63,'ABT Transactions'!$I$9:$I$40,$AJ$14,'ABT Transactions'!$C$9:$C$40,AL65,'ABT Transactions'!$D$9:$D$40,$B$21)","v":0},{"$f":"SUMIFS('ABT Transactions'!$B$9:$B$40,'ABT Transactions'!$J$9:$J$40,$C63,'ABT Transactions'!$I$9:$I$40,$AM$14,'ABT Transactions'!$C$9:$C$40,AM65,'ABT Transactions'!$D$9:$D$40,$B$21)","v":0},{"$f":"SUMIFS('ABT Transactions'!$B$9:$B$40,'ABT Transactions'!$J$9:$J$40,$C63,'ABT Transactions'!$I$9:$I$40,$AM$14,'ABT Transactions'!$C$9:$C$40,AN65,'ABT Transactions'!$D$9:$D$40,$B$21)","v":0},{"$f":"SUMIFS('ABT Transactions'!$B$9:$B$40,'ABT Transactions'!$J$9:$J$40,$C63,'ABT Transactions'!$I$9:$I$40,$AM$14,'ABT Transactions'!$C$9:$C$40,AO65,'ABT Transactions'!$D$9:$D$40,$B$21)","v":0},{"$f":"SUMIFS('ABT Transactions'!$B$9:$B$40,'ABT Transactions'!$J$9:$J$40,$C63,'ABT Transactions'!$I$9:$I$40,$AP$14,'ABT Transactions'!$C$9:$C$40,AP65,'ABT Transactions'!$D$9:$D$40,$B$21)","v":0},{"$f":"SUMIFS('ABT Transactions'!$B$9:$B$40,'ABT Transactions'!$J$9:$J$40,$C63,'ABT Transactions'!$I$9:$I$40,$AP$14,'ABT Transactions'!$C$9:$C$40,AQ65,'ABT Transactions'!$D$9:$D$40,$B$21)","v":0},{"$f":"SUMIFS('ABT Transactions'!$B$9:$B$40,'ABT Transactions'!$J$9:$J$40,$C63,'ABT Transactions'!$I$9:$I$40,$AP$14,'ABT Transactions'!$C$9:$C$40,AR65,'ABT Transactions'!$D$9:$D$40,$B$21)","v":0},{"$f":"SUMIFS('ABT Transactions'!$B$9:$B$40,'ABT Transactions'!$J$9:$J$40,$C$63,'ABT Transactions'!$I$9:$I$40,$AS$64,'ABT Transactions'!$C$9:$C$40,AS65,'ABT Transactions'!$D$9:$D$40,$B$71)","v":0},{"$f":"SUMIFS('ABT Transactions'!$B$9:$B$40,'ABT Transactions'!$J$9:$J$40,$C$63,'ABT Transactions'!$I$9:$I$40,$AS$64,'ABT Transactions'!$C$9:$C$40,AT65,'ABT Transactions'!$D$9:$D$40,$B$71)","v":0},{"$f":"SUMIFS('ABT Transactions'!$B$9:$B$40,'ABT Transactions'!$J$9:$J$40,$C$63,'ABT Transactions'!$I$9:$I$40,$AS$64,'ABT Transactions'!$C$9:$C$40,AU65,'ABT Transactions'!$D$9:$D$40,$B$71)","v":0}]
[null,"Transfer ADV Credits (out)",{"$f":"SUMIFS('ABT Transactions'!$B$9:$B$40,'ABT Transactions'!$G$9:$G$40,$C$63,'ABT Transactions'!$F$9:$F$40,$C$64,'ABT Transactions'!$C$9:$C$40,C$65,'ABT Transactions'!$D$9:$D$40,$B$72)","v":0},{"$f":"SUMIFS('ABT Transactions'!$B$9:$B$40,'ABT Transactions'!$G$9:$G$40,$C$63,'ABT Transactions'!$F$9:$F$40,$C$64,'ABT Transactions'!$C$9:$C$40,D$65,'ABT Transactions'!$D$9:$D$40,$B$72)","v":0},{"$f":"SUMIFS('ABT Transactions'!$B$9:$B$40,'ABT Transactions'!$G$9:$G$40,$C$63,'ABT Transactions'!$F$9:$F$40,$C$64,'ABT Transactions'!$C$9:$C$40,E$65,'ABT Transactions'!$D$9:$D$40,$B$72)","v":0},{"$f":"SUMIFS('ABT Transactions'!$B$9:$B$40,'ABT Transactions'!$G$9:$G$40,$C$63,'ABT Transactions'!$F$9:$F$40,$F$64,'ABT Transactions'!$C$9:$C$40,F$65,'ABT Transactions'!$D$9:$D$40,$B$72)","v":0},{"$f":"SUMIFS('ABT Transactions'!$B$9:$B$40,'ABT Transactions'!$G$9:$G$40,$C$63,'ABT Transactions'!$F$9:$F$40,$F$64,'ABT Transactions'!$C$9:$C$40,G$65,'ABT Transactions'!$D$9:$D$40,$B$72)","v":0},{"$f":"SUMIFS('ABT Transactions'!$B$9:$B$40,'ABT Transactions'!$G$9:$G$40,$C$63,'ABT Transactions'!$F$9:$F$40,$F$64,'ABT Transactions'!$C$9:$C$40,H$65,'ABT Transactions'!$D$9:$D$40,$B$72)","v":0},{"$f":"SUMIFS('ABT Transactions'!$B$9:$B$40,'ABT Transactions'!$G$9:$G$40,$C$63,'ABT Transactions'!$F$9:$F$40,$I$64,'ABT Transactions'!$C$9:$C$40,I$65,'ABT Transactions'!$D$9:$D$40,$B$72)","v":0},{"$f":"SUMIFS('ABT Transactions'!$B$9:$B$40,'ABT Transactions'!$G$9:$G$40,$C$63,'ABT Transactions'!$F$9:$F$40,$I$64,'ABT Transactions'!$C$9:$C$40,J$65,'ABT Transactions'!$D$9:$D$40,$B$72)","v":0},{"$f":"SUMIFS('ABT Transactions'!$B$9:$B$40,'ABT Transactions'!$G$9:$G$40,$C$63,'ABT Transactions'!$F$9:$F$40,$I$64,'ABT Transactions'!$C$9:$C$40,K$65,'ABT Transactions'!$D$9:$D$40,$B$72)","v":0},{"$f":"SUMIFS('ABT Transactions'!$B$9:$B$40,'ABT Transactions'!$G$9:$G$40,$C$63,'ABT Transactions'!$F$9:$F$40,$L$64,'ABT Transactions'!$C$9:$C$40,L$65,'ABT Transactions'!$D$9:$D$40,$B$72)","v":0},{"$f":"SUMIFS('ABT Transactions'!$B$9:$B$40,'ABT Transactions'!$G$9:$G$40,$C$63,'ABT Transactions'!$F$9:$F$40,$L$64,'ABT Transactions'!$C$9:$C$40,M$65,'ABT Transactions'!$D$9:$D$40,$B$72)","v":0},{"$f":"SUMIFS('ABT Transactions'!$B$9:$B$40,'ABT Transactions'!$G$9:$G$40,$C$63,'ABT Transactions'!$F$9:$F$40,$L$64,'ABT Transactions'!$C$9:$C$40,N$65,'ABT Transactions'!$D$9:$D$40,$B$72)","v":0},{"$f":"SUMIFS('ABT Transactions'!$B$9:$B$40,'ABT Transactions'!$G$9:$G$40,$C$63,'ABT Transactions'!$F$9:$F$40,$O$64,'ABT Transactions'!$C$9:$C$40,O$65,'ABT Transactions'!$D$9:$D$40,$B$72)","v":0},{"$f":"SUMIFS('ABT Transactions'!$B$9:$B$40,'ABT Transactions'!$G$9:$G$40,$C$63,'ABT Transactions'!$F$9:$F$40,$O$64,'ABT Transactions'!$C$9:$C$40,P$65,'ABT Transactions'!$D$9:$D$40,$B$72)","v":0},{"$f":"SUMIFS('ABT Transactions'!$B$9:$B$40,'ABT Transactions'!$G$9:$G$40,$C$63,'ABT Transactions'!$F$9:$F$40,$O$64,'ABT Transactions'!$C$9:$C$40,Q$65,'ABT Transactions'!$D$9:$D$40,$B$72)","v":0},{"$f":"SUMIFS('ABT Transactions'!$B$9:$B$40,'ABT Transactions'!$G$9:$G$40,$C$63,'ABT Transactions'!$F$9:$F$40,$R$64,'ABT Transactions'!$C$9:$C$40,R$65,'ABT Transactions'!$D$9:$D$40,$B$72)","v":0},{"$f":"SUMIFS('ABT Transactions'!$B$9:$B$40,'ABT Transactions'!$G$9:$G$40,$C$63,'ABT Transactions'!$F$9:$F$40,$R$64,'ABT Transactions'!$C$9:$C$40,S$65,'ABT Transactions'!$D$9:$D$40,$B$72)","v":0},{"$f":"SUMIFS('ABT Transactions'!$B$9:$B$40,'ABT Transactions'!$G$9:$G$40,$C$63,'ABT Transactions'!$F$9:$F$40,$R$64,'ABT Transactions'!$C$9:$C$40,T$65,'ABT Transactions'!$D$9:$D$40,$B$72)","v":0},{"$f":"SUMIFS('ABT Transactions'!$B$9:$B$40,'ABT Transactions'!$G$9:$G$40,$C63,'ABT Transactions'!$F$9:$F$40,$U$14,'ABT Transactions'!$C$9:$C$40,U$15,'ABT Transactions'!$D$9:$D$40,$B$22)","v":0},{"$f":"SUMIFS('ABT Transactions'!$B$9:$B$40,'ABT Transactions'!$G$9:$G$40,$C63,'ABT Transactions'!$F$9:$F$40,$U$14,'ABT Transactions'!$C$9:$C$40,V$15,'ABT Transactions'!$D$9:$D$40,$B$22)","v":0},{"$f":"SUMIFS('ABT Transactions'!$B$9:$B$40,'ABT Transactions'!$G$9:$G$40,$C63,'ABT Transactions'!$F$9:$F$40,$U$14,'ABT Transactions'!$C$9:$C$40,W$15,'ABT Transactions'!$D$9:$D$40,$B$22)","v":0},{"$f":"SUMIFS('ABT Transactions'!$B$9:$B$40,'ABT Transactions'!$G$9:$G$40,$C63,'ABT Transactions'!$F$9:$F$40,$X$14,'ABT Transactions'!$C$9:$C$40,X$15,'ABT Transactions'!$D$9:$D$40,$B$22)","v":0},{"$f":"SUMIFS('ABT Transactions'!$B$9:$B$40,'ABT Transactions'!$G$9:$G$40,$C63,'ABT Transactions'!$F$9:$F$40,$X$14,'ABT Transactions'!$C$9:$C$40,Y$15,'ABT Transactions'!$D$9:$D$40,$B$22)","v":0},{"$f":"SUMIFS('ABT Transactions'!$B$9:$B$40,'ABT Transactions'!$G$9:$G$40,$C63,'ABT Transactions'!$F$9:$F$40,$X$14,'ABT Transactions'!$C$9:$C$40,Z$15,'ABT Transactions'!$D$9:$D$40,$B$22)","v":0},{"$f":"SUMIFS('ABT Transactions'!$B$9:$B$40,'ABT Transactions'!$G$9:$G$40,$C63,'ABT Transactions'!$F$9:$F$40,$AA$14,'ABT Transactions'!$C$9:$C$40,AA$15,'ABT Transactions'!$D$9:$D$40,$B$22)","v":0},{"$f":"SUMIFS('ABT Transactions'!$B$9:$B$40,'ABT Transactions'!$G$9:$G$40,$C63,'ABT Transactions'!$F$9:$F$40,$AA$14,'ABT Transactions'!$C$9:$C$40,AB$15,'ABT Transactions'!$D$9:$D$40,$B$22)","v":0},{"$f":"SUMIFS('ABT Transactions'!$B$9:$B$40,'ABT Transactions'!$G$9:$G$40,$C63,'ABT Transactions'!$F$9:$F$40,$AA$14,'ABT Transactions'!$C$9:$C$40,AC$15,'ABT Transactions'!$D$9:$D$40,$B$22)","v":0},{"$f":"SUMIFS('ABT Transactions'!$B$9:$B$40,'ABT Transactions'!$G$9:$G$40,$C63,'ABT Transactions'!$F$9:$F$40,$AD$14,'ABT Transactions'!$C$9:$C$40,AD$15,'ABT Transactions'!$D$9:$D$40,$B$22)","v":0},{"$f":"SUMIFS('ABT Transactions'!$B$9:$B$40,'ABT Transactions'!$G$9:$G$40,$C63,'ABT Transactions'!$F$9:$F$40,$AD$14,'ABT Transactions'!$C$9:$C$40,AE$15,'ABT Transactions'!$D$9:$D$40,$B$22)","v":0},{"$f":"SUMIFS('ABT Transactions'!$B$9:$B$40,'ABT Transactions'!$G$9:$G$40,$C63,'ABT Transactions'!$F$9:$F$40,$AD$14,'ABT Transactions'!$C$9:$C$40,AF$15,'ABT Transactions'!$D$9:$D$40,$B$22)","v":0},{"$f":"SUMIFS('ABT Transactions'!$B$9:$B$40,'ABT Transactions'!$G$9:$G$40,$C63,'ABT Transactions'!$F$9:$F$40,$AG$14,'ABT Transactions'!$C$9:$C$40,AG$15,'ABT Transactions'!$D$9:$D$40,$B$22)","v":0},{"$f":"SUMIFS('ABT Transactions'!$B$9:$B$40,'ABT Transactions'!$G$9:$G$40,$C63,'ABT Transactions'!$F$9:$F$40,$AG$14,'ABT Transactions'!$C$9:$C$40,AH$15,'ABT Transactions'!$D$9:$D$40,$B$22)","v":0},{"$f":"SUMIFS('ABT Transactions'!$B$9:$B$40,'ABT Transactions'!$G$9:$G$40,$C63,'ABT Transactions'!$F$9:$F$40,$AG$14,'ABT Transactions'!$C$9:$C$40,AI$15,'ABT Transactions'!$D$9:$D$40,$B$22)","v":0},{"$f":"SUMIFS('ABT Transactions'!$B$9:$B$40,'ABT Transactions'!$G$9:$G$40,$C63,'ABT Transactions'!$F$9:$F$40,$AJ$14,'ABT Transactions'!$C$9:$C$40,AJ$15,'ABT Transactions'!$D$9:$D$40,$B$22)","v":0},{"$f":"SUMIFS('ABT Transactions'!$B$9:$B$40,'ABT Transactions'!$G$9:$G$40,$C63,'ABT Transactions'!$F$9:$F$40,$AJ$14,'ABT Transactions'!$C$9:$C$40,AK$15,'ABT Transactions'!$D$9:$D$40,$B$22)","v":0},{"$f":"SUMIFS('ABT Transactions'!$B$9:$B$40,'ABT Transactions'!$G$9:$G$40,$C63,'ABT Transactions'!$F$9:$F$40,$AJ$14,'ABT Transactions'!$C$9:$C$40,AL$15,'ABT Transactions'!$D$9:$D$40,$B$22)","v":0},{"$f":"SUMIFS('ABT Transactions'!$B$9:$B$40,'ABT Transactions'!$G$9:$G$40,$C63,'ABT Transactions'!$F$9:$F$40,$AM$14,'ABT Transactions'!$C$9:$C$40,AM$15,'ABT Transactions'!$D$9:$D$40,$B$22)","v":0},{"$f":"SUMIFS('ABT Transactions'!$B$9:$B$40,'ABT Transactions'!$G$9:$G$40,$C63,'ABT Transactions'!$F$9:$F$40,$AM$14,'ABT Transactions'!$C$9:$C$40,AN$15,'ABT Transactions'!$D$9:$D$40,$B$22)","v":0},{"$f":"SUMIFS('ABT Transactions'!$B$9:$B$40,'ABT Transactions'!$G$9:$G$40,$C63,'ABT Transactions'!$F$9:$F$40,$AM$14,'ABT Transactions'!$C$9:$C$40,AO$15,'ABT Transactions'!$D$9:$D$40,$B$22)","v":0},{"$f":"SUMIFS('ABT Transactions'!$B$9:$B$40,'ABT Transactions'!$G$9:$G$40,$C63,'ABT Transactions'!$F$9:$F$40,$AP$14,'ABT Transactions'!$C$9:$C$40,AP$15,'ABT Transactions'!$D$9:$D$40,$B$22)","v":0},{"$f":"SUMIFS('ABT Transactions'!$B$9:$B$40,'ABT Transactions'!$G$9:$G$40,$C63,'ABT Transactions'!$F$9:$F$40,$AP$14,'ABT Transactions'!$C$9:$C$40,AQ$15,'ABT Transactions'!$D$9:$D$40,$B$22)","v":0},{"$f":"SUMIFS('ABT Transactions'!$B$9:$B$40,'ABT Transactions'!$G$9:$G$40,$C63,'ABT Transactions'!$F$9:$F$40,$AP$14,'ABT Transactions'!$C$9:$C$40,AR$15,'ABT Transactions'!$D$9:$D$40,$B$22)","v":0},{"$f":"SUMIFS('ABT Transactions'!$B$9:$B$40,'ABT Transactions'!$G$9:$G$40,$C$63,'ABT Transactions'!$F$9:$F$40,$AS$64,'ABT Transactions'!$C$9:$C$40,AS$65,'ABT Transactions'!$D$9:$D$40,$B$72)","v":0},{"$f":"SUMIFS('ABT Transactions'!$B$9:$B$40,'ABT Transactions'!$G$9:$G$40,$C$63,'ABT Transactions'!$F$9:$F$40,$AS$64,'ABT Transactions'!$C$9:$C$40,AT$65,'ABT Transactions'!$D$9:$D$40,$B$72)","v":0},{"$f":"SUMIFS('ABT Transactions'!$B$9:$B$40,'ABT Transactions'!$G$9:$G$40,$C$63,'ABT Transactions'!$F$9:$F$40,$AS$64,'ABT Transactions'!$C$9:$C$40,AU$65,'ABT Transactions'!$D$9:$D$40,$B$72)","v":0}]
[null,"Transfer ADV Credits (in)",{"$f":"SUMIFS('ABT Transactions'!$B$9:$B$40,'ABT Transactions'!$J$9:$J$40,$C$63,'ABT Transactions'!$I$9:$I$40,$C$64,'ABT Transactions'!$C$9:$C$40,C65,'ABT Transactions'!$D$9:$D$40,$B$73)","v":0},{"$f":"SUMIFS('ABT Transactions'!$B$9:$B$40,'ABT Transactions'!$J$9:$J$40,$C$63,'ABT Transactions'!$I$9:$I$40,$C$64,'ABT Transactions'!$C$9:$C$40,D65,'ABT Transactions'!$D$9:$D$40,$B$73)","v":0},{"$f":"SUMIFS('ABT Transactions'!$B$9:$B$40,'ABT Transactions'!$J$9:$J$40,$C$63,'ABT Transactions'!$I$9:$I$40,$C$64,'ABT Transactions'!$C$9:$C$40,E65,'ABT Transactions'!$D$9:$D$40,$B$73)","v":0},{"$f":"SUMIFS('ABT Transactions'!$B$9:$B$40,'ABT Transactions'!$J$9:$J$40,$C$63,'ABT Transactions'!$I$9:$I$40,$F$64,'ABT Transactions'!$C$9:$C$40,F65,'ABT Transactions'!$D$9:$D$40,$B$73)","v":0},{"$f":"SUMIFS('ABT Transactions'!$B$9:$B$40,'ABT Transactions'!$J$9:$J$40,$C$63,'ABT Transactions'!$I$9:$I$40,$F$64,'ABT Transactions'!$C$9:$C$40,G65,'ABT Transactions'!$D$9:$D$40,$B$73)","v":0},{"$f":"SUMIFS('ABT Transactions'!$B$9:$B$40,'ABT Transactions'!$J$9:$J$40,$C$63,'ABT Transactions'!$I$9:$I$40,$F$64,'ABT Transactions'!$C$9:$C$40,H65,'ABT Transactions'!$D$9:$D$40,$B$73)","v":0},{"$f":"SUMIFS('ABT Transactions'!$B$9:$B$40,'ABT Transactions'!$J$9:$J$40,$C$63,'ABT Transactions'!$I$9:$I$40,$I$64,'ABT Transactions'!$C$9:$C$40,I65,'ABT Transactions'!$D$9:$D$40,$B$73)","v":0},{"$f":"SUMIFS('ABT Transactions'!$B$9:$B$40,'ABT Transactions'!$J$9:$J$40,$C$63,'ABT Transactions'!$I$9:$I$40,$I$64,'ABT Transactions'!$C$9:$C$40,J65,'ABT Transactions'!$D$9:$D$40,$B$73)","v":0},{"$f":"SUMIFS('ABT Transactions'!$B$9:$B$40,'ABT Transactions'!$J$9:$J$40,$C$63,'ABT Transactions'!$I$9:$I$40,$I$64,'ABT Transactions'!$C$9:$C$40,K65,'ABT Transactions'!$D$9:$D$40,$B$73)","v":0},{"$f":"SUMIFS('ABT Transactions'!$B$9:$B$40,'ABT Transactions'!$J$9:$J$40,$C$63,'ABT Transactions'!$I$9:$I$40,$L$64,'ABT Transactions'!$C$9:$C$40,L65,'ABT Transactions'!$D$9:$D$40,$B$73)","v":0},{"$f":"SUMIFS('ABT Transactions'!$B$9:$B$40,'ABT Transactions'!$J$9:$J$40,$C$63,'ABT Transactions'!$I$9:$I$40,$L$64,'ABT Transactions'!$C$9:$C$40,M65,'ABT Transactions'!$D$9:$D$40,$B$73)","v":0},{"$f":"SUMIFS('ABT Transactions'!$B$9:$B$40,'ABT Transactions'!$J$9:$J$40,$C$63,'ABT Transactions'!$I$9:$I$40,$L$64,'ABT Transactions'!$C$9:$C$40,N65,'ABT Transactions'!$D$9:$D$40,$B$73)","v":0},{"$f":"SUMIFS('ABT Transactions'!$B$9:$B$40,'ABT Transactions'!$J$9:$J$40,$C$63,'ABT Transactions'!$I$9:$I$40,$O$64,'ABT Transactions'!$C$9:$C$40,O65,'ABT Transactions'!$D$9:$D$40,$B$73)","v":0},{"$f":"SUMIFS('ABT Transactions'!$B$9:$B$40,'ABT Transactions'!$J$9:$J$40,$C$63,'ABT Transactions'!$I$9:$I$40,$O$64,'ABT Transactions'!$C$9:$C$40,P65,'ABT Transactions'!$D$9:$D$40,$B$73)","v":0},{"$f":"SUMIFS('ABT Transactions'!$B$9:$B$40,'ABT Transactions'!$J$9:$J$40,$C$63,'ABT Transactions'!$I$9:$I$40,$O$64,'ABT Transactions'!$C$9:$C$40,Q65,'ABT Transactions'!$D$9:$D$40,$B$73)","v":0},{"$f":"SUMIFS('ABT Transactions'!$B$9:$B$40,'ABT Transactions'!$J$9:$J$40,$C$63,'ABT Transactions'!$I$9:$I$40,$R$64,'ABT Transactions'!$C$9:$C$40,R65,'ABT Transactions'!$D$9:$D$40,$B$73)","v":0},{"$f":"SUMIFS('ABT Transactions'!$B$9:$B$40,'ABT Transactions'!$J$9:$J$40,$C$63,'ABT Transactions'!$I$9:$I$40,$R$64,'ABT Transactions'!$C$9:$C$40,S65,'ABT Transactions'!$D$9:$D$40,$B$73)","v":0},{"$f":"SUMIFS('ABT Transactions'!$B$9:$B$40,'ABT Transactions'!$J$9:$J$40,$C$63,'ABT Transactions'!$I$9:$I$40,$R$64,'ABT Transactions'!$C$9:$C$40,T65,'ABT Transactions'!$D$9:$D$40,$B$73)","v":0},{"$f":"SUMIFS('ABT Transactions'!$B$9:$B$40,'ABT Transactions'!$J$9:$J$40,$C63,'ABT Transactions'!$I$9:$I$40,$U$14,'ABT Transactions'!$C$9:$C$40,U65,'ABT Transactions'!$D$9:$D$40,$B$23)","v":0},{"$f":"SUMIFS('ABT Transactions'!$B$9:$B$40,'ABT Transactions'!$J$9:$J$40,$C63,'ABT Transactions'!$I$9:$I$40,$U$14,'ABT Transactions'!$C$9:$C$40,V65,'ABT Transactions'!$D$9:$D$40,$B$23)","v":0},{"$f":"SUMIFS('ABT Transactions'!$B$9:$B$40,'ABT Transactions'!$J$9:$J$40,$C63,'ABT Transactions'!$I$9:$I$40,$U$14,'ABT Transactions'!$C$9:$C$40,W65,'ABT Transactions'!$D$9:$D$40,$B$23)","v":0},{"$f":"SUMIFS('ABT Transactions'!$B$9:$B$40,'ABT Transactions'!$J$9:$J$40,$C63,'ABT Transactions'!$I$9:$I$40,$X$14,'ABT Transactions'!$C$9:$C$40,X65,'ABT Transactions'!$D$9:$D$40,$B$23)","v":0},{"$f":"SUMIFS('ABT Transactions'!$B$9:$B$40,'ABT Transactions'!$J$9:$J$40,$C63,'ABT Transactions'!$I$9:$I$40,$X$14,'ABT Transactions'!$C$9:$C$40,Y65,'ABT Transactions'!$D$9:$D$40,$B$23)","v":0},{"$f":"SUMIFS('ABT Transactions'!$B$9:$B$40,'ABT Transactions'!$J$9:$J$40,$C63,'ABT Transactions'!$I$9:$I$40,$X$14,'ABT Transactions'!$C$9:$C$40,Z65,'ABT Transactions'!$D$9:$D$40,$B$23)","v":0},{"$f":"SUMIFS('ABT Transactions'!$B$9:$B$40,'ABT Transactions'!$J$9:$J$40,$C63,'ABT Transactions'!$I$9:$I$40,$AA$14,'ABT Transactions'!$C$9:$C$40,AA65,'ABT Transactions'!$D$9:$D$40,$B$23)","v":0},{"$f":"SUMIFS('ABT Transactions'!$B$9:$B$40,'ABT Transactions'!$J$9:$J$40,$C63,'ABT Transactions'!$I$9:$I$40,$AA$14,'ABT Transactions'!$C$9:$C$40,AB65,'ABT Transactions'!$D$9:$D$40,$B$23)","v":0},{"$f":"SUMIFS('ABT Transactions'!$B$9:$B$40,'ABT Transactions'!$J$9:$J$40,$C63,'ABT Transactions'!$I$9:$I$40,$AA$14,'ABT Transactions'!$C$9:$C$40,AC65,'ABT Transactions'!$D$9:$D$40,$B$23)","v":0},{"$f":"SUMIFS('ABT Transactions'!$B$9:$B$40,'ABT Transactions'!$J$9:$J$40,$C63,'ABT Transactions'!$I$9:$I$40,$AD$14,'ABT Transactions'!$C$9:$C$40,AD65,'ABT Transactions'!$D$9:$D$40,$B$23)","v":0},{"$f":"SUMIFS('ABT Transactions'!$B$9:$B$40,'ABT Transactions'!$J$9:$J$40,$C63,'ABT Transactions'!$I$9:$I$40,$AD$14,'ABT Transactions'!$C$9:$C$40,AE65,'ABT Transactions'!$D$9:$D$40,$B$23)","v":0},{"$f":"SUMIFS('ABT Transactions'!$B$9:$B$40,'ABT Transactions'!$J$9:$J$40,$C63,'ABT Transactions'!$I$9:$I$40,$AD$14,'ABT Transactions'!$C$9:$C$40,AF65,'ABT Transactions'!$D$9:$D$40,$B$23)","v":0},{"$f":"SUMIFS('ABT Transactions'!$B$9:$B$40,'ABT Transactions'!$J$9:$J$40,$C63,'ABT Transactions'!$I$9:$I$40,$AG$14,'ABT Transactions'!$C$9:$C$40,AG65,'ABT Transactions'!$D$9:$D$40,$B$23)","v":0},{"$f":"SUMIFS('ABT Transactions'!$B$9:$B$40,'ABT Transactions'!$J$9:$J$40,$C63,'ABT Transactions'!$I$9:$I$40,$AG$14,'ABT Transactions'!$C$9:$C$40,AH65,'ABT Transactions'!$D$9:$D$40,$B$23)","v":0},{"$f":"SUMIFS('ABT Transactions'!$B$9:$B$40,'ABT Transactions'!$J$9:$J$40,$C63,'ABT Transactions'!$I$9:$I$40,$AG$14,'ABT Transactions'!$C$9:$C$40,AI65,'ABT Transactions'!$D$9:$D$40,$B$23)","v":0},{"$f":"SUMIFS('ABT Transactions'!$B$9:$B$40,'ABT Transactions'!$J$9:$J$40,$C63,'ABT Transactions'!$I$9:$I$40,$AJ$14,'ABT Transactions'!$C$9:$C$40,AJ65,'ABT Transactions'!$D$9:$D$40,$B$23)","v":0},{"$f":"SUMIFS('ABT Transactions'!$B$9:$B$40,'ABT Transactions'!$J$9:$J$40,$C63,'ABT Transactions'!$I$9:$I$40,$AJ$14,'ABT Transactions'!$C$9:$C$40,AK65,'ABT Transactions'!$D$9:$D$40,$B$23)","v":0},{"$f":"SUMIFS('ABT Transactions'!$B$9:$B$40,'ABT Transactions'!$J$9:$J$40,$C63,'ABT Transactions'!$I$9:$I$40,$AJ$14,'ABT Transactions'!$C$9:$C$40,AL65,'ABT Transactions'!$D$9:$D$40,$B$23)","v":0},{"$f":"SUMIFS('ABT Transactions'!$B$9:$B$40,'ABT Transactions'!$J$9:$J$40,$C63,'ABT Transactions'!$I$9:$I$40,$AM$14,'ABT Transactions'!$C$9:$C$40,AM65,'ABT Transactions'!$D$9:$D$40,$B$23)","v":0},{"$f":"SUMIFS('ABT Transactions'!$B$9:$B$40,'ABT Transactions'!$J$9:$J$40,$C63,'ABT Transactions'!$I$9:$I$40,$AM$14,'ABT Transactions'!$C$9:$C$40,AN65,'ABT Transactions'!$D$9:$D$40,$B$23)","v":0},{"$f":"SUMIFS('ABT Transactions'!$B$9:$B$40,'ABT Transactions'!$J$9:$J$40,$C63,'ABT Transactions'!$I$9:$I$40,$AM$14,'ABT Transactions'!$C$9:$C$40,AO65,'ABT Transactions'!$D$9:$D$40,$B$23)","v":0},{"$f":"SUMIFS('ABT Transactions'!$B$9:$B$40,'ABT Transactions'!$J$9:$J$40,$C63,'ABT Transactions'!$I$9:$I$40,$AP$14,'ABT Transactions'!$C$9:$C$40,AP65,'ABT Transactions'!$D$9:$D$40,$B$23)","v":0},{"$f":"SUMIFS('ABT Transactions'!$B$9:$B$40,'ABT Transactions'!$J$9:$J$40,$C63,'ABT Transactions'!$I$9:$I$40,$AP$14,'ABT Transactions'!$C$9:$C$40,AQ65,'ABT Transactions'!$D$9:$D$40,$B$23)","v":0},{"$f":"SUMIFS('ABT Transactions'!$B$9:$B$40,'ABT Transactions'!$J$9:$J$40,$C63,'ABT Transactions'!$I$9:$I$40,$AP$14,'ABT Transactions'!$C$9:$C$40,AR65,'ABT Transactions'!$D$9:$D$40,$B$23)","v":0},{"$f":"SUMIFS('ABT Transactions'!$B$9:$B$40,'ABT Transactions'!$J$9:$J$40,$C$63,'ABT Transactions'!$I$9:$I$40,$AS$64,'ABT Transactions'!$C$9:$C$40,AS65,'ABT Transactions'!$D$9:$D$40,$B$73)","v":0},{"$f":"SUMIFS('ABT Transactions'!$B$9:$B$40,'ABT Transactions'!$J$9:$J$40,$C$63,'ABT Transactions'!$I$9:$I$40,$AS$64,'ABT Transactions'!$C$9:$C$40,AT65,'ABT Transactions'!$D$9:$D$40,$B$73)","v":0},{"$f":"SUMIFS('ABT Transactions'!$B$9:$B$40,'ABT Transactions'!$J$9:$J$40,$C$63,'ABT Transactions'!$I$9:$I$40,$AS$64,'ABT Transactions'!$C$9:$C$40,AU65,'ABT Transactions'!$D$9:$D$40,$B$73)","v":0}]
[null,"Retired Credits",{"$f":"SUMIFS('ABT Transactions'!$B$9:$B$40,'ABT Transactions'!$G$9:$G$40,$C$63,'ABT Transactions'!$F$9:$F$40,$C$64,'ABT Transactions'!$C$9:$C$40,C65,'ABT Transactions'!$D$9:$D$40,$B$74)","v":0},{"$f":"SUMIFS('ABT Transactions'!$B$9:$B$40,'ABT Transactions'!$G$9:$G$40,$C$63,'ABT Transactions'!$F$9:$F$40,$C$64,'ABT Transactions'!$C$9:$C$40,D65,'ABT Transactions'!$D$9:$D$40,$B$74)","v":0},{"$f":"SUMIFS('ABT Transactions'!$B$9:$B$40,'ABT Transactions'!$G$9:$G$40,$C$63,'ABT Transactions'!$F$9:$F$40,$C$64,'ABT Transactions'!$C$9:$C$40,E65,'ABT Transactions'!$D$9:$D$40,$B$74)","v":0},{"$f":"SUMIFS('ABT Transactions'!$B$9:$B$40,'ABT Transactions'!$G$9:$G$40,$C$63,'ABT Transactions'!$F$9:$F$40,$F$64,'ABT Transactions'!$C$9:$C$40,F65,'ABT Transactions'!$D$9:$D$40,$B$74)","v":0},{"$f":"SUMIFS('ABT Transactions'!$B$9:$B$40,'ABT Transactions'!$G$9:$G$40,$C$63,'ABT Transactions'!$F$9:$F$40,$F$64,'ABT Transactions'!$C$9:$C$40,G65,'ABT Transactions'!$D$9:$D$40,$B$74)","v":0},{"$f":"SUMIFS('ABT Transactions'!$B$9:$B$40,'ABT Transactions'!$G$9:$G$40,$C$63,'ABT Transactions'!$F$9:$F$40,$F$64,'ABT Transactions'!$C$9:$C$40,H65,'ABT Transactions'!$D$9:$D$40,$B$74)","v":0},{"$f":"SUMIFS('ABT Transactions'!$B$9:$B$40,'ABT Transactions'!$G$9:$G$40,$C$63,'ABT Transactions'!$F$9:$F$40,$I$64,'ABT Transactions'!$C$9:$C$40,I65,'ABT Transactions'!$D$9:$D$40,$B$74)","v":0},{"$f":"SUMIFS('ABT Transactions'!$B$9:$B$40,'ABT Transactions'!$G$9:$G$40,$C$63,'ABT Transactions'!$F$9:$F$40,$I$64,'ABT Transactions'!$C$9:$C$40,J65,'ABT Transactions'!$D$9:$D$40,$B$74)","v":0},{"$f":"SUMIFS('ABT Transactions'!$B$9:$B$40,'ABT Transactions'!$G$9:$G$40,$C$63,'ABT Transactions'!$F$9:$F$40,$I$64,'ABT Transactions'!$C$9:$C$40,K65,'ABT Transactions'!$D$9:$D$40,$B$74)","v":0},{"$f":"SUMIFS('ABT Transactions'!$B$9:$B$40,'ABT Transactions'!$G$9:$G$40,$C$63,'ABT Transactions'!$F$9:$F$40,$L$64,'ABT Transactions'!$C$9:$C$40,L65,'ABT Transactions'!$D$9:$D$40,$B$74)","v":0},{"$f":"SUMIFS('ABT Transactions'!$B$9:$B$40,'ABT Transactions'!$G$9:$G$40,$C$63,'ABT Transactions'!$F$9:$F$40,$L$64,'ABT Transactions'!$C$9:$C$40,M65,'ABT Transactions'!$D$9:$D$40,$B$74)","v":0},{"$f":"SUMIFS('ABT Transactions'!$B$9:$B$40,'ABT Transactions'!$G$9:$G$40,$C$63,'ABT Transactions'!$F$9:$F$40,$L$64,'ABT Transactions'!$C$9:$C$40,N65,'ABT Transactions'!$D$9:$D$40,$B$74)","v":0},{"$f":"SUMIFS('ABT Transactions'!$B$9:$B$40,'ABT Transactions'!$G$9:$G$40,$C$63,'ABT Transactions'!$F$9:$F$40,$O$64,'ABT Transactions'!$C$9:$C$40,O65,'ABT Transactions'!$D$9:$D$40,$B$74)","v":0},{"$f":"SUMIFS('ABT Transactions'!$B$9:$B$40,'ABT Transactions'!$G$9:$G$40,$C$63,'ABT Transactions'!$F$9:$F$40,$O$64,'ABT Transactions'!$C$9:$C$40,P65,'ABT Transactions'!$D$9:$D$40,$B$74)","v":0},{"$f":"SUMIFS('ABT Transactions'!$B$9:$B$40,'ABT Transactions'!$G$9:$G$40,$C$63,'ABT Transactions'!$F$9:$F$40,$O$64,'ABT Transactions'!$C$9:$C$40,Q65,'ABT Transactions'!$D$9:$D$40,$B$74)","v":0},{"$f":"SUMIFS('ABT Transactions'!$B$9:$B$40,'ABT Transactions'!$G$9:$G$40,$C$63,'ABT Transactions'!$F$9:$F$40,$R$64,'ABT Transactions'!$C$9:$C$40,R65,'ABT Transactions'!$D$9:$D$40,$B$74)","v":0},{"$f":"SUMIFS('ABT Transactions'!$B$9:$B$40,'ABT Transactions'!$G$9:$G$40,$C$63,'ABT Transactions'!$F$9:$F$40,$R$64,'ABT Transactions'!$C$9:$C$40,S65,'ABT Transactions'!$D$9:$D$40,$B$74)","v":0},{"$f":"SUMIFS('ABT Transactions'!$B$9:$B$40,'ABT Transactions'!$G$9:$G$40,$C$63,'ABT Transactions'!$F$9:$F$40,$R$64,'ABT Transactions'!$C$9:$C$40,T65,'ABT Transactions'!$D$9:$D$40,$B$74)","v":0},{"$f":"SUMIFS('ABT Transactions'!$B$9:$B$40,'ABT Transactions'!$G$9:$G$40,$C63,'ABT Transactions'!$F$9:$F$40,$U$14,'ABT Transactions'!$C$9:$C$40,U$15,'ABT Transactions'!$D$9:$D$40,$B$24)","v":0},{"$f":"SUMIFS('ABT Transactions'!$B$9:$B$40,'ABT Transactions'!$G$9:$G$40,$C63,'ABT Transactions'!$F$9:$F$40,$U$14,'ABT Transactions'!$C$9:$C$40,V$15,'ABT Transactions'!$D$9:$D$40,$B$24)","v":0},{"$f":"SUMIFS('ABT Transactions'!$B$9:$B$40,'ABT Transactions'!$G$9:$G$40,$C63,'ABT Transactions'!$F$9:$F$40,$U$14,'ABT Transactions'!$C$9:$C$40,W$15,'ABT Transactions'!$D$9:$D$40,$B$24)","v":0},{"$f":"SUMIFS('ABT Transactions'!$B$9:$B$40,'ABT Transactions'!$G$9:$G$40,$C63,'ABT Transactions'!$F$9:$F$40,$X$14,'ABT Transactions'!$C$9:$C$40,X$15,'ABT Transactions'!$D$9:$D$40,$B$24)","v":0},{"$f":"SUMIFS('ABT Transactions'!$B$9:$B$40,'ABT Transactions'!$G$9:$G$40,$C63,'ABT Transactions'!$F$9:$F$40,$X$14,'ABT Transactions'!$C$9:$C$40,Y$15,'ABT Transactions'!$D$9:$D$40,$B$24)","v":0},{"$f":"SUMIFS('ABT Transactions'!$B$9:$B$40,'ABT Transactions'!$G$9:$G$40,$C63,'ABT Transactions'!$F$9:$F$40,$X$14,'ABT Transactions'!$C$9:$C$40,Z$15,'ABT Transactions'!$D$9:$D$40,$B$24)","v":0},{"$f":"SUMIFS('ABT Transactions'!$B$9:$B$40,'ABT Transactions'!$G$9:$G$40,$C63,'ABT Transactions'!$F$9:$F$40,$AA$14,'ABT Transactions'!$C$9:$C$40,AA$15,'ABT Transactions'!$D$9:$D$40,$B$24)","v":0},{"$f":"SUMIFS('ABT Transactions'!$B$9:$B$40,'ABT Transactions'!$G$9:$G$40,$C63,'ABT Transactions'!$F$9:$F$40,$AA$14,'ABT Transactions'!$C$9:$C$40,AB$15,'ABT Transactions'!$D$9:$D$40,$B$24)","v":0},{"$f":"SUMIFS('ABT Transactions'!$B$9:$B$40,'ABT Transactions'!$G$9:$G$40,$C63,'ABT Transactions'!$F$9:$F$40,$AA$14,'ABT Transactions'!$C$9:$C$40,AC$15,'ABT Transactions'!$D$9:$D$40,$B$24)","v":0},{"$f":"SUMIFS('ABT Transactions'!$B$9:$B$40,'ABT Transactions'!$G$9:$G$40,$C63,'ABT Transactions'!$F$9:$F$40,$AD$14,'ABT Transactions'!$C$9:$C$40,AD$15,'ABT Transactions'!$D$9:$D$40,$B$24)","v":0},{"$f":"SUMIFS('ABT Transactions'!$B$9:$B$40,'ABT Transactions'!$G$9:$G$40,$C63,'ABT Transactions'!$F$9:$F$40,$AD$14,'ABT Transactions'!$C$9:$C$40,AE$15,'ABT Transactions'!$D$9:$D$40,$B$24)","v":0},{"$f":"SUMIFS('ABT Transactions'!$B$9:$B$40,'ABT Transactions'!$G$9:$G$40,$C63,'ABT Transactions'!$F$9:$F$40,$AD$14,'ABT Transactions'!$C$9:$C$40,AF$15,'ABT Transactions'!$D$9:$D$40,$B$24)","v":0},{"$f":"SUMIFS('ABT Transactions'!$B$9:$B$40,'ABT Transactions'!$G$9:$G$40,$C63,'ABT Transactions'!$F$9:$F$40,$AG$14,'ABT Transactions'!$C$9:$C$40,AG$15,'ABT Transactions'!$D$9:$D$40,$B$24)","v":0},{"$f":"SUMIFS('ABT Transactions'!$B$9:$B$40,'ABT Transactions'!$G$9:$G$40,$C63,'ABT Transactions'!$F$9:$F$40,$AG$14,'ABT Transactions'!$C$9:$C$40,AH$15,'ABT Transactions'!$D$9:$D$40,$B$24)","v":0},{"$f":"SUMIFS('ABT Transactions'!$B$9:$B$40,'ABT Transactions'!$G$9:$G$40,$C63,'ABT Transactions'!$F$9:$F$40,$AG$14,'ABT Transactions'!$C$9:$C$40,AI$15,'ABT Transactions'!$D$9:$D$40,$B$24)","v":0},{"$f":"SUMIFS('ABT Transactions'!$B$9:$B$40,'ABT Transactions'!$G$9:$G$40,$C63,'ABT Transactions'!$F$9:$F$40,$AJ$14,'ABT Transactions'!$C$9:$C$40,AJ$15,'ABT Transactions'!$D$9:$D$40,$B$24)","v":0},{"$f":"SUMIFS('ABT Transactions'!$B$9:$B$40,'ABT Transactions'!$G$9:$G$40,$C63,'ABT Transactions'!$F$9:$F$40,$AJ$14,'ABT Transactions'!$C$9:$C$40,AK$15,'ABT Transactions'!$D$9:$D$40,$B$24)","v":0},{"$f":"SUMIFS('ABT Transactions'!$B$9:$B$40,'ABT Transactions'!$G$9:$G$40,$C63,'ABT Transactions'!$F$9:$F$40,$AJ$14,'ABT Transactions'!$C$9:$C$40,AL$15,'ABT Transactions'!$D$9:$D$40,$B$24)","v":0},{"$f":"SUMIFS('ABT Transactions'!$B$9:$B$40,'ABT Transactions'!$G$9:$G$40,$C63,'ABT Transactions'!$F$9:$F$40,$AM$14,'ABT Transactions'!$C$9:$C$40,AM$15,'ABT Transactions'!$D$9:$D$40,$B$24)","v":0},{"$f":"SUMIFS('ABT Transactions'!$B$9:$B$40,'ABT Transactions'!$G$9:$G$40,$C63,'ABT Transactions'!$F$9:$F$40,$AM$14,'ABT Transactions'!$C$9:$C$40,AN$15,'ABT Transactions'!$D$9:$D$40,$B$24)","v":0},{"$f":"SUMIFS('ABT Transactions'!$B$9:$B$40,'ABT Transactions'!$G$9:$G$40,$C63,'ABT Transactions'!$F$9:$F$40,$AM$14,'ABT Transactions'!$C$9:$C$40,AO$15,'ABT Transactions'!$D$9:$D$40,$B$24)","v":0},{"$f":"SUMIFS('ABT Transactions'!$B$9:$B$40,'ABT Transactions'!$G$9:$G$40,$C63,'ABT Transactions'!$F$9:$F$40,$AP$14,'ABT Transactions'!$C$9:$C$40,AP$15,'ABT Transactions'!$D$9:$D$40,$B$24)","v":0},{"$f":"SUMIFS('ABT Transactions'!$B$9:$B$40,'ABT Transactions'!$G$9:$G$40,$C63,'ABT Transactions'!$F$9:$F$40,$AP$14,'ABT Transactions'!$C$9:$C$40,AQ$15,'ABT Transactions'!$D$9:$D$40,$B$24)","v":0},{"$f":"SUMIFS('ABT Transactions'!$B$9:$B$40,'ABT Transactions'!$G$9:$G$40,$C63,'ABT Transactions'!$F$9:$F$40,$AP$14,'ABT Transactions'!$C$9:$C$40,AR$15,'ABT Transactions'!$D$9:$D$40,$B$24)","v":0},{"$f":"SUMIFS('ABT Transactions'!$B$9:$B$40,'ABT Transactions'!$G$9:$G$40,$C$63,'ABT Transactions'!$F$9:$F$40,$AS$64,'ABT Transactions'!$C$9:$C$40,AS65,'ABT Transactions'!$D$9:$D$40,$B$74)","v":0},{"$f":"SUMIFS('ABT Transactions'!$B$9:$B$40,'ABT Transactions'!$G$9:$G$40,$C$63,'ABT Transactions'!$F$9:$F$40,$AS$64,'ABT Transactions'!$C$9:$C$40,AT65,'ABT Transactions'!$D$9:$D$40,$B$74)","v":0},{"$f":"SUMIFS('ABT Transactions'!$B$9:$B$40,'ABT Transactions'!$G$9:$G$40,$C$63,'ABT Transactions'!$F$9:$F$40,$AS$64,'ABT Transactions'!$C$9:$C$40,AU65,'ABT Transactions'!$D$9:$D$40,$B$74)","v":0}]
[null,"Expired Credits",{"$f":"SUMIFS('ABT Transactions'!$B$9:$B$40,'ABT Transactions'!$G$9:$G$40,$C$63,'ABT Transactions'!$F$9:$F$40,$C$64,'ABT Transactions'!$C$9:$C$40,C65,'ABT Transactions'!$D$9:$D$40,$B$75)","v":0},{"$f":"SUMIFS('ABT Transactions'!$B$9:$B$40,'ABT Transactions'!$G$9:$G$40,$C$63,'ABT Transactions'!$F$9:$F$40,$C$64,'ABT Transactions'!$C$9:$C$40,D65,'ABT Transactions'!$D$9:$D$40,$B$75)","v":0},{"$f":"SUMIFS('ABT Transactions'!$B$9:$B$40,'ABT Transactions'!$G$9:$G$40,$C$63,'ABT Transactions'!$F$9:$F$40,$C$64,'ABT Transactions'!$C$9:$C$40,E65,'ABT Transactions'!$D$9:$D$40,$B$75)","v":0},{"$f":"SUMIFS('ABT Transactions'!$B$9:$B$40,'ABT Transactions'!$G$9:$G$40,$C$63,'ABT Transactions'!$F$9:$F$40,$F$64,'ABT Transactions'!$C$9:$C$40,F65,'ABT Transactions'!$D$9:$D$40,$B$75)","v":0},{"$f":"SUMIFS('ABT Transactions'!$B$9:$B$40,'ABT Transactions'!$G$9:$G$40,$C$63,'ABT Transactions'!$F$9:$F$40,$F$64,'ABT Transactions'!$C$9:$C$40,G65,'ABT Transactions'!$D$9:$D$40,$B$75)","v":0},{"$f":"SUMIFS('ABT Transactions'!$B$9:$B$40,'ABT Transactions'!$G$9:$G$40,$C$63,'ABT Transactions'!$F$9:$F$40,$F$64,'ABT Transactions'!$C$9:$C$40,H65,'ABT Transactions'!$D$9:$D$40,$B$75)","v":0},{"$f":"SUMIFS('ABT Transactions'!$B$9:$B$40,'ABT Transactions'!$G$9:$G$40,$C$63,'ABT Transactions'!$F$9:$F$40,$I$64,'ABT Transactions'!$C$9:$C$40,I65,'ABT Transactions'!$D$9:$D$40,$B$75)","v":0},{"$f":"SUMIFS('ABT Transactions'!$B$9:$B$40,'ABT Transactions'!$G$9:$G$40,$C$63,'ABT Transactions'!$F$9:$F$40,$I$64,'ABT Transactions'!$C$9:$C$40,J65,'ABT Transactions'!$D$9:$D$40,$B$75)","v":0},{"$f":"SUMIFS('ABT Transactions'!$B$9:$B$40,'ABT Transactions'!$G$9:$G$40,$C$63,'ABT Transactions'!$F$9:$F$40,$I$64,'ABT Transactions'!$C$9:$C$40,K65,'ABT Transactions'!$D$9:$D$40,$B$75)","v":0},{"$f":"SUMIFS('ABT Transactions'!$B$9:$B$40,'ABT Transactions'!$G$9:$G$40,$C$63,'ABT Transactions'!$F$9:$F$40,$L$64,'ABT Transactions'!$C$9:$C$40,L65,'ABT Transactions'!$D$9:$D$40,$B$75)","v":0},{"$f":"SUMIFS('ABT Transactions'!$B$9:$B$40,'ABT Transactions'!$G$9:$G$40,$C$63,'ABT Transactions'!$F$9:$F$40,$L$64,'ABT Transactions'!$C$9:$C$40,M65,'ABT Transactions'!$D$9:$D$40,$B$75)","v":0},{"$f":"SUMIFS('ABT Transactions'!$B$9:$B$40,'ABT Transactions'!$G$9:$G$40,$C$63,'ABT Transactions'!$F$9:$F$40,$L$64,'ABT Transactions'!$C$9:$C$40,N65,'ABT Transactions'!$D$9:$D$40,$B$75)","v":0},{"$f":"SUMIFS('ABT Transactions'!$B$9:$B$40,'ABT Transactions'!$G$9:$G$40,$C$63,'ABT Transactions'!$F$9:$F$40,$O$64,'ABT Transactions'!$C$9:$C$40,O65,'ABT Transactions'!$D$9:$D$40,$B$75)","v":0},{"$f":"SUMIFS('ABT Transactions'!$B$9:$B$40,'ABT Transactions'!$G$9:$G$40,$C$63,'ABT Transactions'!$F$9:$F$40,$O$64,'ABT Transactions'!$C$9:$C$40,P65,'ABT Transactions'!$D$9:$D$40,$B$75)","v":0},{"$f":"SUMIFS('ABT Transactions'!$B$9:$B$40,'ABT Transactions'!$G$9:$G$40,$C$63,'ABT Transactions'!$F$9:$F$40,$O$64,'ABT Transactions'!$C$9:$C$40,Q65,'ABT Transactions'!$D$9:$D$40,$B$75)","v":0},{"$f":"SUMIFS('ABT Transactions'!$B$9:$B$40,'ABT Transactions'!$G$9:$G$40,$C$63,'ABT Transactions'!$F$9:$F$40,$R$64,'ABT Transactions'!$C$9:$C$40,R65,'ABT Transactions'!$D$9:$D$40,$B$75)","v":0},{"$f":"SUMIFS('ABT Transactions'!$B$9:$B$40,'ABT Transactions'!$G$9:$G$40,$C$63,'ABT Transactions'!$F$9:$F$40,$R$64,'ABT Transactions'!$C$9:$C$40,S65,'ABT Transactions'!$D$9:$D$40,$B$75)","v":0},{"$f":"SUMIFS('ABT Transactions'!$B$9:$B$40,'ABT Transactions'!$G$9:$G$40,$C$63,'ABT Transactions'!$F$9:$F$40,$R$64,'ABT Transactions'!$C$9:$C$40,T65,'ABT Transactions'!$D$9:$D$40,$B$75)","v":0},{"$f":"SUMIFS('ABT Transactions'!$B$9:$B$40,'ABT Transactions'!$G$9:$G$40,$C63,'ABT Transactions'!$F$9:$F$40,$U$14,'ABT Transactions'!$C$9:$C$40,U$15,'ABT Transactions'!$D$9:$D$40,$B$25)","v":0},{"$f":"SUMIFS('ABT Transactions'!$B$9:$B$40,'ABT Transactions'!$G$9:$G$40,$C63,'ABT Transactions'!$F$9:$F$40,$U$14,'ABT Transactions'!$C$9:$C$40,V$15,'ABT Transactions'!$D$9:$D$40,$B$25)","v":0},{"$f":"SUMIFS('ABT Transactions'!$B$9:$B$40,'ABT Transactions'!$G$9:$G$40,$C63,'ABT Transactions'!$F$9:$F$40,$U$14,'ABT Transactions'!$C$9:$C$40,W$15,'ABT Transactions'!$D$9:$D$40,$B$25)","v":0},{"$f":"SUMIFS('ABT Transactions'!$B$9:$B$40,'ABT Transactions'!$G$9:$G$40,$C63,'ABT Transactions'!$F$9:$F$40,$X$14,'ABT Transactions'!$C$9:$C$40,X$15,'ABT Transactions'!$D$9:$D$40,$B$25)","v":0},{"$f":"SUMIFS('ABT Transactions'!$B$9:$B$40,'ABT Transactions'!$G$9:$G$40,$C63,'ABT Transactions'!$F$9:$F$40,$X$14,'ABT Transactions'!$C$9:$C$40,Y$15,'ABT Transactions'!$D$9:$D$40,$B$25)","v":0},{"$f":"SUMIFS('ABT Transactions'!$B$9:$B$40,'ABT Transactions'!$G$9:$G$40,$C63,'ABT Transactions'!$F$9:$F$40,$X$14,'ABT Transactions'!$C$9:$C$40,Z$15,'ABT Transactions'!$D$9:$D$40,$B$25)","v":0},{"$f":"SUMIFS('ABT Transactions'!$B$9:$B$40,'ABT Transactions'!$G$9:$G$40,$C63,'ABT Transactions'!$F$9:$F$40,$AA$14,'ABT Transactions'!$C$9:$C$40,AA$15,'ABT Transactions'!$D$9:$D$40,$B$25)","v":0},{"$f":"SUMIFS('ABT Transactions'!$B$9:$B$40,'ABT Transactions'!$G$9:$G$40,$C63,'ABT Transactions'!$F$9:$F$40,$AA$14,'ABT Transactions'!$C$9:$C$40,AB$15,'ABT Transactions'!$D$9:$D$40,$B$25)","v":0},{"$f":"SUMIFS('ABT Transactions'!$B$9:$B$40,'ABT Transactions'!$G$9:$G$40,$C63,'ABT Transactions'!$F$9:$F$40,$AA$14,'ABT Transactions'!$C$9:$C$40,AC$15,'ABT Transactions'!$D$9:$D$40,$B$25)","v":0},{"$f":"SUMIFS('ABT Transactions'!$B$9:$B$40,'ABT Transactions'!$G$9:$G$40,$C63,'ABT Transactions'!$F$9:$F$40,$AD$14,'ABT Transactions'!$C$9:$C$40,AD$15,'ABT Transactions'!$D$9:$D$40,$B$25)","v":0},{"$f":"SUMIFS('ABT Transactions'!$B$9:$B$40,'ABT Transactions'!$G$9:$G$40,$C63,'ABT Transactions'!$F$9:$F$40,$AD$14,'ABT Transactions'!$C$9:$C$40,AE$15,'ABT Transactions'!$D$9:$D$40,$B$25)","v":0},{"$f":"SUMIFS('ABT Transactions'!$B$9:$B$40,'ABT Transactions'!$G$9:$G$40,$C63,'ABT Transactions'!$F$9:$F$40,$AD$14,'ABT Transactions'!$C$9:$C$40,AF$15,'ABT Transactions'!$D$9:$D$40,$B$25)","v":0},{"$f":"SUMIFS('ABT Transactions'!$B$9:$B$40,'ABT Transactions'!$G$9:$G$40,$C63,'ABT Transactions'!$F$9:$F$40,$AG$14,'ABT Transactions'!$C$9:$C$40,AG$15,'ABT Transactions'!$D$9:$D$40,$B$25)","v":0},{"$f":"SUMIFS('ABT Transactions'!$B$9:$B$40,'ABT Transactions'!$G$9:$G$40,$C63,'ABT Transactions'!$F$9:$F$40,$AG$14,'ABT Transactions'!$C$9:$C$40,AH$15,'ABT Transactions'!$D$9:$D$40,$B$25)","v":0},{"$f":"SUMIFS('ABT Transactions'!$B$9:$B$40,'ABT Transactions'!$G$9:$G$40,$C63,'ABT Transactions'!$F$9:$F$40,$AG$14,'ABT Transactions'!$C$9:$C$40,AI$15,'ABT Transactions'!$D$9:$D$40,$B$25)","v":0},{"$f":"SUMIFS('ABT Transactions'!$B$9:$B$40,'ABT Transactions'!$G$9:$G$40,$C63,'ABT Transactions'!$F$9:$F$40,$AJ$14,'ABT Transactions'!$C$9:$C$40,AJ$15,'ABT Transactions'!$D$9:$D$40,$B$25)","v":0},{"$f":"SUMIFS('ABT Transactions'!$B$9:$B$40,'ABT Transactions'!$G$9:$G$40,$C63,'ABT Transactions'!$F$9:$F$40,$AJ$14,'ABT Transactions'!$C$9:$C$40,AK$15,'ABT Transactions'!$D$9:$D$40,$B$25)","v":0},{"$f":"SUMIFS('ABT Transactions'!$B$9:$B$40,'ABT Transactions'!$G$9:$G$40,$C63,'ABT Transactions'!$F$9:$F$40,$AJ$14,'ABT Transactions'!$C$9:$C$40,AL$15,'ABT Transactions'!$D$9:$D$40,$B$25)","v":0},{"$f":"SUMIFS('ABT Transactions'!$B$9:$B$40,'ABT Transactions'!$G$9:$G$40,$C63,'ABT Transactions'!$F$9:$F$40,$AM$14,'ABT Transactions'!$C$9:$C$40,AM$15,'ABT Transactions'!$D$9:$D$40,$B$25)","v":0},{"$f":"SUMIFS('ABT Transactions'!$B$9:$B$40,'ABT Transactions'!$G$9:$G$40,$C63,'ABT Transactions'!$F$9:$F$40,$AM$14,'ABT Transactions'!$C$9:$C$40,AN$15,'ABT Transactions'!$D$9:$D$40,$B$25)","v":0},{"$f":"SUMIFS('ABT Transactions'!$B$9:$B$40,'ABT Transactions'!$G$9:$G$40,$C63,'ABT Transactions'!$F$9:$F$40,$AM$14,'ABT Transactions'!$C$9:$C$40,AO$15,'ABT Transactions'!$D$9:$D$40,$B$25)","v":0},{"$f":"SUMIFS('ABT Transactions'!$B$9:$B$40,'ABT Transactions'!$G$9:$G$40,$C63,'ABT Transactions'!$F$9:$F$40,$AP$14,'ABT Transactions'!$C$9:$C$40,AP$15,'ABT Transactions'!$D$9:$D$40,$B$25)","v":0},{"$f":"SUMIFS('ABT Transactions'!$B$9:$B$40,'ABT Transactions'!$G$9:$G$40,$C63,'ABT Transactions'!$F$9:$F$40,$AP$14,'ABT Transactions'!$C$9:$C$40,AQ$15,'ABT Transactions'!$D$9:$D$40,$B$25)","v":0},{"$f":"SUMIFS('ABT Transactions'!$B$9:$B$40,'ABT Transactions'!$G$9:$G$40,$C63,'ABT Transactions'!$F$9:$F$40,$AP$14,'ABT Transactions'!$C$9:$C$40,AR$15,'ABT Transactions'!$D$9:$D$40,$B$25)","v":0},{"$f":"SUMIFS('ABT Transactions'!$B$9:$B$40,'ABT Transactions'!$G$9:$G$40,$C$63,'ABT Transactions'!$F$9:$F$40,$AS$64,'ABT Transactions'!$C$9:$C$40,AS65,'ABT Transactions'!$D$9:$D$40,$B$75)","v":0},{"$f":"SUMIFS('ABT Transactions'!$B$9:$B$40,'ABT Transactions'!$G$9:$G$40,$C$63,'ABT Transactions'!$F$9:$F$40,$AS$64,'ABT Transactions'!$C$9:$C$40,AT65,'ABT Transactions'!$D$9:$D$40,$B$75)","v":0},{"$f":"SUMIFS('ABT Transactions'!$B$9:$B$40,'ABT Transactions'!$G$9:$G$40,$C$63,'ABT Transactions'!$F$9:$F$40,$AS$64,'ABT Transactions'!$C$9:$C$40,AU65,'ABT Transactions'!$D$9:$D$40,$B$75)","v":0}]
[null,"Final Credit Balance",{"$f":"(C66+C67+C69+C71+C73+C74+C75)-(C68+C70+C72)","v":0},{"$f":"(D66+D67+D69+D71+D73+D74+D75)-(D68+D70+D72)","v":0},{"$f":"(E66+E67+E69+E71+E73+E74+E75)-(E68+E70+E72)","v":0},{"$f":"(F66+F67+F69+F71+F73+F74+F75)-(F68+F70+F72)","v":0},{"$f":"(G66+G67+G69+G71+G73+G74+G75)-(G68+G70+G72)","v":0},{"$f":"(H66+H67+H69+H71+H73+H74+H75)-(H68+H70+H72)","v":0},{"$f":"(I66+I67+I69+I71+I73+I74+I75)-(I68+I70+I72)","v":0},{"$f":"(J66+J67+J69+J71+J73+J74+J75)-(J68+J70+J72)","v":0},{"$f":"(K66+K67+K69+K71+K73+K74+K75)-(K68+K70+K72)","v":0},{"$f":"(L66+L67+L69+L71+L73+L74+L75)-(L68+L70+L72)","v":0},{"$f":"(M66+M67+M69+M71+M73+M74+M75)-(M68+M70+M72)","v":0},{"$f":"(N66+N67+N69+N71+N73+N74+N75)-(N68+N70+N72)","v":0},{"$f":"(O66+O67+O69+O71+O73+O74+O75)-(O68+O70+O72)","v":0},{"$f":"(P66+P67+P69+P71+P73+P74+P75)-(P68+P70+P72)","v":0},{"$f":"(Q66+Q67+Q69+Q71+Q73+Q74+Q75)-(Q68+Q70+Q72)","v":0},{"$f":"(R66+R67+R69+R71+R73+R74+R75)-(R68+R70+R72)","v":0},{"$f":"(S66+S67+S69+S71+S73+S74+S75)-(S68+S70+S72)","v":0},{"$f":"(T66+T67+T69+T71+T73+T74+T75)-(T68+T70+T72)","v":0},{"$f":"(U66+U67+U69+U71+U73+U74+U75)-(U68+U70+U72)","v":0},{"$f":"(V66+V67+V69+V71+V73+V74+V75)-(V68+V70+V72)","v":0},{"$f":"(W66+W67+W69+W71+W73+W74+W75)-(W68+W70+W72)","v":0},{"$f":"(X66+X67+X69+X71+X73+X74+X75)-(X68+X70+X72)","v":0},{"$f":"(Y66+Y67+Y69+Y71+Y73+Y74+Y75)-(Y68+Y70+Y72)","v":0},{"$f":"(Z66+Z67+Z69+Z71+Z73+Z74+Z75)-(Z68+Z70+Z72)","v":0},{"$f":"(AA66+AA67+AA69+AA71+AA73+AA74+AA75)-(AA68+AA70+AA72)","v":0},{"$f":"(AB66+AB67+AB69+AB71+AB73+AB74+AB75)-(AB68+AB70+AB72)","v":0},{"$f":"(AC66+AC67+AC69+AC71+AC73+AC74+AC75)-(AC68+AC70+AC72)","v":0},{"$f":"(AD66+AD67+AD69+AD71+AD73+AD74+AD75)-(AD68+AD70+AD72)","v":0},{"$f":"(AE66+AE67+AE69+AE71+AE73+AE74+AE75)-(AE68+AE70+AE72)","v":0},{"$f":"(AF66+AF67+AF69+AF71+AF73+AF74+AF75)-(AF68+AF70+AF72)","v":0},{"$f":"(AG66+AG67+AG69+AG71+AG73+AG74+AG75)-(AG68+AG70+AG72)","v":0},{"$f":"(AH66+AH67+AH69+AH71+AH73+AH74+AH75)-(AH68+AH70+AH72)","v":0},{"$f":"(AI66+AI67+AI69+AI71+AI73+AI74+AI75)-(AI68+AI70+AI72)","v":0},{"$f":"(AJ66+AJ67+AJ69+AJ71+AJ73+AJ74+AJ75)-(AJ68+AJ70+AJ72)","v":0},{"$f":"(AK66+AK67+AK69+AK71+AK73+AK74+AK75)-(AK68+AK70+AK72)","v":0},{"$f":"(AL66+AL67+AL69+AL71+AL73+AL74+AL75)-(AL68+AL70+AL72)","v":0},{"$f":"(AM66+AM67+AM69+AM71+AM73+AM74+AM75)-(AM68+AM70+AM72)","v":0},{"$f":"(AN66+AN67+AN69+AN71+AN73+AN74+AN75)-(AN68+AN70+AN72)","v":0},{"$f":"(AO66+AO67+AO69+AO71+AO73+AO74+AO75)-(AO68+AO70+AO72)","v":0},{"$f":"(AP66+AP67+AP69+AP71+AP73+AP74+AP75)-(AP68+AP70+AP72)","v":0},{"$f":"(AQ66+AQ67+AQ69+AQ71+AQ73+AQ74+AQ75)-(AQ68+AQ70+AQ72)","v":0},{"$f":"(AR66+AR67+AR69+AR71+AR73+AR74+AR75)-(AR68+AR70+AR72)","v":0},{"$f":"(AS66+AS67+AS69+AS71+AS73+AS74+AS75)-(AS68+AS70+AS72)","v":0},{"$f":"(AT66+AT67+AT69+AT71+AT73+AT74+AT75)-(AT68+AT70+AT72)","v":0},{"$f":"(AU66+AU67+AU69+AU71+AU73+AU74+AU75)-(AU68+AU70+AU72)","v":0}]
[null,"Averaging Set Credit Balance",{"$f":"SUM(C76:E76)","v":0},null,null,{"$f":"SUM(F76:H76)","v":0},null,null,{"$f":"SUM(I76:K76)","v":0},null,null,{"$f":"SUM(L76:N76)","v":0},null,null,{"$f":"SUM(O76:Q76)","v":0},null,null,{"$f":"SUM(R76:T76)","v":0},null,null,{"$f":"SUM(U76:W76)","v":0},null,null,{"$f":"SUM(X76:Z76)","v":0},null,null,{"$f":"SUM(AA76:AC76)","v":0},null,null,{"$f":"SUM(AD76:AF76)","v":0},null,null,{"$f":"SUM(AG76:AI76)","v":0},null,null,{"$f":"SUM(AJ76:AL76)","v":0},null,null,{"$f":"SUM(AM76:AO76)","v":0},null,null,{"$f":"SUM(AP76:AR76)","v":0},null,null,{"$f":"SUM(AS76:AU76)","v":0}]
[]
[null,null,"CI - LHDE (Cl 2b-5)"]
[null,null,2013,null,null,2014,null,null,2015,null,null,2016,null,null,2017,null,null,2018,null,null,2019,null,null,2020,null,null,2021,null,null,2022,null,null,2023,null,null,2024,null,null,2025,null,null,2026,null,null,2027]
[null,"Credit Type","Conventional Credit","Innovative Technology Credit","Advanced Technology Credit","Conventional Credit","Innovative Technology Credit","Advanced Technology Credit","Conventional Credit","Innovative Technology Credit","Advanced Technology Credit","Conventional Credit","Innovative Technology Credit","Advanced Technology Credit","Conventional Credit","Innovative Technology Credit","Advanced Technology Credit","Conventional Credit","Innovative Technology Credit","Advanced Technology Credit","Conventional Credit","Innovative Technology Credit","Advanced Technology Credit","Conventional Credit","Innovative Technology Credit","Advanced Technology Credit","Conventional Credit","Innovative Technology Credit","Advanced Technology Credit","Conventional Credit","Innovative Technology Credit","Advanced Technology Credit","Conventional Credit","Innovative Technology Credit","Advanced Technology Credit","Conventional Credit","Innovative Technology Credit","Advanced Technology Credit","Conventional Credit","Innovative Technology Credit","Advanced Technology Credit","Conventional Credit","Innovative Technology Credit","Advanced Technology Credit","Conventional Credit","Innovative Technology Credit","Advanced Technology Credit"]
[null,"Earned Credits",{"$f":"SUMIFS('ABT Credit Balances'!$D$9:$D$208,'ABT Credit Balances'!$B$9:$B$208,$C$79,'ABT Credit Balances'!$F$9:$F$208,C81,'ABT Credit Balances'!$E$9:$E$208,$C$80,'ABT Credit Balances'!$C$9:$C$208,$B$82)","v":0},{"$f":"SUMIFS('ABT Credit Balances'!$D$9:$D$208,'ABT Credit Balances'!$B$9:$B$208,$C$79,'ABT Credit Balances'!$F$9:$F$208,D81,'ABT Credit Balances'!$E$9:$E$208,$C$80,'ABT Credit Balances'!$C$9:$C$208,$B$82)","v":0},{"$f":"SUMIFS('ABT Credit Balances'!$D$9:$D$208,'ABT Credit Balances'!$B$9:$B$208,$C$79,'ABT Credit Balances'!$F$9:$F$208,E81,'ABT Credit Balances'!$E$9:$E$208,$C$80,'ABT Credit Balances'!$C$9:$C$208,$B$82)","v":0},{"$f":"SUMIFS('ABT Credit Balances'!$D$9:$D$208,'ABT Credit Balances'!$B$9:$B$208,$C$79,'ABT Credit Balances'!$F$9:$F$208,F81,'ABT Credit Balances'!$E$9:$E$208,$F$80,'ABT Credit Balances'!$C$9:$C$208,$B$82)","v":0},{"$f":"SUMIFS('ABT Credit Balances'!$D$9:$D$208,'ABT Credit Balances'!$B$9:$B$208,$C$79,'ABT Credit Balances'!$F$9:$F$208,G81,'ABT Credit Balances'!$E$9:$E$208,$F$80,'ABT Credit Balances'!$C$9:$C$208,$B$82)","v":0},{"$f":"SUMIFS('ABT Credit Balances'!$D$9:$D$208,'ABT Credit Balances'!$B$9:$B$208,$C$79,'ABT Credit Balances'!$F$9:$F$208,H81,'ABT Credit Balances'!$E$9:$E$208,$F$80,'ABT Credit Balances'!$C$9:$C$208,$B$82)","v":0},{"$f":"SUMIFS('ABT Credit Balances'!$D$9:$D$208,'ABT Credit Balances'!$B$9:$B$208,$C$79,'ABT Credit Balances'!$F$9:$F$208,I81,'ABT Credit Balances'!$E$9:$E$208,$I$80,'ABT Credit Balances'!$C$9:$C$208,$B$82)","v":0},{"$f":"SUMIFS('ABT Credit Balances'!$D$9:$D$208,'ABT Credit Balances'!$B$9:$B$208,$C$79,'ABT Credit Balances'!$F$9:$F$208,J81,'ABT Credit Balances'!$E$9:$E$208,$I$80,'ABT Credit Balances'!$C$9:$C$208,$B$82)","v":0},{"$f":"SUMIFS('ABT Credit Balances'!$D$9:$D$208,'ABT Credit Balances'!$B$9:$B$208,$C$79,'ABT Credit Balances'!$F$9:$F$208,K81,'ABT Credit Balances'!$E$9:$E$208,$I$80,'ABT Credit Balances'!$C$9:$C$208,$B$82)","v":0},{"$f":"SUMIFS('ABT Credit Balances'!$D$9:$D$208,'ABT Credit Balances'!$B$9:$B$208,$C$79,'ABT Credit Balances'!$F$9:$F$208,L81,'ABT Credit Balances'!$E$9:$E$208,$L$80,'ABT Credit Balances'!$C$9:$C$208,$B$82)","v":0},{"$f":"SUMIFS('ABT Credit Balances'!$D$9:$D$208,'ABT Credit Balances'!$B$9:$B$208,$C$79,'ABT Credit Balances'!$F$9:$F$208,M81,'ABT Credit Balances'!$E$9:$E$208,$L$80,'ABT Credit Balances'!$C$9:$C$208,$B$82)","v":0},{"$f":"SUMIFS('ABT Credit Balances'!$D$9:$D$208,'ABT Credit Balances'!$B$9:$B$208,$C$79,'ABT Credit Balances'!$F$9:$F$208,N81,'ABT Credit Balances'!$E$9:$E$208,$L$80,'ABT Credit Balances'!$C$9:$C$208,$B$82)","v":0},{"$f":"SUMIFS('ABT Credit Balances'!$D$9:$D$208,'ABT Credit Balances'!$B$9:$B$208,$C$79,'ABT Credit Balances'!$F$9:$F$208,O81,'ABT Credit Balances'!$E$9:$E$208,$O$80,'ABT Credit Balances'!$C$9:$C$208,$B$82)","v":0},{"$f":"SUMIFS('ABT Credit Balances'!$D$9:$D$208,'ABT Credit Balances'!$B$9:$B$208,$C$79,'ABT Credit Balances'!$F$9:$F$208,P81,'ABT Credit Balances'!$E$9:$E$208,$O$80,'ABT Credit Balances'!$C$9:$C$208,$B$82)","v":0},{"$f":"SUMIFS('ABT Credit Balances'!$D$9:$D$208,'ABT Credit Balances'!$B$9:$B$208,$C$79,'ABT Credit Balances'!$F$9:$F$208,Q81,'ABT Credit Balances'!$E$9:$E$208,$O$80,'ABT Credit Balances'!$C$9:$C$208,$B$82)","v":0},{"$f":"SUMIFS('ABT Credit Balances'!$D$9:$D$208,'ABT Credit Balances'!$B$9:$B$208,$C$79,'ABT Credit Balances'!$F$9:$F$208,R81,'ABT Credit Balances'!$E$9:$E$208,$R$80,'ABT Credit Balances'!$C$9:$C$208,$B$82)","v":0},{"$f":"SUMIFS('ABT Credit Balances'!$D$9:$D$208,'ABT Credit Balances'!$B$9:$B$208,$C$79,'ABT Credit Balances'!$F$9:$F$208,S81,'ABT Credit Balances'!$E$9:$E$208,$R$80,'ABT Credit Balances'!$C$9:$C$208,$B$82)","v":0},{"$f":"SUMIFS('ABT Credit Balances'!$D$9:$D$208,'ABT Credit Balances'!$B$9:$B$208,$C$79,'ABT Credit Balances'!$F$9:$F$208,T81,'ABT Credit Balances'!$E$9:$E$208,$R$80,'ABT Credit Balances'!$C$9:$C$208,$B$82)","v":0},{"$f":"SUMIFS('ABT Credit Balances'!$D$9:$D$208,'ABT Credit Balances'!$B$9:$B$208,$C79,'ABT Credit Balances'!$F$9:$F$208,U81,'ABT Credit Balances'!$E$9:$E$208,$U$14,'ABT Credit Balances'!$C$9:$C$208,$B$16)","v":0},{"$f":"SUMIFS('ABT Credit Balances'!$D$9:$D$208,'ABT Credit Balances'!$B$9:$B$208,$C79,'ABT Credit Balances'!$F$9:$F$208,V81,'ABT Credit Balances'!$E$9:$E$208,$U$14,'ABT Credit Balances'!$C$9:$C$208,$B$16)","v":0},{"$f":"SUMIFS('ABT Credit Balances'!$D$9:$D$208,'ABT Credit Balances'!$B$9:$B$208,$C79,'ABT Credit Balances'!$F$9:$F$208,W81,'ABT Credit Balances'!$E$9:$E$208,$U$14,'ABT Credit Balances'!$C$9:$C$208,$B$16)","v":0},{"$f":"SUMIFS('ABT Credit Balances'!$D$9:$D$208,'ABT Credit Balances'!$B$9:$B$208,$C79,'ABT Credit Balances'!$F$9:$F$208,X81,'ABT Credit Balances'!$E$9:$E$208,$X$14,'ABT Credit Balances'!$C$9:$C$208,$B$16)","v":0},{"$f":"SUMIFS('ABT Credit Balances'!$D$9:$D$208,'ABT Credit Balances'!$B$9:$B$208,$C79,'ABT Credit Balances'!$F$9:$F$208,Y81,'ABT Credit Balances'!$E$9:$E$208,$X$14,'ABT Credit Balances'!$C$9:$C$208,$B$16)","v":0},{"$f":"SUMIFS('ABT Credit Balances'!$D$9:$D$208,'ABT Credit Balances'!$B$9:$B$208,$C79,'ABT Credit Balances'!$F$9:$F$208,Z81,'ABT Credit Balances'!$E$9:$E$208,$X$14,'ABT Credit Balances'!$C$9:$C$208,$B$16)","v":0},{"$f":"SUMIFS('ABT Credit Balances'!$D$9:$D$208,'ABT Credit Balances'!$B$9:$B$208,$C79,'ABT Credit Balances'!$F$9:$F$208,AA81,'ABT Credit Balances'!$E$9:$E$208,$AA$14,'ABT Credit Balances'!$C$9:$C$208,$B$16)","v":0},{"$f":"SUMIFS('ABT Credit Balances'!$D$9:$D$208,'ABT Credit Balances'!$B$9:$B$208,$C79,'ABT Credit Balances'!$F$9:$F$208,AB81,'ABT Credit Balances'!$E$9:$E$208,$AA$14,'ABT Credit Balances'!$C$9:$C$208,$B$16)","v":0},{"$f":"SUMIFS('ABT Credit Balances'!$D$9:$D$208,'ABT Credit Balances'!$B$9:$B$208,$C79,'ABT Credit Balances'!$F$9:$F$208,AC81,'ABT Credit Balances'!$E$9:$E$208,$AA$14,'ABT Credit Balances'!$C$9:$C$208,$B$16)","v":0},{"$f":"SUMIFS('ABT Credit Balances'!$D$9:$D$208,'ABT Credit Balances'!$B$9:$B$208,$C79,'ABT Credit Balances'!$F$9:$F$208,AD81,'ABT Credit Balances'!$E$9:$E$208,$AD$14,'ABT Credit Balances'!$C$9:$C$208,$B$16)","v":0},{"$f":"SUMIFS('ABT Credit Balances'!$D$9:$D$208,'ABT Credit Balances'!$B$9:$B$208,$C79,'ABT Credit Balances'!$F$9:$F$208,AE81,'ABT Credit Balances'!$E$9:$E$208,$AD$14,'ABT Credit Balances'!$C$9:$C$208,$B$16)","v":0},{"$f":"SUMIFS('ABT Credit Balances'!$D$9:$D$208,'ABT Credit Balances'!$B$9:$B$208,$C79,'ABT Credit Balances'!$F$9:$F$208,AF81,'ABT Credit Balances'!$E$9:$E$208,$AD$14,'ABT Credit Balances'!$C$9:$C$208,$B$16)","v":0},{"$f":"SUMIFS('ABT Credit Balances'!$D$9:$D$208,'ABT Credit Balances'!$B$9:$B$208,$C79,'ABT Credit Balances'!$F$9:$F$208,AG81,'ABT Credit Balances'!$E$9:$E$208,$AG$14,'ABT Credit Balances'!$C$9:$C$208,$B$16)","v":0},{"$f":"SUMIFS('ABT Credit Balances'!$D$9:$D$208,'ABT Credit Balances'!$B$9:$B$208,$C79,'ABT Credit Balances'!$F$9:$F$208,AH81,'ABT Credit Balances'!$E$9:$E$208,$AG$14,'ABT Credit Balances'!$C$9:$C$208,$B$16)","v":0},{"$f":"SUMIFS('ABT Credit Balances'!$D$9:$D$208,'ABT Credit Balances'!$B$9:$B$208,$C79,'ABT Credit Balances'!$F$9:$F$208,AI81,'ABT Credit Balances'!$E$9:$E$208,$AG$14,'ABT Credit Balances'!$C$9:$C$208,$B$16)","v":0},{"$f":"SUMIFS('ABT Credit Balances'!$D$9:$D$208,'ABT Credit Balances'!$B$9:$B$208,$C79,'ABT Credit Balances'!$F$9:$F$208,AJ81,'ABT Credit Balances'!$E$9:$E$208,$AJ$14,'ABT Credit Balances'!$C$9:$C$208,$B$16)","v":0},{"$f":"SUMIFS('ABT Credit Balances'!$D$9:$D$208,'ABT Credit Balances'!$B$9:$B$208,$C79,'ABT Credit Balances'!$F$9:$F$208,AK81,'ABT Credit Balances'!$E$9:$E$208,$AJ$14,'ABT Credit Balances'!$C$9:$C$208,$B$16)","v":0},{"$f":"SUMIFS('ABT Credit Balances'!$D$9:$D$208,'ABT Credit Balances'!$B$9:$B$208,$C79,'ABT Credit Balances'!$F$9:$F$208,AL81,'ABT Credit Balances'!$E$9:$E$208,$AJ$14,'ABT Credit Balances'!$C$9:$C$208,$B$16)","v":0},{"$f":"SUMIFS('ABT Credit Balances'!$D$9:$D$208,'ABT Credit Balances'!$B$9:$B$208,$C79,'ABT Credit Balances'!$F$9:$F$208,AM81,'ABT Credit Balances'!$E$9:$E$208,$AM$14,'ABT Credit Balances'!$C$9:$C$208,$B$16)","v":0},{"$f":"SUMIFS('ABT Credit Balances'!$D$9:$D$208,'ABT Credit Balances'!$B$9:$B$208,$C79,'ABT Credit Balances'!$F$9:$F$208,AN81,'ABT Credit Balances'!$E$9:$E$208,$AM$14,'ABT Credit Balances'!$C$9:$C$208,$B$16)","v":0},{"$f":"SUMIFS('ABT Credit Balances'!$D$9:$D$208,'ABT Credit Balances'!$B$9:$B$208,$C79,'ABT Credit Balances'!$F$9:$F$208,AO81,'ABT Credit Balances'!$E$9:$E$208,$AM$14,'ABT Credit Balances'!$C$9:$C$208,$B$16)","v":0},{"$f":"SUMIFS('ABT Credit Balances'!$D$9:$D$208,'ABT Credit Balances'!$B$9:$B$208,$C79,'ABT Credit Balances'!$F$9:$F$208,AP81,'ABT Credit Balances'!$E$9:$E$208,$AP$14,'ABT Credit Balances'!$C$9:$C$208,$B$16)","v":0},{"$f":"SUMIFS('ABT Credit Balances'!$D$9:$D$208,'ABT Credit Balances'!$B$9:$B$208,$C79,'ABT Credit Balances'!$F$9:$F$208,AQ81,'ABT Credit Balances'!$E$9:$E$208,$AP$14,'ABT Credit Balances'!$C$9:$C$208,$B$16)","v":0},{"$f":"SUMIFS('ABT Credit Balances'!$D$9:$D$208,'ABT Credit Balances'!$B$9:$B$208,$C79,'ABT Credit Balances'!$F$9:$F$208,AR81,'ABT Credit Balances'!$E$9:$E$208,$AP$14,'ABT Credit Balances'!$C$9:$C$208,$B$16)","v":0},{"$f":"SUMIFS('ABT Credit Balances'!$D$9:$D$208,'ABT Credit Balances'!$B$9:$B$208,$C$79,'ABT Credit Balances'!$F$9:$F$208,AS81,'ABT Credit Balances'!$E$9:$E$208,$AS$80,'ABT Credit Balances'!$C$9:$C$208,$B$82)","v":0},{"$f":"SUMIFS('ABT Credit Balances'!$D$9:$D$208,'ABT Credit Balances'!$B$9:$B$208,$C$79,'ABT Credit Balances'!$F$9:$F$208,AT81,'ABT Credit Balances'!$E$9:$E$208,$AS$80,'ABT Credit Balances'!$C$9:$C$208,$B$82)","v":0},{"$f":"SUMIFS('ABT Credit Balances'!$D$9:$D$208,'ABT Credit Balances'!$B$9:$B$208,$C$79,'ABT Credit Balances'!$F$9:$F$208,AU81,'ABT Credit Balances'!$E$9:$E$208,$AS$80,'ABT Credit Balances'!$C$9:$C$208,$B$82)","v":0}]
[null,"Projected Credits",{"$f":"SUMIFS('ABT Credit Balances'!$D$9:$D$208,'ABT Credit Balances'!$B$9:$B$208,$C$79,'ABT Credit Balances'!$F$9:$F$208,C81,'ABT Credit Balances'!$E$9:$E$208,$C$80,'ABT Credit Balances'!$C$9:$C$208,$B$83)","v":0},{"$f":"SUMIFS('ABT Credit Balances'!$D$9:$D$208,'ABT Credit Balances'!$B$9:$B$208,$C$79,'ABT Credit Balances'!$F$9:$F$208,D81,'ABT Credit Balances'!$E$9:$E$208,$C$80,'ABT Credit Balances'!$C$9:$C$208,$B$83)","v":0},{"$f":"SUMIFS('ABT Credit Balances'!$D$9:$D$208,'ABT Credit Balances'!$B$9:$B$208,$C$79,'ABT Credit Balances'!$F$9:$F$208,E81,'ABT Credit Balances'!$E$9:$E$208,$C$80,'ABT Credit Balances'!$C$9:$C$208,$B$83)","v":0},{"$f":"SUMIFS('ABT Credit Balances'!$D$9:$D$208,'ABT Credit Balances'!$B$9:$B$208,$C$79,'ABT Credit Balances'!$F$9:$F$208,F81,'ABT Credit Balances'!$E$9:$E$208,$F$80,'ABT Credit Balances'!$C$9:$C$208,$B$83)","v":0},{"$f":"SUMIFS('ABT Credit Balances'!$D$9:$D$208,'ABT Credit Balances'!$B$9:$B$208,$C$79,'ABT Credit Balances'!$F$9:$F$208,G81,'ABT Credit Balances'!$E$9:$E$208,$F$80,'ABT Credit Balances'!$C$9:$C$208,$B$83)","v":0},{"$f":"SUMIFS('ABT Credit Balances'!$D$9:$D$208,'ABT Credit Balances'!$B$9:$B$208,$C$79,'ABT Credit Balances'!$F$9:$F$208,H81,'ABT Credit Balances'!$E$9:$E$208,$F$80,'ABT Credit Balances'!$C$9:$C$208,$B$83)","v":0},{"$f":"SUMIFS('ABT Credit Balances'!$D$9:$D$208,'ABT Credit Balances'!$B$9:$B$208,$C$79,'ABT Credit Balances'!$F$9:$F$208,I81,'ABT Credit Balances'!$E$9:$E$208,$I$80,'ABT Credit Balances'!$C$9:$C$208,$B$83)","v":0},{"$f":"SUMIFS('ABT Credit Balances'!$D$9:$D$208,'ABT Credit Balances'!$B$9:$B$208,$C$79,'ABT Credit Balances'!$F$9:$F$208,J81,'ABT Credit Balances'!$E$9:$E$208,$I$80,'ABT Credit Balances'!$C$9:$C$208,$B$83)","v":0},{"$f":"SUMIFS('ABT Credit Balances'!$D$9:$D$208,'ABT Credit Balances'!$B$9:$B$208,$C$79,'ABT Credit Balances'!$F$9:$F$208,K81,'ABT Credit Balances'!$E$9:$E$208,$I$80,'ABT Credit Balances'!$C$9:$C$208,$B$83)","v":0},{"$f":"SUMIFS('ABT Credit Balances'!$D$9:$D$208,'ABT Credit Balances'!$B$9:$B$208,$C$79,'ABT Credit Balances'!$F$9:$F$208,L81,'ABT Credit Balances'!$E$9:$E$208,$L$80,'ABT Credit Balances'!$C$9:$C$208,$B$83)","v":0},{"$f":"SUMIFS('ABT Credit Balances'!$D$9:$D$208,'ABT Credit Balances'!$B$9:$B$208,$C$79,'ABT Credit Balances'!$F$9:$F$208,M81,'ABT Credit Balances'!$E$9:$E$208,$L$80,'ABT Credit Balances'!$C$9:$C$208,$B$83)","v":0},{"$f":"SUMIFS('ABT Credit Balances'!$D$9:$D$208,'ABT Credit Balances'!$B$9:$B$208,$C$79,'ABT Credit Balances'!$F$9:$F$208,N81,'ABT Credit Balances'!$E$9:$E$208,$L$80,'ABT Credit Balances'!$C$9:$C$208,$B$83)","v":0},{"$f":"SUMIFS('ABT Credit Balances'!$D$9:$D$208,'ABT Credit Balances'!$B$9:$B$208,$C$79,'ABT Credit Balances'!$F$9:$F$208,O81,'ABT Credit Balances'!$E$9:$E$208,$O$80,'ABT Credit Balances'!$C$9:$C$208,$B$83)","v":0},{"$f":"SUMIFS('ABT Credit Balances'!$D$9:$D$208,'ABT Credit Balances'!$B$9:$B$208,$C$79,'ABT Credit Balances'!$F$9:$F$208,P81,'ABT Credit Balances'!$E$9:$E$208,$O$80,'ABT Credit Balances'!$C$9:$C$208,$B$83)","v":0},{"$f":"SUMIFS('ABT Credit Balances'!$D$9:$D$208,'ABT Credit Balances'!$B$9:$B$208,$C$79,'ABT Credit Balances'!$F$9:$F$208,Q81,'ABT Credit Balances'!$E$9:$E$208,$O$80,'ABT Credit Balances'!$C$9:$C$208,$B$83)","v":0},{"$f":"SUMIFS('ABT Credit Balances'!$D$9:$D$208,'ABT Credit Balances'!$B$9:$B$208,$C$79,'ABT Credit Balances'!$F$9:$F$208,R81,'ABT Credit Balances'!$E$9:$E$208,$R$80,'ABT Credit Balances'!$C$9:$C$208,$B$83)","v":0},{"$f":"SUMIFS('ABT Credit Balances'!$D$9:$D$208,'ABT Credit Balances'!$B$9:$B$208,$C$79,'ABT Credit Balances'!$F$9:$F$208,S81,'ABT Credit Balances'!$E$9:$E$208,$R$80,'ABT Credit Balances'!$C$9:$C$208,$B$83)","v":0},{"$f":"SUMIFS('ABT Credit Balances'!$D$9:$D$208,'ABT Credit Balances'!$B$9:$B$208,$C$79,'ABT Credit Balances'!$F$9:$F$208,T81,'ABT Credit Balances'!$E$9:$E$208,$R$80,'ABT Credit Balances'!$C$9:$C$208,$B$83)","v":0},{"$f":"SUMIFS('ABT Credit Balances'!$D$9:$D$208,'ABT Credit Balances'!$B$9:$B$208,$C79,'ABT Credit Balances'!$F$9:$F$208,U81,'ABT Credit Balances'!$E$9:$E$208,$U$14,'ABT Credit Balances'!$C$9:$C$208,$B$17)","v":0},{"$f":"SUMIFS('ABT Credit Balances'!$D$9:$D$208,'ABT Credit Balances'!$B$9:$B$208,$C79,'ABT Credit Balances'!$F$9:$F$208,V81,'ABT Credit Balances'!$E$9:$E$208,$U$14,'ABT Credit Balances'!$C$9:$C$208,$B$17)","v":0},{"$f":"SUMIFS('ABT Credit Balances'!$D$9:$D$208,'ABT Credit Balances'!$B$9:$B$208,$C79,'ABT Credit Balances'!$F$9:$F$208,W81,'ABT Credit Balances'!$E$9:$E$208,$U$14,'ABT Credit Balances'!$C$9:$C$208,$B$17)","v":0},{"$f":"SUMIFS('ABT Credit Balances'!$D$9:$D$208,'ABT Credit Balances'!$B$9:$B$208,$C79,'ABT Credit Balances'!$F$9:$F$208,X81,'ABT Credit Balances'!$E$9:$E$208,$X$14,'ABT Credit Balances'!$C$9:$C$208,$B$17)","v":0},{"$f":"SUMIFS('ABT Credit Balances'!$D$9:$D$208,'ABT Credit Balances'!$B$9:$B$208,$C79,'ABT Credit Balances'!$F$9:$F$208,Y81,'ABT Credit Balances'!$E$9:$E$208,$X$14,'ABT Credit Balances'!$C$9:$C$208,$B$17)","v":0},{"$f":"SUMIFS('ABT Credit Balances'!$D$9:$D$208,'ABT Credit Balances'!$B$9:$B$208,$C79,'ABT Credit Balances'!$F$9:$F$208,Z81,'ABT Credit Balances'!$E$9:$E$208,$X$14,'ABT Credit Balances'!$C$9:$C$208,$B$17)","v":0},{"$f":"SUMIFS('ABT Credit Balances'!$D$9:$D$208,'ABT Credit Balances'!$B$9:$B$208,$C79,'ABT Credit Balances'!$F$9:$F$208,AA81,'ABT Credit Balances'!$E$9:$E$208,$AA$14,'ABT Credit Balances'!$C$9:$C$208,$B$17)","v":0},{"$f":"SUMIFS('ABT Credit Balances'!$D$9:$D$208,'ABT Credit Balances'!$B$9:$B$208,$C79,'ABT Credit Balances'!$F$9:$F$208,AB81,'ABT Credit Balances'!$E$9:$E$208,$AA$14,'ABT Credit Balances'!$C$9:$C$208,$B$17)","v":0},{"$f":"SUMIFS('ABT Credit Balances'!$D$9:$D$208,'ABT Credit Balances'!$B$9:$B$208,$C79,'ABT Credit Balances'!$F$9:$F$208,AC81,'ABT Credit Balances'!$E$9:$E$208,$AA$14,'ABT Credit Balances'!$C$9:$C$208,$B$17)","v":0},{"$f":"SUMIFS('ABT Credit Balances'!$D$9:$D$208,'ABT Credit Balances'!$B$9:$B$208,$C79,'ABT Credit Balances'!$F$9:$F$208,AD81,'ABT Credit Balances'!$E$9:$E$208,$AD$14,'ABT Credit Balances'!$C$9:$C$208,$B$17)","v":0},{"$f":"SUMIFS('ABT Credit Balances'!$D$9:$D$208,'ABT Credit Balances'!$B$9:$B$208,$C79,'ABT Credit Balances'!$F$9:$F$208,AE81,'ABT Credit Balances'!$E$9:$E$208,$AD$14,'ABT Credit Balances'!$C$9:$C$208,$B$17)","v":0},{"$f":"SUMIFS('ABT Credit Balances'!$D$9:$D$208,'ABT Credit Balances'!$B$9:$B$208,$C79,'ABT Credit Balances'!$F$9:$F$208,AF81,'ABT Credit Balances'!$E$9:$E$208,$AD$14,'ABT Credit Balances'!$C$9:$C$208,$B$17)","v":0},{"$f":"SUMIFS('ABT Credit Balances'!$D$9:$D$208,'ABT Credit Balances'!$B$9:$B$208,$C79,'ABT Credit Balances'!$F$9:$F$208,AG81,'ABT Credit Balances'!$E$9:$E$208,$AG$14,'ABT Credit Balances'!$C$9:$C$208,$B$17)","v":0},{"$f":"SUMIFS('ABT Credit Balances'!$D$9:$D$208,'ABT Credit Balances'!$B$9:$B$208,$C79,'ABT Credit Balances'!$F$9:$F$208,AH81,'ABT Credit Balances'!$E$9:$E$208,$AG$14,'ABT Credit Balances'!$C$9:$C$208,$B$17)","v":0},{"$f":"SUMIFS('ABT Credit Balances'!$D$9:$D$208,'ABT Credit Balances'!$B$9:$B$208,$C79,'ABT Credit Balances'!$F$9:$F$208,AI81,'ABT Credit Balances'!$E$9:$E$208,$AG$14,'ABT Credit Balances'!$C$9:$C$208,$B$17)","v":0},{"$f":"SUMIFS('ABT Credit Balances'!$D$9:$D$208,'ABT Credit Balances'!$B$9:$B$208,$C79,'ABT Credit Balances'!$F$9:$F$208,AJ81,'ABT Credit Balances'!$E$9:$E$208,$AJ$14,'ABT Credit Balances'!$C$9:$C$208,$B$17)","v":0},{"$f":"SUMIFS('ABT Credit Balances'!$D$9:$D$208,'ABT Credit Balances'!$B$9:$B$208,$C79,'ABT Credit Balances'!$F$9:$F$208,AK81,'ABT Credit Balances'!$E$9:$E$208,$AJ$14,'ABT Credit Balances'!$C$9:$C$208,$B$17)","v":0},{"$f":"SUMIFS('ABT Credit Balances'!$D$9:$D$208,'ABT Credit Balances'!$B$9:$B$208,$C79,'ABT Credit Balances'!$F$9:$F$208,AL81,'ABT Credit Balances'!$E$9:$E$208,$AJ$14,'ABT Credit Balances'!$C$9:$C$208,$B$17)","v":0},{"$f":"SUMIFS('ABT Credit Balances'!$D$9:$D$208,'ABT Credit Balances'!$B$9:$B$208,$C79,'ABT Credit Balances'!$F$9:$F$208,AM81,'ABT Credit Balances'!$E$9:$E$208,$AM$14,'ABT Credit Balances'!$C$9:$C$208,$B$17)","v":0},{"$f":"SUMIFS('ABT Credit Balances'!$D$9:$D$208,'ABT Credit Balances'!$B$9:$B$208,$C79,'ABT Credit Balances'!$F$9:$F$208,AN81,'ABT Credit Balances'!$E$9:$E$208,$AM$14,'ABT Credit Balances'!$C$9:$C$208,$B$17)","v":0},{"$f":"SUMIFS('ABT Credit Balances'!$D$9:$D$208,'ABT Credit Balances'!$B$9:$B$208,$C79,'ABT Credit Balances'!$F$9:$F$208,AO81,'ABT Credit Balances'!$E$9:$E$208,$AM$14,'ABT Credit Balances'!$C$9:$C$208,$B$17)","v":0},{"$f":"SUMIFS('ABT Credit Balances'!$D$9:$D$208,'ABT Credit Balances'!$B$9:$B$208,$C79,'ABT Credit Balances'!$F$9:$F$208,AP81,'ABT Credit Balances'!$E$9:$E$208,$AP$14,'ABT Credit Balances'!$C$9:$C$208,$B$17)","v":0},{"$f":"SUMIFS('ABT Credit Balances'!$D$9:$D$208,'ABT Credit Balances'!$B$9:$B$208,$C79,'ABT Credit Balances'!$F$9:$F$208,AQ81,'ABT Credit Balances'!$E$9:$E$208,$AP$14,'ABT Credit Balances'!$C$9:$C$208,$B$17)","v":0},{"$f":"SUMIFS('ABT Credit Balances'!$D$9:$D$208,'ABT Credit Balances'!$B$9:$B$208,$C79,'ABT Credit Balances'!$F$9:$F$208,AR81,'ABT Credit Balances'!$E$9:$E$208,$AP$14,'ABT Credit Balances'!$C$9:$C$208,$B$17)","v":0},{"$f":"SUMIFS('ABT Credit Balances'!$D$9:$D$208,'ABT Credit Balances'!$B$9:$B$208,$C$79,'ABT Credit Balances'!$F$9:$F$208,AS81,'ABT Credit Balances'!$E$9:$E$208,$AS$80,'ABT Credit Balances'!$C$9:$C$208,$B$83)","v":0},{"$f":"SUMIFS('ABT Credit Balances'!$D$9:$D$208,'ABT Credit Balances'!$B$9:$B$208,$C$79,'ABT Credit Balances'!$F$9:$F$208,AT81,'ABT Credit Balances'!$E$9:$E$208,$AS$80,'ABT Credit Balances'!$C$9:$C$208,$B$83)","v":0},{"$f":"SUMIFS('ABT Credit Balances'!$D$9:$D$208,'ABT Credit Balances'!$B$9:$B$208,$C$79,'ABT Credit Balances'!$F$9:$F$208,AU81,'ABT Credit Balances'!$E$9:$E$208,$AS$80,'ABT Credit Balances'!$C$9:$C$208,$B$83)","v":0}]
[null,"Applied Banked Credits (out)",{"$f":"SUMIFS('ABT Transactions'!$B$9:$B$40,'ABT Transactions'!$G$9:$G$40,$C$79,'ABT Transactions'!$F$9:$F$40,$C80,'ABT Transactions'!$C$9:$C$40,C81,'ABT Transactions'!$D$9:$D$40,$B$84)","v":0},{"$f":"SUMIFS('ABT Transactions'!$B$9:$B$40,'ABT Transactions'!$G$9:$G$40,$C$79,'ABT Transactions'!$F$9:$F$40,$C80,'ABT Transactions'!$C$9:$C$40,D81,'ABT Transactions'!$D$9:$D$40,$B$84)","v":0},{"$f":"SUMIFS('ABT Transactions'!$B$9:$B$40,'ABT Transactions'!$G$9:$G$40,$C$79,'ABT Transactions'!$F$9:$F$40,$C80,'ABT Transactions'!$C$9:$C$40,E81,'ABT Transactions'!$D$9:$D$40,$B$84)","v":0},{"$f":"SUMIFS('ABT Transactions'!$B$9:$B$40,'ABT Transactions'!$G$9:$G$40,$C$79,'ABT Transactions'!$F$9:$F$40,$F80,'ABT Transactions'!$C$9:$C$40,F81,'ABT Transactions'!$D$9:$D$40,$B$84)","v":0},{"$f":"SUMIFS('ABT Transactions'!$B$9:$B$40,'ABT Transactions'!$G$9:$G$40,$C$79,'ABT Transactions'!$F$9:$F$40,$F80,'ABT Transactions'!$C$9:$C$40,G81,'ABT Transactions'!$D$9:$D$40,$B$84)","v":0},{"$f":"SUMIFS('ABT Transactions'!$B$9:$B$40,'ABT Transactions'!$G$9:$G$40,$C$79,'ABT Transactions'!$F$9:$F$40,$F80,'ABT Transactions'!$C$9:$C$40,H81,'ABT Transactions'!$D$9:$D$40,$B$84)","v":0},{"$f":"SUMIFS('ABT Transactions'!$B$9:$B$40,'ABT Transactions'!$G$9:$G$40,$C$79,'ABT Transactions'!$F$9:$F$40,$I80,'ABT Transactions'!$C$9:$C$40,I81,'ABT Transactions'!$D$9:$D$40,$B$84)","v":0},{"$f":"SUMIFS('ABT Transactions'!$B$9:$B$40,'ABT Transactions'!$G$9:$G$40,$C$79,'ABT Transactions'!$F$9:$F$40,$I80,'ABT Transactions'!$C$9:$C$40,J81,'ABT Transactions'!$D$9:$D$40,$B$84)","v":0},{"$f":"SUMIFS('ABT Transactions'!$B$9:$B$40,'ABT Transactions'!$G$9:$G$40,$C$79,'ABT Transactions'!$F$9:$F$40,$I80,'ABT Transactions'!$C$9:$C$40,K81,'ABT Transactions'!$D$9:$D$40,$B$84)","v":0},{"$f":"SUMIFS('ABT Transactions'!$B$9:$B$40,'ABT Transactions'!$G$9:$G$40,$C$79,'ABT Transactions'!$F$9:$F$40,$L80,'ABT Transactions'!$C$9:$C$40,L81,'ABT Transactions'!$D$9:$D$40,$B$84)","v":0},{"$f":"SUMIFS('ABT Transactions'!$B$9:$B$40,'ABT Transactions'!$G$9:$G$40,$C$79,'ABT Transactions'!$F$9:$F$40,$L80,'ABT Transactions'!$C$9:$C$40,M81,'ABT Transactions'!$D$9:$D$40,$B$84)","v":0},{"$f":"SUMIFS('ABT Transactions'!$B$9:$B$40,'ABT Transactions'!$G$9:$G$40,$C$79,'ABT Transactions'!$F$9:$F$40,$L80,'ABT Transactions'!$C$9:$C$40,N81,'ABT Transactions'!$D$9:$D$40,$B$84)","v":0},{"$f":"SUMIFS('ABT Transactions'!$B$9:$B$40,'ABT Transactions'!$G$9:$G$40,$C$79,'ABT Transactions'!$F$9:$F$40,$O80,'ABT Transactions'!$C$9:$C$40,O81,'ABT Transactions'!$D$9:$D$40,$B$84)","v":0},{"$f":"SUMIFS('ABT Transactions'!$B$9:$B$40,'ABT Transactions'!$G$9:$G$40,$C$79,'ABT Transactions'!$F$9:$F$40,$O80,'ABT Transactions'!$C$9:$C$40,P81,'ABT Transactions'!$D$9:$D$40,$B$84)","v":0},{"$f":"SUMIFS('ABT Transactions'!$B$9:$B$40,'ABT Transactions'!$G$9:$G$40,$C$79,'ABT Transactions'!$F$9:$F$40,$O80,'ABT Transactions'!$C$9:$C$40,Q81,'ABT Transactions'!$D$9:$D$40,$B$84)","v":0},{"$f":"SUMIFS('ABT Transactions'!$B$9:$B$40,'ABT Transactions'!$G$9:$G$40,$C$79,'ABT Transactions'!$F$9:$F$40,$R80,'ABT Transactions'!$C$9:$C$40,R81,'ABT Transactions'!$D$9:$D$40,$B$84)","v":0},{"$f":"SUMIFS('ABT Transactions'!$B$9:$B$40,'ABT Transactions'!$G$9:$G$40,$C$79,'ABT Transactions'!$F$9:$F$40,$R80,'ABT Transactions'!$C$9:$C$40,S81,'ABT Transactions'!$D$9:$D$40,$B$84)","v":0},{"$f":"SUMIFS('ABT Transactions'!$B$9:$B$40,'ABT Transactions'!$G$9:$G$40,$C$79,'ABT Transactions'!$F$9:$F$40,$R80,'ABT Transactions'!$C$9:$C$40,T81,'ABT Transactions'!$D$9:$D$40,$B$84)","v":0},{"$f":"SUMIFS('ABT Transactions'!$B$9:$B$40,'ABT Transactions'!$G$9:$G$40,$C79,'ABT Transactions'!$F$9:$F$40,$U$14,'ABT Transactions'!$C$9:$C$40,U81,'ABT Transactions'!$D$9:$D$40,$B$18)","v":0},{"$f":"SUMIFS('ABT Transactions'!$B$9:$B$40,'ABT Transactions'!$G$9:$G$40,$C79,'ABT Transactions'!$F$9:$F$40,$U$14,'ABT Transactions'!$C$9:$C$40,V81,'ABT Transactions'!$D$9:$D$40,$B$18)","v":0},{"$f":"SUMIFS('ABT Transactions'!$B$9:$B$40,'ABT Transactions'!$G$9:$G$40,$C79,'ABT Transactions'!$F$9:$F$40,$U$14,'ABT Transactions'!$C$9:$C$40,W81,'ABT Transactions'!$D$9:$D$40,$B$18)","v":0},{"$f":"SUMIFS('ABT Transactions'!$B$9:$B$40,'ABT Transactions'!$G$9:$G$40,$C79,'ABT Transactions'!$F$9:$F$40,$X$14,'ABT Transactions'!$C$9:$C$40,X81,'ABT Transactions'!$D$9:$D$40,$B$18)","v":0},{"$f":"SUMIFS('ABT Transactions'!$B$9:$B$40,'ABT Transactions'!$G$9:$G$40,$C79,'ABT Transactions'!$F$9:$F$40,$X$14,'ABT Transactions'!$C$9:$C$40,Y81,'ABT Transactions'!$D$9:$D$40,$B$18)","v":0},{"$f":"SUMIFS('ABT Transactions'!$B$9:$B$40,'ABT Transactions'!$G$9:$G$40,$C79,'ABT Transactions'!$F$9:$F$40,$X$14,'ABT Transactions'!$C$9:$C$40,Z81,'ABT Transactions'!$D$9:$D$40,$B$18)","v":0},{"$f":"SUMIFS('ABT Transactions'!$B$9:$B$40,'ABT Transactions'!$G$9:$G$40,$C79,'ABT Transactions'!$F$9:$F$40,$AA$14,'ABT Transactions'!$C$9:$C$40,AA81,'ABT Transactions'!$D$9:$D$40,$B$18)","v":0},{"$f":"SUMIFS('ABT Transactions'!$B$9:$B$40,'ABT Transactions'!$G$9:$G$40,$C79,'ABT Transactions'!$F$9:$F$40,$AA$14,'ABT Transactions'!$C$9:$C$40,AB81,'ABT Transactions'!$D$9:$D$40,$B$18)","v":0},{"$f":"SUMIFS('ABT Transactions'!$B$9:$B$40,'ABT Transactions'!$G$9:$G$40,$C79,'ABT Transactions'!$F$9:$F$40,$AA$14,'ABT Transactions'!$C$9:$C$40,AC81,'ABT Transactions'!$D$9:$D$40,$B$18)","v":0},{"$f":"SUMIFS('ABT Transactions'!$B$9:$B$40,'ABT Transactions'!$G$9:$G$40,$C79,'ABT Transactions'!$F$9:$F$40,$AD$14,'ABT Transactions'!$C$9:$C$40,AD81,'ABT Transactions'!$D$9:$D$40,$B$18)","v":0},{"$f":"SUMIFS('ABT Transactions'!$B$9:$B$40,'ABT Transactions'!$G$9:$G$40,$C79,'ABT Transactions'!$F$9:$F$40,$AD$14,'ABT Transactions'!$C$9:$C$40,AE81,'ABT Transactions'!$D$9:$D$40,$B$18)","v":0},{"$f":"SUMIFS('ABT Transactions'!$B$9:$B$40,'ABT Transactions'!$G$9:$G$40,$C79,'ABT Transactions'!$F$9:$F$40,$AD$14,'ABT Transactions'!$C$9:$C$40,AF81,'ABT Transactions'!$D$9:$D$40,$B$18)","v":0},{"$f":"SUMIFS('ABT Transactions'!$B$9:$B$40,'ABT Transactions'!$G$9:$G$40,$C79,'ABT Transactions'!$F$9:$F$40,$AG$14,'ABT Transactions'!$C$9:$C$40,AG81,'ABT Transactions'!$D$9:$D$40,$B$18)","v":0},{"$f":"SUMIFS('ABT Transactions'!$B$9:$B$40,'ABT Transactions'!$G$9:$G$40,$C79,'ABT Transactions'!$F$9:$F$40,$AG$14,'ABT Transactions'!$C$9:$C$40,AH81,'ABT Transactions'!$D$9:$D$40,$B$18)","v":0},{"$f":"SUMIFS('ABT Transactions'!$B$9:$B$40,'ABT Transactions'!$G$9:$G$40,$C79,'ABT Transactions'!$F$9:$F$40,$AG$14,'ABT Transactions'!$C$9:$C$40,AI81,'ABT Transactions'!$D$9:$D$40,$B$18)","v":0},{"$f":"SUMIFS('ABT Transactions'!$B$9:$B$40,'ABT Transactions'!$G$9:$G$40,$C79,'ABT Transactions'!$F$9:$F$40,$AJ$14,'ABT Transactions'!$C$9:$C$40,AJ81,'ABT Transactions'!$D$9:$D$40,$B$18)","v":0},{"$f":"SUMIFS('ABT Transactions'!$B$9:$B$40,'ABT Transactions'!$G$9:$G$40,$C79,'ABT Transactions'!$F$9:$F$40,$AJ$14,'ABT Transactions'!$C$9:$C$40,AK81,'ABT Transactions'!$D$9:$D$40,$B$18)","v":0},{"$f":"SUMIFS('ABT Transactions'!$B$9:$B$40,'ABT Transactions'!$G$9:$G$40,$C79,'ABT Transactions'!$F$9:$F$40,$AJ$14,'ABT Transactions'!$C$9:$C$40,AL81,'ABT Transactions'!$D$9:$D$40,$B$18)","v":0},{"$f":"SUMIFS('ABT Transactions'!$B$9:$B$40,'ABT Transactions'!$G$9:$G$40,$C79,'ABT Transactions'!$F$9:$F$40,$AM$14,'ABT Transactions'!$C$9:$C$40,AM81,'ABT Transactions'!$D$9:$D$40,$B$18)","v":0},{"$f":"SUMIFS('ABT Transactions'!$B$9:$B$40,'ABT Transactions'!$G$9:$G$40,$C79,'ABT Transactions'!$F$9:$F$40,$AM$14,'ABT Transactions'!$C$9:$C$40,AN81,'ABT Transactions'!$D$9:$D$40,$B$18)","v":0},{"$f":"SUMIFS('ABT Transactions'!$B$9:$B$40,'ABT Transactions'!$G$9:$G$40,$C79,'ABT Transactions'!$F$9:$F$40,$AM$14,'ABT Transactions'!$C$9:$C$40,AO81,'ABT Transactions'!$D$9:$D$40,$B$18)","v":0},{"$f":"SUMIFS('ABT Transactions'!$B$9:$B$40,'ABT Transactions'!$G$9:$G$40,$C79,'ABT Transactions'!$F$9:$F$40,$AP$14,'ABT Transactions'!$C$9:$C$40,AP81,'ABT Transactions'!$D$9:$D$40,$B$18)","v":0},{"$f":"SUMIFS('ABT Transactions'!$B$9:$B$40,'ABT Transactions'!$G$9:$G$40,$C79,'ABT Transactions'!$F$9:$F$40,$AP$14,'ABT Transactions'!$C$9:$C$40,AQ81,'ABT Transactions'!$D$9:$D$40,$B$18)","v":0},{"$f":"SUMIFS('ABT Transactions'!$B$9:$B$40,'ABT Transactions'!$G$9:$G$40,$C79,'ABT Transactions'!$F$9:$F$40,$AP$14,'ABT Transactions'!$C$9:$C$40,AR81,'ABT Transactions'!$D$9:$D$40,$B$18)","v":0},{"$f":"SUMIFS('ABT Transactions'!$B$9:$B$40,'ABT Transactions'!$G$9:$G$40,$C$79,'ABT Transactions'!$F$9:$F$40,$AS80,'ABT Transactions'!$C$9:$C$40,AS81,'ABT Transactions'!$D$9:$D$40,$B$84)","v":0},{"$f":"SUMIFS('ABT Transactions'!$B$9:$B$40,'ABT Transactions'!$G$9:$G$40,$C$79,'ABT Transactions'!$F$9:$F$40,$AS80,'ABT Transactions'!$C$9:$C$40,AT81,'ABT Transactions'!$D$9:$D$40,$B$84)","v":0},{"$f":"SUMIFS('ABT Transactions'!$B$9:$B$40,'ABT Transactions'!$G$9:$G$40,$C$79,'ABT Transactions'!$F$9:$F$40,$AS80,'ABT Transactions'!$C$9:$C$40,AU81,'ABT Transactions'!$D$9:$D$40,$B$84)","v":0}]
[null,"Applied Banked Credits (in)",{"$f":"SUMIFS('ABT Transactions'!$B$9:$B$40,'ABT Transactions'!$J$9:$J$40,$C$79,'ABT Transactions'!$I$9:$I$40,$C$80,'ABT Transactions'!$C$9:$C$40,C81,'ABT Transactions'!$D$9:$D$40,$B$85)","v":0},{"$f":"SUMIFS('ABT Transactions'!$B$9:$B$40,'ABT Transactions'!$J$9:$J$40,$C$79,'ABT Transactions'!$I$9:$I$40,$C$80,'ABT Transactions'!$C$9:$C$40,D81,'ABT Transactions'!$D$9:$D$40,$B$85)","v":0},{"$f":"SUMIFS('ABT Transactions'!$B$9:$B$40,'ABT Transactions'!$J$9:$J$40,$C$79,'ABT Transactions'!$I$9:$I$40,$C$80,'ABT Transactions'!$C$9:$C$40,E81,'ABT Transactions'!$D$9:$D$40,$B$85)","v":0},{"$f":"SUMIFS('ABT Transactions'!$B$9:$B$40,'ABT Transactions'!$J$9:$J$40,$C$79,'ABT Transactions'!$I$9:$I$40,$F$80,'ABT Transactions'!$C$9:$C$40,F81,'ABT Transactions'!$D$9:$D$40,$B$85)","v":0},{"$f":"SUMIFS('ABT Transactions'!$B$9:$B$40,'ABT Transactions'!$J$9:$J$40,$C$79,'ABT Transactions'!$I$9:$I$40,$F$80,'ABT Transactions'!$C$9:$C$40,G81,'ABT Transactions'!$D$9:$D$40,$B$85)","v":0},{"$f":"SUMIFS('ABT Transactions'!$B$9:$B$40,'ABT Transactions'!$J$9:$J$40,$C$79,'ABT Transactions'!$I$9:$I$40,$F$80,'ABT Transactions'!$C$9:$C$40,H81,'ABT Transactions'!$D$9:$D$40,$B$85)","v":0},{"$f":"SUMIFS('ABT Transactions'!$B$9:$B$40,'ABT Transactions'!$J$9:$J$40,$C$79,'ABT Transactions'!$I$9:$I$40,$I$80,'ABT Transactions'!$C$9:$C$40,I81,'ABT Transactions'!$D$9:$D$40,$B$85)","v":0},{"$f":"SUMIFS('ABT Transactions'!$B$9:$B$40,'ABT Transactions'!$J$9:$J$40,$C$79,'ABT Transactions'!$I$9:$I$40,$I$80,'ABT Transactions'!$C$9:$C$40,J81,'ABT Transactions'!$D$9:$D$40,$B$85)","v":0},{"$f":"SUMIFS('ABT Transactions'!$B$9:$B$40,'ABT Transactions'!$J$9:$J$40,$C$79,'ABT Transactions'!$I$9:$I$40,$I$80,'ABT Transactions'!$C$9:$C$40,K81,'ABT Transactions'!$D$9:$D$40,$B$85)","v":0},{"$f":"SUMIFS('ABT Transactions'!$B$9:$B$40,'ABT Transactions'!$J$9:$J$40,$C$79,'ABT Transactions'!$I$9:$I$40,$L$80,'ABT Transactions'!$C$9:$C$40,L81,'ABT Transactions'!$D$9:$D$40,$B$85)","v":0},{"$f":"SUMIFS('ABT Transactions'!$B$9:$B$40,'ABT Transactions'!$J$9:$J$40,$C$79,'ABT Transactions'!$I$9:$I$40,$L$80,'ABT Transactions'!$C$9:$C$40,M81,'ABT Transactions'!$D$9:$D$40,$B$85)","v":0},{"$f":"SUMIFS('ABT Transactions'!$B$9:$B$40,'ABT Transactions'!$J$9:$J$40,$C$79,'ABT Transactions'!$I$9:$I$40,$L$80,'ABT Transactions'!$C$9:$C$40,N81,'ABT Transactions'!$D$9:$D$40,$B$85)","v":0},{"$f":"SUMIFS('ABT Transactions'!$B$9:$B$40,'ABT Transactions'!$J$9:$J$40,$C$79,'ABT Transactions'!$I$9:$I$40,$O$80,'ABT Transactions'!$C$9:$C$40,O81,'ABT Transactions'!$D$9:$D$40,$B$85)","v":0},{"$f":"SUMIFS('ABT Transactions'!$B$9:$B$40,'ABT Transactions'!$J$9:$J$40,$C$79,'ABT Transactions'!$I$9:$I$40,$O$80,'ABT Transactions'!$C$9:$C$40,P81,'ABT Transactions'!$D$9:$D$40,$B$85)","v":0},{"$f":"SUMIFS('ABT Transactions'!$B$9:$B$40,'ABT Transactions'!$J$9:$J$40,$C$79,'ABT Transactions'!$I$9:$I$40,$O$80,'ABT Transactions'!$C$9:$C$40,Q81,'ABT Transactions'!$D$9:$D$40,$B$85)","v":0},{"$f":"SUMIFS('ABT Transactions'!$B$9:$B$40,'ABT Transactions'!$J$9:$J$40,$C$79,'ABT Transactions'!$I$9:$I$40,$R$80,'ABT Transactions'!$C$9:$C$40,R81,'ABT Transactions'!$D$9:$D$40,$B$85)","v":0},{"$f":"SUMIFS('ABT Transactions'!$B$9:$B$40,'ABT Transactions'!$J$9:$J$40,$C$79,'ABT Transactions'!$I$9:$I$40,$R$80,'ABT Transactions'!$C$9:$C$40,S81,'ABT Transactions'!$D$9:$D$40,$B$85)","v":0},{"$f":"SUMIFS('ABT Transactions'!$B$9:$B$40,'ABT Transactions'!$J$9:$J$40,$C$79,'ABT Transactions'!$I$9:$I$40,$R$80,'ABT Transactions'!$C$9:$C$40,T81,'ABT Transactions'!$D$9:$D$40,$B$85)","v":0},{"$f":"SUMIFS('ABT Transactions'!$B$9:$B$40,'ABT Transactions'!$J$9:$J$40,$C79,'ABT Transactions'!$I$9:$I$40,$U$14,'ABT Transactions'!$C$9:$C$40,U81,'ABT Transactions'!$D$9:$D$40,$B$19)","v":0},{"$f":"SUMIFS('ABT Transactions'!$B$9:$B$40,'ABT Transactions'!$J$9:$J$40,$C79,'ABT Transactions'!$I$9:$I$40,$U$14,'ABT Transactions'!$C$9:$C$40,V81,'ABT Transactions'!$D$9:$D$40,$B$19)","v":0},{"$f":"SUMIFS('ABT Transactions'!$B$9:$B$40,'ABT Transactions'!$J$9:$J$40,$C79,'ABT Transactions'!$I$9:$I$40,$U$14,'ABT Transactions'!$C$9:$C$40,W81,'ABT Transactions'!$D$9:$D$40,$B$19)","v":0},{"$f":"SUMIFS('ABT Transactions'!$B$9:$B$40,'ABT Transactions'!$J$9:$J$40,$C79,'ABT Transactions'!$I$9:$I$40,$X$14,'ABT Transactions'!$C$9:$C$40,X81,'ABT Transactions'!$D$9:$D$40,$B$19)","v":0},{"$f":"SUMIFS('ABT Transactions'!$B$9:$B$40,'ABT Transactions'!$J$9:$J$40,$C79,'ABT Transactions'!$I$9:$I$40,$X$14,'ABT Transactions'!$C$9:$C$40,Y81,'ABT Transactions'!$D$9:$D$40,$B$19)","v":0},{"$f":"SUMIFS('ABT Transactions'!$B$9:$B$40,'ABT Transactions'!$J$9:$J$40,$C79,'ABT Transactions'!$I$9:$I$40,$X$14,'ABT Transactions'!$C$9:$C$40,Z81,'ABT Transactions'!$D$9:$D$40,$B$19)","v":0},{"$f":"SUMIFS('ABT Transactions'!$B$9:$B$40,'ABT Transactions'!$J$9:$J$40,$C79,'ABT Transactions'!$I$9:$I$40,$AA$14,'ABT Transactions'!$C$9:$C$40,AA81,'ABT Transactions'!$D$9:$D$40,$B$19)","v":0},{"$f":"SUMIFS('ABT Transactions'!$B$9:$B$40,'ABT Transactions'!$J$9:$J$40,$C79,'ABT Transactions'!$I$9:$I$40,$AA$14,'ABT Transactions'!$C$9:$C$40,AB81,'ABT Transactions'!$D$9:$D$40,$B$19)","v":0},{"$f":"SUMIFS('ABT Transactions'!$B$9:$B$40,'ABT Transactions'!$J$9:$J$40,$C79,'ABT Transactions'!$I$9:$I$40,$AA$14,'ABT Transactions'!$C$9:$C$40,AC81,'ABT Transactions'!$D$9:$D$40,$B$19)","v":0},{"$f":"SUMIFS('ABT Transactions'!$B$9:$B$40,'ABT Transactions'!$J$9:$J$40,$C79,'ABT Transactions'!$I$9:$I$40,$AD$14,'ABT Transactions'!$C$9:$C$40,AD81,'ABT Transactions'!$D$9:$D$40,$B$19)","v":0},{"$f":"SUMIFS('ABT Transactions'!$B$9:$B$40,'ABT Transactions'!$J$9:$J$40,$C79,'ABT Transactions'!$I$9:$I$40,$AD$14,'ABT Transactions'!$C$9:$C$40,AE81,'ABT Transactions'!$D$9:$D$40,$B$19)","v":0},{"$f":"SUMIFS('ABT Transactions'!$B$9:$B$40,'ABT Transactions'!$J$9:$J$40,$C79,'ABT Transactions'!$I$9:$I$40,$AD$14,'ABT Transactions'!$C$9:$C$40,AF81,'ABT Transactions'!$D$9:$D$40,$B$19)","v":0},{"$f":"SUMIFS('ABT Transactions'!$B$9:$B$40,'ABT Transactions'!$J$9:$J$40,$C79,'ABT Transactions'!$I$9:$I$40,$AG$14,'ABT Transactions'!$C$9:$C$40,AG81,'ABT Transactions'!$D$9:$D$40,$B$19)","v":0},{"$f":"SUMIFS('ABT Transactions'!$B$9:$B$40,'ABT Transactions'!$J$9:$J$40,$C79,'ABT Transactions'!$I$9:$I$40,$AG$14,'ABT Transactions'!$C$9:$C$40,AH81,'ABT Transactions'!$D$9:$D$40,$B$19)","v":0},{"$f":"SUMIFS('ABT Transactions'!$B$9:$B$40,'ABT Transactions'!$J$9:$J$40,$C79,'ABT Transactions'!$I$9:$I$40,$AG$14,'ABT Transactions'!$C$9:$C$40,AI81,'ABT Transactions'!$D$9:$D$40,$B$19)","v":0},{"$f":"SUMIFS('ABT Transactions'!$B$9:$B$40,'ABT Transactions'!$J$9:$J$40,$C79,'ABT Transactions'!$I$9:$I$40,$AJ$14,'ABT Transactions'!$C$9:$C$40,AJ81,'ABT Transactions'!$D$9:$D$40,$B$19)","v":0},{"$f":"SUMIFS('ABT Transactions'!$B$9:$B$40,'ABT Transactions'!$J$9:$J$40,$C79,'ABT Transactions'!$I$9:$I$40,$AJ$14,'ABT Transactions'!$C$9:$C$40,AK81,'ABT Transactions'!$D$9:$D$40,$B$19)","v":0},{"$f":"SUMIFS('ABT Transactions'!$B$9:$B$40,'ABT Transactions'!$J$9:$J$40,$C79,'ABT Transactions'!$I$9:$I$40,$AJ$14,'ABT Transactions'!$C$9:$C$40,AL81,'ABT Transactions'!$D$9:$D$40,$B$19)","v":0},{"$f":"SUMIFS('ABT Transactions'!$B$9:$B$40,'ABT Transactions'!$J$9:$J$40,$C79,'ABT Transactions'!$I$9:$I$40,$AM$14,'ABT Transactions'!$C$9:$C$40,AM81,'ABT Transactions'!$D$9:$D$40,$B$19)","v":0},{"$f":"SUMIFS('ABT Transactions'!$B$9:$B$40,'ABT Transactions'!$J$9:$J$40,$C79,'ABT Transactions'!$I$9:$I$40,$AM$14,'ABT Transactions'!$C$9:$C$40,AN81,'ABT Transactions'!$D$9:$D$40,$B$19)","v":0},{"$f":"SUMIFS('ABT Transactions'!$B$9:$B$40,'ABT Transactions'!$J$9:$J$40,$C79,'ABT Transactions'!$I$9:$I$40,$AM$14,'ABT Transactions'!$C$9:$C$40,AO81,'ABT Transactions'!$D$9:$D$40,$B$19)","v":0},{"$f":"SUMIFS('ABT Transactions'!$B$9:$B$40,'ABT Transactions'!$J$9:$J$40,$C79,'ABT Transactions'!$I$9:$I$40,$AP$14,'ABT Transactions'!$C$9:$C$40,AP81,'ABT Transactions'!$D$9:$D$40,$B$19)","v":0},{"$f":"SUMIFS('ABT Transactions'!$B$9:$B$40,'ABT Transactions'!$J$9:$J$40,$C79,'ABT Transactions'!$I$9:$I$40,$AP$14,'ABT Transactions'!$C$9:$C$40,AQ81,'ABT Transactions'!$D$9:$D$40,$B$19)","v":0},{"$f":"SUMIFS('ABT Transactions'!$B$9:$B$40,'ABT Transactions'!$J$9:$J$40,$C79,'ABT Transactions'!$I$9:$I$40,$AP$14,'ABT Transactions'!$C$9:$C$40,AR81,'ABT Transactions'!$D$9:$D$40,$B$19)","v":0},{"$f":"SUMIFS('ABT Transactions'!$B$9:$B$40,'ABT Transactions'!$J$9:$J$40,$C$79,'ABT Transactions'!$I$9:$I$40,$AS$80,'ABT Transactions'!$C$9:$C$40,AS81,'ABT Transactions'!$D$9:$D$40,$B$85)","v":0},{"$f":"SUMIFS('ABT Transactions'!$B$9:$B$40,'ABT Transactions'!$J$9:$J$40,$C$79,'ABT Transactions'!$I$9:$I$40,$AS$80,'ABT Transactions'!$C$9:$C$40,AT81,'ABT Transactions'!$D$9:$D$40,$B$85)","v":0},{"$f":"SUMIFS('ABT Transactions'!$B$9:$B$40,'ABT Transactions'!$J$9:$J$40,$C$79,'ABT Transactions'!$I$9:$I$40,$AS$80,'ABT Transactions'!$C$9:$C$40,AU81,'ABT Transactions'!$D$9:$D$40,$B$85)","v":0}]
[null,"Trade Out",{"$f":"SUMIFS('ABT Transactions'!$B$9:$B$40,'ABT Transactions'!$G$9:$G$40,$C$79,'ABT Transactions'!$F$9:$F$40,$C$80,'ABT Transactions'!$C$9:$C$40,C$81,'ABT Transactions'!$D$9:$D$40,$B$86)","v":0},{"$f":"SUMIFS('ABT Transactions'!$B$9:$B$40,'ABT Transactions'!$G$9:$G$40,$C$79,'ABT Transactions'!$F$9:$F$40,$C$80,'ABT Transactions'!$C$9:$C$40,D$81,'ABT Transactions'!$D$9:$D$40,$B$86)","v":0},{"$f":"SUMIFS('ABT Transactions'!$B$9:$B$40,'ABT Transactions'!$G$9:$G$40,$C$79,'ABT Transactions'!$F$9:$F$40,$C$80,'ABT Transactions'!$C$9:$C$40,E$81,'ABT Transactions'!$D$9:$D$40,$B$86)","v":0},{"$f":"SUMIFS('ABT Transactions'!$B$9:$B$40,'ABT Transactions'!$G$9:$G$40,$C$79,'ABT Transactions'!$F$9:$F$40,$F$80,'ABT Transactions'!$C$9:$C$40,F$81,'ABT Transactions'!$D$9:$D$40,$B$86)","v":0},{"$f":"SUMIFS('ABT Transactions'!$B$9:$B$40,'ABT Transactions'!$G$9:$G$40,$C$79,'ABT Transactions'!$F$9:$F$40,$F$80,'ABT Transactions'!$C$9:$C$40,G$81,'ABT Transactions'!$D$9:$D$40,$B$86)","v":0},{"$f":"SUMIFS('ABT Transactions'!$B$9:$B$40,'ABT Transactions'!$G$9:$G$40,$C$79,'ABT Transactions'!$F$9:$F$40,$F$80,'ABT Transactions'!$C$9:$C$40,H$81,'ABT Transactions'!$D$9:$D$40,$B$86)","v":0},{"$f":"SUMIFS('ABT Transactions'!$B$9:$B$40,'ABT Transactions'!$G$9:$G$40,$C$79,'ABT Transactions'!$F$9:$F$40,$I$80,'ABT Transactions'!$C$9:$C$40,I$81,'ABT Transactions'!$D$9:$D$40,$B$86)","v":0},{"$f":"SUMIFS('ABT Transactions'!$B$9:$B$40,'ABT Transactions'!$G$9:$G$40,$C$79,'ABT Transactions'!$F$9:$F$40,$I$80,'ABT Transactions'!$C$9:$C$40,J$81,'ABT Transactions'!$D$9:$D$40,$B$86)","v":0},{"$f":"SUMIFS('ABT Transactions'!$B$9:$B$40,'ABT Transactions'!$G$9:$G$40,$C$79,'ABT Transactions'!$F$9:$F$40,$I$80,'ABT Transactions'!$C$9:$C$40,K$81,'ABT Transactions'!$D$9:$D$40,$B$86)","v":0},{"$f":"SUMIFS('ABT Transactions'!$B$9:$B$40,'ABT Transactions'!$G$9:$G$40,$C$79,'ABT Transactions'!$F$9:$F$40,$L$80,'ABT Transactions'!$C$9:$C$40,L$81,'ABT Transactions'!$D$9:$D$40,$B$86)","v":0},{"$f":"SUMIFS('ABT Transactions'!$B$9:$B$40,'ABT Transactions'!$G$9:$G$40,$C$79,'ABT Transactions'!$F$9:$F$40,$L$80,'ABT Transactions'!$C$9:$C$40,M$81,'ABT Transactions'!$D$9:$D$40,$B$86)","v":0},{"$f":"SUMIFS('ABT Transactions'!$B$9:$B$40,'ABT Transactions'!$G$9:$G$40,$C$79,'ABT Transactions'!$F$9:$F$40,$L$80,'ABT Transactions'!$C$9:$C$40,N$81,'ABT Transactions'!$D$9:$D$40,$B$86)","v":0},{"$f":"SUMIFS('ABT Transactions'!$B$9:$B$40,'ABT Transactions'!$G$9:$G$40,$C$79,'ABT Transactions'!$F$9:$F$40,$O$80,'ABT Transactions'!$C$9:$C$40,O$81,'ABT Transactions'!$D$9:$D$40,$B$86)","v":0},{"$f":"SUMIFS('ABT Transactions'!$B$9:$B$40,'ABT Transactions'!$G$9:$G$40,$C$79,'ABT Transactions'!$F$9:$F$40,$O$80,'ABT Transactions'!$C$9:$C$40,P$81,'ABT Transactions'!$D$9:$D$40,$B$86)","v":0},{"$f":"SUMIFS('ABT Transactions'!$B$9:$B$40,'ABT Transactions'!$G$9:$G$40,$C$79,'ABT Transactions'!$F$9:$F$40,$O$80,'ABT Transactions'!$C$9:$C$40,Q$81,'ABT Transactions'!$D$9:$D$40,$B$86)","v":0},{"$f":"SUMIFS('ABT Transactions'!$B$9:$B$40,'ABT Transactions'!$G$9:$G$40,$C$79,'ABT Transactions'!$F$9:$F$40,$R$80,'ABT Transactions'!$C$9:$C$40,R$81,'ABT Transactions'!$D$9:$D$40,$B$86)","v":0},{"$f":"SUMIFS('ABT Transactions'!$B$9:$B$40,'ABT Transactions'!$G$9:$G$40,$C$79,'ABT Transactions'!$F$9:$F$40,$R$80,'ABT Transactions'!$C$9:$C$40,S$81,'ABT Transactions'!$D$9:$D$40,$B$86)","v":0},{"$f":"SUMIFS('ABT Transactions'!$B$9:$B$40,'ABT Transactions'!$G$9:$G$40,$C$79,'ABT Transactions'!$F$9:$F$40,$R$80,'ABT Transactions'!$C$9:$C$40,T$81,'ABT Transactions'!$D$9:$D$40,$B$86)","v":0},{"$f":"SUMIFS('ABT Transactions'!$B$9:$B$40,'ABT Transactions'!$G$9:$G$40,$C79,'ABT Transactions'!$F$9:$F$40,$U$14,'ABT Transactions'!$C$9:$C$40,U81,'ABT Transactions'!$D$9:$D$40,$B$20)","v":0},{"$f":"SUMIFS('ABT Transactions'!$B$9:$B$40,'ABT Transactions'!$G$9:$G$40,$C79,'ABT Transactions'!$F$9:$F$40,$U$14,'ABT Transactions'!$C$9:$C$40,V81,'ABT Transactions'!$D$9:$D$40,$B$20)","v":0},{"$f":"SUMIFS('ABT Transactions'!$B$9:$B$40,'ABT Transactions'!$G$9:$G$40,$C79,'ABT Transactions'!$F$9:$F$40,$U$14,'ABT Transactions'!$C$9:$C$40,W81,'ABT Transactions'!$D$9:$D$40,$B$20)","v":0},{"$f":"SUMIFS('ABT Transactions'!$B$9:$B$40,'ABT Transactions'!$G$9:$G$40,$C79,'ABT Transactions'!$F$9:$F$40,$X$14,'ABT Transactions'!$C$9:$C$40,X81,'ABT Transactions'!$D$9:$D$40,$B$20)","v":0},{"$f":"SUMIFS('ABT Transactions'!$B$9:$B$40,'ABT Transactions'!$G$9:$G$40,$C79,'ABT Transactions'!$F$9:$F$40,$X$14,'ABT Transactions'!$C$9:$C$40,Y81,'ABT Transactions'!$D$9:$D$40,$B$20)","v":0},{"$f":"SUMIFS('ABT Transactions'!$B$9:$B$40,'ABT Transactions'!$G$9:$G$40,$C79,'ABT Transactions'!$F$9:$F$40,$X$14,'ABT Transactions'!$C$9:$C$40,Z81,'ABT Transactions'!$D$9:$D$40,$B$20)","v":0},{"$f":"SUMIFS('ABT Transactions'!$B$9:$B$40,'ABT Transactions'!$G$9:$G$40,$C79,'ABT Transactions'!$F$9:$F$40,$AA$14,'ABT Transactions'!$C$9:$C$40,AA81,'ABT Transactions'!$D$9:$D$40,$B$20)","v":0},{"$f":"SUMIFS('ABT Transactions'!$B$9:$B$40,'ABT Transactions'!$G$9:$G$40,$C79,'ABT Transactions'!$F$9:$F$40,$AA$14,'ABT Transactions'!$C$9:$C$40,AB81,'ABT Transactions'!$D$9:$D$40,$B$20)","v":0},{"$f":"SUMIFS('ABT Transactions'!$B$9:$B$40,'ABT Transactions'!$G$9:$G$40,$C79,'ABT Transactions'!$F$9:$F$40,$AA$14,'ABT Transactions'!$C$9:$C$40,AC81,'ABT Transactions'!$D$9:$D$40,$B$20)","v":0},{"$f":"SUMIFS('ABT Transactions'!$B$9:$B$40,'ABT Transactions'!$G$9:$G$40,$C79,'ABT Transactions'!$F$9:$F$40,$AD$14,'ABT Transactions'!$C$9:$C$40,AD81,'ABT Transactions'!$D$9:$D$40,$B$20)","v":0},{"$f":"SUMIFS('ABT Transactions'!$B$9:$B$40,'ABT Transactions'!$G$9:$G$40,$C79,'ABT Transactions'!$F$9:$F$40,$AD$14,'ABT Transactions'!$C$9:$C$40,AE81,'ABT Transactions'!$D$9:$D$40,$B$20)","v":0},{"$f":"SUMIFS('ABT Transactions'!$B$9:$B$40,'ABT Transactions'!$G$9:$G$40,$C79,'ABT Transactions'!$F$9:$F$40,$AD$14,'ABT Transactions'!$C$9:$C$40,AF81,'ABT Transactions'!$D$9:$D$40,$B$20)","v":0},{"$f":"SUMIFS('ABT Transactions'!$B$9:$B$40,'ABT Transactions'!$G$9:$G$40,$C79,'ABT Transactions'!$F$9:$F$40,$AG$14,'ABT Transactions'!$C$9:$C$40,AG81,'ABT Transactions'!$D$9:$D$40,$B$20)","v":0},{"$f":"SUMIFS('ABT Transactions'!$B$9:$B$40,'ABT Transactions'!$G$9:$G$40,$C79,'ABT Transactions'!$F$9:$F$40,$AG$14,'ABT Transactions'!$C$9:$C$40,AH81,'ABT Transactions'!$D$9:$D$40,$B$20)","v":0},{"$f":"SUMIFS('ABT Transactions'!$B$9:$B$40,'ABT Transactions'!$G$9:$G$40,$C79,'ABT Transactions'!$F$9:$F$40,$AG$14,'ABT Transactions'!$C$9:$C$40,AI81,'ABT Transactions'!$D$9:$D$40,$B$20)","v":0},{"$f":"SUMIFS('ABT Transactions'!$B$9:$B$40,'ABT Transactions'!$G$9:$G$40,$C79,'ABT Transactions'!$F$9:$F$40,$AJ$14,'ABT Transactions'!$C$9:$C$40,AJ81,'ABT Transactions'!$D$9:$D$40,$B$20)","v":0},{"$f":"SUMIFS('ABT Transactions'!$B$9:$B$40,'ABT Transactions'!$G$9:$G$40,$C79,'ABT Transactions'!$F$9:$F$40,$AJ$14,'ABT Transactions'!$C$9:$C$40,AK81,'ABT Transactions'!$D$9:$D$40,$B$20)","v":0},{"$f":"SUMIFS('ABT Transactions'!$B$9:$B$40,'ABT Transactions'!$G$9:$G$40,$C79,'ABT Transactions'!$F$9:$F$40,$AJ$14,'ABT Transactions'!$C$9:$C$40,AL81,'ABT Transactions'!$D$9:$D$40,$B$20)","v":0},{"$f":"SUMIFS('ABT Transactions'!$B$9:$B$40,'ABT Transactions'!$G$9:$G$40,$C79,'ABT Transactions'!$F$9:$F$40,$AM$14,'ABT Transactions'!$C$9:$C$40,AM81,'ABT Transactions'!$D$9:$D$40,$B$20)","v":0},{"$f":"SUMIFS('ABT Transactions'!$B$9:$B$40,'ABT Transactions'!$G$9:$G$40,$C79,'ABT Transactions'!$F$9:$F$40,$AM$14,'ABT Transactions'!$C$9:$C$40,AN81,'ABT Transactions'!$D$9:$D$40,$B$20)","v":0},{"$f":"SUMIFS('ABT Transactions'!$B$9:$B$40,'ABT Transactions'!$G$9:$G$40,$C79,'ABT Transactions'!$F$9:$F$40,$AM$14,'ABT Transactions'!$C$9:$C$40,AO81,'ABT Transactions'!$D$9:$D$40,$B$20)","v":0},{"$f":"SUMIFS('ABT Transactions'!$B$9:$B$40,'ABT Transactions'!$G$9:$G$40,$C79,'ABT Transactions'!$F$9:$F$40,$AP$14,'ABT Transactions'!$C$9:$C$40,AP81,'ABT Transactions'!$D$9:$D$40,$B$20)","v":0},{"$f":"SUMIFS('ABT Transactions'!$B$9:$B$40,'ABT Transactions'!$G$9:$G$40,$C79,'ABT Transactions'!$F$9:$F$40,$AP$14,'ABT Transactions'!$C$9:$C$40,AQ81,'ABT Transactions'!$D$9:$D$40,$B$20)","v":0},{"$f":"SUMIFS('ABT Transactions'!$B$9:$B$40,'ABT Transactions'!$G$9:$G$40,$C79,'ABT Transactions'!$F$9:$F$40,$AP$14,'ABT Transactions'!$C$9:$C$40,AR81,'ABT Transactions'!$D$9:$D$40,$B$20)","v":0},{"$f":"SUMIFS('ABT Transactions'!$B$9:$B$40,'ABT Transactions'!$G$9:$G$40,$C$79,'ABT Transactions'!$F$9:$F$40,$AS$80,'ABT Transactions'!$C$9:$C$40,AS$81,'ABT Transactions'!$D$9:$D$40,$B$86)","v":0},{"$f":"SUMIFS('ABT Transactions'!$B$9:$B$40,'ABT Transactions'!$G$9:$G$40,$C$79,'ABT Transactions'!$F$9:$F$40,$AS$80,'ABT Transactions'!$C$9:$C$40,AT$81,'ABT Transactions'!$D$9:$D$40,$B$86)","v":0},{"$f":"SUMIFS('ABT Transactions'!$B$9:$B$40,'ABT Transactions'!$G$9:$G$40,$C$79,'ABT Transactions'!$F$9:$F$40,$AS$80,'ABT Transactions'!$C$9:$C$40,AU$81,'ABT Transactions'!$D$9:$D$40,$B$86)","v":0}]
[null,"Trade In",{"$f":"SUMIFS('ABT Transactions'!$B$9:$B$40,'ABT Transactions'!$J$9:$J$40,$C$79,'ABT Transactions'!$I$9:$I$40,$C$80,'ABT Transactions'!$C$9:$C$40,C81,'ABT Transactions'!$D$9:$D$40,$B$87)","v":0},{"$f":"SUMIFS('ABT Transactions'!$B$9:$B$40,'ABT Transactions'!$J$9:$J$40,$C$79,'ABT Transactions'!$I$9:$I$40,$C$80,'ABT Transactions'!$C$9:$C$40,D81,'ABT Transactions'!$D$9:$D$40,$B$87)","v":0},{"$f":"SUMIFS('ABT Transactions'!$B$9:$B$40,'ABT Transactions'!$J$9:$J$40,$C$79,'ABT Transactions'!$I$9:$I$40,$C$80,'ABT Transactions'!$C$9:$C$40,E81,'ABT Transactions'!$D$9:$D$40,$B$87)","v":0},{"$f":"SUMIFS('ABT Transactions'!$B$9:$B$40,'ABT Transactions'!$J$9:$J$40,$C$79,'ABT Transactions'!$I$9:$I$40,$F$80,'ABT Transactions'!$C$9:$C$40,F81,'ABT Transactions'!$D$9:$D$40,$B$87)","v":0},{"$f":"SUMIFS('ABT Transactions'!$B$9:$B$40,'ABT Transactions'!$J$9:$J$40,$C$79,'ABT Transactions'!$I$9:$I$40,$F$80,'ABT Transactions'!$C$9:$C$40,G81,'ABT Transactions'!$D$9:$D$40,$B$87)","v":0},{"$f":"SUMIFS('ABT Transactions'!$B$9:$B$40,'ABT Transactions'!$J$9:$J$40,$C$79,'ABT Transactions'!$I$9:$I$40,$F$80,'ABT Transactions'!$C$9:$C$40,H81,'ABT Transactions'!$D$9:$D$40,$B$87)","v":0},{"$f":"SUMIFS('ABT Transactions'!$B$9:$B$40,'ABT Transactions'!$J$9:$J$40,$C$79,'ABT Transactions'!$I$9:$I$40,$I$80,'ABT Transactions'!$C$9:$C$40,I81,'ABT Transactions'!$D$9:$D$40,$B$87)","v":0},{"$f":"SUMIFS('ABT Transactions'!$B$9:$B$40,'ABT Transactions'!$J$9:$J$40,$C$79,'ABT Transactions'!$I$9:$I$40,$I$80,'ABT Transactions'!$C$9:$C$40,J81,'ABT Transactions'!$D$9:$D$40,$B$87)","v":0},{"$f":"SUMIFS('ABT Transactions'!$B$9:$B$40,'ABT Transactions'!$J$9:$J$40,$C$79,'ABT Transactions'!$I$9:$I$40,$I$80,'ABT Transactions'!$C$9:$C$40,K81,'ABT Transactions'!$D$9:$D$40,$B$87)","v":0},{"$f":"SUMIFS('ABT Transactions'!$B$9:$B$40,'ABT Transactions'!$J$9:$J$40,$C$79,'ABT Transactions'!$I$9:$I$40,$L$80,'ABT Transactions'!$C$9:$C$40,L81,'ABT Transactions'!$D$9:$D$40,$B$87)","v":0},{"$f":"SUMIFS('ABT Transactions'!$B$9:$B$40,'ABT Transactions'!$J$9:$J$40,$C$79,'ABT Transactions'!$I$9:$I$40,$L$80,'ABT Transactions'!$C$9:$C$40,M81,'ABT Transactions'!$D$9:$D$40,$B$87)","v":0},{"$f":"SUMIFS('ABT Transactions'!$B$9:$B$40,'ABT Transactions'!$J$9:$J$40,$C$79,'ABT Transactions'!$I$9:$I$40,$L$80,'ABT Transactions'!$C$9:$C$40,N81,'ABT Transactions'!$D$9:$D$40,$B$87)","v":0},{"$f":"SUMIFS('ABT Transactions'!$B$9:$B$40,'ABT Transactions'!$J$9:$J$40,$C$79,'ABT Transactions'!$I$9:$I$40,$O$80,'ABT Transactions'!$C$9:$C$40,O81,'ABT Transactions'!$D$9:$D$40,$B$87)","v":0},{"$f":"SUMIFS('ABT Transactions'!$B$9:$B$40,'ABT Transactions'!$J$9:$J$40,$C$79,'ABT Transactions'!$I$9:$I$40,$O$80,'ABT Transactions'!$C$9:$C$40,P81,'ABT Transactions'!$D$9:$D$40,$B$87)","v":0},{"$f":"SUMIFS('ABT Transactions'!$B$9:$B$40,'ABT Transactions'!$J$9:$J$40,$C$79,'ABT Transactions'!$I$9:$I$40,$O$80,'ABT Transactions'!$C$9:$C$40,Q81,'ABT Transactions'!$D$9:$D$40,$B$87)","v":0},{"$f":"SUMIFS('ABT Transactions'!$B$9:$B$40,'ABT Transactions'!$J$9:$J$40,$C$79,'ABT Transactions'!$I$9:$I$40,$R$80,'ABT Transactions'!$C$9:$C$40,R81,'ABT Transactions'!$D$9:$D$40,$B$87)","v":0},{"$f":"SUMIFS('ABT Transactions'!$B$9:$B$40,'ABT Transactions'!$J$9:$J$40,$C$79,'ABT Transactions'!$I$9:$I$40,$R$80,'ABT Transactions'!$C$9:$C$40,S81,'ABT Transactions'!$D$9:$D$40,$B$87)","v":0},{"$f":"SUMIFS('ABT Transactions'!$B$9:$B$40,'ABT Transactions'!$J$9:$J$40,$C$79,'ABT Transactions'!$I$9:$I$40,$R$80,'ABT Transactions'!$C$9:$C$40,T81,'ABT Transactions'!$D$9:$D$40,$B$87)","v":0},{"$f":"SUMIFS('ABT Transactions'!$B$9:$B$40,'ABT Transactions'!$J$9:$J$40,$C79,'ABT Transactions'!$I$9:$I$40,$U$14,'ABT Transactions'!$C$9:$C$40,U81,'ABT Transactions'!$D$9:$D$40,$B$21)","v":0},{"$f":"SUMIFS('ABT Transactions'!$B$9:$B$40,'ABT Transactions'!$J$9:$J$40,$C79,'ABT Transactions'!$I$9:$I$40,$U$14,'ABT Transactions'!$C$9:$C$40,V81,'ABT Transactions'!$D$9:$D$40,$B$21)","v":0},{"$f":"SUMIFS('ABT Transactions'!$B$9:$B$40,'ABT Transactions'!$J$9:$J$40,$C79,'ABT Transactions'!$I$9:$I$40,$U$14,'ABT Transactions'!$C$9:$C$40,W81,'ABT Transactions'!$D$9:$D$40,$B$21)","v":0},{"$f":"SUMIFS('ABT Transactions'!$B$9:$B$40,'ABT Transactions'!$J$9:$J$40,$C79,'ABT Transactions'!$I$9:$I$40,$X$14,'ABT Transactions'!$C$9:$C$40,X81,'ABT Transactions'!$D$9:$D$40,$B$21)","v":0},{"$f":"SUMIFS('ABT Transactions'!$B$9:$B$40,'ABT Transactions'!$J$9:$J$40,$C79,'ABT Transactions'!$I$9:$I$40,$X$14,'ABT Transactions'!$C$9:$C$40,Y81,'ABT Transactions'!$D$9:$D$40,$B$21)","v":0},{"$f":"SUMIFS('ABT Transactions'!$B$9:$B$40,'ABT Transactions'!$J$9:$J$40,$C79,'ABT Transactions'!$I$9:$I$40,$X$14,'ABT Transactions'!$C$9:$C$40,Z81,'ABT Transactions'!$D$9:$D$40,$B$21)","v":0},{"$f":"SUMIFS('ABT Transactions'!$B$9:$B$40,'ABT Transactions'!$J$9:$J$40,$C79,'ABT Transactions'!$I$9:$I$40,$AA$14,'ABT Transactions'!$C$9:$C$40,AA81,'ABT Transactions'!$D$9:$D$40,$B$21)","v":0},{"$f":"SUMIFS('ABT Transactions'!$B$9:$B$40,'ABT Transactions'!$J$9:$J$40,$C79,'ABT Transactions'!$I$9:$I$40,$AA$14,'ABT Transactions'!$C$9:$C$40,AB81,'ABT Transactions'!$D$9:$D$40,$B$21)","v":0},{"$f":"SUMIFS('ABT Transactions'!$B$9:$B$40,'ABT Transactions'!$J$9:$J$40,$C79,'ABT Transactions'!$I$9:$I$40,$AA$14,'ABT Transactions'!$C$9:$C$40,AC81,'ABT Transactions'!$D$9:$D$40,$B$21)","v":0},{"$f":"SUMIFS('ABT Transactions'!$B$9:$B$40,'ABT Transactions'!$J$9:$J$40,$C79,'ABT Transactions'!$I$9:$I$40,$AD$14,'ABT Transactions'!$C$9:$C$40,AD81,'ABT Transactions'!$D$9:$D$40,$B$21)","v":0},{"$f":"SUMIFS('ABT Transactions'!$B$9:$B$40,'ABT Transactions'!$J$9:$J$40,$C79,'ABT Transactions'!$I$9:$I$40,$AD$14,'ABT Transactions'!$C$9:$C$40,AE81,'ABT Transactions'!$D$9:$D$40,$B$21)","v":0},{"$f":"SUMIFS('ABT Transactions'!$B$9:$B$40,'ABT Transactions'!$J$9:$J$40,$C79,'ABT Transactions'!$I$9:$I$40,$AD$14,'ABT Transactions'!$C$9:$C$40,AF81,'ABT Transactions'!$D$9:$D$40,$B$21)","v":0},{"$f":"SUMIFS('ABT Transactions'!$B$9:$B$40,'ABT Transactions'!$J$9:$J$40,$C79,'ABT Transactions'!$I$9:$I$40,$AG$14,'ABT Transactions'!$C$9:$C$40,AG81,'ABT Transactions'!$D$9:$D$40,$B$21)","v":0},{"$f":"SUMIFS('ABT Transactions'!$B$9:$B$40,'ABT Transactions'!$J$9:$J$40,$C79,'ABT Transactions'!$I$9:$I$40,$AG$14,'ABT Transactions'!$C$9:$C$40,AH81,'ABT Transactions'!$D$9:$D$40,$B$21)","v":0},{"$f":"SUMIFS('ABT Transactions'!$B$9:$B$40,'ABT Transactions'!$J$9:$J$40,$C79,'ABT Transactions'!$I$9:$I$40,$AG$14,'ABT Transactions'!$C$9:$C$40,AI81,'ABT Transactions'!$D$9:$D$40,$B$21)","v":0},{"$f":"SUMIFS('ABT Transactions'!$B$9:$B$40,'ABT Transactions'!$J$9:$J$40,$C79,'ABT Transactions'!$I$9:$I$40,$AJ$14,'ABT Transactions'!$C$9:$C$40,AJ81,'ABT Transactions'!$D$9:$D$40,$B$21)","v":0},{"$f":"SUMIFS('ABT Transactions'!$B$9:$B$40,'ABT Transactions'!$J$9:$J$40,$C79,'ABT Transactions'!$I$9:$I$40,$AJ$14,'ABT Transactions'!$C$9:$C$40,AK81,'ABT Transactions'!$D$9:$D$40,$B$21)","v":0},{"$f":"SUMIFS('ABT Transactions'!$B$9:$B$40,'ABT Transactions'!$J$9:$J$40,$C79,'ABT Transactions'!$I$9:$I$40,$AJ$14,'ABT Transactions'!$C$9:$C$40,AL81,'ABT Transactions'!$D$9:$D$40,$B$21)","v":0},{"$f":"SUMIFS('ABT Transactions'!$B$9:$B$40,'ABT Transactions'!$J$9:$J$40,$C79,'ABT Transactions'!$I$9:$I$40,$AM$14,'ABT Transactions'!$C$9:$C$40,AM81,'ABT Transactions'!$D$9:$D$40,$B$21)","v":0},{"$f":"SUMIFS('ABT Transactions'!$B$9:$B$40,'ABT Transactions'!$J$9:$J$40,$C79,'ABT Transactions'!$I$9:$I$40,$AM$14,'ABT Transactions'!$C$9:$C$40,AN81,'ABT Transactions'!$D$9:$D$40,$B$21)","v":0},{"$f":"SUMIFS('ABT Transactions'!$B$9:$B$40,'ABT Transactions'!$J$9:$J$40,$C79,'ABT Transactions'!$I$9:$I$40,$AM$14,'ABT Transactions'!$C$9:$C$40,AO81,'ABT Transactions'!$D$9:$D$40,$B$21)","v":0},{"$f":"SUMIFS('ABT Transactions'!$B$9:$B$40,'ABT Transactions'!$J$9:$J$40,$C79,'ABT Transactions'!$I$9:$I$40,$AP$14,'ABT Transactions'!$C$9:$C$40,AP81,'ABT Transactions'!$D$9:$D$40,$B$21)","v":0},{"$f":"SUMIFS('ABT Transactions'!$B$9:$B$40,'ABT Transactions'!$J$9:$J$40,$C79,'ABT Transactions'!$I$9:$I$40,$AP$14,'ABT Transactions'!$C$9:$C$40,AQ81,'ABT Transactions'!$D$9:$D$40,$B$21)","v":0},{"$f":"SUMIFS('ABT Transactions'!$B$9:$B$40,'ABT Transactions'!$J$9:$J$40,$C79,'ABT Transactions'!$I$9:$I$40,$AP$14,'ABT Transactions'!$C$9:$C$40,AR81,'ABT Transactions'!$D$9:$D$40,$B$21)","v":0},{"$f":"SUMIFS('ABT Transactions'!$B$9:$B$40,'ABT Transactions'!$J$9:$J$40,$C$79,'ABT Transactions'!$I$9:$I$40,$AS$80,'ABT Transactions'!$C$9:$C$40,AS81,'ABT Transactions'!$D$9:$D$40,$B$87)","v":0},{"$f":"SUMIFS('ABT Transactions'!$B$9:$B$40,'ABT Transactions'!$J$9:$J$40,$C$79,'ABT Transactions'!$I$9:$I$40,$AS$80,'ABT Transactions'!$C$9:$C$40,AT81,'ABT Transactions'!$D$9:$D$40,$B$87)","v":0},{"$f":"SUMIFS('ABT Transactions'!$B$9:$B$40,'ABT Transactions'!$J$9:$J$40,$C$79,'ABT Transactions'!$I$9:$I$40,$AS$80,'ABT Transactions'!$C$9:$C$40,AU81,'ABT Transactions'!$D$9:$D$40,$B$87)","v":0}]
[null,"Transfer ADV Credits (out)",{"$f":"SUMIFS('ABT Transactions'!$B$9:$B$40,'ABT Transactions'!$G$9:$G$40,$C$79,'ABT Transactions'!$F$9:$F$40,$C$80,'ABT Transactions'!$C$9:$C$40,C$81,'ABT Transactions'!$D$9:$D$40,$B$88)","v":0},{"$f":"SUMIFS('ABT Transactions'!$B$9:$B$40,'ABT Transactions'!$G$9:$G$40,$C$79,'ABT Transactions'!$F$9:$F$40,$C$80,'ABT Transactions'!$C$9:$C$40,D$81,'ABT Transactions'!$D$9:$D$40,$B$88)","v":0},{"$f":"SUMIFS('ABT Transactions'!$B$9:$B$40,'ABT Transactions'!$G$9:$G$40,$C$79,'ABT Transactions'!$F$9:$F$40,$C$80,'ABT Transactions'!$C$9:$C$40,E$81,'ABT Transactions'!$D$9:$D$40,$B$88)","v":0},{"$f":"SUMIFS('ABT Transactions'!$B$9:$B$40,'ABT Transactions'!$G$9:$G$40,$C$79,'ABT Transactions'!$F$9:$F$40,$F$80,'ABT Transactions'!$C$9:$C$40,F$81,'ABT Transactions'!$D$9:$D$40,$B$88)","v":0},{"$f":"SUMIFS('ABT Transactions'!$B$9:$B$40,'ABT Transactions'!$G$9:$G$40,$C$79,'ABT Transactions'!$F$9:$F$40,$F$80,'ABT Transactions'!$C$9:$C$40,G$81,'ABT Transactions'!$D$9:$D$40,$B$88)","v":0},{"$f":"SUMIFS('ABT Transactions'!$B$9:$B$40,'ABT Transactions'!$G$9:$G$40,$C$79,'ABT Transactions'!$F$9:$F$40,$F$80,'ABT Transactions'!$C$9:$C$40,H$81,'ABT Transactions'!$D$9:$D$40,$B$88)","v":0},{"$f":"SUMIFS('ABT Transactions'!$B$9:$B$40,'ABT Transactions'!$G$9:$G$40,$C$79,'ABT Transactions'!$F$9:$F$40,$I$80,'ABT Transactions'!$C$9:$C$40,I$81,'ABT Transactions'!$D$9:$D$40,$B$88)","v":0},{"$f":"SUMIFS('ABT Transactions'!$B$9:$B$40,'ABT Transactions'!$G$9:$G$40,$C$79,'ABT Transactions'!$F$9:$F$40,$I$80,'ABT Transactions'!$C$9:$C$40,J$81,'ABT Transactions'!$D$9:$D$40,$B$88)","v":0},{"$f":"SUMIFS('ABT Transactions'!$B$9:$B$40,'ABT Transactions'!$G$9:$G$40,$C$79,'ABT Transactions'!$F$9:$F$40,$I$80,'ABT Transactions'!$C$9:$C$40,K$81,'ABT Transactions'!$D$9:$D$40,$B$88)","v":0},{"$f":"SUMIFS('ABT Transactions'!$B$9:$B$40,'ABT Transactions'!$G$9:$G$40,$C$79,'ABT Transactions'!$F$9:$F$40,$L$80,'ABT Transactions'!$C$9:$C$40,L$81,'ABT Transactions'!$D$9:$D$40,$B$88)","v":0},{"$f":"SUMIFS('ABT Transactions'!$B$9:$B$40,'ABT Transactions'!$G$9:$G$40,$C$79,'ABT Transactions'!$F$9:$F$40,$L$80,'ABT Transactions'!$C$9:$C$40,M$81,'ABT Transactions'!$D$9:$D$40,$B$88)","v":0},{"$f":"SUMIFS('ABT Transactions'!$B$9:$B$40,'ABT Transactions'!$G$9:$G$40,$C$79,'ABT Transactions'!$F$9:$F$40,$L$80,'ABT Transactions'!$C$9:$C$40,N$81,'ABT Transactions'!$D$9:$D$40,$B$88)","v":0},{"$f":"SUMIFS('ABT Transactions'!$B$9:$B$40,'ABT Transactions'!$G$9:$G$40,$C$79,'ABT Transactions'!$F$9:$F$40,$O$80,'ABT Transactions'!$C$9:$C$40,O$81,'ABT Transactions'!$D$9:$D$40,$B$88)","v":0},{"$f":"SUMIFS('ABT Transactions'!$B$9:$B$40,'ABT Transactions'!$G$9:$G$40,$C$79,'ABT Transactions'!$F$9:$F$40,$O$80,'ABT Transactions'!$C$9:$C$40,P$81,'ABT Transactions'!$D$9:$D$40,$B$88)","v":0},{"$f":"SUMIFS('ABT Transactions'!$B$9:$B$40,'ABT Transactions'!$G$9:$G$40,$C$79,'ABT Transactions'!$F$9:$F$40,$O$80,'ABT Transactions'!$C$9:$C$40,Q$81,'ABT Transactions'!$D$9:$D$40,$B$88)","v":0},{"$f":"SUMIFS('ABT Transactions'!$B$9:$B$40,'ABT Transactions'!$G$9:$G$40,$C$79,'ABT Transactions'!$F$9:$F$40,$R$80,'ABT Transactions'!$C$9:$C$40,R$81,'ABT Transactions'!$D$9:$D$40,$B$88)","v":0},{"$f":"SUMIFS('ABT Transactions'!$B$9:$B$40,'ABT Transactions'!$G$9:$G$40,$C$79,'ABT Transactions'!$F$9:$F$40,$R$80,'ABT Transactions'!$C$9:$C$40,S$81,'ABT Transactions'!$D$9:$D$40,$B$88)","v":0},{"$f":"SUMIFS('ABT Transactions'!$B$9:$B$40,'ABT Transactions'!$G$9:$G$40,$C$79,'ABT Transactions'!$F$9:$F$40,$R$80,'ABT Transactions'!$C$9:$C$40,T$81,'ABT Transactions'!$D$9:$D$40,$B$88)","v":0},{"$f":"SUMIFS('ABT Transactions'!$B$9:$B$40,'ABT Transactions'!$G$9:$G$40,$C79,'ABT Transactions'!$F$9:$F$40,$U$14,'ABT Transactions'!$C$9:$C$40,U$15,'ABT Transactions'!$D$9:$D$40,$B$22)","v":0},{"$f":"SUMIFS('ABT Transactions'!$B$9:$B$40,'ABT Transactions'!$G$9:$G$40,$C79,'ABT Transactions'!$F$9:$F$40,$U$14,'ABT Transactions'!$C$9:$C$40,V$15,'ABT Transactions'!$D$9:$D$40,$B$22)","v":0},{"$f":"SUMIFS('ABT Transactions'!$B$9:$B$40,'ABT Transactions'!$G$9:$G$40,$C79,'ABT Transactions'!$F$9:$F$40,$U$14,'ABT Transactions'!$C$9:$C$40,W$15,'ABT Transactions'!$D$9:$D$40,$B$22)","v":0},{"$f":"SUMIFS('ABT Transactions'!$B$9:$B$40,'ABT Transactions'!$G$9:$G$40,$C79,'ABT Transactions'!$F$9:$F$40,$X$14,'ABT Transactions'!$C$9:$C$40,X$15,'ABT Transactions'!$D$9:$D$40,$B$22)","v":0},{"$f":"SUMIFS('ABT Transactions'!$B$9:$B$40,'ABT Transactions'!$G$9:$G$40,$C79,'ABT Transactions'!$F$9:$F$40,$X$14,'ABT Transactions'!$C$9:$C$40,Y$15,'ABT Transactions'!$D$9:$D$40,$B$22)","v":0},{"$f":"SUMIFS('ABT Transactions'!$B$9:$B$40,'ABT Transactions'!$G$9:$G$40,$C79,'ABT Transactions'!$F$9:$F$40,$X$14,'ABT Transactions'!$C$9:$C$40,Z$15,'ABT Transactions'!$D$9:$D$40,$B$22)","v":0},{"$f":"SUMIFS('ABT Transactions'!$B$9:$B$40,'ABT Transactions'!$G$9:$G$40,$C79,'ABT Transactions'!$F$9:$F$40,$AA$14,'ABT Transactions'!$C$9:$C$40,AA$15,'ABT Transactions'!$D$9:$D$40,$B$22)","v":0},{"$f":"SUMIFS('ABT Transactions'!$B$9:$B$40,'ABT Transactions'!$G$9:$G$40,$C79,'ABT Transactions'!$F$9:$F$40,$AA$14,'ABT Transactions'!$C$9:$C$40,AB$15,'ABT Transactions'!$D$9:$D$40,$B$22)","v":0},{"$f":"SUMIFS('ABT Transactions'!$B$9:$B$40,'ABT Transactions'!$G$9:$G$40,$C79,'ABT Transactions'!$F$9:$F$40,$AA$14,'ABT Transactions'!$C$9:$C$40,AC$15,'ABT Transactions'!$D$9:$D$40,$B$22)","v":0},{"$f":"SUMIFS('ABT Transactions'!$B$9:$B$40,'ABT Transactions'!$G$9:$G$40,$C79,'ABT Transactions'!$F$9:$F$40,$AD$14,'ABT Transactions'!$C$9:$C$40,AD$15,'ABT Transactions'!$D$9:$D$40,$B$22)","v":0},{"$f":"SUMIFS('ABT Transactions'!$B$9:$B$40,'ABT Transactions'!$G$9:$G$40,$C79,'ABT Transactions'!$F$9:$F$40,$AD$14,'ABT Transactions'!$C$9:$C$40,AE$15,'ABT Transactions'!$D$9:$D$40,$B$22)","v":0},{"$f":"SUMIFS('ABT Transactions'!$B$9:$B$40,'ABT Transactions'!$G$9:$G$40,$C79,'ABT Transactions'!$F$9:$F$40,$AD$14,'ABT Transactions'!$C$9:$C$40,AF$15,'ABT Transactions'!$D$9:$D$40,$B$22)","v":0},{"$f":"SUMIFS('ABT Transactions'!$B$9:$B$40,'ABT Transactions'!$G$9:$G$40,$C79,'ABT Transactions'!$F$9:$F$40,$AG$14,'ABT Transactions'!$C$9:$C$40,AG$15,'ABT Transactions'!$D$9:$D$40,$B$22)","v":0},{"$f":"SUMIFS('ABT Transactions'!$B$9:$B$40,'ABT Transactions'!$G$9:$G$40,$C79,'ABT Transactions'!$F$9:$F$40,$AG$14,'ABT Transactions'!$C$9:$C$40,AH$15,'ABT Transactions'!$D$9:$D$40,$B$22)","v":0},{"$f":"SUMIFS('ABT Transactions'!$B$9:$B$40,'ABT Transactions'!$G$9:$G$40,$C79,'ABT Transactions'!$F$9:$F$40,$AG$14,'ABT Transactions'!$C$9:$C$40,AI$15,'ABT Transactions'!$D$9:$D$40,$B$22)","v":0},{"$f":"SUMIFS('ABT Transactions'!$B$9:$B$40,'ABT Transactions'!$G$9:$G$40,$C79,'ABT Transactions'!$F$9:$F$40,$AJ$14,'ABT Transactions'!$C$9:$C$40,AJ$15,'ABT Transactions'!$D$9:$D$40,$B$22)","v":0},{"$f":"SUMIFS('ABT Transactions'!$B$9:$B$40,'ABT Transactions'!$G$9:$G$40,$C79,'ABT Transactions'!$F$9:$F$40,$AJ$14,'ABT Transactions'!$C$9:$C$40,AK$15,'ABT Transactions'!$D$9:$D$40,$B$22)","v":0},{"$f":"SUMIFS('ABT Transactions'!$B$9:$B$40,'ABT Transactions'!$G$9:$G$40,$C79,'ABT Transactions'!$F$9:$F$40,$AJ$14,'ABT Transactions'!$C$9:$C$40,AL$15,'ABT Transactions'!$D$9:$D$40,$B$22)","v":0},{"$f":"SUMIFS('ABT Transactions'!$B$9:$B$40,'ABT Transactions'!$G$9:$G$40,$C79,'ABT Transactions'!$F$9:$F$40,$AM$14,'ABT Transactions'!$C$9:$C$40,AM$15,'ABT Transactions'!$D$9:$D$40,$B$22)","v":0},{"$f":"SUMIFS('ABT Transactions'!$B$9:$B$40,'ABT Transactions'!$G$9:$G$40,$C79,'ABT Transactions'!$F$9:$F$40,$AM$14,'ABT Transactions'!$C$9:$C$40,AN$15,'ABT Transactions'!$D$9:$D$40,$B$22)","v":0},{"$f":"SUMIFS('ABT Transactions'!$B$9:$B$40,'ABT Transactions'!$G$9:$G$40,$C79,'ABT Transactions'!$F$9:$F$40,$AM$14,'ABT Transactions'!$C$9:$C$40,AO$15,'ABT Transactions'!$D$9:$D$40,$B$22)","v":0},{"$f":"SUMIFS('ABT Transactions'!$B$9:$B$40,'ABT Transactions'!$G$9:$G$40,$C79,'ABT Transactions'!$F$9:$F$40,$AP$14,'ABT Transactions'!$C$9:$C$40,AP$15,'ABT Transactions'!$D$9:$D$40,$B$22)","v":0},{"$f":"SUMIFS('ABT Transactions'!$B$9:$B$40,'ABT Transactions'!$G$9:$G$40,$C79,'ABT Transactions'!$F$9:$F$40,$AP$14,'ABT Transactions'!$C$9:$C$40,AQ$15,'ABT Transactions'!$D$9:$D$40,$B$22)","v":0},{"$f":"SUMIFS('ABT Transactions'!$B$9:$B$40,'ABT Transactions'!$G$9:$G$40,$C79,'ABT Transactions'!$F$9:$F$40,$AP$14,'ABT Transactions'!$C$9:$C$40,AR$15,'ABT Transactions'!$D$9:$D$40,$B$22)","v":0},{"$f":"SUMIFS('ABT Transactions'!$B$9:$B$40,'ABT Transactions'!$G$9:$G$40,$C$79,'ABT Transactions'!$F$9:$F$40,$AS$80,'ABT Transactions'!$C$9:$C$40,AS$81,'ABT Transactions'!$D$9:$D$40,$B$88)","v":0},{"$f":"SUMIFS('ABT Transactions'!$B$9:$B$40,'ABT Transactions'!$G$9:$G$40,$C$79,'ABT Transactions'!$F$9:$F$40,$AS$80,'ABT Transactions'!$C$9:$C$40,AT$81,'ABT Transactions'!$D$9:$D$40,$B$88)","v":0},{"$f":"SUMIFS('ABT Transactions'!$B$9:$B$40,'ABT Transactions'!$G$9:$G$40,$C$79,'ABT Transactions'!$F$9:$F$40,$AS$80,'ABT Transactions'!$C$9:$C$40,AU$81,'ABT Transactions'!$D$9:$D$40,$B$88)","v":0}]
[null,"Transfer ADV Credits (in)",{"$f":"SUMIFS('ABT Transactions'!$B$9:$B$40,'ABT Transactions'!$J$9:$J$40,$C$79,'ABT Transactions'!$I$9:$I$40,$C$80,'ABT Transactions'!$C$9:$C$40,C81,'ABT Transactions'!$D$9:$D$40,$B$89)","v":0},{"$f":"SUMIFS('ABT Transactions'!$B$9:$B$40,'ABT Transactions'!$J$9:$J$40,$C$79,'ABT Transactions'!$I$9:$I$40,$C$80,'ABT Transactions'!$C$9:$C$40,D81,'ABT Transactions'!$D$9:$D$40,$B$89)","v":0},{"$f":"SUMIFS('ABT Transactions'!$B$9:$B$40,'ABT Transactions'!$J$9:$J$40,$C$79,'ABT Transactions'!$I$9:$I$40,$C$80,'ABT Transactions'!$C$9:$C$40,E81,'ABT Transactions'!$D$9:$D$40,$B$89)","v":0},{"$f":"SUMIFS('ABT Transactions'!$B$9:$B$40,'ABT Transactions'!$J$9:$J$40,$C$79,'ABT Transactions'!$I$9:$I$40,$F$80,'ABT Transactions'!$C$9:$C$40,F81,'ABT Transactions'!$D$9:$D$40,$B$89)","v":0},{"$f":"SUMIFS('ABT Transactions'!$B$9:$B$40,'ABT Transactions'!$J$9:$J$40,$C$79,'ABT Transactions'!$I$9:$I$40,$F$80,'ABT Transactions'!$C$9:$C$40,G81,'ABT Transactions'!$D$9:$D$40,$B$89)","v":0},{"$f":"SUMIFS('ABT Transactions'!$B$9:$B$40,'ABT Transactions'!$J$9:$J$40,$C$79,'ABT Transactions'!$I$9:$I$40,$F$80,'ABT Transactions'!$C$9:$C$40,H81,'ABT Transactions'!$D$9:$D$40,$B$89)","v":0},{"$f":"SUMIFS('ABT Transactions'!$B$9:$B$40,'ABT Transactions'!$J$9:$J$40,$C$79,'ABT Transactions'!$I$9:$I$40,$I$80,'ABT Transactions'!$C$9:$C$40,I81,'ABT Transactions'!$D$9:$D$40,$B$89)","v":0},{"$f":"SUMIFS('ABT Transactions'!$B$9:$B$40,'ABT Transactions'!$J$9:$J$40,$C$79,'ABT Transactions'!$I$9:$I$40,$I$80,'ABT Transactions'!$C$9:$C$40,J81,'ABT Transactions'!$D$9:$D$40,$B$89)","v":0},{"$f":"SUMIFS('ABT Transactions'!$B$9:$B$40,'ABT Transactions'!$J$9:$J$40,$C$79,'ABT Transactions'!$I$9:$I$40,$I$80,'ABT Transactions'!$C$9:$C$40,K81,'ABT Transactions'!$D$9:$D$40,$B$89)","v":0},{"$f":"SUMIFS('ABT Transactions'!$B$9:$B$40,'ABT Transactions'!$J$9:$J$40,$C$79,'ABT Transactions'!$I$9:$I$40,$L$80,'ABT Transactions'!$C$9:$C$40,L81,'ABT Transactions'!$D$9:$D$40,$B$89)","v":0},{"$f":"SUMIFS('ABT Transactions'!$B$9:$B$40,'ABT Transactions'!$J$9:$J$40,$C$79,'ABT Transactions'!$I$9:$I$40,$L$80,'ABT Transactions'!$C$9:$C$40,M81,'ABT Transactions'!$D$9:$D$40,$B$89)","v":0},{"$f":"SUMIFS('ABT Transactions'!$B$9:$B$40,'ABT Transactions'!$J$9:$J$40,$C$79,'ABT Transactions'!$I$9:$I$40,$L$80,'ABT Transactions'!$C$9:$C$40,N81,'ABT Transactions'!$D$9:$D$40,$B$89)","v":0},{"$f":"SUMIFS('ABT Transactions'!$B$9:$B$40,'ABT Transactions'!$J$9:$J$40,$C$79,'ABT Transactions'!$I$9:$I$40,$O$80,'ABT Transactions'!$C$9:$C$40,O81,'ABT Transactions'!$D$9:$D$40,$B$89)","v":0},{"$f":"SUMIFS('ABT Transactions'!$B$9:$B$40,'ABT Transactions'!$J$9:$J$40,$C$79,'ABT Transactions'!$I$9:$I$40,$O$80,'ABT Transactions'!$C$9:$C$40,P81,'ABT Transactions'!$D$9:$D$40,$B$89)","v":0},{"$f":"SUMIFS('ABT Transactions'!$B$9:$B$40,'ABT Transactions'!$J$9:$J$40,$C$79,'ABT Transactions'!$I$9:$I$40,$O$80,'ABT Transactions'!$C$9:$C$40,Q81,'ABT Transactions'!$D$9:$D$40,$B$89)","v":0},{"$f":"SUMIFS('ABT Transactions'!$B$9:$B$40,'ABT Transactions'!$J$9:$J$40,$C$79,'ABT Transactions'!$I$9:$I$40,$R$80,'ABT Transactions'!$C$9:$C$40,R81,'ABT Transactions'!$D$9:$D$40,$B$89)","v":0},{"$f":"SUMIFS('ABT Transactions'!$B$9:$B$40,'ABT Transactions'!$J$9:$J$40,$C$79,'ABT Transactions'!$I$9:$I$40,$R$80,'ABT Transactions'!$C$9:$C$40,S81,'ABT Transactions'!$D$9:$D$40,$B$89)","v":0},{"$f":"SUMIFS('ABT Transactions'!$B$9:$B$40,'ABT Transactions'!$J$9:$J$40,$C$79,'ABT Transactions'!$I$9:$I$40,$R$80,'ABT Transactions'!$C$9:$C$40,T81,'ABT Transactions'!$D$9:$D$40,$B$89)","v":0},{"$f":"SUMIFS('ABT Transactions'!$B$9:$B$40,'ABT Transactions'!$J$9:$J$40,$C79,'ABT Transactions'!$I$9:$I$40,$U$14,'ABT Transactions'!$C$9:$C$40,U81,'ABT Transactions'!$D$9:$D$40,$B$23)","v":0},{"$f":"SUMIFS('ABT Transactions'!$B$9:$B$40,'ABT Transactions'!$J$9:$J$40,$C79,'ABT Transactions'!$I$9:$I$40,$U$14,'ABT Transactions'!$C$9:$C$40,V81,'ABT Transactions'!$D$9:$D$40,$B$23)","v":0},{"$f":"SUMIFS('ABT Transactions'!$B$9:$B$40,'ABT Transactions'!$J$9:$J$40,$C79,'ABT Transactions'!$I$9:$I$40,$U$14,'ABT Transactions'!$C$9:$C$40,W81,'ABT Transactions'!$D$9:$D$40,$B$23)","v":0},{"$f":"SUMIFS('ABT Transactions'!$B$9:$B$40,'ABT Transactions'!$J$9:$J$40,$C79,'ABT Transactions'!$I$9:$I$40,$X$14,'ABT Transactions'!$C$9:$C$40,X81,'ABT Transactions'!$D$9:$D$40,$B$23)","v":0},{"$f":"SUMIFS('ABT Transactions'!$B$9:$B$40,'ABT Transactions'!$J$9:$J$40,$C79,'ABT Transactions'!$I$9:$I$40,$X$14,'ABT Transactions'!$C$9:$C$40,Y81,'ABT Transactions'!$D$9:$D$40,$B$23)","v":0},{"$f":"SUMIFS('ABT Transactions'!$B$9:$B$40,'ABT Transactions'!$J$9:$J$40,$C79,'ABT Transactions'!$I$9:$I$40,$X$14,'ABT Transactions'!$C$9:$C$40,Z81,'ABT Transactions'!$D$9:$D$40,$B$23)","v":0},{"$f":"SUMIFS('ABT Transactions'!$B$9:$B$40,'ABT Transactions'!$J$9:$J$40,$C79,'ABT Transactions'!$I$9:$I$40,$AA$14,'ABT Transactions'!$C$9:$C$40,AA81,'ABT Transactions'!$D$9:$D$40,$B$23)","v":0},{"$f":"SUMIFS('ABT Transactions'!$B$9:$B$40,'ABT Transactions'!$J$9:$J$40,$C79,'ABT Transactions'!$I$9:$I$40,$AA$14,'ABT Transactions'!$C$9:$C$40,AB81,'ABT Transactions'!$D$9:$D$40,$B$23)","v":0},{"$f":"SUMIFS('ABT Transactions'!$B$9:$B$40,'ABT Transactions'!$J$9:$J$40,$C79,'ABT Transactions'!$I$9:$I$40,$AA$14,'ABT Transactions'!$C$9:$C$40,AC81,'ABT Transactions'!$D$9:$D$40,$B$23)","v":0},{"$f":"SUMIFS('ABT Transactions'!$B$9:$B$40,'ABT Transactions'!$J$9:$J$40,$C79,'ABT Transactions'!$I$9:$I$40,$AD$14,'ABT Transactions'!$C$9:$C$40,AD81,'ABT Transactions'!$D$9:$D$40,$B$23)","v":0},{"$f":"SUMIFS('ABT Transactions'!$B$9:$B$40,'ABT Transactions'!$J$9:$J$40,$C79,'ABT Transactions'!$I$9:$I$40,$AD$14,'ABT Transactions'!$C$9:$C$40,AE81,'ABT Transactions'!$D$9:$D$40,$B$23)","v":0},{"$f":"SUMIFS('ABT Transactions'!$B$9:$B$40,'ABT Transactions'!$J$9:$J$40,$C79,'ABT Transactions'!$I$9:$I$40,$AD$14,'ABT Transactions'!$C$9:$C$40,AF81,'ABT Transactions'!$D$9:$D$40,$B$23)","v":0},{"$f":"SUMIFS('ABT Transactions'!$B$9:$B$40,'ABT Transactions'!$J$9:$J$40,$C79,'ABT Transactions'!$I$9:$I$40,$AG$14,'ABT Transactions'!$C$9:$C$40,AG81,'ABT Transactions'!$D$9:$D$40,$B$23)","v":0},{"$f":"SUMIFS('ABT Transactions'!$B$9:$B$40,'ABT Transactions'!$J$9:$J$40,$C79,'ABT Transactions'!$I$9:$I$40,$AG$14,'ABT Transactions'!$C$9:$C$40,AH81,'ABT Transactions'!$D$9:$D$40,$B$23)","v":0},{"$f":"SUMIFS('ABT Transactions'!$B$9:$B$40,'ABT Transactions'!$J$9:$J$40,$C79,'ABT Transactions'!$I$9:$I$40,$AG$14,'ABT Transactions'!$C$9:$C$40,AI81,'ABT Transactions'!$D$9:$D$40,$B$23)","v":0},{"$f":"SUMIFS('ABT Transactions'!$B$9:$B$40,'ABT Transactions'!$J$9:$J$40,$C79,'ABT Transactions'!$I$9:$I$40,$AJ$14,'ABT Transactions'!$C$9:$C$40,AJ81,'ABT Transactions'!$D$9:$D$40,$B$23)","v":0},{"$f":"SUMIFS('ABT Transactions'!$B$9:$B$40,'ABT Transactions'!$J$9:$J$40,$C79,'ABT Transactions'!$I$9:$I$40,$AJ$14,'ABT Transactions'!$C$9:$C$40,AK81,'ABT Transactions'!$D$9:$D$40,$B$23)","v":0},{"$f":"SUMIFS('ABT Transactions'!$B$9:$B$40,'ABT Transactions'!$J$9:$J$40,$C79,'ABT Transactions'!$I$9:$I$40,$AJ$14,'ABT Transactions'!$C$9:$C$40,AL81,'ABT Transactions'!$D$9:$D$40,$B$23)","v":0},{"$f":"SUMIFS('ABT Transactions'!$B$9:$B$40,'ABT Transactions'!$J$9:$J$40,$C79,'ABT Transactions'!$I$9:$I$40,$AM$14,'ABT Transactions'!$C$9:$C$40,AM81,'ABT Transactions'!$D$9:$D$40,$B$23)","v":0},{"$f":"SUMIFS('ABT Transactions'!$B$9:$B$40,'ABT Transactions'!$J$9:$J$40,$C79,'ABT Transactions'!$I$9:$I$40,$AM$14,'ABT Transactions'!$C$9:$C$40,AN81,'ABT Transactions'!$D$9:$D$40,$B$23)","v":0},{"$f":"SUMIFS('ABT Transactions'!$B$9:$B$40,'ABT Transactions'!$J$9:$J$40,$C79,'ABT Transactions'!$I$9:$I$40,$AM$14,'ABT Transactions'!$C$9:$C$40,AO81,'ABT Transactions'!$D$9:$D$40,$B$23)","v":0},{"$f":"SUMIFS('ABT Transactions'!$B$9:$B$40,'ABT Transactions'!$J$9:$J$40,$C79,'ABT Transactions'!$I$9:$I$40,$AP$14,'ABT Transactions'!$C$9:$C$40,AP81,'ABT Transactions'!$D$9:$D$40,$B$23)","v":0},{"$f":"SUMIFS('ABT Transactions'!$B$9:$B$40,'ABT Transactions'!$J$9:$J$40,$C79,'ABT Transactions'!$I$9:$I$40,$AP$14,'ABT Transactions'!$C$9:$C$40,AQ81,'ABT Transactions'!$D$9:$D$40,$B$23)","v":0},{"$f":"SUMIFS('ABT Transactions'!$B$9:$B$40,'ABT Transactions'!$J$9:$J$40,$C79,'ABT Transactions'!$I$9:$I$40,$AP$14,'ABT Transactions'!$C$9:$C$40,AR81,'ABT Transactions'!$D$9:$D$40,$B$23)","v":0},{"$f":"SUMIFS('ABT Transactions'!$B$9:$B$40,'ABT Transactions'!$J$9:$J$40,$C$79,'ABT Transactions'!$I$9:$I$40,$AS$80,'ABT Transactions'!$C$9:$C$40,AS81,'ABT Transactions'!$D$9:$D$40,$B$89)","v":0},{"$f":"SUMIFS('ABT Transactions'!$B$9:$B$40,'ABT Transactions'!$J$9:$J$40,$C$79,'ABT Transactions'!$I$9:$I$40,$AS$80,'ABT Transactions'!$C$9:$C$40,AT81,'ABT Transactions'!$D$9:$D$40,$B$89)","v":0},{"$f":"SUMIFS('ABT Transactions'!$B$9:$B$40,'ABT Transactions'!$J$9:$J$40,$C$79,'ABT Transactions'!$I$9:$I$40,$AS$80,'ABT Transactions'!$C$9:$C$40,AU81,'ABT Transactions'!$D$9:$D$40,$B$89)","v":0}]
[null,"Retired Credits",{"$f":"SUMIFS('ABT Transactions'!$B$9:$B$40,'ABT Transactions'!$G$9:$G$40,$C$79,'ABT Transactions'!$F$9:$F$40,$C$80,'ABT Transactions'!$C$9:$C$40,C81,'ABT Transactions'!$D$9:$D$40,$B$90)","v":0},{"$f":"SUMIFS('ABT Transactions'!$B$9:$B$40,'ABT Transactions'!$G$9:$G$40,$C$79,'ABT Transactions'!$F$9:$F$40,$C$80,'ABT Transactions'!$C$9:$C$40,D81,'ABT Transactions'!$D$9:$D$40,$B$90)","v":0},{"$f":"SUMIFS('ABT Transactions'!$B$9:$B$40,'ABT Transactions'!$G$9:$G$40,$C$79,'ABT Transactions'!$F$9:$F$40,$C$80,'ABT Transactions'!$C$9:$C$40,E81,'ABT Transactions'!$D$9:$D$40,$B$90)","v":0},{"$f":"SUMIFS('ABT Transactions'!$B$9:$B$40,'ABT Transactions'!$G$9:$G$40,$C$79,'ABT Transactions'!$F$9:$F$40,$F$80,'ABT Transactions'!$C$9:$C$40,F81,'ABT Transactions'!$D$9:$D$40,$B$90)","v":0},{"$f":"SUMIFS('ABT Transactions'!$B$9:$B$40,'ABT Transactions'!$G$9:$G$40,$C$79,'ABT Transactions'!$F$9:$F$40,$F$80,'ABT Transactions'!$C$9:$C$40,G81,'ABT Transactions'!$D$9:$D$40,$B$90)","v":0},{"$f":"SUMIFS('ABT Transactions'!$B$9:$B$40,'ABT Transactions'!$G$9:$G$40,$C$79,'ABT Transactions'!$F$9:$F$40,$F$80,'ABT Transactions'!$C$9:$C$40,H81,'ABT Transactions'!$D$9:$D$40,$B$90)","v":0},{"$f":"SUMIFS('ABT Transactions'!$B$9:$B$40,'ABT Transactions'!$G$9:$G$40,$C$79,'ABT Transactions'!$F$9:$F$40,$I$80,'ABT Transactions'!$C$9:$C$40,I81,'ABT Transactions'!$D$9:$D$40,$B$90)","v":0},{"$f":"SUMIFS('ABT Transactions'!$B$9:$B$40,'ABT Transactions'!$G$9:$G$40,$C$79,'ABT Transactions'!$F$9:$F$40,$I$80,'ABT Transactions'!$C$9:$C$40,J81,'ABT Transactions'!$D$9:$D$40,$B$90)","v":0},{"$f":"SUMIFS('ABT Transactions'!$B$9:$B$40,'ABT Transactions'!$G$9:$G$40,$C$79,'ABT Transactions'!$F$9:$F$40,$I$80,'ABT Transactions'!$C$9:$C$40,K81,'ABT Transactions'!$D$9:$D$40,$B$90)","v":0},{"$f":"SUMIFS('ABT Transactions'!$B$9:$B$40,'ABT Transactions'!$G$9:$G$40,$C$79,'ABT Transactions'!$F$9:$F$40,$L$80,'ABT Transactions'!$C$9:$C$40,L81,'ABT Transactions'!$D$9:$D$40,$B$90)","v":0},{"$f":"SUMIFS('ABT Transactions'!$B$9:$B$40,'ABT Transactions'!$G$9:$G$40,$C$79,'ABT Transactions'!$F$9:$F$40,$L$80,'ABT Transactions'!$C$9:$C$40,M81,'ABT Transactions'!$D$9:$D$40,$B$90)","v":0},{"$f":"SUMIFS('ABT Transactions'!$B$9:$B$40,'ABT Transactions'!$G$9:$G$40,$C$79,'ABT Transactions'!$F$9:$F$40,$L$80,'ABT Transactions'!$C$9:$C$40,N81,'ABT Transactions'!$D$9:$D$40,$B$90)","v":0},{"$f":"SUMIFS('ABT Transactions'!$B$9:$B$40,'ABT Transactions'!$G$9:$G$40,$C$79,'ABT Transactions'!$F$9:$F$40,$O$80,'ABT Transactions'!$C$9:$C$40,O81,'ABT Transactions'!$D$9:$D$40,$B$90)","v":0},{"$f":"SUMIFS('ABT Transactions'!$B$9:$B$40,'ABT Transactions'!$G$9:$G$40,$C$79,'ABT Transactions'!$F$9:$F$40,$O$80,'ABT Transactions'!$C$9:$C$40,P81,'ABT Transactions'!$D$9:$D$40,$B$90)","v":0},{"$f":"SUMIFS('ABT Transactions'!$B$9:$B$40,'ABT Transactions'!$G$9:$G$40,$C$79,'ABT Transactions'!$F$9:$F$40,$O$80,'ABT Transactions'!$C$9:$C$40,Q81,'ABT Transactions'!$D$9:$D$40,$B$90)","v":0},{"$f":"SUMIFS('ABT Transactions'!$B$9:$B$40,'ABT Transactions'!$G$9:$G$40,$C$79,'ABT Transactions'!$F$9:$F$40,$R$80,'ABT Transactions'!$C$9:$C$40,R81,'ABT Transactions'!$D$9:$D$40,$B$90)","v":0},{"$f":"SUMIFS('ABT Transactions'!$B$9:$B$40,'ABT Transactions'!$G$9:$G$40,$C$79,'ABT Transactions'!$F$9:$F$40,$R$80,'ABT Transactions'!$C$9:$C$40,S81,'ABT Transactions'!$D$9:$D$40,$B$90)","v":0},{"$f":"SUMIFS('ABT Transactions'!$B$9:$B$40,'ABT Transactions'!$G$9:$G$40,$C$79,'ABT Transactions'!$F$9:$F$40,$R$80,'ABT Transactions'!$C$9:$C$40,T81,'ABT Transactions'!$D$9:$D$40,$B$90)","v":0},{"$f":"SUMIFS('ABT Transactions'!$B$9:$B$40,'ABT Transactions'!$G$9:$G$40,$C79,'ABT Transactions'!$F$9:$F$40,$U$14,'ABT Transactions'!$C$9:$C$40,U$15,'ABT Transactions'!$D$9:$D$40,$B$24)","v":0},{"$f":"SUMIFS('ABT Transactions'!$B$9:$B$40,'ABT Transactions'!$G$9:$G$40,$C79,'ABT Transactions'!$F$9:$F$40,$U$14,'ABT Transactions'!$C$9:$C$40,V$15,'ABT Transactions'!$D$9:$D$40,$B$24)","v":0},{"$f":"SUMIFS('ABT Transactions'!$B$9:$B$40,'ABT Transactions'!$G$9:$G$40,$C79,'ABT Transactions'!$F$9:$F$40,$U$14,'ABT Transactions'!$C$9:$C$40,W$15,'ABT Transactions'!$D$9:$D$40,$B$24)","v":0},{"$f":"SUMIFS('ABT Transactions'!$B$9:$B$40,'ABT Transactions'!$G$9:$G$40,$C79,'ABT Transactions'!$F$9:$F$40,$X$14,'ABT Transactions'!$C$9:$C$40,X$15,'ABT Transactions'!$D$9:$D$40,$B$24)","v":0},{"$f":"SUMIFS('ABT Transactions'!$B$9:$B$40,'ABT Transactions'!$G$9:$G$40,$C79,'ABT Transactions'!$F$9:$F$40,$X$14,'ABT Transactions'!$C$9:$C$40,Y$15,'ABT Transactions'!$D$9:$D$40,$B$24)","v":0},{"$f":"SUMIFS('ABT Transactions'!$B$9:$B$40,'ABT Transactions'!$G$9:$G$40,$C79,'ABT Transactions'!$F$9:$F$40,$X$14,'ABT Transactions'!$C$9:$C$40,Z$15,'ABT Transactions'!$D$9:$D$40,$B$24)","v":0},{"$f":"SUMIFS('ABT Transactions'!$B$9:$B$40,'ABT Transactions'!$G$9:$G$40,$C79,'ABT Transactions'!$F$9:$F$40,$AA$14,'ABT Transactions'!$C$9:$C$40,AA$15,'ABT Transactions'!$D$9:$D$40,$B$24)","v":0},{"$f":"SUMIFS('ABT Transactions'!$B$9:$B$40,'ABT Transactions'!$G$9:$G$40,$C79,'ABT Transactions'!$F$9:$F$40,$AA$14,'ABT Transactions'!$C$9:$C$40,AB$15,'ABT Transactions'!$D$9:$D$40,$B$24)","v":0},{"$f":"SUMIFS('ABT Transactions'!$B$9:$B$40,'ABT Transactions'!$G$9:$G$40,$C79,'ABT Transactions'!$F$9:$F$40,$AA$14,'ABT Transactions'!$C$9:$C$40,AC$15,'ABT Transactions'!$D$9:$D$40,$B$24)","v":0},{"$f":"SUMIFS('ABT Transactions'!$B$9:$B$40,'ABT Transactions'!$G$9:$G$40,$C79,'ABT Transactions'!$F$9:$F$40,$AD$14,'ABT Transactions'!$C$9:$C$40,AD$15,'ABT Transactions'!$D$9:$D$40,$B$24)","v":0},{"$f":"SUMIFS('ABT Transactions'!$B$9:$B$40,'ABT Transactions'!$G$9:$G$40,$C79,'ABT Transactions'!$F$9:$F$40,$AD$14,'ABT Transactions'!$C$9:$C$40,AE$15,'ABT Transactions'!$D$9:$D$40,$B$24)","v":0},{"$f":"SUMIFS('ABT Transactions'!$B$9:$B$40,'ABT Transactions'!$G$9:$G$40,$C79,'ABT Transactions'!$F$9:$F$40,$AD$14,'ABT Transactions'!$C$9:$C$40,AF$15,'ABT Transactions'!$D$9:$D$40,$B$24)","v":0},{"$f":"SUMIFS('ABT Transactions'!$B$9:$B$40,'ABT Transactions'!$G$9:$G$40,$C79,'ABT Transactions'!$F$9:$F$40,$AG$14,'ABT Transactions'!$C$9:$C$40,AG$15,'ABT Transactions'!$D$9:$D$40,$B$24)","v":0},{"$f":"SUMIFS('ABT Transactions'!$B$9:$B$40,'ABT Transactions'!$G$9:$G$40,$C79,'ABT Transactions'!$F$9:$F$40,$AG$14,'ABT Transactions'!$C$9:$C$40,AH$15,'ABT Transactions'!$D$9:$D$40,$B$24)","v":0},{"$f":"SUMIFS('ABT Transactions'!$B$9:$B$40,'ABT Transactions'!$G$9:$G$40,$C79,'ABT Transactions'!$F$9:$F$40,$AG$14,'ABT Transactions'!$C$9:$C$40,AI$15,'ABT Transactions'!$D$9:$D$40,$B$24)","v":0},{"$f":"SUMIFS('ABT Transactions'!$B$9:$B$40,'ABT Transactions'!$G$9:$G$40,$C79,'ABT Transactions'!$F$9:$F$40,$AJ$14,'ABT Transactions'!$C$9:$C$40,AJ$15,'ABT Transactions'!$D$9:$D$40,$B$24)","v":0},{"$f":"SUMIFS('ABT Transactions'!$B$9:$B$40,'ABT Transactions'!$G$9:$G$40,$C79,'ABT Transactions'!$F$9:$F$40,$AJ$14,'ABT Transactions'!$C$9:$C$40,AK$15,'ABT Transactions'!$D$9:$D$40,$B$24)","v":0},{"$f":"SUMIFS('ABT Transactions'!$B$9:$B$40,'ABT Transactions'!$G$9:$G$40,$C79,'ABT Transactions'!$F$9:$F$40,$AJ$14,'ABT Transactions'!$C$9:$C$40,AL$15,'ABT Transactions'!$D$9:$D$40,$B$24)","v":0},{"$f":"SUMIFS('ABT Transactions'!$B$9:$B$40,'ABT Transactions'!$G$9:$G$40,$C79,'ABT Transactions'!$F$9:$F$40,$AM$14,'ABT Transactions'!$C$9:$C$40,AM$15,'ABT Transactions'!$D$9:$D$40,$B$24)","v":0},{"$f":"SUMIFS('ABT Transactions'!$B$9:$B$40,'ABT Transactions'!$G$9:$G$40,$C79,'ABT Transactions'!$F$9:$F$40,$AM$14,'ABT Transactions'!$C$9:$C$40,AN$15,'ABT Transactions'!$D$9:$D$40,$B$24)","v":0},{"$f":"SUMIFS('ABT Transactions'!$B$9:$B$40,'ABT Transactions'!$G$9:$G$40,$C79,'ABT Transactions'!$F$9:$F$40,$AM$14,'ABT Transactions'!$C$9:$C$40,AO$15,'ABT Transactions'!$D$9:$D$40,$B$24)","v":0},{"$f":"SUMIFS('ABT Transactions'!$B$9:$B$40,'ABT Transactions'!$G$9:$G$40,$C79,'ABT Transactions'!$F$9:$F$40,$AP$14,'ABT Transactions'!$C$9:$C$40,AP$15,'ABT Transactions'!$D$9:$D$40,$B$24)","v":0},{"$f":"SUMIFS('ABT Transactions'!$B$9:$B$40,'ABT Transactions'!$G$9:$G$40,$C79,'ABT Transactions'!$F$9:$F$40,$AP$14,'ABT Transactions'!$C$9:$C$40,AQ$15,'ABT Transactions'!$D$9:$D$40,$B$24)","v":0},{"$f":"SUMIFS('ABT Transactions'!$B$9:$B$40,'ABT Transactions'!$G$9:$G$40,$C79,'ABT Transactions'!$F$9:$F$40,$AP$14,'ABT Transactions'!$C$9:$C$40,AR$15,'ABT Transactions'!$D$9:$D$40,$B$24)","v":0},{"$f":"SUMIFS('ABT Transactions'!$B$9:$B$40,'ABT Transactions'!$G$9:$G$40,$C$79,'ABT Transactions'!$F$9:$F$40,$AS$80,'ABT Transactions'!$C$9:$C$40,AS81,'ABT Transactions'!$D$9:$D$40,$B$90)","v":0},{"$f":"SUMIFS('ABT Transactions'!$B$9:$B$40,'ABT Transactions'!$G$9:$G$40,$C$79,'ABT Transactions'!$F$9:$F$40,$AS$80,'ABT Transactions'!$C$9:$C$40,AT81,'ABT Transactions'!$D$9:$D$40,$B$90)","v":0},{"$f":"SUMIFS('ABT Transactions'!$B$9:$B$40,'ABT Transactions'!$G$9:$G$40,$C$79,'ABT Transactions'!$F$9:$F$40,$AS$80,'ABT Transactions'!$C$9:$C$40,AU81,'ABT Transactions'!$D$9:$D$40,$B$90)","v":0}]
[null,"Expired Credits",{"$f":"SUMIFS('ABT Transactions'!$B$9:$B$40,'ABT Transactions'!$G$9:$G$40,$C$79,'ABT Transactions'!$F$9:$F$40,$C$80,'ABT Transactions'!$C$9:$C$40,C81,'ABT Transactions'!$D$9:$D$40,$B$91)","v":0},{"$f":"SUMIFS('ABT Transactions'!$B$9:$B$40,'ABT Transactions'!$G$9:$G$40,$C$79,'ABT Transactions'!$F$9:$F$40,$C$80,'ABT Transactions'!$C$9:$C$40,D81,'ABT Transactions'!$D$9:$D$40,$B$91)","v":0},{"$f":"SUMIFS('ABT Transactions'!$B$9:$B$40,'ABT Transactions'!$G$9:$G$40,$C$79,'ABT Transactions'!$F$9:$F$40,$C$80,'ABT Transactions'!$C$9:$C$40,E81,'ABT Transactions'!$D$9:$D$40,$B$91)","v":0},{"$f":"SUMIFS('ABT Transactions'!$B$9:$B$40,'ABT Transactions'!$G$9:$G$40,$C$79,'ABT Transactions'!$F$9:$F$40,$F$80,'ABT Transactions'!$C$9:$C$40,F81,'ABT Transactions'!$D$9:$D$40,$B$91)","v":0},{"$f":"SUMIFS('ABT Transactions'!$B$9:$B$40,'ABT Transactions'!$G$9:$G$40,$C$79,'ABT Transactions'!$F$9:$F$40,$F$80,'ABT Transactions'!$C$9:$C$40,G81,'ABT Transactions'!$D$9:$D$40,$B$91)","v":0},{"$f":"SUMIFS('ABT Transactions'!$B$9:$B$40,'ABT Transactions'!$G$9:$G$40,$C$79,'ABT Transactions'!$F$9:$F$40,$F$80,'ABT Transactions'!$C$9:$C$40,H81,'ABT Transactions'!$D$9:$D$40,$B$91)","v":0},{"$f":"SUMIFS('ABT Transactions'!$B$9:$B$40,'ABT Transactions'!$G$9:$G$40,$C$79,'ABT Transactions'!$F$9:$F$40,$I$80,'ABT Transactions'!$C$9:$C$40,I81,'ABT Transactions'!$D$9:$D$40,$B$91)","v":0},{"$f":"SUMIFS('ABT Transactions'!$B$9:$B$40,'ABT Transactions'!$G$9:$G$40,$C$79,'ABT Transactions'!$F$9:$F$40,$I$80,'ABT Transactions'!$C$9:$C$40,J81,'ABT Transactions'!$D$9:$D$40,$B$91)","v":0},{"$f":"SUMIFS('ABT Transactions'!$B$9:$B$40,'ABT Transactions'!$G$9:$G$40,$C$79,'ABT Transactions'!$F$9:$F$40,$I$80,'ABT Transactions'!$C$9:$C$40,K81,'ABT Transactions'!$D$9:$D$40,$B$91)","v":0},{"$f":"SUMIFS('ABT Transactions'!$B$9:$B$40,'ABT Transactions'!$G$9:$G$40,$C$79,'ABT Transactions'!$F$9:$F$40,$L$80,'ABT Transactions'!$C$9:$C$40,L81,'ABT Transactions'!$D$9:$D$40,$B$91)","v":0},{"$f":"SUMIFS('ABT Transactions'!$B$9:$B$40,'ABT Transactions'!$G$9:$G$40,$C$79,'ABT Transactions'!$F$9:$F$40,$L$80,'ABT Transactions'!$C$9:$C$40,M81,'ABT Transactions'!$D$9:$D$40,$B$91)","v":0},{"$f":"SUMIFS('ABT Transactions'!$B$9:$B$40,'ABT Transactions'!$G$9:$G$40,$C$79,'ABT Transactions'!$F$9:$F$40,$L$80,'ABT Transactions'!$C$9:$C$40,N81,'ABT Transactions'!$D$9:$D$40,$B$91)","v":0},{"$f":"SUMIFS('ABT Transactions'!$B$9:$B$40,'ABT Transactions'!$G$9:$G$40,$C$79,'ABT Transactions'!$F$9:$F$40,$O$80,'ABT Transactions'!$C$9:$C$40,O81,'ABT Transactions'!$D$9:$D$40,$B$91)","v":0},{"$f":"SUMIFS('ABT Transactions'!$B$9:$B$40,'ABT Transactions'!$G$9:$G$40,$C$79,'ABT Transactions'!$F$9:$F$40,$O$80,'ABT Transactions'!$C$9:$C$40,P81,'ABT Transactions'!$D$9:$D$40,$B$91)","v":0},{"$f":"SUMIFS('ABT Transactions'!$B$9:$B$40,'ABT Transactions'!$G$9:$G$40,$C$79,'ABT Transactions'!$F$9:$F$40,$O$80,'ABT Transactions'!$C$9:$C$40,Q81,'ABT Transactions'!$D$9:$D$40,$B$91)","v":0},{"$f":"SUMIFS('ABT Transactions'!$B$9:$B$40,'ABT Transactions'!$G$9:$G$40,$C$79,'ABT Transactions'!$F$9:$F$40,$R$80,'ABT Transactions'!$C$9:$C$40,R81,'ABT Transactions'!$D$9:$D$40,$B$91)","v":0},{"$f":"SUMIFS('ABT Transactions'!$B$9:$B$40,'ABT Transactions'!$G$9:$G$40,$C$79,'ABT Transactions'!$F$9:$F$40,$R$80,'ABT Transactions'!$C$9:$C$40,S81,'ABT Transactions'!$D$9:$D$40,$B$91)","v":0},{"$f":"SUMIFS('ABT Transactions'!$B$9:$B$40,'ABT Transactions'!$G$9:$G$40,$C$79,'ABT Transactions'!$F$9:$F$40,$R$80,'ABT Transactions'!$C$9:$C$40,T81,'ABT Transactions'!$D$9:$D$40,$B$91)","v":0},{"$f":"SUMIFS('ABT Transactions'!$B$9:$B$40,'ABT Transactions'!$G$9:$G$40,$C79,'ABT Transactions'!$F$9:$F$40,$U$14,'ABT Transactions'!$C$9:$C$40,U$15,'ABT Transactions'!$D$9:$D$40,$B$25)","v":0},{"$f":"SUMIFS('ABT Transactions'!$B$9:$B$40,'ABT Transactions'!$G$9:$G$40,$C79,'ABT Transactions'!$F$9:$F$40,$U$14,'ABT Transactions'!$C$9:$C$40,V$15,'ABT Transactions'!$D$9:$D$40,$B$25)","v":0},{"$f":"SUMIFS('ABT Transactions'!$B$9:$B$40,'ABT Transactions'!$G$9:$G$40,$C79,'ABT Transactions'!$F$9:$F$40,$U$14,'ABT Transactions'!$C$9:$C$40,W$15,'ABT Transactions'!$D$9:$D$40,$B$25)","v":0},{"$f":"SUMIFS('ABT Transactions'!$B$9:$B$40,'ABT Transactions'!$G$9:$G$40,$C79,'ABT Transactions'!$F$9:$F$40,$X$14,'ABT Transactions'!$C$9:$C$40,X$15,'ABT Transactions'!$D$9:$D$40,$B$25)","v":0},{"$f":"SUMIFS('ABT Transactions'!$B$9:$B$40,'ABT Transactions'!$G$9:$G$40,$C79,'ABT Transactions'!$F$9:$F$40,$X$14,'ABT Transactions'!$C$9:$C$40,Y$15,'ABT Transactions'!$D$9:$D$40,$B$25)","v":0},{"$f":"SUMIFS('ABT Transactions'!$B$9:$B$40,'ABT Transactions'!$G$9:$G$40,$C79,'ABT Transactions'!$F$9:$F$40,$X$14,'ABT Transactions'!$C$9:$C$40,Z$15,'ABT Transactions'!$D$9:$D$40,$B$25)","v":0},{"$f":"SUMIFS('ABT Transactions'!$B$9:$B$40,'ABT Transactions'!$G$9:$G$40,$C79,'ABT Transactions'!$F$9:$F$40,$AA$14,'ABT Transactions'!$C$9:$C$40,AA$15,'ABT Transactions'!$D$9:$D$40,$B$25)","v":0},{"$f":"SUMIFS('ABT Transactions'!$B$9:$B$40,'ABT Transactions'!$G$9:$G$40,$C79,'ABT Transactions'!$F$9:$F$40,$AA$14,'ABT Transactions'!$C$9:$C$40,AB$15,'ABT Transactions'!$D$9:$D$40,$B$25)","v":0},{"$f":"SUMIFS('ABT Transactions'!$B$9:$B$40,'ABT Transactions'!$G$9:$G$40,$C79,'ABT Transactions'!$F$9:$F$40,$AA$14,'ABT Transactions'!$C$9:$C$40,AC$15,'ABT Transactions'!$D$9:$D$40,$B$25)","v":0},{"$f":"SUMIFS('ABT Transactions'!$B$9:$B$40,'ABT Transactions'!$G$9:$G$40,$C79,'ABT Transactions'!$F$9:$F$40,$AD$14,'ABT Transactions'!$C$9:$C$40,AD$15,'ABT Transactions'!$D$9:$D$40,$B$25)","v":0},{"$f":"SUMIFS('ABT Transactions'!$B$9:$B$40,'ABT Transactions'!$G$9:$G$40,$C79,'ABT Transactions'!$F$9:$F$40,$AD$14,'ABT Transactions'!$C$9:$C$40,AE$15,'ABT Transactions'!$D$9:$D$40,$B$25)","v":0},{"$f":"SUMIFS('ABT Transactions'!$B$9:$B$40,'ABT Transactions'!$G$9:$G$40,$C79,'ABT Transactions'!$F$9:$F$40,$AD$14,'ABT Transactions'!$C$9:$C$40,AF$15,'ABT Transactions'!$D$9:$D$40,$B$25)","v":0},{"$f":"SUMIFS('ABT Transactions'!$B$9:$B$40,'ABT Transactions'!$G$9:$G$40,$C79,'ABT Transactions'!$F$9:$F$40,$AG$14,'ABT Transactions'!$C$9:$C$40,AG$15,'ABT Transactions'!$D$9:$D$40,$B$25)","v":0},{"$f":"SUMIFS('ABT Transactions'!$B$9:$B$40,'ABT Transactions'!$G$9:$G$40,$C79,'ABT Transactions'!$F$9:$F$40,$AG$14,'ABT Transactions'!$C$9:$C$40,AH$15,'ABT Transactions'!$D$9:$D$40,$B$25)","v":0},{"$f":"SUMIFS('ABT Transactions'!$B$9:$B$40,'ABT Transactions'!$G$9:$G$40,$C79,'ABT Transactions'!$F$9:$F$40,$AG$14,'ABT Transactions'!$C$9:$C$40,AI$15,'ABT Transactions'!$D$9:$D$40,$B$25)","v":0},{"$f":"SUMIFS('ABT Transactions'!$B$9:$B$40,'ABT Transactions'!$G$9:$G$40,$C79,'ABT Transactions'!$F$9:$F$40,$AJ$14,'ABT Transactions'!$C$9:$C$40,AJ$15,'ABT Transactions'!$D$9:$D$40,$B$25)","v":0},{"$f":"SUMIFS('ABT Transactions'!$B$9:$B$40,'ABT Transactions'!$G$9:$G$40,$C79,'ABT Transactions'!$F$9:$F$40,$AJ$14,'ABT Transactions'!$C$9:$C$40,AK$15,'ABT Transactions'!$D$9:$D$40,$B$25)","v":0},{"$f":"SUMIFS('ABT Transactions'!$B$9:$B$40,'ABT Transactions'!$G$9:$G$40,$C79,'ABT Transactions'!$F$9:$F$40,$AJ$14,'ABT Transactions'!$C$9:$C$40,AL$15,'ABT Transactions'!$D$9:$D$40,$B$25)","v":0},{"$f":"SUMIFS('ABT Transactions'!$B$9:$B$40,'ABT Transactions'!$G$9:$G$40,$C79,'ABT Transactions'!$F$9:$F$40,$AM$14,'ABT Transactions'!$C$9:$C$40,AM$15,'ABT Transactions'!$D$9:$D$40,$B$25)","v":0},{"$f":"SUMIFS('ABT Transactions'!$B$9:$B$40,'ABT Transactions'!$G$9:$G$40,$C79,'ABT Transactions'!$F$9:$F$40,$AM$14,'ABT Transactions'!$C$9:$C$40,AN$15,'ABT Transactions'!$D$9:$D$40,$B$25)","v":0},{"$f":"SUMIFS('ABT Transactions'!$B$9:$B$40,'ABT Transactions'!$G$9:$G$40,$C79,'ABT Transactions'!$F$9:$F$40,$AM$14,'ABT Transactions'!$C$9:$C$40,AO$15,'ABT Transactions'!$D$9:$D$40,$B$25)","v":0},{"$f":"SUMIFS('ABT Transactions'!$B$9:$B$40,'ABT Transactions'!$G$9:$G$40,$C79,'ABT Transactions'!$F$9:$F$40,$AP$14,'ABT Transactions'!$C$9:$C$40,AP$15,'ABT Transactions'!$D$9:$D$40,$B$25)","v":0},{"$f":"SUMIFS('ABT Transactions'!$B$9:$B$40,'ABT Transactions'!$G$9:$G$40,$C79,'ABT Transactions'!$F$9:$F$40,$AP$14,'ABT Transactions'!$C$9:$C$40,AQ$15,'ABT Transactions'!$D$9:$D$40,$B$25)","v":0},{"$f":"SUMIFS('ABT Transactions'!$B$9:$B$40,'ABT Transactions'!$G$9:$G$40,$C79,'ABT Transactions'!$F$9:$F$40,$AP$14,'ABT Transactions'!$C$9:$C$40,AR$15,'ABT Transactions'!$D$9:$D$40,$B$25)","v":0},{"$f":"SUMIFS('ABT Transactions'!$B$9:$B$40,'ABT Transactions'!$G$9:$G$40,$C$79,'ABT Transactions'!$F$9:$F$40,$AS$80,'ABT Transactions'!$C$9:$C$40,AS81,'ABT Transactions'!$D$9:$D$40,$B$91)","v":0},{"$f":"SUMIFS('ABT Transactions'!$B$9:$B$40,'ABT Transactions'!$G$9:$G$40,$C$79,'ABT Transactions'!$F$9:$F$40,$AS$80,'ABT Transactions'!$C$9:$C$40,AT81,'ABT Transactions'!$D$9:$D$40,$B$91)","v":0},{"$f":"SUMIFS('ABT Transactions'!$B$9:$B$40,'ABT Transactions'!$G$9:$G$40,$C$79,'ABT Transactions'!$F$9:$F$40,$AS$80,'ABT Transactions'!$C$9:$C$40,AU81,'ABT Transactions'!$D$9:$D$40,$B$91)","v":0}]
[null,"Final Credit Balance",{"$f":"(C82+C83+C85+C87+C89+C90+C91)-(C84+C86+C88)","v":0},{"$f":"(D82+D83+D85+D87+D89+D90+D91)-(D84+D86+D88)","v":0},{"$f":"(E82+E83+E85+E87+E89+E90+E91)-(E84+E86+E88)","v":0},{"$f":"(F82+F83+F85+F87+F89+F90+F91)-(F84+F86+F88)","v":0},{"$f":"(G82+G83+G85+G87+G89+G90+G91)-(G84+G86+G88)","v":0},{"$f":"(H82+H83+H85+H87+H89+H90+H91)-(H84+H86+H88)","v":0},{"$f":"(I82+I83+I85+I87+I89+I90+I91)-(I84+I86+I88)","v":0},{"$f":"(J82+J83+J85+J87+J89+J90+J91)-(J84+J86+J88)","v":0},{"$f":"(K82+K83+K85+K87+K89+K90+K91)-(K84+K86+K88)","v":0},{"$f":"(L82+L83+L85+L87+L89+L90+L91)-(L84+L86+L88)","v":0},{"$f":"(M82+M83+M85+M87+M89+M90+M91)-(M84+M86+M88)","v":0},{"$f":"(N82+N83+N85+N87+N89+N90+N91)-(N84+N86+N88)","v":0},{"$f":"(O82+O83+O85+O87+O89+O90+O91)-(O84+O86+O88)","v":0},{"$f":"(P82+P83+P85+P87+P89+P90+P91)-(P84+P86+P88)","v":0},{"$f":"(Q82+Q83+Q85+Q87+Q89+Q90+Q91)-(Q84+Q86+Q88)","v":0},{"$f":"(R82+R83+R85+R87+R89+R90+R91)-(R84+R86+R88)","v":0},{"$f":"(S82+S83+S85+S87+S89+S90+S91)-(S84+S86+S88)","v":0},{"$f":"(T82+T83+T85+T87+T89+T90+T91)-(T84+T86+T88)","v":0},{"$f":"(U82+U83+U85+U87+U89+U90+U91)-(U84+U86+U88)","v":0},{"$f":"(V82+V83+V85+V87+V89+V90+V91)-(V84+V86+V88)","v":0},{"$f":"(W82+W83+W85+W87+W89+W90+W91)-(W84+W86+W88)","v":0},{"$f":"(X82+X83+X85+X87+X89+X90+X91)-(X84+X86+X88)","v":0},{"$f":"(Y82+Y83+Y85+Y87+Y89+Y90+Y91)-(Y84+Y86+Y88)","v":0},{"$f":"(Z82+Z83+Z85+Z87+Z89+Z90+Z91)-(Z84+Z86+Z88)","v":0},{"$f":"(AA82+AA83+AA85+AA87+AA89+AA90+AA91)-(AA84+AA86+AA88)","v":0},{"$f":"(AB82+AB83+AB85+AB87+AB89+AB90+AB91)-(AB84+AB86+AB88)","v":0},{"$f":"(AC82+AC83+AC85+AC87+AC89+AC90+AC91)-(AC84+AC86+AC88)","v":0},{"$f":"(AD82+AD83+AD85+AD87+AD89+AD90+AD91)-(AD84+AD86+AD88)","v":0},{"$f":"(AE82+AE83+AE85+AE87+AE89+AE90+AE91)-(AE84+AE86+AE88)","v":0},{"$f":"(AF82+AF83+AF85+AF87+AF89+AF90+AF91)-(AF84+AF86+AF88)","v":0},{"$f":"(AG82+AG83+AG85+AG87+AG89+AG90+AG91)-(AG84+AG86+AG88)","v":0},{"$f":"(AH82+AH83+AH85+AH87+AH89+AH90+AH91)-(AH84+AH86+AH88)","v":0},{"$f":"(AI82+AI83+AI85+AI87+AI89+AI90+AI91)-(AI84+AI86+AI88)","v":0},{"$f":"(AJ82+AJ83+AJ85+AJ87+AJ89+AJ90+AJ91)-(AJ84+AJ86+AJ88)","v":0},{"$f":"(AK82+AK83+AK85+AK87+AK89+AK90+AK91)-(AK84+AK86+AK88)","v":0},{"$f":"(AL82+AL83+AL85+AL87+AL89+AL90+AL91)-(AL84+AL86+AL88)","v":0},{"$f":"(AM82+AM83+AM85+AM87+AM89+AM90+AM91)-(AM84+AM86+AM88)","v":0},{"$f":"(AN82+AN83+AN85+AN87+AN89+AN90+AN91)-(AN84+AN86+AN88)","v":0},{"$f":"(AO82+AO83+AO85+AO87+AO89+AO90+AO91)-(AO84+AO86+AO88)","v":0},{"$f":"(AP82+AP83+AP85+AP87+AP89+AP90+AP91)-(AP84+AP86+AP88)","v":0},{"$f":"(AQ82+AQ83+AQ85+AQ87+AQ89+AQ90+AQ91)-(AQ84+AQ86+AQ88)","v":0},{"$f":"(AR82+AR83+AR85+AR87+AR89+AR90+AR91)-(AR84+AR86+AR88)","v":0},{"$f":"(AS82+AS83+AS85+AS87+AS89+AS90+AS91)-(AS84+AS86+AS88)","v":0},{"$f":"(AT82+AT83+AT85+AT87+AT89+AT90+AT91)-(AT84+AT86+AT88)","v":0},{"$f":"(AU82+AU83+AU85+AU87+AU89+AU90+AU91)-(AU84+AU86+AU88)","v":0}]
[null,"Averaging Set Credit Balance",{"$f":"SUM(C92:E92)","v":0},null,null,{"$f":"SUM(F92:H92)","v":0},null,null,{"$f":"SUM(I92:K92)","v":0},null,null,{"$f":"SUM(L92:N92)","v":0},null,null,{"$f":"SUM(O92:Q92)","v":0},null,null,{"$f":"SUM(R92:T92)","v":0},null,null,{"$f":"SUM(U92:W92)","v":0},null,null,{"$f":"SUM(X92:Z92)","v":0},null,null,{"$f":"SUM(AA92:AC92)","v":0},null,null,{"$f":"SUM(AD92:AF92)","v":0},null,null,{"$f":"SUM(AG92:AI92)","v":0},null,null,{"$f":"SUM(AJ92:AL92)","v":0},null,null,{"$f":"SUM(AM92:AO92)","v":0},null,null,{"$f":"SUM(AP92:AR92)","v":0},null,null,{"$f":"SUM(AS92:AU92)","v":0}]
[]
[]
[null,null,"CI - MHDE (Cl 6-7)"]
[null,null,2013,null,null,2014,null,null,2015,null,null,2016,null,null,2017,null,null,2018,null,null,2019,null,null,2020,null,null,2021,null,null,2022,null,null,2023,null,null,2024,null,null,2025,null,null,2026,null,null,2027]
[null,"Credit Type","Conventional Credit","Innovative Technology Credit","Advanced Technology Credit","Conventional Credit","Innovative Technology Credit","Advanced Technology Credit","Conventional Credit","Innovative Technology Credit","Advanced Technology Credit","Conventional Credit","Innovative Technology Credit","Advanced Technology Credit","Conventional Credit","Innovative Technology Credit","Advanced Technology Credit","Conventional Credit","Innovative Technology Credit","Advanced Technology Credit","Conventional Credit","Innovative Technology Credit","Advanced Technology Credit","Conventional Credit","Innovative Technology Credit","Advanced Technology Credit","Conventional Credit","Innovative Technology Credit","Advanced Technology Credit","Conventional Credit","Innovative Technology Credit","Advanced Technology Credit","Conventional Credit","Innovative Technology Credit","Advanced Technology Credit","Conventional Credit","Innovative Technology Credit","Advanced Technology Credit","Conventional Credit","Innovative Technology Credit","Advanced Technology Credit","Conventional Credit","Innovative Technology Credit","Advanced Technology Credit","Conventional Credit","Innovative Technology Credit","Advanced Technology Credit"]
[null,"Earned Credits",{"$f":"SUMIFS('ABT Credit Balances'!$D$9:$D$208,'ABT Credit Balances'!$B$9:$B$208,$C$96,'ABT Credit Balances'!$F$9:$F$208,C98,'ABT Credit Balances'!$E$9:$E$208,$C$97,'ABT Credit Balances'!$C$9:$C$208,$B$99)","v":0},{"$f":"SUMIFS('ABT Credit Balances'!$D$9:$D$208,'ABT Credit Balances'!$B$9:$B$208,$C$96,'ABT Credit Balances'!$F$9:$F$208,D98,'ABT Credit Balances'!$E$9:$E$208,$C$97,'ABT Credit Balances'!$C$9:$C$208,$B$99)","v":0},{"$f":"SUMIFS('ABT Credit Balances'!$D$9:$D$208,'ABT Credit Balances'!$B$9:$B$208,$C$96,'ABT Credit Balances'!$F$9:$F$208,E98,'ABT Credit Balances'!$E$9:$E$208,$C$97,'ABT Credit Balances'!$C$9:$C$208,$B$99)","v":0},{"$f":"SUMIFS('ABT Credit Balances'!$D$9:$D$208,'ABT Credit Balances'!$B$9:$B$208,$C$96,'ABT Credit Balances'!$F$9:$F$208,F98,'ABT Credit Balances'!$E$9:$E$208,$F$97,'ABT Credit Balances'!$C$9:$C$208,$B$99)","v":0},{"$f":"SUMIFS('ABT Credit Balances'!$D$9:$D$208,'ABT Credit Balances'!$B$9:$B$208,$C$96,'ABT Credit Balances'!$F$9:$F$208,G98,'ABT Credit Balances'!$E$9:$E$208,$F$97,'ABT Credit Balances'!$C$9:$C$208,$B$99)","v":0},{"$f":"SUMIFS('ABT Credit Balances'!$D$9:$D$208,'ABT Credit Balances'!$B$9:$B$208,$C$96,'ABT Credit Balances'!$F$9:$F$208,H98,'ABT Credit Balances'!$E$9:$E$208,$F$97,'ABT Credit Balances'!$C$9:$C$208,$B$99)","v":0},{"$f":"SUMIFS('ABT Credit Balances'!$D$9:$D$208,'ABT Credit Balances'!$B$9:$B$208,$C$96,'ABT Credit Balances'!$F$9:$F$208,I98,'ABT Credit Balances'!$E$9:$E$208,$I$97,'ABT Credit Balances'!$C$9:$C$208,$B$99)","v":0},{"$f":"SUMIFS('ABT Credit Balances'!$D$9:$D$208,'ABT Credit Balances'!$B$9:$B$208,$C$96,'ABT Credit Balances'!$F$9:$F$208,J98,'ABT Credit Balances'!$E$9:$E$208,$I$97,'ABT Credit Balances'!$C$9:$C$208,$B$99)","v":0},{"$f":"SUMIFS('ABT Credit Balances'!$D$9:$D$208,'ABT Credit Balances'!$B$9:$B$208,$C$96,'ABT Credit Balances'!$F$9:$F$208,K98,'ABT Credit Balances'!$E$9:$E$208,$I$97,'ABT Credit Balances'!$C$9:$C$208,$B$99)","v":0},{"$f":"SUMIFS('ABT Credit Balances'!$D$9:$D$208,'ABT Credit Balances'!$B$9:$B$208,$C$96,'ABT Credit Balances'!$F$9:$F$208,L98,'ABT Credit Balances'!$E$9:$E$208,$L$97,'ABT Credit Balances'!$C$9:$C$208,$B$99)","v":0},{"$f":"SUMIFS('ABT Credit Balances'!$D$9:$D$208,'ABT Credit Balances'!$B$9:$B$208,$C$96,'ABT Credit Balances'!$F$9:$F$208,M98,'ABT Credit Balances'!$E$9:$E$208,$L$97,'ABT Credit Balances'!$C$9:$C$208,$B$99)","v":0},{"$f":"SUMIFS('ABT Credit Balances'!$D$9:$D$208,'ABT Credit Balances'!$B$9:$B$208,$C$96,'ABT Credit Balances'!$F$9:$F$208,N98,'ABT Credit Balances'!$E$9:$E$208,$L$97,'ABT Credit Balances'!$C$9:$C$208,$B$99)","v":0},{"$f":"SUMIFS('ABT Credit Balances'!$D$9:$D$208,'ABT Credit Balances'!$B$9:$B$208,$C$96,'ABT Credit Balances'!$F$9:$F$208,O98,'ABT Credit Balances'!$E$9:$E$208,$O$97,'ABT Credit Balances'!$C$9:$C$208,$B$99)","v":0},{"$f":"SUMIFS('ABT Credit Balances'!$D$9:$D$208,'ABT Credit Balances'!$B$9:$B$208,$C$96,'ABT Credit Balances'!$F$9:$F$208,P98,'ABT Credit Balances'!$E$9:$E$208,$O$97,'ABT Credit Balances'!$C$9:$C$208,$B$99)","v":0},{"$f":"SUMIFS('ABT Credit Balances'!$D$9:$D$208,'ABT Credit Balances'!$B$9:$B$208,$C$96,'ABT Credit Balances'!$F$9:$F$208,Q98,'ABT Credit Balances'!$E$9:$E$208,$O$97,'ABT Credit Balances'!$C$9:$C$208,$B$99)","v":0},{"$f":"SUMIFS('ABT Credit Balances'!$D$9:$D$208,'ABT Credit Balances'!$B$9:$B$208,$C$96,'ABT Credit Balances'!$F$9:$F$208,R98,'ABT Credit Balances'!$E$9:$E$208,$R$97,'ABT Credit Balances'!$C$9:$C$208,$B$99)","v":0},{"$f":"SUMIFS('ABT Credit Balances'!$D$9:$D$208,'ABT Credit Balances'!$B$9:$B$208,$C$96,'ABT Credit Balances'!$F$9:$F$208,S98,'ABT Credit Balances'!$E$9:$E$208,$R$97,'ABT Credit Balances'!$C$9:$C$208,$B$99)","v":0},{"$f":"SUMIFS('ABT Credit Balances'!$D$9:$D$208,'ABT Credit Balances'!$B$9:$B$208,$C$96,'ABT Credit Balances'!$F$9:$F$208,T98,'ABT Credit Balances'!$E$9:$E$208,$R$97,'ABT Credit Balances'!$C$9:$C$208,$B$99)","v":0},{"$f":"SUMIFS('ABT Credit Balances'!$D$9:$D$208,'ABT Credit Balances'!$B$9:$B$208,$C96,'ABT Credit Balances'!$F$9:$F$208,U98,'ABT Credit Balances'!$E$9:$E$208,$U$14,'ABT Credit Balances'!$C$9:$C$208,$B$16)","v":0},{"$f":"SUMIFS('ABT Credit Balances'!$D$9:$D$208,'ABT Credit Balances'!$B$9:$B$208,$C96,'ABT Credit Balances'!$F$9:$F$208,V98,'ABT Credit Balances'!$E$9:$E$208,$U$14,'ABT Credit Balances'!$C$9:$C$208,$B$16)","v":0},{"$f":"SUMIFS('ABT Credit Balances'!$D$9:$D$208,'ABT Credit Balances'!$B$9:$B$208,$C96,'ABT Credit Balances'!$F$9:$F$208,W98,'ABT Credit Balances'!$E$9:$E$208,$U$14,'ABT Credit Balances'!$C$9:$C$208,$B$16)","v":0},{"$f":"SUMIFS('ABT Credit Balances'!$D$9:$D$208,'ABT Credit Balances'!$B$9:$B$208,$C96,'ABT Credit Balances'!$F$9:$F$208,X98,'ABT Credit Balances'!$E$9:$E$208,$X$14,'ABT Credit Balances'!$C$9:$C$208,$B$16)","v":0},{"$f":"SUMIFS('ABT Credit Balances'!$D$9:$D$208,'ABT Credit Balances'!$B$9:$B$208,$C96,'ABT Credit Balances'!$F$9:$F$208,Y98,'ABT Credit Balances'!$E$9:$E$208,$X$14,'ABT Credit Balances'!$C$9:$C$208,$B$16)","v":0},{"$f":"SUMIFS('ABT Credit Balances'!$D$9:$D$208,'ABT Credit Balances'!$B$9:$B$208,$C96,'ABT Credit Balances'!$F$9:$F$208,Z98,'ABT Credit Balances'!$E$9:$E$208,$X$14,'ABT Credit Balances'!$C$9:$C$208,$B$16)","v":0},{"$f":"SUMIFS('ABT Credit Balances'!$D$9:$D$208,'ABT Credit Balances'!$B$9:$B$208,$C96,'ABT Credit Balances'!$F$9:$F$208,AA98,'ABT Credit Balances'!$E$9:$E$208,$AA$14,'ABT Credit Balances'!$C$9:$C$208,$B$16)","v":0},{"$f":"SUMIFS('ABT Credit Balances'!$D$9:$D$208,'ABT Credit Balances'!$B$9:$B$208,$C96,'ABT Credit Balances'!$F$9:$F$208,AB98,'ABT Credit Balances'!$E$9:$E$208,$AA$14,'ABT Credit Balances'!$C$9:$C$208,$B$16)","v":0},{"$f":"SUMIFS('ABT Credit Balances'!$D$9:$D$208,'ABT Credit Balances'!$B$9:$B$208,$C96,'ABT Credit Balances'!$F$9:$F$208,AC98,'ABT Credit Balances'!$E$9:$E$208,$AA$14,'ABT Credit Balances'!$C$9:$C$208,$B$16)","v":0},{"$f":"SUMIFS('ABT Credit Balances'!$D$9:$D$208,'ABT Credit Balances'!$B$9:$B$208,$C96,'ABT Credit Balances'!$F$9:$F$208,AD98,'ABT Credit Balances'!$E$9:$E$208,$AD$14,'ABT Credit Balances'!$C$9:$C$208,$B$16)","v":0},{"$f":"SUMIFS('ABT Credit Balances'!$D$9:$D$208,'ABT Credit Balances'!$B$9:$B$208,$C96,'ABT Credit Balances'!$F$9:$F$208,AE98,'ABT Credit Balances'!$E$9:$E$208,$AD$14,'ABT Credit Balances'!$C$9:$C$208,$B$16)","v":0},{"$f":"SUMIFS('ABT Credit Balances'!$D$9:$D$208,'ABT Credit Balances'!$B$9:$B$208,$C96,'ABT Credit Balances'!$F$9:$F$208,AF98,'ABT Credit Balances'!$E$9:$E$208,$AD$14,'ABT Credit Balances'!$C$9:$C$208,$B$16)","v":0},{"$f":"SUMIFS('ABT Credit Balances'!$D$9:$D$208,'ABT Credit Balances'!$B$9:$B$208,$C96,'ABT Credit Balances'!$F$9:$F$208,AG98,'ABT Credit Balances'!$E$9:$E$208,$AG$14,'ABT Credit Balances'!$C$9:$C$208,$B$16)","v":0},{"$f":"SUMIFS('ABT Credit Balances'!$D$9:$D$208,'ABT Credit Balances'!$B$9:$B$208,$C96,'ABT Credit Balances'!$F$9:$F$208,AH98,'ABT Credit Balances'!$E$9:$E$208,$AG$14,'ABT Credit Balances'!$C$9:$C$208,$B$16)","v":0},{"$f":"SUMIFS('ABT Credit Balances'!$D$9:$D$208,'ABT Credit Balances'!$B$9:$B$208,$C96,'ABT Credit Balances'!$F$9:$F$208,AI98,'ABT Credit Balances'!$E$9:$E$208,$AG$14,'ABT Credit Balances'!$C$9:$C$208,$B$16)","v":0},{"$f":"SUMIFS('ABT Credit Balances'!$D$9:$D$208,'ABT Credit Balances'!$B$9:$B$208,$C96,'ABT Credit Balances'!$F$9:$F$208,AJ98,'ABT Credit Balances'!$E$9:$E$208,$AJ$14,'ABT Credit Balances'!$C$9:$C$208,$B$16)","v":0},{"$f":"SUMIFS('ABT Credit Balances'!$D$9:$D$208,'ABT Credit Balances'!$B$9:$B$208,$C96,'ABT Credit Balances'!$F$9:$F$208,AK98,'ABT Credit Balances'!$E$9:$E$208,$AJ$14,'ABT Credit Balances'!$C$9:$C$208,$B$16)","v":0},{"$f":"SUMIFS('ABT Credit Balances'!$D$9:$D$208,'ABT Credit Balances'!$B$9:$B$208,$C96,'ABT Credit Balances'!$F$9:$F$208,AL98,'ABT Credit Balances'!$E$9:$E$208,$AJ$14,'ABT Credit Balances'!$C$9:$C$208,$B$16)","v":0},{"$f":"SUMIFS('ABT Credit Balances'!$D$9:$D$208,'ABT Credit Balances'!$B$9:$B$208,$C96,'ABT Credit Balances'!$F$9:$F$208,AM98,'ABT Credit Balances'!$E$9:$E$208,$AM$14,'ABT Credit Balances'!$C$9:$C$208,$B$16)","v":0},{"$f":"SUMIFS('ABT Credit Balances'!$D$9:$D$208,'ABT Credit Balances'!$B$9:$B$208,$C96,'ABT Credit Balances'!$F$9:$F$208,AN98,'ABT Credit Balances'!$E$9:$E$208,$AM$14,'ABT Credit Balances'!$C$9:$C$208,$B$16)","v":0},{"$f":"SUMIFS('ABT Credit Balances'!$D$9:$D$208,'ABT Credit Balances'!$B$9:$B$208,$C96,'ABT Credit Balances'!$F$9:$F$208,AO98,'ABT Credit Balances'!$E$9:$E$208,$AM$14,'ABT Credit Balances'!$C$9:$C$208,$B$16)","v":0},{"$f":"SUMIFS('ABT Credit Balances'!$D$9:$D$208,'ABT Credit Balances'!$B$9:$B$208,$C96,'ABT Credit Balances'!$F$9:$F$208,AP98,'ABT Credit Balances'!$E$9:$E$208,$AP$14,'ABT Credit Balances'!$C$9:$C$208,$B$16)","v":0},{"$f":"SUMIFS('ABT Credit Balances'!$D$9:$D$208,'ABT Credit Balances'!$B$9:$B$208,$C96,'ABT Credit Balances'!$F$9:$F$208,AQ98,'ABT Credit Balances'!$E$9:$E$208,$AP$14,'ABT Credit Balances'!$C$9:$C$208,$B$16)","v":0},{"$f":"SUMIFS('ABT Credit Balances'!$D$9:$D$208,'ABT Credit Balances'!$B$9:$B$208,$C96,'ABT Credit Balances'!$F$9:$F$208,AR98,'ABT Credit Balances'!$E$9:$E$208,$AP$14,'ABT Credit Balances'!$C$9:$C$208,$B$16)","v":0},{"$f":"SUMIFS('ABT Credit Balances'!$D$9:$D$208,'ABT Credit Balances'!$B$9:$B$208,$C$96,'ABT Credit Balances'!$F$9:$F$208,AS98,'ABT Credit Balances'!$E$9:$E$208,$AS$97,'ABT Credit Balances'!$C$9:$C$208,$B$99)","v":0},{"$f":"SUMIFS('ABT Credit Balances'!$D$9:$D$208,'ABT Credit Balances'!$B$9:$B$208,$C$96,'ABT Credit Balances'!$F$9:$F$208,AT98,'ABT Credit Balances'!$E$9:$E$208,$AS$97,'ABT Credit Balances'!$C$9:$C$208,$B$99)","v":0},{"$f":"SUMIFS('ABT Credit Balances'!$D$9:$D$208,'ABT Credit Balances'!$B$9:$B$208,$C$96,'ABT Credit Balances'!$F$9:$F$208,AU98,'ABT Credit Balances'!$E$9:$E$208,$AS$97,'ABT Credit Balances'!$C$9:$C$208,$B$99)","v":0}]
[null,"Projected Credits",{"$f":"SUMIFS('ABT Credit Balances'!$D$9:$D$208,'ABT Credit Balances'!$B$9:$B$208,$C$96,'ABT Credit Balances'!$F$9:$F$208,C98,'ABT Credit Balances'!$E$9:$E$208,$C$97,'ABT Credit Balances'!$C$9:$C$208,$B$100)","v":0},{"$f":"SUMIFS('ABT Credit Balances'!$D$9:$D$208,'ABT Credit Balances'!$B$9:$B$208,$C$96,'ABT Credit Balances'!$F$9:$F$208,D98,'ABT Credit Balances'!$E$9:$E$208,$C$97,'ABT Credit Balances'!$C$9:$C$208,$B$100)","v":0},{"$f":"SUMIFS('ABT Credit Balances'!$D$9:$D$208,'ABT Credit Balances'!$B$9:$B$208,$C$96,'ABT Credit Balances'!$F$9:$F$208,E98,'ABT Credit Balances'!$E$9:$E$208,$C$97,'ABT Credit Balances'!$C$9:$C$208,$B$100)","v":0},{"$f":"SUMIFS('ABT Credit Balances'!$D$9:$D$208,'ABT Credit Balances'!$B$9:$B$208,$C$96,'ABT Credit Balances'!$F$9:$F$208,F98,'ABT Credit Balances'!$E$9:$E$208,$F$97,'ABT Credit Balances'!$C$9:$C$208,$B$100)","v":0},{"$f":"SUMIFS('ABT Credit Balances'!$D$9:$D$208,'ABT Credit Balances'!$B$9:$B$208,$C$96,'ABT Credit Balances'!$F$9:$F$208,G98,'ABT Credit Balances'!$E$9:$E$208,$F$97,'ABT Credit Balances'!$C$9:$C$208,$B$100)","v":0},{"$f":"SUMIFS('ABT Credit Balances'!$D$9:$D$208,'ABT Credit Balances'!$B$9:$B$208,$C$96,'ABT Credit Balances'!$F$9:$F$208,H98,'ABT Credit Balances'!$E$9:$E$208,$F$97,'ABT Credit Balances'!$C$9:$C$208,$B$100)","v":0},{"$f":"SUMIFS('ABT Credit Balances'!$D$9:$D$208,'ABT Credit Balances'!$B$9:$B$208,$C$96,'ABT Credit Balances'!$F$9:$F$208,I98,'ABT Credit Balances'!$E$9:$E$208,$I$97,'ABT Credit Balances'!$C$9:$C$208,$B$100)","v":0},{"$f":"SUMIFS('ABT Credit Balances'!$D$9:$D$208,'ABT Credit Balances'!$B$9:$B$208,$C$96,'ABT Credit Balances'!$F$9:$F$208,J98,'ABT Credit Balances'!$E$9:$E$208,$I$97,'ABT Credit Balances'!$C$9:$C$208,$B$100)","v":0},{"$f":"SUMIFS('ABT Credit Balances'!$D$9:$D$208,'ABT Credit Balances'!$B$9:$B$208,$C$96,'ABT Credit Balances'!$F$9:$F$208,K98,'ABT Credit Balances'!$E$9:$E$208,$I$97,'ABT Credit Balances'!$C$9:$C$208,$B$100)","v":0},{"$f":"SUMIFS('ABT Credit Balances'!$D$9:$D$208,'ABT Credit Balances'!$B$9:$B$208,$C$96,'ABT Credit Balances'!$F$9:$F$208,L98,'ABT Credit Balances'!$E$9:$E$208,$L$97,'ABT Credit Balances'!$C$9:$C$208,$B$100)","v":0},{"$f":"SUMIFS('ABT Credit Balances'!$D$9:$D$208,'ABT Credit Balances'!$B$9:$B$208,$C$96,'ABT Credit Balances'!$F$9:$F$208,M98,'ABT Credit Balances'!$E$9:$E$208,$L$97,'ABT Credit Balances'!$C$9:$C$208,$B$100)","v":0},{"$f":"SUMIFS('ABT Credit Balances'!$D$9:$D$208,'ABT Credit Balances'!$B$9:$B$208,$C$96,'ABT Credit Balances'!$F$9:$F$208,N98,'ABT Credit Balances'!$E$9:$E$208,$L$97,'ABT Credit Balances'!$C$9:$C$208,$B$100)","v":0},{"$f":"SUMIFS('ABT Credit Balances'!$D$9:$D$208,'ABT Credit Balances'!$B$9:$B$208,$C$96,'ABT Credit Balances'!$F$9:$F$208,O98,'ABT Credit Balances'!$E$9:$E$208,$O$97,'ABT Credit Balances'!$C$9:$C$208,$B$100)","v":0},{"$f":"SUMIFS('ABT Credit Balances'!$D$9:$D$208,'ABT Credit Balances'!$B$9:$B$208,$C$96,'ABT Credit Balances'!$F$9:$F$208,P98,'ABT Credit Balances'!$E$9:$E$208,$O$97,'ABT Credit Balances'!$C$9:$C$208,$B$100)","v":0},{"$f":"SUMIFS('ABT Credit Balances'!$D$9:$D$208,'ABT Credit Balances'!$B$9:$B$208,$C$96,'ABT Credit Balances'!$F$9:$F$208,Q98,'ABT Credit Balances'!$E$9:$E$208,$O$97,'ABT Credit Balances'!$C$9:$C$208,$B$100)","v":0},{"$f":"SUMIFS('ABT Credit Balances'!$D$9:$D$208,'ABT Credit Balances'!$B$9:$B$208,$C$96,'ABT Credit Balances'!$F$9:$F$208,R98,'ABT Credit Balances'!$E$9:$E$208,$R$97,'ABT Credit Balances'!$C$9:$C$208,$B$100)","v":0},{"$f":"SUMIFS('ABT Credit Balances'!$D$9:$D$208,'ABT Credit Balances'!$B$9:$B$208,$C$96,'ABT Credit Balances'!$F$9:$F$208,S98,'ABT Credit Balances'!$E$9:$E$208,$R$97,'ABT Credit Balances'!$C$9:$C$208,$B$100)","v":0},{"$f":"SUMIFS('ABT Credit Balances'!$D$9:$D$208,'ABT Credit Balances'!$B$9:$B$208,$C$96,'ABT Credit Balances'!$F$9:$F$208,T98,'ABT Credit Balances'!$E$9:$E$208,$R$97,'ABT Credit Balances'!$C$9:$C$208,$B$100)","v":0},{"$f":"SUMIFS('ABT Credit Balances'!$D$9:$D$208,'ABT Credit Balances'!$B$9:$B$208,$C96,'ABT Credit Balances'!$F$9:$F$208,U98,'ABT Credit Balances'!$E$9:$E$208,$U$14,'ABT Credit Balances'!$C$9:$C$208,$B$17)","v":0},{"$f":"SUMIFS('ABT Credit Balances'!$D$9:$D$208,'ABT Credit Balances'!$B$9:$B$208,$C96,'ABT Credit Balances'!$F$9:$F$208,V98,'ABT Credit Balances'!$E$9:$E$208,$U$14,'ABT Credit Balances'!$C$9:$C$208,$B$17)","v":0},{"$f":"SUMIFS('ABT Credit Balances'!$D$9:$D$208,'ABT Credit Balances'!$B$9:$B$208,$C96,'ABT Credit Balances'!$F$9:$F$208,W98,'ABT Credit Balances'!$E$9:$E$208,$U$14,'ABT Credit Balances'!$C$9:$C$208,$B$17)","v":0},{"$f":"SUMIFS('ABT Credit Balances'!$D$9:$D$208,'ABT Credit Balances'!$B$9:$B$208,$C96,'ABT Credit Balances'!$F$9:$F$208,X98,'ABT Credit Balances'!$E$9:$E$208,$X$14,'ABT Credit Balances'!$C$9:$C$208,$B$17)","v":0},{"$f":"SUMIFS('ABT Credit Balances'!$D$9:$D$208,'ABT Credit Balances'!$B$9:$B$208,$C96,'ABT Credit Balances'!$F$9:$F$208,Y98,'ABT Credit Balances'!$E$9:$E$208,$X$14,'ABT Credit Balances'!$C$9:$C$208,$B$17)","v":0},{"$f":"SUMIFS('ABT Credit Balances'!$D$9:$D$208,'ABT Credit Balances'!$B$9:$B$208,$C96,'ABT Credit Balances'!$F$9:$F$208,Z98,'ABT Credit Balances'!$E$9:$E$208,$X$14,'ABT Credit Balances'!$C$9:$C$208,$B$17)","v":0},{"$f":"SUMIFS('ABT Credit Balances'!$D$9:$D$208,'ABT Credit Balances'!$B$9:$B$208,$C96,'ABT Credit Balances'!$F$9:$F$208,AA98,'ABT Credit Balances'!$E$9:$E$208,$AA$14,'ABT Credit Balances'!$C$9:$C$208,$B$17)","v":0},{"$f":"SUMIFS('ABT Credit Balances'!$D$9:$D$208,'ABT Credit Balances'!$B$9:$B$208,$C96,'ABT Credit Balances'!$F$9:$F$208,AB98,'ABT Credit Balances'!$E$9:$E$208,$AA$14,'ABT Credit Balances'!$C$9:$C$208,$B$17)","v":0},{"$f":"SUMIFS('ABT Credit Balances'!$D$9:$D$208,'ABT Credit Balances'!$B$9:$B$208,$C96,'ABT Credit Balances'!$F$9:$F$208,AC98,'ABT Credit Balances'!$E$9:$E$208,$AA$14,'ABT Credit Balances'!$C$9:$C$208,$B$17)","v":0},{"$f":"SUMIFS('ABT Credit Balances'!$D$9:$D$208,'ABT Credit Balances'!$B$9:$B$208,$C96,'ABT Credit Balances'!$F$9:$F$208,AD98,'ABT Credit Balances'!$E$9:$E$208,$AD$14,'ABT Credit Balances'!$C$9:$C$208,$B$17)","v":0},{"$f":"SUMIFS('ABT Credit Balances'!$D$9:$D$208,'ABT Credit Balances'!$B$9:$B$208,$C96,'ABT Credit Balances'!$F$9:$F$208,AE98,'ABT Credit Balances'!$E$9:$E$208,$AD$14,'ABT Credit Balances'!$C$9:$C$208,$B$17)","v":0},{"$f":"SUMIFS('ABT Credit Balances'!$D$9:$D$208,'ABT Credit Balances'!$B$9:$B$208,$C96,'ABT Credit Balances'!$F$9:$F$208,AF98,'ABT Credit Balances'!$E$9:$E$208,$AD$14,'ABT Credit Balances'!$C$9:$C$208,$B$17)","v":0},{"$f":"SUMIFS('ABT Credit Balances'!$D$9:$D$208,'ABT Credit Balances'!$B$9:$B$208,$C96,'ABT Credit Balances'!$F$9:$F$208,AG98,'ABT Credit Balances'!$E$9:$E$208,$AG$14,'ABT Credit Balances'!$C$9:$C$208,$B$17)","v":0},{"$f":"SUMIFS('ABT Credit Balances'!$D$9:$D$208,'ABT Credit Balances'!$B$9:$B$208,$C96,'ABT Credit Balances'!$F$9:$F$208,AH98,'ABT Credit Balances'!$E$9:$E$208,$AG$14,'ABT Credit Balances'!$C$9:$C$208,$B$17)","v":0},{"$f":"SUMIFS('ABT Credit Balances'!$D$9:$D$208,'ABT Credit Balances'!$B$9:$B$208,$C96,'ABT Credit Balances'!$F$9:$F$208,AI98,'ABT Credit Balances'!$E$9:$E$208,$AG$14,'ABT Credit Balances'!$C$9:$C$208,$B$17)","v":0},{"$f":"SUMIFS('ABT Credit Balances'!$D$9:$D$208,'ABT Credit Balances'!$B$9:$B$208,$C96,'ABT Credit Balances'!$F$9:$F$208,AJ98,'ABT Credit Balances'!$E$9:$E$208,$AJ$14,'ABT Credit Balances'!$C$9:$C$208,$B$17)","v":0},{"$f":"SUMIFS('ABT Credit Balances'!$D$9:$D$208,'ABT Credit Balances'!$B$9:$B$208,$C96,'ABT Credit Balances'!$F$9:$F$208,AK98,'ABT Credit Balances'!$E$9:$E$208,$AJ$14,'ABT Credit Balances'!$C$9:$C$208,$B$17)","v":0},{"$f":"SUMIFS('ABT Credit Balances'!$D$9:$D$208,'ABT Credit Balances'!$B$9:$B$208,$C96,'ABT Credit Balances'!$F$9:$F$208,AL98,'ABT Credit Balances'!$E$9:$E$208,$AJ$14,'ABT Credit Balances'!$C$9:$C$208,$B$17)","v":0},{"$f":"SUMIFS('ABT Credit Balances'!$D$9:$D$208,'ABT Credit Balances'!$B$9:$B$208,$C96,'ABT Credit Balances'!$F$9:$F$208,AM98,'ABT Credit Balances'!$E$9:$E$208,$AM$14,'ABT Credit Balances'!$C$9:$C$208,$B$17)","v":0},{"$f":"SUMIFS('ABT Credit Balances'!$D$9:$D$208,'ABT Credit Balances'!$B$9:$B$208,$C96,'ABT Credit Balances'!$F$9:$F$208,AN98,'ABT Credit Balances'!$E$9:$E$208,$AM$14,'ABT Credit Balances'!$C$9:$C$208,$B$17)","v":0},{"$f":"SUMIFS('ABT Credit Balances'!$D$9:$D$208,'ABT Credit Balances'!$B$9:$B$208,$C96,'ABT Credit Balances'!$F$9:$F$208,AO98,'ABT Credit Balances'!$E$9:$E$208,$AM$14,'ABT Credit Balances'!$C$9:$C$208,$B$17)","v":0},{"$f":"SUMIFS('ABT Credit Balances'!$D$9:$D$208,'ABT Credit Balances'!$B$9:$B$208,$C96,'ABT Credit Balances'!$F$9:$F$208,AP98,'ABT Credit Balances'!$E$9:$E$208,$AP$14,'ABT Credit Balances'!$C$9:$C$208,$B$17)","v":0},{"$f":"SUMIFS('ABT Credit Balances'!$D$9:$D$208,'ABT Credit Balances'!$B$9:$B$208,$C96,'ABT Credit Balances'!$F$9:$F$208,AQ98,'ABT Credit Balances'!$E$9:$E$208,$AP$14,'ABT Credit Balances'!$C$9:$C$208,$B$17)","v":0},{"$f":"SUMIFS('ABT Credit Balances'!$D$9:$D$208,'ABT Credit Balances'!$B$9:$B$208,$C96,'ABT Credit Balances'!$F$9:$F$208,AR98,'ABT Credit Balances'!$E$9:$E$208,$AP$14,'ABT Credit Balances'!$C$9:$C$208,$B$17)","v":0},{"$f":"SUMIFS('ABT Credit Balances'!$D$9:$D$208,'ABT Credit Balances'!$B$9:$B$208,$C$96,'ABT Credit Balances'!$F$9:$F$208,AS98,'ABT Credit Balances'!$E$9:$E$208,$AS$97,'ABT Credit Balances'!$C$9:$C$208,$B$100)","v":0},{"$f":"SUMIFS('ABT Credit Balances'!$D$9:$D$208,'ABT Credit Balances'!$B$9:$B$208,$C$96,'ABT Credit Balances'!$F$9:$F$208,AT98,'ABT Credit Balances'!$E$9:$E$208,$AS$97,'ABT Credit Balances'!$C$9:$C$208,$B$100)","v":0},{"$f":"SUMIFS('ABT Credit Balances'!$D$9:$D$208,'ABT Credit Balances'!$B$9:$B$208,$C$96,'ABT Credit Balances'!$F$9:$F$208,AU98,'ABT Credit Balances'!$E$9:$E$208,$AS$97,'ABT Credit Balances'!$C$9:$C$208,$B$100)","v":0}]
[null,"Applied Banked Credits (out)",{"$f":"SUMIFS('ABT Transactions'!$B$9:$B$40,'ABT Transactions'!$G$9:$G$40,$C$96,'ABT Transactions'!$F$9:$F$40,$C97,'ABT Transactions'!$C$9:$C$40,C98,'ABT Transactions'!$D$9:$D$40,$B$101)","v":0},{"$f":"SUMIFS('ABT Transactions'!$B$9:$B$40,'ABT Transactions'!$G$9:$G$40,$C$96,'ABT Transactions'!$F$9:$F$40,$C97,'ABT Transactions'!$C$9:$C$40,D98,'ABT Transactions'!$D$9:$D$40,$B$101)","v":0},{"$f":"SUMIFS('ABT Transactions'!$B$9:$B$40,'ABT Transactions'!$G$9:$G$40,$C$96,'ABT Transactions'!$F$9:$F$40,$C97,'ABT Transactions'!$C$9:$C$40,E98,'ABT Transactions'!$D$9:$D$40,$B$101)","v":0},{"$f":"SUMIFS('ABT Transactions'!$B$9:$B$40,'ABT Transactions'!$G$9:$G$40,$C$96,'ABT Transactions'!$F$9:$F$40,$F97,'ABT Transactions'!$C$9:$C$40,F98,'ABT Transactions'!$D$9:$D$40,$B$101)","v":0},{"$f":"SUMIFS('ABT Transactions'!$B$9:$B$40,'ABT Transactions'!$G$9:$G$40,$C$96,'ABT Transactions'!$F$9:$F$40,$F97,'ABT Transactions'!$C$9:$C$40,G98,'ABT Transactions'!$D$9:$D$40,$B$101)","v":0},{"$f":"SUMIFS('ABT Transactions'!$B$9:$B$40,'ABT Transactions'!$G$9:$G$40,$C$96,'ABT Transactions'!$F$9:$F$40,$F97,'ABT Transactions'!$C$9:$C$40,H98,'ABT Transactions'!$D$9:$D$40,$B$101)","v":0},{"$f":"SUMIFS('ABT Transactions'!$B$9:$B$40,'ABT Transactions'!$G$9:$G$40,$C$96,'ABT Transactions'!$F$9:$F$40,$I97,'ABT Transactions'!$C$9:$C$40,I98,'ABT Transactions'!$D$9:$D$40,$B$101)","v":0},{"$f":"SUMIFS('ABT Transactions'!$B$9:$B$40,'ABT Transactions'!$G$9:$G$40,$C$96,'ABT Transactions'!$F$9:$F$40,$I97,'ABT Transactions'!$C$9:$C$40,J98,'ABT Transactions'!$D$9:$D$40,$B$101)","v":0},{"$f":"SUMIFS('ABT Transactions'!$B$9:$B$40,'ABT Transactions'!$G$9:$G$40,$C$96,'ABT Transactions'!$F$9:$F$40,$I97,'ABT Transactions'!$C$9:$C$40,K98,'ABT Transactions'!$D$9:$D$40,$B$101)","v":0},{"$f":"SUMIFS('ABT Transactions'!$B$9:$B$40,'ABT Transactions'!$G$9:$G$40,$C$96,'ABT Transactions'!$F$9:$F$40,L97,'ABT Transactions'!$C$9:$C$40,L98,'ABT Transactions'!$D$9:$D$40,$B$101)","v":0},{"$f":"SUMIFS('ABT Transactions'!$B$9:$B$40,'ABT Transactions'!$G$9:$G$40,$C$96,'ABT Transactions'!$F$9:$F$40,L97,'ABT Transactions'!$C$9:$C$40,M98,'ABT Transactions'!$D$9:$D$40,$B$101)","v":0},{"$f":"SUMIFS('ABT Transactions'!$B$9:$B$40,'ABT Transactions'!$G$9:$G$40,$C$96,'ABT Transactions'!$F$9:$F$40,L97,'ABT Transactions'!$C$9:$C$40,N98,'ABT Transactions'!$D$9:$D$40,$B$101)","v":0},{"$f":"SUMIFS('ABT Transactions'!$B$9:$B$40,'ABT Transactions'!$G$9:$G$40,$C$96,'ABT Transactions'!$F$9:$F$40,$O97,'ABT Transactions'!$C$9:$C$40,O98,'ABT Transactions'!$D$9:$D$40,$B$101)","v":0},{"$f":"SUMIFS('ABT Transactions'!$B$9:$B$40,'ABT Transactions'!$G$9:$G$40,$C$96,'ABT Transactions'!$F$9:$F$40,$O97,'ABT Transactions'!$C$9:$C$40,P98,'ABT Transactions'!$D$9:$D$40,$B$101)","v":0},{"$f":"SUMIFS('ABT Transactions'!$B$9:$B$40,'ABT Transactions'!$G$9:$G$40,$C$96,'ABT Transactions'!$F$9:$F$40,$O97,'ABT Transactions'!$C$9:$C$40,Q98,'ABT Transactions'!$D$9:$D$40,$B$101)","v":0},{"$f":"SUMIFS('ABT Transactions'!$B$9:$B$40,'ABT Transactions'!$G$9:$G$40,$C$96,'ABT Transactions'!$F$9:$F$40,$R97,'ABT Transactions'!$C$9:$C$40,R98,'ABT Transactions'!$D$9:$D$40,$B$101)","v":0},{"$f":"SUMIFS('ABT Transactions'!$B$9:$B$40,'ABT Transactions'!$G$9:$G$40,$C$96,'ABT Transactions'!$F$9:$F$40,$R97,'ABT Transactions'!$C$9:$C$40,S98,'ABT Transactions'!$D$9:$D$40,$B$101)","v":0},{"$f":"SUMIFS('ABT Transactions'!$B$9:$B$40,'ABT Transactions'!$G$9:$G$40,$C$96,'ABT Transactions'!$F$9:$F$40,$R97,'ABT Transactions'!$C$9:$C$40,T98,'ABT Transactions'!$D$9:$D$40,$B$101)","v":0},{"$f":"SUMIFS('ABT Transactions'!$B$9:$B$40,'ABT Transactions'!$G$9:$G$40,$C96,'ABT Transactions'!$F$9:$F$40,$U$14,'ABT Transactions'!$C$9:$C$40,U98,'ABT Transactions'!$D$9:$D$40,$B$18)","v":0},{"$f":"SUMIFS('ABT Transactions'!$B$9:$B$40,'ABT Transactions'!$G$9:$G$40,$C96,'ABT Transactions'!$F$9:$F$40,$U$14,'ABT Transactions'!$C$9:$C$40,V98,'ABT Transactions'!$D$9:$D$40,$B$18)","v":0},{"$f":"SUMIFS('ABT Transactions'!$B$9:$B$40,'ABT Transactions'!$G$9:$G$40,$C96,'ABT Transactions'!$F$9:$F$40,$U$14,'ABT Transactions'!$C$9:$C$40,W98,'ABT Transactions'!$D$9:$D$40,$B$18)","v":0},{"$f":"SUMIFS('ABT Transactions'!$B$9:$B$40,'ABT Transactions'!$G$9:$G$40,$C96,'ABT Transactions'!$F$9:$F$40,$X$14,'ABT Transactions'!$C$9:$C$40,X98,'ABT Transactions'!$D$9:$D$40,$B$18)","v":0},{"$f":"SUMIFS('ABT Transactions'!$B$9:$B$40,'ABT Transactions'!$G$9:$G$40,$C96,'ABT Transactions'!$F$9:$F$40,$X$14,'ABT Transactions'!$C$9:$C$40,Y98,'ABT Transactions'!$D$9:$D$40,$B$18)","v":0},{"$f":"SUMIFS('ABT Transactions'!$B$9:$B$40,'ABT Transactions'!$G$9:$G$40,$C96,'ABT Transactions'!$F$9:$F$40,$X$14,'ABT Transactions'!$C$9:$C$40,Z98,'ABT Transactions'!$D$9:$D$40,$B$18)","v":0},{"$f":"SUMIFS('ABT Transactions'!$B$9:$B$40,'ABT Transactions'!$G$9:$G$40,$C96,'ABT Transactions'!$F$9:$F$40,$AA$14,'ABT Transactions'!$C$9:$C$40,AA98,'ABT Transactions'!$D$9:$D$40,$B$18)","v":0},{"$f":"SUMIFS('ABT Transactions'!$B$9:$B$40,'ABT Transactions'!$G$9:$G$40,$C96,'ABT Transactions'!$F$9:$F$40,$AA$14,'ABT Transactions'!$C$9:$C$40,AB98,'ABT Transactions'!$D$9:$D$40,$B$18)","v":0},{"$f":"SUMIFS('ABT Transactions'!$B$9:$B$40,'ABT Transactions'!$G$9:$G$40,$C96,'ABT Transactions'!$F$9:$F$40,$AA$14,'ABT Transactions'!$C$9:$C$40,AC98,'ABT Transactions'!$D$9:$D$40,$B$18)","v":0},{"$f":"SUMIFS('ABT Transactions'!$B$9:$B$40,'ABT Transactions'!$G$9:$G$40,$C96,'ABT Transactions'!$F$9:$F$40,$AD$14,'ABT Transactions'!$C$9:$C$40,AD98,'ABT Transactions'!$D$9:$D$40,$B$18)","v":0},{"$f":"SUMIFS('ABT Transactions'!$B$9:$B$40,'ABT Transactions'!$G$9:$G$40,$C96,'ABT Transactions'!$F$9:$F$40,$AD$14,'ABT Transactions'!$C$9:$C$40,AE98,'ABT Transactions'!$D$9:$D$40,$B$18)","v":0},{"$f":"SUMIFS('ABT Transactions'!$B$9:$B$40,'ABT Transactions'!$G$9:$G$40,$C96,'ABT Transactions'!$F$9:$F$40,$AD$14,'ABT Transactions'!$C$9:$C$40,AF98,'ABT Transactions'!$D$9:$D$40,$B$18)","v":0},{"$f":"SUMIFS('ABT Transactions'!$B$9:$B$40,'ABT Transactions'!$G$9:$G$40,$C96,'ABT Transactions'!$F$9:$F$40,$AG$14,'ABT Transactions'!$C$9:$C$40,AG98,'ABT Transactions'!$D$9:$D$40,$B$18)","v":0},{"$f":"SUMIFS('ABT Transactions'!$B$9:$B$40,'ABT Transactions'!$G$9:$G$40,$C96,'ABT Transactions'!$F$9:$F$40,$AG$14,'ABT Transactions'!$C$9:$C$40,AH98,'ABT Transactions'!$D$9:$D$40,$B$18)","v":0},{"$f":"SUMIFS('ABT Transactions'!$B$9:$B$40,'ABT Transactions'!$G$9:$G$40,$C96,'ABT Transactions'!$F$9:$F$40,$AG$14,'ABT Transactions'!$C$9:$C$40,AI98,'ABT Transactions'!$D$9:$D$40,$B$18)","v":0},{"$f":"SUMIFS('ABT Transactions'!$B$9:$B$40,'ABT Transactions'!$G$9:$G$40,$C96,'ABT Transactions'!$F$9:$F$40,$AJ$14,'ABT Transactions'!$C$9:$C$40,AJ98,'ABT Transactions'!$D$9:$D$40,$B$18)","v":0},{"$f":"SUMIFS('ABT Transactions'!$B$9:$B$40,'ABT Transactions'!$G$9:$G$40,$C96,'ABT Transactions'!$F$9:$F$40,$AJ$14,'ABT Transactions'!$C$9:$C$40,AK98,'ABT Transactions'!$D$9:$D$40,$B$18)","v":0},{"$f":"SUMIFS('ABT Transactions'!$B$9:$B$40,'ABT Transactions'!$G$9:$G$40,$C96,'ABT Transactions'!$F$9:$F$40,$AJ$14,'ABT Transactions'!$C$9:$C$40,AL98,'ABT Transactions'!$D$9:$D$40,$B$18)","v":0},{"$f":"SUMIFS('ABT Transactions'!$B$9:$B$40,'ABT Transactions'!$G$9:$G$40,$C96,'ABT Transactions'!$F$9:$F$40,$AM$14,'ABT Transactions'!$C$9:$C$40,AM98,'ABT Transactions'!$D$9:$D$40,$B$18)","v":0},{"$f":"SUMIFS('ABT Transactions'!$B$9:$B$40,'ABT Transactions'!$G$9:$G$40,$C96,'ABT Transactions'!$F$9:$F$40,$AM$14,'ABT Transactions'!$C$9:$C$40,AN98,'ABT Transactions'!$D$9:$D$40,$B$18)","v":0},{"$f":"SUMIFS('ABT Transactions'!$B$9:$B$40,'ABT Transactions'!$G$9:$G$40,$C96,'ABT Transactions'!$F$9:$F$40,$AM$14,'ABT Transactions'!$C$9:$C$40,AO98,'ABT Transactions'!$D$9:$D$40,$B$18)","v":0},{"$f":"SUMIFS('ABT Transactions'!$B$9:$B$40,'ABT Transactions'!$G$9:$G$40,$C96,'ABT Transactions'!$F$9:$F$40,$AP$14,'ABT Transactions'!$C$9:$C$40,AP98,'ABT Transactions'!$D$9:$D$40,$B$18)","v":0},{"$f":"SUMIFS('ABT Transactions'!$B$9:$B$40,'ABT Transactions'!$G$9:$G$40,$C96,'ABT Transactions'!$F$9:$F$40,$AP$14,'ABT Transactions'!$C$9:$C$40,AQ98,'ABT Transactions'!$D$9:$D$40,$B$18)","v":0},{"$f":"SUMIFS('ABT Transactions'!$B$9:$B$40,'ABT Transactions'!$G$9:$G$40,$C96,'ABT Transactions'!$F$9:$F$40,$AP$14,'ABT Transactions'!$C$9:$C$40,AR98,'ABT Transactions'!$D$9:$D$40,$B$18)","v":0},{"$f":"SUMIFS('ABT Transactions'!$B$9:$B$40,'ABT Transactions'!$G$9:$G$40,$C$96,'ABT Transactions'!$F$9:$F$40,$AS97,'ABT Transactions'!$C$9:$C$40,AS98,'ABT Transactions'!$D$9:$D$40,$B$101)","v":0},{"$f":"SUMIFS('ABT Transactions'!$B$9:$B$40,'ABT Transactions'!$G$9:$G$40,$C$96,'ABT Transactions'!$F$9:$F$40,$AS97,'ABT Transactions'!$C$9:$C$40,AT98,'ABT Transactions'!$D$9:$D$40,$B$101)","v":0},{"$f":"SUMIFS('ABT Transactions'!$B$9:$B$40,'ABT Transactions'!$G$9:$G$40,$C$96,'ABT Transactions'!$F$9:$F$40,$AS97,'ABT Transactions'!$C$9:$C$40,AU98,'ABT Transactions'!$D$9:$D$40,$B$101)","v":0}]
[null,"Applied Banked Credits (in)",{"$f":"SUMIFS('ABT Transactions'!$B$9:$B$40,'ABT Transactions'!$J$9:$J$40,$C$96,'ABT Transactions'!$I$9:$I$40,$C$97,'ABT Transactions'!$C$9:$C$40,C98,'ABT Transactions'!$D$9:$D$40,$B$102)","v":0},{"$f":"SUMIFS('ABT Transactions'!$B$9:$B$40,'ABT Transactions'!$J$9:$J$40,$C$96,'ABT Transactions'!$I$9:$I$40,$C$97,'ABT Transactions'!$C$9:$C$40,D98,'ABT Transactions'!$D$9:$D$40,$B$102)","v":0},{"$f":"SUMIFS('ABT Transactions'!$B$9:$B$40,'ABT Transactions'!$J$9:$J$40,$C$96,'ABT Transactions'!$I$9:$I$40,$C$97,'ABT Transactions'!$C$9:$C$40,E98,'ABT Transactions'!$D$9:$D$40,$B$102)","v":0},{"$f":"SUMIFS('ABT Transactions'!$B$9:$B$40,'ABT Transactions'!$J$9:$J$40,$C$96,'ABT Transactions'!$I$9:$I$40,$F$97,'ABT Transactions'!$C$9:$C$40,F98,'ABT Transactions'!$D$9:$D$40,$B$102)","v":0},{"$f":"SUMIFS('ABT Transactions'!$B$9:$B$40,'ABT Transactions'!$J$9:$J$40,$C$96,'ABT Transactions'!$I$9:$I$40,$F$97,'ABT Transactions'!$C$9:$C$40,G98,'ABT Transactions'!$D$9:$D$40,$B$102)","v":0},{"$f":"SUMIFS('ABT Transactions'!$B$9:$B$40,'ABT Transactions'!$J$9:$J$40,$C$96,'ABT Transactions'!$I$9:$I$40,$F$97,'ABT Transactions'!$C$9:$C$40,H98,'ABT Transactions'!$D$9:$D$40,$B$102)","v":0},{"$f":"SUMIFS('ABT Transactions'!$B$9:$B$40,'ABT Transactions'!$J$9:$J$40,$C$96,'ABT Transactions'!$I$9:$I$40,$I$97,'ABT Transactions'!$C$9:$C$40,I98,'ABT Transactions'!$D$9:$D$40,$B$102)","v":0},{"$f":"SUMIFS('ABT Transactions'!$B$9:$B$40,'ABT Transactions'!$J$9:$J$40,$C$96,'ABT Transactions'!$I$9:$I$40,$I$97,'ABT Transactions'!$C$9:$C$40,J98,'ABT Transactions'!$D$9:$D$40,$B$102)","v":0},{"$f":"SUMIFS('ABT Transactions'!$B$9:$B$40,'ABT Transactions'!$J$9:$J$40,$C$96,'ABT Transactions'!$I$9:$I$40,$I$97,'ABT Transactions'!$C$9:$C$40,K98,'ABT Transactions'!$D$9:$D$40,$B$102)","v":0},{"$f":"SUMIFS('ABT Transactions'!$B$9:$B$40,'ABT Transactions'!$J$9:$J$40,$C$96,'ABT Transactions'!$I$9:$I$40,$L$97,'ABT Transactions'!$C$9:$C$40,L98,'ABT Transactions'!$D$9:$D$40,$B$102)","v":0},{"$f":"SUMIFS('ABT Transactions'!$B$9:$B$40,'ABT Transactions'!$J$9:$J$40,$C$96,'ABT Transactions'!$I$9:$I$40,$L$97,'ABT Transactions'!$C$9:$C$40,M98,'ABT Transactions'!$D$9:$D$40,$B$102)","v":0},{"$f":"SUMIFS('ABT Transactions'!$B$9:$B$40,'ABT Transactions'!$J$9:$J$40,$C$96,'ABT Transactions'!$I$9:$I$40,$L$97,'ABT Transactions'!$C$9:$C$40,N98,'ABT Transactions'!$D$9:$D$40,$B$102)","v":0},{"$f":"SUMIFS('ABT Transactions'!$B$9:$B$40,'ABT Transactions'!$J$9:$J$40,$C$96,'ABT Transactions'!$I$9:$I$40,$O$97,'ABT Transactions'!$C$9:$C$40,O98,'ABT Transactions'!$D$9:$D$40,$B$102)","v":0},{"$f":"SUMIFS('ABT Transactions'!$B$9:$B$40,'ABT Transactions'!$J$9:$J$40,$C$96,'ABT Transactions'!$I$9:$I$40,$O$97,'ABT Transactions'!$C$9:$C$40,P98,'ABT Transactions'!$D$9:$D$40,$B$102)","v":0},{"$f":"SUMIFS('ABT Transactions'!$B$9:$B$40,'ABT Transactions'!$J$9:$J$40,$C$96,'ABT Transactions'!$I$9:$I$40,$O$97,'ABT Transactions'!$C$9:$C$40,Q98,'ABT Transactions'!$D$9:$D$40,$B$102)","v":0},{"$f":"SUMIFS('ABT Transactions'!$B$9:$B$40,'ABT Transactions'!$J$9:$J$40,$C$96,'ABT Transactions'!$I$9:$I$40,$R$97,'ABT Transactions'!$C$9:$C$40,R98,'ABT Transactions'!$D$9:$D$40,$B$102)","v":0},{"$f":"SUMIFS('ABT Transactions'!$B$9:$B$40,'ABT Transactions'!$J$9:$J$40,$C$96,'ABT Transactions'!$I$9:$I$40,$R$97,'ABT Transactions'!$C$9:$C$40,S98,'ABT Transactions'!$D$9:$D$40,$B$102)","v":0},{"$f":"SUMIFS('ABT Transactions'!$B$9:$B$40,'ABT Transactions'!$J$9:$J$40,$C$96,'ABT Transactions'!$I$9:$I$40,$R$97,'ABT Transactions'!$C$9:$C$40,T98,'ABT Transactions'!$D$9:$D$40,$B$102)","v":0},{"$f":"SUMIFS('ABT Transactions'!$B$9:$B$40,'ABT Transactions'!$J$9:$J$40,$C96,'ABT Transactions'!$I$9:$I$40,$U$14,'ABT Transactions'!$C$9:$C$40,U98,'ABT Transactions'!$D$9:$D$40,$B$19)","v":0},{"$f":"SUMIFS('ABT Transactions'!$B$9:$B$40,'ABT Transactions'!$J$9:$J$40,$C96,'ABT Transactions'!$I$9:$I$40,$U$14,'ABT Transactions'!$C$9:$C$40,V98,'ABT Transactions'!$D$9:$D$40,$B$19)","v":0},{"$f":"SUMIFS('ABT Transactions'!$B$9:$B$40,'ABT Transactions'!$J$9:$J$40,$C96,'ABT Transactions'!$I$9:$I$40,$U$14,'ABT Transactions'!$C$9:$C$40,W98,'ABT Transactions'!$D$9:$D$40,$B$19)","v":0},{"$f":"SUMIFS('ABT Transactions'!$B$9:$B$40,'ABT Transactions'!$J$9:$J$40,$C96,'ABT Transactions'!$I$9:$I$40,$X$14,'ABT Transactions'!$C$9:$C$40,X98,'ABT Transactions'!$D$9:$D$40,$B$19)","v":0},{"$f":"SUMIFS('ABT Transactions'!$B$9:$B$40,'ABT Transactions'!$J$9:$J$40,$C96,'ABT Transactions'!$I$9:$I$40,$X$14,'ABT Transactions'!$C$9:$C$40,Y98,'ABT Transactions'!$D$9:$D$40,$B$19)","v":0},{"$f":"SUMIFS('ABT Transactions'!$B$9:$B$40,'ABT Transactions'!$J$9:$J$40,$C96,'ABT Transactions'!$I$9:$I$40,$X$14,'ABT Transactions'!$C$9:$C$40,Z98,'ABT Transactions'!$D$9:$D$40,$B$19)","v":0},{"$f":"SUMIFS('ABT Transactions'!$B$9:$B$40,'ABT Transactions'!$J$9:$J$40,$C96,'ABT Transactions'!$I$9:$I$40,$AA$14,'ABT Transactions'!$C$9:$C$40,AA98,'ABT Transactions'!$D$9:$D$40,$B$19)","v":0},{"$f":"SUMIFS('ABT Transactions'!$B$9:$B$40,'ABT Transactions'!$J$9:$J$40,$C96,'ABT Transactions'!$I$9:$I$40,$AA$14,'ABT Transactions'!$C$9:$C$40,AB98,'ABT Transactions'!$D$9:$D$40,$B$19)","v":0},{"$f":"SUMIFS('ABT Transactions'!$B$9:$B$40,'ABT Transactions'!$J$9:$J$40,$C96,'ABT Transactions'!$I$9:$I$40,$AA$14,'ABT Transactions'!$C$9:$C$40,AC98,'ABT Transactions'!$D$9:$D$40,$B$19)","v":0},{"$f":"SUMIFS('ABT Transactions'!$B$9:$B$40,'ABT Transactions'!$J$9:$J$40,$C96,'ABT Transactions'!$I$9:$I$40,$AD$14,'ABT Transactions'!$C$9:$C$40,AD98,'ABT Transactions'!$D$9:$D$40,$B$19)","v":0},{"$f":"SUMIFS('ABT Transactions'!$B$9:$B$40,'ABT Transactions'!$J$9:$J$40,$C96,'ABT Transactions'!$I$9:$I$40,$AD$14,'ABT Transactions'!$C$9:$C$40,AE98,'ABT Transactions'!$D$9:$D$40,$B$19)","v":0},{"$f":"SUMIFS('ABT Transactions'!$B$9:$B$40,'ABT Transactions'!$J$9:$J$40,$C96,'ABT Transactions'!$I$9:$I$40,$AD$14,'ABT Transactions'!$C$9:$C$40,AF98,'ABT Transactions'!$D$9:$D$40,$B$19)","v":0},{"$f":"SUMIFS('ABT Transactions'!$B$9:$B$40,'ABT Transactions'!$J$9:$J$40,$C96,'ABT Transactions'!$I$9:$I$40,$AG$14,'ABT Transactions'!$C$9:$C$40,AG98,'ABT Transactions'!$D$9:$D$40,$B$19)","v":0},{"$f":"SUMIFS('ABT Transactions'!$B$9:$B$40,'ABT Transactions'!$J$9:$J$40,$C96,'ABT Transactions'!$I$9:$I$40,$AG$14,'ABT Transactions'!$C$9:$C$40,AH98,'ABT Transactions'!$D$9:$D$40,$B$19)","v":0},{"$f":"SUMIFS('ABT Transactions'!$B$9:$B$40,'ABT Transactions'!$J$9:$J$40,$C96,'ABT Transactions'!$I$9:$I$40,$AG$14,'ABT Transactions'!$C$9:$C$40,AI98,'ABT Transactions'!$D$9:$D$40,$B$19)","v":0},{"$f":"SUMIFS('ABT Transactions'!$B$9:$B$40,'ABT Transactions'!$J$9:$J$40,$C96,'ABT Transactions'!$I$9:$I$40,$AJ$14,'ABT Transactions'!$C$9:$C$40,AJ98,'ABT Transactions'!$D$9:$D$40,$B$19)","v":0},{"$f":"SUMIFS('ABT Transactions'!$B$9:$B$40,'ABT Transactions'!$J$9:$J$40,$C96,'ABT Transactions'!$I$9:$I$40,$AJ$14,'ABT Transactions'!$C$9:$C$40,AK98,'ABT Transactions'!$D$9:$D$40,$B$19)","v":0},{"$f":"SUMIFS('ABT Transactions'!$B$9:$B$40,'ABT Transactions'!$J$9:$J$40,$C96,'ABT Transactions'!$I$9:$I$40,$AJ$14,'ABT Transactions'!$C$9:$C$40,AL98,'ABT Transactions'!$D$9:$D$40,$B$19)","v":0},{"$f":"SUMIFS('ABT Transactions'!$B$9:$B$40,'ABT Transactions'!$J$9:$J$40,$C96,'ABT Transactions'!$I$9:$I$40,$AM$14,'ABT Transactions'!$C$9:$C$40,AM98,'ABT Transactions'!$D$9:$D$40,$B$19)","v":0},{"$f":"SUMIFS('ABT Transactions'!$B$9:$B$40,'ABT Transactions'!$J$9:$J$40,$C96,'ABT Transactions'!$I$9:$I$40,$AM$14,'ABT Transactions'!$C$9:$C$40,AN98,'ABT Transactions'!$D$9:$D$40,$B$19)","v":0},{"$f":"SUMIFS('ABT Transactions'!$B$9:$B$40,'ABT Transactions'!$J$9:$J$40,$C96,'ABT Transactions'!$I$9:$I$40,$AM$14,'ABT Transactions'!$C$9:$C$40,AO98,'ABT Transactions'!$D$9:$D$40,$B$19)","v":0},{"$f":"SUMIFS('ABT Transactions'!$B$9:$B$40,'ABT Transactions'!$J$9:$J$40,$C96,'ABT Transactions'!$I$9:$I$40,$AP$14,'ABT Transactions'!$C$9:$C$40,AP98,'ABT Transactions'!$D$9:$D$40,$B$19)","v":0},{"$f":"SUMIFS('ABT Transactions'!$B$9:$B$40,'ABT Transactions'!$J$9:$J$40,$C96,'ABT Transactions'!$I$9:$I$40,$AP$14,'ABT Transactions'!$C$9:$C$40,AQ98,'ABT Transactions'!$D$9:$D$40,$B$19)","v":0},{"$f":"SUMIFS('ABT Transactions'!$B$9:$B$40,'ABT Transactions'!$J$9:$J$40,$C96,'ABT Transactions'!$I$9:$I$40,$AP$14,'ABT Transactions'!$C$9:$C$40,AR98,'ABT Transactions'!$D$9:$D$40,$B$19)","v":0},{"$f":"SUMIFS('ABT Transactions'!$B$9:$B$40,'ABT Transactions'!$J$9:$J$40,$C$96,'ABT Transactions'!$I$9:$I$40,$AS$97,'ABT Transactions'!$C$9:$C$40,AS98,'ABT Transactions'!$D$9:$D$40,$B$102)","v":0},{"$f":"SUMIFS('ABT Transactions'!$B$9:$B$40,'ABT Transactions'!$J$9:$J$40,$C$96,'ABT Transactions'!$I$9:$I$40,$AS$97,'ABT Transactions'!$C$9:$C$40,AT98,'ABT Transactions'!$D$9:$D$40,$B$102)","v":0},{"$f":"SUMIFS('ABT Transactions'!$B$9:$B$40,'ABT Transactions'!$J$9:$J$40,$C$96,'ABT Transactions'!$I$9:$I$40,$AS$97,'ABT Transactions'!$C$9:$C$40,AU98,'ABT Transactions'!$D$9:$D$40,$B$102)","v":0}]
[null,"Trade Out",{"$f":"SUMIFS('ABT Transactions'!$B$9:$B$40,'ABT Transactions'!$G$9:$G$40,$C$96,'ABT Transactions'!$F$9:$F$40,$C97,'ABT Transactions'!$C$9:$C$40,C98,'ABT Transactions'!$D$9:$D$40,$B$103)","v":0},{"$f":"SUMIFS('ABT Transactions'!$B$9:$B$40,'ABT Transactions'!$G$9:$G$40,$C$96,'ABT Transactions'!$F$9:$F$40,$C97,'ABT Transactions'!$C$9:$C$40,D98,'ABT Transactions'!$D$9:$D$40,$B$103)","v":0},{"$f":"SUMIFS('ABT Transactions'!$B$9:$B$40,'ABT Transactions'!$G$9:$G$40,$C$96,'ABT Transactions'!$F$9:$F$40,$C97,'ABT Transactions'!$C$9:$C$40,E98,'ABT Transactions'!$D$9:$D$40,$B$103)","v":0},{"$f":"SUMIFS('ABT Transactions'!$B$9:$B$40,'ABT Transactions'!$G$9:$G$40,$C$96,'ABT Transactions'!$F$9:$F$40,$F$97,'ABT Transactions'!$C$9:$C$40,F98,'ABT Transactions'!$D$9:$D$40,$B$103)","v":0},{"$f":"SUMIFS('ABT Transactions'!$B$9:$B$40,'ABT Transactions'!$G$9:$G$40,$C$96,'ABT Transactions'!$F$9:$F$40,$F$97,'ABT Transactions'!$C$9:$C$40,G98,'ABT Transactions'!$D$9:$D$40,$B$103)","v":0},{"$f":"SUMIFS('ABT Transactions'!$B$9:$B$40,'ABT Transactions'!$G$9:$G$40,$C$96,'ABT Transactions'!$F$9:$F$40,$F$97,'ABT Transactions'!$C$9:$C$40,H98,'ABT Transactions'!$D$9:$D$40,$B$103)","v":0},{"$f":"SUMIFS('ABT Transactions'!$B$9:$B$40,'ABT Transactions'!$G$9:$G$40,$C$96,'ABT Transactions'!$F$9:$F$40,$I$97,'ABT Transactions'!$C$9:$C$40,I98,'ABT Transactions'!$D$9:$D$40,$B$103)","v":0},{"$f":"SUMIFS('ABT Transactions'!$B$9:$B$40,'ABT Transactions'!$G$9:$G$40,$C$96,'ABT Transactions'!$F$9:$F$40,$I$97,'ABT Transactions'!$C$9:$C$40,J98,'ABT Transactions'!$D$9:$D$40,$B$103)","v":0},{"$f":"SUMIFS('ABT Transactions'!$B$9:$B$40,'ABT Transactions'!$G$9:$G$40,$C$96,'ABT Transactions'!$F$9:$F$40,$I$97,'ABT Transactions'!$C$9:$C$40,K98,'ABT Transactions'!$D$9:$D$40,$B$103)","v":0},{"$f":"SUMIFS('ABT Transactions'!$B$9:$B$40,'ABT Transactions'!$G$9:$G$40,$C$96,'ABT Transactions'!$F$9:$F$40,$L$97,'ABT Transactions'!$C$9:$C$40,L98,'ABT Transactions'!$D$9:$D$40,$B$103)","v":0},{"$f":"SUMIFS('ABT Transactions'!$B$9:$B$40,'ABT Transactions'!$G$9:$G$40,$C$96,'ABT Transactions'!$F$9:$F$40,$L$97,'ABT Transactions'!$C$9:$C$40,M98,'ABT Transactions'!$D$9:$D$40,$B$103)","v":0},{"$f":"SUMIFS('ABT Transactions'!$B$9:$B$40,'ABT Transactions'!$G$9:$G$40,$C$96,'ABT Transactions'!$F$9:$F$40,$L$97,'ABT Transactions'!$C$9:$C$40,N98,'ABT Transactions'!$D$9:$D$40,$B$103)","v":0},{"$f":"SUMIFS('ABT Transactions'!$B$9:$B$40,'ABT Transactions'!$G$9:$G$40,$C$96,'ABT Transactions'!$F$9:$F$40,$O$97,'ABT Transactions'!$C$9:$C$40,O98,'ABT Transactions'!$D$9:$D$40,$B$103)","v":0},{"$f":"SUMIFS('ABT Transactions'!$B$9:$B$40,'ABT Transactions'!$G$9:$G$40,$C$96,'ABT Transactions'!$F$9:$F$40,$O$97,'ABT Transactions'!$C$9:$C$40,P98,'ABT Transactions'!$D$9:$D$40,$B$103)","v":0},{"$f":"SUMIFS('ABT Transactions'!$B$9:$B$40,'ABT Transactions'!$G$9:$G$40,$C$96,'ABT Transactions'!$F$9:$F$40,$O$97,'ABT Transactions'!$C$9:$C$40,Q98,'ABT Transactions'!$D$9:$D$40,$B$103)","v":0},{"$f":"SUMIFS('ABT Transactions'!$B$9:$B$40,'ABT Transactions'!$G$9:$G$40,$C$96,'ABT Transactions'!$F$9:$F$40,$R$97,'ABT Transactions'!$C$9:$C$40,R98,'ABT Transactions'!$D$9:$D$40,$B$103)","v":0},{"$f":"SUMIFS('ABT Transactions'!$B$9:$B$40,'ABT Transactions'!$G$9:$G$40,$C$96,'ABT Transactions'!$F$9:$F$40,$R$97,'ABT Transactions'!$C$9:$C$40,S98,'ABT Transactions'!$D$9:$D$40,$B$103)","v":0},{"$f":"SUMIFS('ABT Transactions'!$B$9:$B$40,'ABT Transactions'!$G$9:$G$40,$C$96,'ABT Transactions'!$F$9:$F$40,$R$97,'ABT Transactions'!$C$9:$C$40,T98,'ABT Transactions'!$D$9:$D$40,$B$103)","v":0},{"$f":"SUMIFS('ABT Transactions'!$B$9:$B$40,'ABT Transactions'!$G$9:$G$40,$C96,'ABT Transactions'!$F$9:$F$40,$U$14,'ABT Transactions'!$C$9:$C$40,U98,'ABT Transactions'!$D$9:$D$40,$B$20)","v":0},{"$f":"SUMIFS('ABT Transactions'!$B$9:$B$40,'ABT Transactions'!$G$9:$G$40,$C96,'ABT Transactions'!$F$9:$F$40,$U$14,'ABT Transactions'!$C$9:$C$40,V98,'ABT Transactions'!$D$9:$D$40,$B$20)","v":0},{"$f":"SUMIFS('ABT Transactions'!$B$9:$B$40,'ABT Transactions'!$G$9:$G$40,$C96,'ABT Transactions'!$F$9:$F$40,$U$14,'ABT Transactions'!$C$9:$C$40,W98,'ABT Transactions'!$D$9:$D$40,$B$20)","v":0},{"$f":"SUMIFS('ABT Transactions'!$B$9:$B$40,'ABT Transactions'!$G$9:$G$40,$C96,'ABT Transactions'!$F$9:$F$40,$X$14,'ABT Transactions'!$C$9:$C$40,X98,'ABT Transactions'!$D$9:$D$40,$B$20)","v":0},{"$f":"SUMIFS('ABT Transactions'!$B$9:$B$40,'ABT Transactions'!$G$9:$G$40,$C96,'ABT Transactions'!$F$9:$F$40,$X$14,'ABT Transactions'!$C$9:$C$40,Y98,'ABT Transactions'!$D$9:$D$40,$B$20)","v":0},{"$f":"SUMIFS('ABT Transactions'!$B$9:$B$40,'ABT Transactions'!$G$9:$G$40,$C96,'ABT Transactions'!$F$9:$F$40,$X$14,'ABT Transactions'!$C$9:$C$40,Z98,'ABT Transactions'!$D$9:$D$40,$B$20)","v":0},{"$f":"SUMIFS('ABT Transactions'!$B$9:$B$40,'ABT Transactions'!$G$9:$G$40,$C96,'ABT Transactions'!$F$9:$F$40,$AA$14,'ABT Transactions'!$C$9:$C$40,AA98,'ABT Transactions'!$D$9:$D$40,$B$20)","v":0},{"$f":"SUMIFS('ABT Transactions'!$B$9:$B$40,'ABT Transactions'!$G$9:$G$40,$C96,'ABT Transactions'!$F$9:$F$40,$AA$14,'ABT Transactions'!$C$9:$C$40,AB98,'ABT Transactions'!$D$9:$D$40,$B$20)","v":0},{"$f":"SUMIFS('ABT Transactions'!$B$9:$B$40,'ABT Transactions'!$G$9:$G$40,$C96,'ABT Transactions'!$F$9:$F$40,$AA$14,'ABT Transactions'!$C$9:$C$40,AC98,'ABT Transactions'!$D$9:$D$40,$B$20)","v":0},{"$f":"SUMIFS('ABT Transactions'!$B$9:$B$40,'ABT Transactions'!$G$9:$G$40,$C96,'ABT Transactions'!$F$9:$F$40,$AD$14,'ABT Transactions'!$C$9:$C$40,AD98,'ABT Transactions'!$D$9:$D$40,$B$20)","v":0},{"$f":"SUMIFS('ABT Transactions'!$B$9:$B$40,'ABT Transactions'!$G$9:$G$40,$C96,'ABT Transactions'!$F$9:$F$40,$AD$14,'ABT Transactions'!$C$9:$C$40,AE98,'ABT Transactions'!$D$9:$D$40,$B$20)","v":0},{"$f":"SUMIFS('ABT Transactions'!$B$9:$B$40,'ABT Transactions'!$G$9:$G$40,$C96,'ABT Transactions'!$F$9:$F$40,$AD$14,'ABT Transactions'!$C$9:$C$40,AF98,'ABT Transactions'!$D$9:$D$40,$B$20)","v":0},{"$f":"SUMIFS('ABT Transactions'!$B$9:$B$40,'ABT Transactions'!$G$9:$G$40,$C96,'ABT Transactions'!$F$9:$F$40,$AG$14,'ABT Transactions'!$C$9:$C$40,AG98,'ABT Transactions'!$D$9:$D$40,$B$20)","v":0},{"$f":"SUMIFS('ABT Transactions'!$B$9:$B$40,'ABT Transactions'!$G$9:$G$40,$C96,'ABT Transactions'!$F$9:$F$40,$AG$14,'ABT Transactions'!$C$9:$C$40,AH98,'ABT Transactions'!$D$9:$D$40,$B$20)","v":0},{"$f":"SUMIFS('ABT Transactions'!$B$9:$B$40,'ABT Transactions'!$G$9:$G$40,$C96,'ABT Transactions'!$F$9:$F$40,$AG$14,'ABT Transactions'!$C$9:$C$40,AI98,'ABT Transactions'!$D$9:$D$40,$B$20)","v":0},{"$f":"SUMIFS('ABT Transactions'!$B$9:$B$40,'ABT Transactions'!$G$9:$G$40,$C96,'ABT Transactions'!$F$9:$F$40,$AJ$14,'ABT Transactions'!$C$9:$C$40,AJ98,'ABT Transactions'!$D$9:$D$40,$B$20)","v":0},{"$f":"SUMIFS('ABT Transactions'!$B$9:$B$40,'ABT Transactions'!$G$9:$G$40,$C96,'ABT Transactions'!$F$9:$F$40,$AJ$14,'ABT Transactions'!$C$9:$C$40,AK98,'ABT Transactions'!$D$9:$D$40,$B$20)","v":0},{"$f":"SUMIFS('ABT Transactions'!$B$9:$B$40,'ABT Transactions'!$G$9:$G$40,$C96,'ABT Transactions'!$F$9:$F$40,$AJ$14,'ABT Transactions'!$C$9:$C$40,AL98,'ABT Transactions'!$D$9:$D$40,$B$20)","v":0},{"$f":"SUMIFS('ABT Transactions'!$B$9:$B$40,'ABT Transactions'!$G$9:$G$40,$C96,'ABT Transactions'!$F$9:$F$40,$AM$14,'ABT Transactions'!$C$9:$C$40,AM98,'ABT Transactions'!$D$9:$D$40,$B$20)","v":0},{"$f":"SUMIFS('ABT Transactions'!$B$9:$B$40,'ABT Transactions'!$G$9:$G$40,$C96,'ABT Transactions'!$F$9:$F$40,$AM$14,'ABT Transactions'!$C$9:$C$40,AN98,'ABT Transactions'!$D$9:$D$40,$B$20)","v":0},{"$f":"SUMIFS('ABT Transactions'!$B$9:$B$40,'ABT Transactions'!$G$9:$G$40,$C96,'ABT Transactions'!$F$9:$F$40,$AM$14,'ABT Transactions'!$C$9:$C$40,AO98,'ABT Transactions'!$D$9:$D$40,$B$20)","v":0},{"$f":"SUMIFS('ABT Transactions'!$B$9:$B$40,'ABT Transactions'!$G$9:$G$40,$C96,'ABT Transactions'!$F$9:$F$40,$AP$14,'ABT Transactions'!$C$9:$C$40,AP98,'ABT Transactions'!$D$9:$D$40,$B$20)","v":0},{"$f":"SUMIFS('ABT Transactions'!$B$9:$B$40,'ABT Transactions'!$G$9:$G$40,$C96,'ABT Transactions'!$F$9:$F$40,$AP$14,'ABT Transactions'!$C$9:$C$40,AQ98,'ABT Transactions'!$D$9:$D$40,$B$20)","v":0},{"$f":"SUMIFS('ABT Transactions'!$B$9:$B$40,'ABT Transactions'!$G$9:$G$40,$C96,'ABT Transactions'!$F$9:$F$40,$AP$14,'ABT Transactions'!$C$9:$C$40,AR98,'ABT Transactions'!$D$9:$D$40,$B$20)","v":0},{"$f":"SUMIFS('ABT Transactions'!$B$9:$B$40,'ABT Transactions'!$G$9:$G$40,$C$96,'ABT Transactions'!$F$9:$F$40,$AS$97,'ABT Transactions'!$C$9:$C$40,AS98,'ABT Transactions'!$D$9:$D$40,$B$103)","v":0},{"$f":"SUMIFS('ABT Transactions'!$B$9:$B$40,'ABT Transactions'!$G$9:$G$40,$C$96,'ABT Transactions'!$F$9:$F$40,$AS$97,'ABT Transactions'!$C$9:$C$40,AT98,'ABT Transactions'!$D$9:$D$40,$B$103)","v":0},{"$f":"SUMIFS('ABT Transactions'!$B$9:$B$40,'ABT Transactions'!$G$9:$G$40,$C$96,'ABT Transactions'!$F$9:$F$40,$AS$97,'ABT Transactions'!$C$9:$C$40,AU98,'ABT Transactions'!$D$9:$D$40,$B$103)","v":0}]
[null,"Trade In",{"$f":"SUMIFS('ABT Transactions'!$B$9:$B$40,'ABT Transactions'!$J$9:$J$40,$C$96,'ABT Transactions'!$I$9:$I$40,$C$97,'ABT Transactions'!$C$9:$C$40,C98,'ABT Transactions'!$D$9:$D$40,$B$104)","v":0},{"$f":"SUMIFS('ABT Transactions'!$B$9:$B$40,'ABT Transactions'!$J$9:$J$40,$C$96,'ABT Transactions'!$I$9:$I$40,$C$97,'ABT Transactions'!$C$9:$C$40,D98,'ABT Transactions'!$D$9:$D$40,$B$104)","v":0},{"$f":"SUMIFS('ABT Transactions'!$B$9:$B$40,'ABT Transactions'!$J$9:$J$40,$C$96,'ABT Transactions'!$I$9:$I$40,$C$97,'ABT Transactions'!$C$9:$C$40,E98,'ABT Transactions'!$D$9:$D$40,$B$104)","v":0},{"$f":"SUMIFS('ABT Transactions'!$B$9:$B$40,'ABT Transactions'!$J$9:$J$40,$C$96,'ABT Transactions'!$I$9:$I$40,$F$97,'ABT Transactions'!$C$9:$C$40,F98,'ABT Transactions'!$D$9:$D$40,$B$104)","v":0},{"$f":"SUMIFS('ABT Transactions'!$B$9:$B$40,'ABT Transactions'!$J$9:$J$40,$C$96,'ABT Transactions'!$I$9:$I$40,$F$97,'ABT Transactions'!$C$9:$C$40,G98,'ABT Transactions'!$D$9:$D$40,$B$104)","v":0},{"$f":"SUMIFS('ABT Transactions'!$B$9:$B$40,'ABT Transactions'!$J$9:$J$40,$C$96,'ABT Transactions'!$I$9:$I$40,$F$97,'ABT Transactions'!$C$9:$C$40,H98,'ABT Transactions'!$D$9:$D$40,$B$104)","v":0},{"$f":"SUMIFS('ABT Transactions'!$B$9:$B$40,'ABT Transactions'!$J$9:$J$40,$C$96,'ABT Transactions'!$I$9:$I$40,$I$97,'ABT Transactions'!$C$9:$C$40,I98,'ABT Transactions'!$D$9:$D$40,$B$104)","v":0},{"$f":"SUMIFS('ABT Transactions'!$B$9:$B$40,'ABT Transactions'!$J$9:$J$40,$C$96,'ABT Transactions'!$I$9:$I$40,$I$97,'ABT Transactions'!$C$9:$C$40,J98,'ABT Transactions'!$D$9:$D$40,$B$104)","v":0},{"$f":"SUMIFS('ABT Transactions'!$B$9:$B$40,'ABT Transactions'!$J$9:$J$40,$C$96,'ABT Transactions'!$I$9:$I$40,$I$97,'ABT Transactions'!$C$9:$C$40,K98,'ABT Transactions'!$D$9:$D$40,$B$104)","v":0},{"$f":"SUMIFS('ABT Transactions'!$B$9:$B$40,'ABT Transactions'!$J$9:$J$40,$C$96,'ABT Transactions'!$I$9:$I$40,$L$97,'ABT Transactions'!$C$9:$C$40,L98,'ABT Transactions'!$D$9:$D$40,$B$104)","v":0},{"$f":"SUMIFS('ABT Transactions'!$B$9:$B$40,'ABT Transactions'!$J$9:$J$40,$C$96,'ABT Transactions'!$I$9:$I$40,$L$97,'ABT Transactions'!$C$9:$C$40,M98,'ABT Transactions'!$D$9:$D$40,$B$104)","v":0},{"$f":"SUMIFS('ABT Transactions'!$B$9:$B$40,'ABT Transactions'!$J$9:$J$40,$C$96,'ABT Transactions'!$I$9:$I$40,$L$97,'ABT Transactions'!$C$9:$C$40,N98,'ABT Transactions'!$D$9:$D$40,$B$104)","v":0},{"$f":"SUMIFS('ABT Transactions'!$B$9:$B$40,'ABT Transactions'!$J$9:$J$40,$C$96,'ABT Transactions'!$I$9:$I$40,$O$97,'ABT Transactions'!$C$9:$C$40,O98,'ABT Transactions'!$D$9:$D$40,$B$104)","v":0},{"$f":"SUMIFS('ABT Transactions'!$B$9:$B$40,'ABT Transactions'!$J$9:$J$40,$C$96,'ABT Transactions'!$I$9:$I$40,$O$97,'ABT Transactions'!$C$9:$C$40,P98,'ABT Transactions'!$D$9:$D$40,$B$104)","v":0},{"$f":"SUMIFS('ABT Transactions'!$B$9:$B$40,'ABT Transactions'!$J$9:$J$40,$C$96,'ABT Transactions'!$I$9:$I$40,$O$97,'ABT Transactions'!$C$9:$C$40,Q98,'ABT Transactions'!$D$9:$D$40,$B$104)","v":0},{"$f":"SUMIFS('ABT Transactions'!$B$9:$B$40,'ABT Transactions'!$J$9:$J$40,$C$96,'ABT Transactions'!$I$9:$I$40,$R$97,'ABT Transactions'!$C$9:$C$40,R98,'ABT Transactions'!$D$9:$D$40,$B$104)","v":0},{"$f":"SUMIFS('ABT Transactions'!$B$9:$B$40,'ABT Transactions'!$J$9:$J$40,$C$96,'ABT Transactions'!$I$9:$I$40,$R$97,'ABT Transactions'!$C$9:$C$40,S98,'ABT Transactions'!$D$9:$D$40,$B$104)","v":0},{"$f":"SUMIFS('ABT Transactions'!$B$9:$B$40,'ABT Transactions'!$J$9:$J$40,$C$96,'ABT Transactions'!$I$9:$I$40,$R$97,'ABT Transactions'!$C$9:$C$40,T98,'ABT Transactions'!$D$9:$D$40,$B$104)","v":0},{"$f":"SUMIFS('ABT Transactions'!$B$9:$B$40,'ABT Transactions'!$J$9:$J$40,$C96,'ABT Transactions'!$I$9:$I$40,$U$14,'ABT Transactions'!$C$9:$C$40,U98,'ABT Transactions'!$D$9:$D$40,$B$21)","v":0},{"$f":"SUMIFS('ABT Transactions'!$B$9:$B$40,'ABT Transactions'!$J$9:$J$40,$C96,'ABT Transactions'!$I$9:$I$40,$U$14,'ABT Transactions'!$C$9:$C$40,V98,'ABT Transactions'!$D$9:$D$40,$B$21)","v":0},{"$f":"SUMIFS('ABT Transactions'!$B$9:$B$40,'ABT Transactions'!$J$9:$J$40,$C96,'ABT Transactions'!$I$9:$I$40,$U$14,'ABT Transactions'!$C$9:$C$40,W98,'ABT Transactions'!$D$9:$D$40,$B$21)","v":0},{"$f":"SUMIFS('ABT Transactions'!$B$9:$B$40,'ABT Transactions'!$J$9:$J$40,$C96,'ABT Transactions'!$I$9:$I$40,$X$14,'ABT Transactions'!$C$9:$C$40,X98,'ABT Transactions'!$D$9:$D$40,$B$21)","v":0},{"$f":"SUMIFS('ABT Transactions'!$B$9:$B$40,'ABT Transactions'!$J$9:$J$40,$C96,'ABT Transactions'!$I$9:$I$40,$X$14,'ABT Transactions'!$C$9:$C$40,Y98,'ABT Transactions'!$D$9:$D$40,$B$21)","v":0},{"$f":"SUMIFS('ABT Transactions'!$B$9:$B$40,'ABT Transactions'!$J$9:$J$40,$C96,'ABT Transactions'!$I$9:$I$40,$X$14,'ABT Transactions'!$C$9:$C$40,Z98,'ABT Transactions'!$D$9:$D$40,$B$21)","v":0},{"$f":"SUMIFS('ABT Transactions'!$B$9:$B$40,'ABT Transactions'!$J$9:$J$40,$C96,'ABT Transactions'!$I$9:$I$40,$AA$14,'ABT Transactions'!$C$9:$C$40,AA98,'ABT Transactions'!$D$9:$D$40,$B$21)","v":0},{"$f":"SUMIFS('ABT Transactions'!$B$9:$B$40,'ABT Transactions'!$J$9:$J$40,$C96,'ABT Transactions'!$I$9:$I$40,$AA$14,'ABT Transactions'!$C$9:$C$40,AB98,'ABT Transactions'!$D$9:$D$40,$B$21)","v":0},{"$f":"SUMIFS('ABT Transactions'!$B$9:$B$40,'ABT Transactions'!$J$9:$J$40,$C96,'ABT Transactions'!$I$9:$I$40,$AA$14,'ABT Transactions'!$C$9:$C$40,AC98,'ABT Transactions'!$D$9:$D$40,$B$21)","v":0},{"$f":"SUMIFS('ABT Transactions'!$B$9:$B$40,'ABT Transactions'!$J$9:$J$40,$C96,'ABT Transactions'!$I$9:$I$40,$AD$14,'ABT Transactions'!$C$9:$C$40,AD98,'ABT Transactions'!$D$9:$D$40,$B$21)","v":0},{"$f":"SUMIFS('ABT Transactions'!$B$9:$B$40,'ABT Transactions'!$J$9:$J$40,$C96,'ABT Transactions'!$I$9:$I$40,$AD$14,'ABT Transactions'!$C$9:$C$40,AE98,'ABT Transactions'!$D$9:$D$40,$B$21)","v":0},{"$f":"SUMIFS('ABT Transactions'!$B$9:$B$40,'ABT Transactions'!$J$9:$J$40,$C96,'ABT Transactions'!$I$9:$I$40,$AD$14,'ABT Transactions'!$C$9:$C$40,AF98,'ABT Transactions'!$D$9:$D$40,$B$21)","v":0},{"$f":"SUMIFS('ABT Transactions'!$B$9:$B$40,'ABT Transactions'!$J$9:$J$40,$C96,'ABT Transactions'!$I$9:$I$40,$AG$14,'ABT Transactions'!$C$9:$C$40,AG98,'ABT Transactions'!$D$9:$D$40,$B$21)","v":0},{"$f":"SUMIFS('ABT Transactions'!$B$9:$B$40,'ABT Transactions'!$J$9:$J$40,$C96,'ABT Transactions'!$I$9:$I$40,$AG$14,'ABT Transactions'!$C$9:$C$40,AH98,'ABT Transactions'!$D$9:$D$40,$B$21)","v":0},{"$f":"SUMIFS('ABT Transactions'!$B$9:$B$40,'ABT Transactions'!$J$9:$J$40,$C96,'ABT Transactions'!$I$9:$I$40,$AG$14,'ABT Transactions'!$C$9:$C$40,AI98,'ABT Transactions'!$D$9:$D$40,$B$21)","v":0},{"$f":"SUMIFS('ABT Transactions'!$B$9:$B$40,'ABT Transactions'!$J$9:$J$40,$C96,'ABT Transactions'!$I$9:$I$40,$AJ$14,'ABT Transactions'!$C$9:$C$40,AJ98,'ABT Transactions'!$D$9:$D$40,$B$21)","v":0},{"$f":"SUMIFS('ABT Transactions'!$B$9:$B$40,'ABT Transactions'!$J$9:$J$40,$C96,'ABT Transactions'!$I$9:$I$40,$AJ$14,'ABT Transactions'!$C$9:$C$40,AK98,'ABT Transactions'!$D$9:$D$40,$B$21)","v":0},{"$f":"SUMIFS('ABT Transactions'!$B$9:$B$40,'ABT Transactions'!$J$9:$J$40,$C96,'ABT Transactions'!$I$9:$I$40,$AJ$14,'ABT Transactions'!$C$9:$C$40,AL98,'ABT Transactions'!$D$9:$D$40,$B$21)","v":0},{"$f":"SUMIFS('ABT Transactions'!$B$9:$B$40,'ABT Transactions'!$J$9:$J$40,$C96,'ABT Transactions'!$I$9:$I$40,$AM$14,'ABT Transactions'!$C$9:$C$40,AM98,'ABT Transactions'!$D$9:$D$40,$B$21)","v":0},{"$f":"SUMIFS('ABT Transactions'!$B$9:$B$40,'ABT Transactions'!$J$9:$J$40,$C96,'ABT Transactions'!$I$9:$I$40,$AM$14,'ABT Transactions'!$C$9:$C$40,AN98,'ABT Transactions'!$D$9:$D$40,$B$21)","v":0},{"$f":"SUMIFS('ABT Transactions'!$B$9:$B$40,'ABT Transactions'!$J$9:$J$40,$C96,'ABT Transactions'!$I$9:$I$40,$AM$14,'ABT Transactions'!$C$9:$C$40,AO98,'ABT Transactions'!$D$9:$D$40,$B$21)","v":0},{"$f":"SUMIFS('ABT Transactions'!$B$9:$B$40,'ABT Transactions'!$J$9:$J$40,$C96,'ABT Transactions'!$I$9:$I$40,$AP$14,'ABT Transactions'!$C$9:$C$40,AP98,'ABT Transactions'!$D$9:$D$40,$B$21)","v":0},{"$f":"SUMIFS('ABT Transactions'!$B$9:$B$40,'ABT Transactions'!$J$9:$J$40,$C96,'ABT Transactions'!$I$9:$I$40,$AP$14,'ABT Transactions'!$C$9:$C$40,AQ98,'ABT Transactions'!$D$9:$D$40,$B$21)","v":0},{"$f":"SUMIFS('ABT Transactions'!$B$9:$B$40,'ABT Transactions'!$J$9:$J$40,$C96,'ABT Transactions'!$I$9:$I$40,$AP$14,'ABT Transactions'!$C$9:$C$40,AR98,'ABT Transactions'!$D$9:$D$40,$B$21)","v":0},{"$f":"SUMIFS('ABT Transactions'!$B$9:$B$40,'ABT Transactions'!$J$9:$J$40,$C$96,'ABT Transactions'!$I$9:$I$40,$AS$97,'ABT Transactions'!$C$9:$C$40,AS98,'ABT Transactions'!$D$9:$D$40,$B$104)","v":0},{"$f":"SUMIFS('ABT Transactions'!$B$9:$B$40,'ABT Transactions'!$J$9:$J$40,$C$96,'ABT Transactions'!$I$9:$I$40,$AS$97,'ABT Transactions'!$C$9:$C$40,AT98,'ABT Transactions'!$D$9:$D$40,$B$104)","v":0},{"$f":"SUMIFS('ABT Transactions'!$B$9:$B$40,'ABT Transactions'!$J$9:$J$40,$C$96,'ABT Transactions'!$I$9:$I$40,$AS$97,'ABT Transactions'!$C$9:$C$40,AU98,'ABT Transactions'!$D$9:$D$40,$B$104)","v":0}]
[null,"Transfer ADV Credits (out)",{"$f":"SUMIFS('ABT Transactions'!$B$9:$B$40,'ABT Transactions'!$G$9:$G$40,$C$96,'ABT Transactions'!$F$9:$F$40,$C$97,'ABT Transactions'!$C$9:$C$40,C98,'ABT Transactions'!$D$9:$D$40,$B$105)","v":0},{"$f":"SUMIFS('ABT Transactions'!$B$9:$B$40,'ABT Transactions'!$G$9:$G$40,$C$96,'ABT Transactions'!$F$9:$F$40,$C$97,'ABT Transactions'!$C$9:$C$40,D98,'ABT Transactions'!$D$9:$D$40,$B$105)","v":0},{"$f":"SUMIFS('ABT Transactions'!$B$9:$B$40,'ABT Transactions'!$G$9:$G$40,$C$96,'ABT Transactions'!$F$9:$F$40,$C$97,'ABT Transactions'!$C$9:$C$40,E98,'ABT Transactions'!$D$9:$D$40,$B$105)","v":0},{"$f":"SUMIFS('ABT Transactions'!$B$9:$B$40,'ABT Transactions'!$G$9:$G$40,$C$96,'ABT Transactions'!$F$9:$F$40,$F$97,'ABT Transactions'!$C$9:$C$40,F98,'ABT Transactions'!$D$9:$D$40,$B$105)","v":0},{"$f":"SUMIFS('ABT Transactions'!$B$9:$B$40,'ABT Transactions'!$G$9:$G$40,$C$96,'ABT Transactions'!$F$9:$F$40,$F$97,'ABT Transactions'!$C$9:$C$40,G98,'ABT Transactions'!$D$9:$D$40,$B$105)","v":0},{"$f":"SUMIFS('ABT Transactions'!$B$9:$B$40,'ABT Transactions'!$G$9:$G$40,$C$96,'ABT Transactions'!$F$9:$F$40,$F$97,'ABT Transactions'!$C$9:$C$40,H98,'ABT Transactions'!$D$9:$D$40,$B$105)","v":0},{"$f":"SUMIFS('ABT Transactions'!$B$9:$B$40,'ABT Transactions'!$G$9:$G$40,$C$96,'ABT Transactions'!$F$9:$F$40,$I$97,'ABT Transactions'!$C$9:$C$40,I98,'ABT Transactions'!$D$9:$D$40,$B$105)","v":0},{"$f":"SUMIFS('ABT Transactions'!$B$9:$B$40,'ABT Transactions'!$G$9:$G$40,$C$96,'ABT Transactions'!$F$9:$F$40,$I$97,'ABT Transactions'!$C$9:$C$40,J98,'ABT Transactions'!$D$9:$D$40,$B$105)","v":0},{"$f":"SUMIFS('ABT Transactions'!$B$9:$B$40,'ABT Transactions'!$G$9:$G$40,$C$96,'ABT Transactions'!$F$9:$F$40,$I$97,'ABT Transactions'!$C$9:$C$40,K98,'ABT Transactions'!$D$9:$D$40,$B$105)","v":0},{"$f":"SUMIFS('ABT Transactions'!$B$9:$B$40,'ABT Transactions'!$G$9:$G$40,$C$96,'ABT Transactions'!$F$9:$F$40,$L$97,'ABT Transactions'!$C$9:$C$40,L98,'ABT Transactions'!$D$9:$D$40,$B$105)","v":0},{"$f":"SUMIFS('ABT Transactions'!$B$9:$B$40,'ABT Transactions'!$G$9:$G$40,$C$96,'ABT Transactions'!$F$9:$F$40,$L$97,'ABT Transactions'!$C$9:$C$40,M98,'ABT Transactions'!$D$9:$D$40,$B$105)","v":0},{"$f":"SUMIFS('ABT Transactions'!$B$9:$B$40,'ABT Transactions'!$G$9:$G$40,$C$96,'ABT Transactions'!$F$9:$F$40,$L$97,'ABT Transactions'!$C$9:$C$40,N98,'ABT Transactions'!$D$9:$D$40,$B$105)","v":0},{"$f":"SUMIFS('ABT Transactions'!$B$9:$B$40,'ABT Transactions'!$G$9:$G$40,$C$96,'ABT Transactions'!$F$9:$F$40,$O$97,'ABT Transactions'!$C$9:$C$40,O98,'ABT Transactions'!$D$9:$D$40,$B$105)","v":0},{"$f":"SUMIFS('ABT Transactions'!$B$9:$B$40,'ABT Transactions'!$G$9:$G$40,$C$96,'ABT Transactions'!$F$9:$F$40,$O$97,'ABT Transactions'!$C$9:$C$40,P98,'ABT Transactions'!$D$9:$D$40,$B$105)","v":0},{"$f":"SUMIFS('ABT Transactions'!$B$9:$B$40,'ABT Transactions'!$G$9:$G$40,$C$96,'ABT Transactions'!$F$9:$F$40,$O$97,'ABT Transactions'!$C$9:$C$40,Q98,'ABT Transactions'!$D$9:$D$40,$B$105)","v":0},{"$f":"SUMIFS('ABT Transactions'!$B$9:$B$40,'ABT Transactions'!$G$9:$G$40,$C$96,'ABT Transactions'!$F$9:$F$40,$R$97,'ABT Transactions'!$C$9:$C$40,R98,'ABT Transactions'!$D$9:$D$40,$B$105)","v":0},{"$f":"SUMIFS('ABT Transactions'!$B$9:$B$40,'ABT Transactions'!$G$9:$G$40,$C$96,'ABT Transactions'!$F$9:$F$40,$R$97,'ABT Transactions'!$C$9:$C$40,S98,'ABT Transactions'!$D$9:$D$40,$B$105)","v":0},{"$f":"SUMIFS('ABT Transactions'!$B$9:$B$40,'ABT Transactions'!$G$9:$G$40,$C$96,'ABT Transactions'!$F$9:$F$40,$R$97,'ABT Transactions'!$C$9:$C$40,T98,'ABT Transactions'!$D$9:$D$40,$B$105)","v":0},{"$f":"SUMIFS('ABT Transactions'!$B$9:$B$40,'ABT Transactions'!$G$9:$G$40,$C96,'ABT Transactions'!$F$9:$F$40,$U$14,'ABT Transactions'!$C$9:$C$40,U$15,'ABT Transactions'!$D$9:$D$40,$B$22)","v":0},{"$f":"SUMIFS('ABT Transactions'!$B$9:$B$40,'ABT Transactions'!$G$9:$G$40,$C96,'ABT Transactions'!$F$9:$F$40,$U$14,'ABT Transactions'!$C$9:$C$40,V$15,'ABT Transactions'!$D$9:$D$40,$B$22)","v":0},{"$f":"SUMIFS('ABT Transactions'!$B$9:$B$40,'ABT Transactions'!$G$9:$G$40,$C96,'ABT Transactions'!$F$9:$F$40,$U$14,'ABT Transactions'!$C$9:$C$40,W$15,'ABT Transactions'!$D$9:$D$40,$B$22)","v":0},{"$f":"SUMIFS('ABT Transactions'!$B$9:$B$40,'ABT Transactions'!$G$9:$G$40,$C96,'ABT Transactions'!$F$9:$F$40,$X$14,'ABT Transactions'!$C$9:$C$40,X$15,'ABT Transactions'!$D$9:$D$40,$B$22)","v":0},{"$f":"SUMIFS('ABT Transactions'!$B$9:$B$40,'ABT Transactions'!$G$9:$G$40,$C96,'ABT Transactions'!$F$9:$F$40,$X$14,'ABT Transactions'!$C$9:$C$40,Y$15,'ABT Transactions'!$D$9:$D$40,$B$22)","v":0},{"$f":"SUMIFS('ABT Transactions'!$B$9:$B$40,'ABT Transactions'!$G$9:$G$40,$C96,'ABT Transactions'!$F$9:$F$40,$X$14,'ABT Transactions'!$C$9:$C$40,Z$15,'ABT Transactions'!$D$9:$D$40,$B$22)","v":0},{"$f":"SUMIFS('ABT Transactions'!$B$9:$B$40,'ABT Transactions'!$G$9:$G$40,$C96,'ABT Transactions'!$F$9:$F$40,$AA$14,'ABT Transactions'!$C$9:$C$40,AA$15,'ABT Transactions'!$D$9:$D$40,$B$22)","v":0},{"$f":"SUMIFS('ABT Transactions'!$B$9:$B$40,'ABT Transactions'!$G$9:$G$40,$C96,'ABT Transactions'!$F$9:$F$40,$AA$14,'ABT Transactions'!$C$9:$C$40,AB$15,'ABT Transactions'!$D$9:$D$40,$B$22)","v":0},{"$f":"SUMIFS('ABT Transactions'!$B$9:$B$40,'ABT Transactions'!$G$9:$G$40,$C96,'ABT Transactions'!$F$9:$F$40,$AA$14,'ABT Transactions'!$C$9:$C$40,AC$15,'ABT Transactions'!$D$9:$D$40,$B$22)","v":0},{"$f":"SUMIFS('ABT Transactions'!$B$9:$B$40,'ABT Transactions'!$G$9:$G$40,$C96,'ABT Transactions'!$F$9:$F$40,$AD$14,'ABT Transactions'!$C$9:$C$40,AD$15,'ABT Transactions'!$D$9:$D$40,$B$22)","v":0},{"$f":"SUMIFS('ABT Transactions'!$B$9:$B$40,'ABT Transactions'!$G$9:$G$40,$C96,'ABT Transactions'!$F$9:$F$40,$AD$14,'ABT Transactions'!$C$9:$C$40,AE$15,'ABT Transactions'!$D$9:$D$40,$B$22)","v":0},{"$f":"SUMIFS('ABT Transactions'!$B$9:$B$40,'ABT Transactions'!$G$9:$G$40,$C96,'ABT Transactions'!$F$9:$F$40,$AD$14,'ABT Transactions'!$C$9:$C$40,AF$15,'ABT Transactions'!$D$9:$D$40,$B$22)","v":0},{"$f":"SUMIFS('ABT Transactions'!$B$9:$B$40,'ABT Transactions'!$G$9:$G$40,$C96,'ABT Transactions'!$F$9:$F$40,$AG$14,'ABT Transactions'!$C$9:$C$40,AG$15,'ABT Transactions'!$D$9:$D$40,$B$22)","v":0},{"$f":"SUMIFS('ABT Transactions'!$B$9:$B$40,'ABT Transactions'!$G$9:$G$40,$C96,'ABT Transactions'!$F$9:$F$40,$AG$14,'ABT Transactions'!$C$9:$C$40,AH$15,'ABT Transactions'!$D$9:$D$40,$B$22)","v":0},{"$f":"SUMIFS('ABT Transactions'!$B$9:$B$40,'ABT Transactions'!$G$9:$G$40,$C96,'ABT Transactions'!$F$9:$F$40,$AG$14,'ABT Transactions'!$C$9:$C$40,AI$15,'ABT Transactions'!$D$9:$D$40,$B$22)","v":0},{"$f":"SUMIFS('ABT Transactions'!$B$9:$B$40,'ABT Transactions'!$G$9:$G$40,$C96,'ABT Transactions'!$F$9:$F$40,$AJ$14,'ABT Transactions'!$C$9:$C$40,AJ$15,'ABT Transactions'!$D$9:$D$40,$B$22)","v":0},{"$f":"SUMIFS('ABT Transactions'!$B$9:$B$40,'ABT Transactions'!$G$9:$G$40,$C96,'ABT Transactions'!$F$9:$F$40,$AJ$14,'ABT Transactions'!$C$9:$C$40,AK$15,'ABT Transactions'!$D$9:$D$40,$B$22)","v":0},{"$f":"SUMIFS('ABT Transactions'!$B$9:$B$40,'ABT Transactions'!$G$9:$G$40,$C96,'ABT Transactions'!$F$9:$F$40,$AJ$14,'ABT Transactions'!$C$9:$C$40,AL$15,'ABT Transactions'!$D$9:$D$40,$B$22)","v":0},{"$f":"SUMIFS('ABT Transactions'!$B$9:$B$40,'ABT Transactions'!$G$9:$G$40,$C96,'ABT Transactions'!$F$9:$F$40,$AM$14,'ABT Transactions'!$C$9:$C$40,AM$15,'ABT Transactions'!$D$9:$D$40,$B$22)","v":0},{"$f":"SUMIFS('ABT Transactions'!$B$9:$B$40,'ABT Transactions'!$G$9:$G$40,$C96,'ABT Transactions'!$F$9:$F$40,$AM$14,'ABT Transactions'!$C$9:$C$40,AN$15,'ABT Transactions'!$D$9:$D$40,$B$22)","v":0},{"$f":"SUMIFS('ABT Transactions'!$B$9:$B$40,'ABT Transactions'!$G$9:$G$40,$C96,'ABT Transactions'!$F$9:$F$40,$AM$14,'ABT Transactions'!$C$9:$C$40,AO$15,'ABT Transactions'!$D$9:$D$40,$B$22)","v":0},{"$f":"SUMIFS('ABT Transactions'!$B$9:$B$40,'ABT Transactions'!$G$9:$G$40,$C96,'ABT Transactions'!$F$9:$F$40,$AP$14,'ABT Transactions'!$C$9:$C$40,AP$15,'ABT Transactions'!$D$9:$D$40,$B$22)","v":0},{"$f":"SUMIFS('ABT Transactions'!$B$9:$B$40,'ABT Transactions'!$G$9:$G$40,$C96,'ABT Transactions'!$F$9:$F$40,$AP$14,'ABT Transactions'!$C$9:$C$40,AQ$15,'ABT Transactions'!$D$9:$D$40,$B$22)","v":0},{"$f":"SUMIFS('ABT Transactions'!$B$9:$B$40,'ABT Transactions'!$G$9:$G$40,$C96,'ABT Transactions'!$F$9:$F$40,$AP$14,'ABT Transactions'!$C$9:$C$40,AR$15,'ABT Transactions'!$D$9:$D$40,$B$22)","v":0},{"$f":"SUMIFS('ABT Transactions'!$B$9:$B$40,'ABT Transactions'!$G$9:$G$40,$C$96,'ABT Transactions'!$F$9:$F$40,$AS$97,'ABT Transactions'!$C$9:$C$40,AS98,'ABT Transactions'!$D$9:$D$40,$B$105)","v":0},{"$f":"SUMIFS('ABT Transactions'!$B$9:$B$40,'ABT Transactions'!$G$9:$G$40,$C$96,'ABT Transactions'!$F$9:$F$40,$AS$97,'ABT Transactions'!$C$9:$C$40,AT98,'ABT Transactions'!$D$9:$D$40,$B$105)","v":0},{"$f":"SUMIFS('ABT Transactions'!$B$9:$B$40,'ABT Transactions'!$G$9:$G$40,$C$96,'ABT Transactions'!$F$9:$F$40,$AS$97,'ABT Transactions'!$C$9:$C$40,AU98,'ABT Transactions'!$D$9:$D$40,$B$105)","v":0}]
[null,"Transfer ADV Credits (in)",{"$f":"SUMIFS('ABT Transactions'!$B$9:$B$40,'ABT Transactions'!$J$9:$J$40,$C$96,'ABT Transactions'!$I$9:$I$40,$C$97,'ABT Transactions'!$C$9:$C$40,C98,'ABT Transactions'!$D$9:$D$40,$B$106)","v":0},{"$f":"SUMIFS('ABT Transactions'!$B$9:$B$40,'ABT Transactions'!$J$9:$J$40,$C$96,'ABT Transactions'!$I$9:$I$40,$C$97,'ABT Transactions'!$C$9:$C$40,D98,'ABT Transactions'!$D$9:$D$40,$B$106)","v":0},{"$f":"SUMIFS('ABT Transactions'!$B$9:$B$40,'ABT Transactions'!$J$9:$J$40,$C$96,'ABT Transactions'!$I$9:$I$40,$C$97,'ABT Transactions'!$C$9:$C$40,E98,'ABT Transactions'!$D$9:$D$40,$B$106)","v":0},{"$f":"SUMIFS('ABT Transactions'!$B$9:$B$40,'ABT Transactions'!$J$9:$J$40,$C$96,'ABT Transactions'!$I$9:$I$40,$F$97,'ABT Transactions'!$C$9:$C$40,F98,'ABT Transactions'!$D$9:$D$40,$B$106)","v":0},{"$f":"SUMIFS('ABT Transactions'!$B$9:$B$40,'ABT Transactions'!$J$9:$J$40,$C$96,'ABT Transactions'!$I$9:$I$40,$F$97,'ABT Transactions'!$C$9:$C$40,G98,'ABT Transactions'!$D$9:$D$40,$B$106)","v":0},{"$f":"SUMIFS('ABT Transactions'!$B$9:$B$40,'ABT Transactions'!$J$9:$J$40,$C$96,'ABT Transactions'!$I$9:$I$40,$F$97,'ABT Transactions'!$C$9:$C$40,H98,'ABT Transactions'!$D$9:$D$40,$B$106)","v":0},{"$f":"SUMIFS('ABT Transactions'!$B$9:$B$40,'ABT Transactions'!$J$9:$J$40,$C$96,'ABT Transactions'!$I$9:$I$40,$I$97,'ABT Transactions'!$C$9:$C$40,I98,'ABT Transactions'!$D$9:$D$40,$B$106)","v":0},{"$f":"SUMIFS('ABT Transactions'!$B$9:$B$40,'ABT Transactions'!$J$9:$J$40,$C$96,'ABT Transactions'!$I$9:$I$40,$I$97,'ABT Transactions'!$C$9:$C$40,J98,'ABT Transactions'!$D$9:$D$40,$B$106)","v":0},{"$f":"SUMIFS('ABT Transactions'!$B$9:$B$40,'ABT Transactions'!$J$9:$J$40,$C$96,'ABT Transactions'!$I$9:$I$40,$I$97,'ABT Transactions'!$C$9:$C$40,K98,'ABT Transactions'!$D$9:$D$40,$B$106)","v":0},{"$f":"SUMIFS('ABT Transactions'!$B$9:$B$40,'ABT Transactions'!$J$9:$J$40,$C$96,'ABT Transactions'!$I$9:$I$40,$L$97,'ABT Transactions'!$C$9:$C$40,L98,'ABT Transactions'!$D$9:$D$40,$B$106)","v":0},{"$f":"SUMIFS('ABT Transactions'!$B$9:$B$40,'ABT Transactions'!$J$9:$J$40,$C$96,'ABT Transactions'!$I$9:$I$40,$L$97,'ABT Transactions'!$C$9:$C$40,M98,'ABT Transactions'!$D$9:$D$40,$B$106)","v":0},{"$f":"SUMIFS('ABT Transactions'!$B$9:$B$40,'ABT Transactions'!$J$9:$J$40,$C$96,'ABT Transactions'!$I$9:$I$40,$L$97,'ABT Transactions'!$C$9:$C$40,N98,'ABT Transactions'!$D$9:$D$40,$B$106)","v":0},{"$f":"SUMIFS('ABT Transactions'!$B$9:$B$40,'ABT Transactions'!$J$9:$J$40,$C$96,'ABT Transactions'!$I$9:$I$40,$O$97,'ABT Transactions'!$C$9:$C$40,O98,'ABT Transactions'!$D$9:$D$40,$B$106)","v":0},{"$f":"SUMIFS('ABT Transactions'!$B$9:$B$40,'ABT Transactions'!$J$9:$J$40,$C$96,'ABT Transactions'!$I$9:$I$40,$O$97,'ABT Transactions'!$C$9:$C$40,P98,'ABT Transactions'!$D$9:$D$40,$B$106)","v":0},{"$f":"SUMIFS('ABT Transactions'!$B$9:$B$40,'ABT Transactions'!$J$9:$J$40,$C$96,'ABT Transactions'!$I$9:$I$40,$O$97,'ABT Transactions'!$C$9:$C$40,Q98,'ABT Transactions'!$D$9:$D$40,$B$106)","v":0},{"$f":"SUMIFS('ABT Transactions'!$B$9:$B$40,'ABT Transactions'!$J$9:$J$40,$C$96,'ABT Transactions'!$I$9:$I$40,$R$97,'ABT Transactions'!$C$9:$C$40,R98,'ABT Transactions'!$D$9:$D$40,$B$106)","v":0},{"$f":"SUMIFS('ABT Transactions'!$B$9:$B$40,'ABT Transactions'!$J$9:$J$40,$C$96,'ABT Transactions'!$I$9:$I$40,$R$97,'ABT Transactions'!$C$9:$C$40,S98,'ABT Transactions'!$D$9:$D$40,$B$106)","v":0},{"$f":"SUMIFS('ABT Transactions'!$B$9:$B$40,'ABT Transactions'!$J$9:$J$40,$C$96,'ABT Transactions'!$I$9:$I$40,$R$97,'ABT Transactions'!$C$9:$C$40,T98,'ABT Transactions'!$D$9:$D$40,$B$106)","v":0},{"$f":"SUMIFS('ABT Transactions'!$B$9:$B$40,'ABT Transactions'!$J$9:$J$40,$C96,'ABT Transactions'!$I$9:$I$40,$U$14,'ABT Transactions'!$C$9:$C$40,U98,'ABT Transactions'!$D$9:$D$40,$B$23)","v":0},{"$f":"SUMIFS('ABT Transactions'!$B$9:$B$40,'ABT Transactions'!$J$9:$J$40,$C96,'ABT Transactions'!$I$9:$I$40,$U$14,'ABT Transactions'!$C$9:$C$40,V98,'ABT Transactions'!$D$9:$D$40,$B$23)","v":0},{"$f":"SUMIFS('ABT Transactions'!$B$9:$B$40,'ABT Transactions'!$J$9:$J$40,$C96,'ABT Transactions'!$I$9:$I$40,$U$14,'ABT Transactions'!$C$9:$C$40,W98,'ABT Transactions'!$D$9:$D$40,$B$23)","v":0},{"$f":"SUMIFS('ABT Transactions'!$B$9:$B$40,'ABT Transactions'!$J$9:$J$40,$C96,'ABT Transactions'!$I$9:$I$40,$X$14,'ABT Transactions'!$C$9:$C$40,X98,'ABT Transactions'!$D$9:$D$40,$B$23)","v":0},{"$f":"SUMIFS('ABT Transactions'!$B$9:$B$40,'ABT Transactions'!$J$9:$J$40,$C96,'ABT Transactions'!$I$9:$I$40,$X$14,'ABT Transactions'!$C$9:$C$40,Y98,'ABT Transactions'!$D$9:$D$40,$B$23)","v":0},{"$f":"SUMIFS('ABT Transactions'!$B$9:$B$40,'ABT Transactions'!$J$9:$J$40,$C96,'ABT Transactions'!$I$9:$I$40,$X$14,'ABT Transactions'!$C$9:$C$40,Z98,'ABT Transactions'!$D$9:$D$40,$B$23)","v":0},{"$f":"SUMIFS('ABT Transactions'!$B$9:$B$40,'ABT Transactions'!$J$9:$J$40,$C96,'ABT Transactions'!$I$9:$I$40,$AA$14,'ABT Transactions'!$C$9:$C$40,AA98,'ABT Transactions'!$D$9:$D$40,$B$23)","v":0},{"$f":"SUMIFS('ABT Transactions'!$B$9:$B$40,'ABT Transactions'!$J$9:$J$40,$C96,'ABT Transactions'!$I$9:$I$40,$AA$14,'ABT Transactions'!$C$9:$C$40,AB98,'ABT Transactions'!$D$9:$D$40,$B$23)","v":0},{"$f":"SUMIFS('ABT Transactions'!$B$9:$B$40,'ABT Transactions'!$J$9:$J$40,$C96,'ABT Transactions'!$I$9:$I$40,$AA$14,'ABT Transactions'!$C$9:$C$40,AC98,'ABT Transactions'!$D$9:$D$40,$B$23)","v":0},{"$f":"SUMIFS('ABT Transactions'!$B$9:$B$40,'ABT Transactions'!$J$9:$J$40,$C96,'ABT Transactions'!$I$9:$I$40,$AD$14,'ABT Transactions'!$C$9:$C$40,AD98,'ABT Transactions'!$D$9:$D$40,$B$23)","v":0},{"$f":"SUMIFS('ABT Transactions'!$B$9:$B$40,'ABT Transactions'!$J$9:$J$40,$C96,'ABT Transactions'!$I$9:$I$40,$AD$14,'ABT Transactions'!$C$9:$C$40,AE98,'ABT Transactions'!$D$9:$D$40,$B$23)","v":0},{"$f":"SUMIFS('ABT Transactions'!$B$9:$B$40,'ABT Transactions'!$J$9:$J$40,$C96,'ABT Transactions'!$I$9:$I$40,$AD$14,'ABT Transactions'!$C$9:$C$40,AF98,'ABT Transactions'!$D$9:$D$40,$B$23)","v":0},{"$f":"SUMIFS('ABT Transactions'!$B$9:$B$40,'ABT Transactions'!$J$9:$J$40,$C96,'ABT Transactions'!$I$9:$I$40,$AG$14,'ABT Transactions'!$C$9:$C$40,AG98,'ABT Transactions'!$D$9:$D$40,$B$23)","v":0},{"$f":"SUMIFS('ABT Transactions'!$B$9:$B$40,'ABT Transactions'!$J$9:$J$40,$C96,'ABT Transactions'!$I$9:$I$40,$AG$14,'ABT Transactions'!$C$9:$C$40,AH98,'ABT Transactions'!$D$9:$D$40,$B$23)","v":0},{"$f":"SUMIFS('ABT Transactions'!$B$9:$B$40,'ABT Transactions'!$J$9:$J$40,$C96,'ABT Transactions'!$I$9:$I$40,$AG$14,'ABT Transactions'!$C$9:$C$40,AI98,'ABT Transactions'!$D$9:$D$40,$B$23)","v":0},{"$f":"SUMIFS('ABT Transactions'!$B$9:$B$40,'ABT Transactions'!$J$9:$J$40,$C96,'ABT Transactions'!$I$9:$I$40,$AJ$14,'ABT Transactions'!$C$9:$C$40,AJ98,'ABT Transactions'!$D$9:$D$40,$B$23)","v":0},{"$f":"SUMIFS('ABT Transactions'!$B$9:$B$40,'ABT Transactions'!$J$9:$J$40,$C96,'ABT Transactions'!$I$9:$I$40,$AJ$14,'ABT Transactions'!$C$9:$C$40,AK98,'ABT Transactions'!$D$9:$D$40,$B$23)","v":0},{"$f":"SUMIFS('ABT Transactions'!$B$9:$B$40,'ABT Transactions'!$J$9:$J$40,$C96,'ABT Transactions'!$I$9:$I$40,$AJ$14,'ABT Transactions'!$C$9:$C$40,AL98,'ABT Transactions'!$D$9:$D$40,$B$23)","v":0},{"$f":"SUMIFS('ABT Transactions'!$B$9:$B$40,'ABT Transactions'!$J$9:$J$40,$C96,'ABT Transactions'!$I$9:$I$40,$AM$14,'ABT Transactions'!$C$9:$C$40,AM98,'ABT Transactions'!$D$9:$D$40,$B$23)","v":0},{"$f":"SUMIFS('ABT Transactions'!$B$9:$B$40,'ABT Transactions'!$J$9:$J$40,$C96,'ABT Transactions'!$I$9:$I$40,$AM$14,'ABT Transactions'!$C$9:$C$40,AN98,'ABT Transactions'!$D$9:$D$40,$B$23)","v":0},{"$f":"SUMIFS('ABT Transactions'!$B$9:$B$40,'ABT Transactions'!$J$9:$J$40,$C96,'ABT Transactions'!$I$9:$I$40,$AM$14,'ABT Transactions'!$C$9:$C$40,AO98,'ABT Transactions'!$D$9:$D$40,$B$23)","v":0},{"$f":"SUMIFS('ABT Transactions'!$B$9:$B$40,'ABT Transactions'!$J$9:$J$40,$C96,'ABT Transactions'!$I$9:$I$40,$AP$14,'ABT Transactions'!$C$9:$C$40,AP98,'ABT Transactions'!$D$9:$D$40,$B$23)","v":0},{"$f":"SUMIFS('ABT Transactions'!$B$9:$B$40,'ABT Transactions'!$J$9:$J$40,$C96,'ABT Transactions'!$I$9:$I$40,$AP$14,'ABT Transactions'!$C$9:$C$40,AQ98,'ABT Transactions'!$D$9:$D$40,$B$23)","v":0},{"$f":"SUMIFS('ABT Transactions'!$B$9:$B$40,'ABT Transactions'!$J$9:$J$40,$C96,'ABT Transactions'!$I$9:$I$40,$AP$14,'ABT Transactions'!$C$9:$C$40,AR98,'ABT Transactions'!$D$9:$D$40,$B$23)","v":0},{"$f":"SUMIFS('ABT Transactions'!$B$9:$B$40,'ABT Transactions'!$J$9:$J$40,$C$96,'ABT Transactions'!$I$9:$I$40,$AS$97,'ABT Transactions'!$C$9:$C$40,AS98,'ABT Transactions'!$D$9:$D$40,$B$106)","v":0},{"$f":"SUMIFS('ABT Transactions'!$B$9:$B$40,'ABT Transactions'!$J$9:$J$40,$C$96,'ABT Transactions'!$I$9:$I$40,$AS$97,'ABT Transactions'!$C$9:$C$40,AT98,'ABT Transactions'!$D$9:$D$40,$B$106)","v":0},{"$f":"SUMIFS('ABT Transactions'!$B$9:$B$40,'ABT Transactions'!$J$9:$J$40,$C$96,'ABT Transactions'!$I$9:$I$40,$AS$97,'ABT Transactions'!$C$9:$C$40,AU98,'ABT Transactions'!$D$9:$D$40,$B$106)","v":0}]
[null,"Retired Credits",{"$f":"SUMIFS('ABT Transactions'!$B$9:$B$40,'ABT Transactions'!$G$9:$G$40,$C$96,'ABT Transactions'!$F$9:$F$40,$C$97,'ABT Transactions'!$C$9:$C$40,C98,'ABT Transactions'!$D$9:$D$40,$B$107)","v":0},{"$f":"SUMIFS('ABT Transactions'!$B$9:$B$40,'ABT Transactions'!$G$9:$G$40,$C$96,'ABT Transactions'!$F$9:$F$40,$C$97,'ABT Transactions'!$C$9:$C$40,D98,'ABT Transactions'!$D$9:$D$40,$B$107)","v":0},{"$f":"SUMIFS('ABT Transactions'!$B$9:$B$40,'ABT Transactions'!$G$9:$G$40,$C$96,'ABT Transactions'!$F$9:$F$40,$C$97,'ABT Transactions'!$C$9:$C$40,E98,'ABT Transactions'!$D$9:$D$40,$B$107)","v":0},{"$f":"SUMIFS('ABT Transactions'!$B$9:$B$40,'ABT Transactions'!$G$9:$G$40,$C$96,'ABT Transactions'!$F$9:$F$40,$F$97,'ABT Transactions'!$C$9:$C$40,F98,'ABT Transactions'!$D$9:$D$40,$B$107)","v":0},{"$f":"SUMIFS('ABT Transactions'!$B$9:$B$40,'ABT Transactions'!$G$9:$G$40,$C$96,'ABT Transactions'!$F$9:$F$40,$F$97,'ABT Transactions'!$C$9:$C$40,G98,'ABT Transactions'!$D$9:$D$40,$B$107)","v":0},{"$f":"SUMIFS('ABT Transactions'!$B$9:$B$40,'ABT Transactions'!$G$9:$G$40,$C$96,'ABT Transactions'!$F$9:$F$40,$F$97,'ABT Transactions'!$C$9:$C$40,H98,'ABT Transactions'!$D$9:$D$40,$B$107)","v":0},{"$f":"SUMIFS('ABT Transactions'!$B$9:$B$40,'ABT Transactions'!$G$9:$G$40,$C$96,'ABT Transactions'!$F$9:$F$40,$I$97,'ABT Transactions'!$C$9:$C$40,I98,'ABT Transactions'!$D$9:$D$40,$B$107)","v":0},{"$f":"SUMIFS('ABT Transactions'!$B$9:$B$40,'ABT Transactions'!$G$9:$G$40,$C$96,'ABT Transactions'!$F$9:$F$40,$I$97,'ABT Transactions'!$C$9:$C$40,J98,'ABT Transactions'!$D$9:$D$40,$B$107)","v":0},{"$f":"SUMIFS('ABT Transactions'!$B$9:$B$40,'ABT Transactions'!$G$9:$G$40,$C$96,'ABT Transactions'!$F$9:$F$40,$I$97,'ABT Transactions'!$C$9:$C$40,K98,'ABT Transactions'!$D$9:$D$40,$B$107)","v":0},{"$f":"SUMIFS('ABT Transactions'!$B$9:$B$40,'ABT Transactions'!$G$9:$G$40,$C$96,'ABT Transactions'!$F$9:$F$40,$L$97,'ABT Transactions'!$C$9:$C$40,L98,'ABT Transactions'!$D$9:$D$40,$B$107)","v":0},{"$f":"SUMIFS('ABT Transactions'!$B$9:$B$40,'ABT Transactions'!$G$9:$G$40,$C$96,'ABT Transactions'!$F$9:$F$40,$L$97,'ABT Transactions'!$C$9:$C$40,M98,'ABT Transactions'!$D$9:$D$40,$B$107)","v":0},{"$f":"SUMIFS('ABT Transactions'!$B$9:$B$40,'ABT Transactions'!$G$9:$G$40,$C$96,'ABT Transactions'!$F$9:$F$40,$L$97,'ABT Transactions'!$C$9:$C$40,N98,'ABT Transactions'!$D$9:$D$40,$B$107)","v":0},{"$f":"SUMIFS('ABT Transactions'!$B$9:$B$40,'ABT Transactions'!$G$9:$G$40,$C$96,'ABT Transactions'!$F$9:$F$40,$O$97,'ABT Transactions'!$C$9:$C$40,O98,'ABT Transactions'!$D$9:$D$40,$B$107)","v":0},{"$f":"SUMIFS('ABT Transactions'!$B$9:$B$40,'ABT Transactions'!$G$9:$G$40,$C$96,'ABT Transactions'!$F$9:$F$40,$O$97,'ABT Transactions'!$C$9:$C$40,P98,'ABT Transactions'!$D$9:$D$40,$B$107)","v":0},{"$f":"SUMIFS('ABT Transactions'!$B$9:$B$40,'ABT Transactions'!$G$9:$G$40,$C$96,'ABT Transactions'!$F$9:$F$40,$O$97,'ABT Transactions'!$C$9:$C$40,Q98,'ABT Transactions'!$D$9:$D$40,$B$107)","v":0},{"$f":"SUMIFS('ABT Transactions'!$B$9:$B$40,'ABT Transactions'!$G$9:$G$40,$C$96,'ABT Transactions'!$F$9:$F$40,$R$97,'ABT Transactions'!$C$9:$C$40,R98,'ABT Transactions'!$D$9:$D$40,$B$107)","v":0},{"$f":"SUMIFS('ABT Transactions'!$B$9:$B$40,'ABT Transactions'!$G$9:$G$40,$C$96,'ABT Transactions'!$F$9:$F$40,$R$97,'ABT Transactions'!$C$9:$C$40,S98,'ABT Transactions'!$D$9:$D$40,$B$107)","v":0},{"$f":"SUMIFS('ABT Transactions'!$B$9:$B$40,'ABT Transactions'!$G$9:$G$40,$C$96,'ABT Transactions'!$F$9:$F$40,$R$97,'ABT Transactions'!$C$9:$C$40,T98,'ABT Transactions'!$D$9:$D$40,$B$107)","v":0},{"$f":"SUMIFS('ABT Transactions'!$B$9:$B$40,'ABT Transactions'!$G$9:$G$40,$C96,'ABT Transactions'!$F$9:$F$40,$U$14,'ABT Transactions'!$C$9:$C$40,U$15,'ABT Transactions'!$D$9:$D$40,$B$24)","v":0},{"$f":"SUMIFS('ABT Transactions'!$B$9:$B$40,'ABT Transactions'!$G$9:$G$40,$C96,'ABT Transactions'!$F$9:$F$40,$U$14,'ABT Transactions'!$C$9:$C$40,V$15,'ABT Transactions'!$D$9:$D$40,$B$24)","v":0},{"$f":"SUMIFS('ABT Transactions'!$B$9:$B$40,'ABT Transactions'!$G$9:$G$40,$C96,'ABT Transactions'!$F$9:$F$40,$U$14,'ABT Transactions'!$C$9:$C$40,W$15,'ABT Transactions'!$D$9:$D$40,$B$24)","v":0},{"$f":"SUMIFS('ABT Transactions'!$B$9:$B$40,'ABT Transactions'!$G$9:$G$40,$C96,'ABT Transactions'!$F$9:$F$40,$X$14,'ABT Transactions'!$C$9:$C$40,X$15,'ABT Transactions'!$D$9:$D$40,$B$24)","v":0},{"$f":"SUMIFS('ABT Transactions'!$B$9:$B$40,'ABT Transactions'!$G$9:$G$40,$C96,'ABT Transactions'!$F$9:$F$40,$X$14,'ABT Transactions'!$C$9:$C$40,Y$15,'ABT Transactions'!$D$9:$D$40,$B$24)","v":0},{"$f":"SUMIFS('ABT Transactions'!$B$9:$B$40,'ABT Transactions'!$G$9:$G$40,$C96,'ABT Transactions'!$F$9:$F$40,$X$14,'ABT Transactions'!$C$9:$C$40,Z$15,'ABT Transactions'!$D$9:$D$40,$B$24)","v":0},{"$f":"SUMIFS('ABT Transactions'!$B$9:$B$40,'ABT Transactions'!$G$9:$G$40,$C96,'ABT Transactions'!$F$9:$F$40,$AA$14,'ABT Transactions'!$C$9:$C$40,AA$15,'ABT Transactions'!$D$9:$D$40,$B$24)","v":0},{"$f":"SUMIFS('ABT Transactions'!$B$9:$B$40,'ABT Transactions'!$G$9:$G$40,$C96,'ABT Transactions'!$F$9:$F$40,$AA$14,'ABT Transactions'!$C$9:$C$40,AB$15,'ABT Transactions'!$D$9:$D$40,$B$24)","v":0},{"$f":"SUMIFS('ABT Transactions'!$B$9:$B$40,'ABT Transactions'!$G$9:$G$40,$C96,'ABT Transactions'!$F$9:$F$40,$AA$14,'ABT Transactions'!$C$9:$C$40,AC$15,'ABT Transactions'!$D$9:$D$40,$B$24)","v":0},{"$f":"SUMIFS('ABT Transactions'!$B$9:$B$40,'ABT Transactions'!$G$9:$G$40,$C96,'ABT Transactions'!$F$9:$F$40,$AD$14,'ABT Transactions'!$C$9:$C$40,AD$15,'ABT Transactions'!$D$9:$D$40,$B$24)","v":0},{"$f":"SUMIFS('ABT Transactions'!$B$9:$B$40,'ABT Transactions'!$G$9:$G$40,$C96,'ABT Transactions'!$F$9:$F$40,$AD$14,'ABT Transactions'!$C$9:$C$40,AE$15,'ABT Transactions'!$D$9:$D$40,$B$24)","v":0},{"$f":"SUMIFS('ABT Transactions'!$B$9:$B$40,'ABT Transactions'!$G$9:$G$40,$C96,'ABT Transactions'!$F$9:$F$40,$AD$14,'ABT Transactions'!$C$9:$C$40,AF$15,'ABT Transactions'!$D$9:$D$40,$B$24)","v":0},{"$f":"SUMIFS('ABT Transactions'!$B$9:$B$40,'ABT Transactions'!$G$9:$G$40,$C96,'ABT Transactions'!$F$9:$F$40,$AG$14,'ABT Transactions'!$C$9:$C$40,AG$15,'ABT Transactions'!$D$9:$D$40,$B$24)","v":0},{"$f":"SUMIFS('ABT Transactions'!$B$9:$B$40,'ABT Transactions'!$G$9:$G$40,$C96,'ABT Transactions'!$F$9:$F$40,$AG$14,'ABT Transactions'!$C$9:$C$40,AH$15,'ABT Transactions'!$D$9:$D$40,$B$24)","v":0},{"$f":"SUMIFS('ABT Transactions'!$B$9:$B$40,'ABT Transactions'!$G$9:$G$40,$C96,'ABT Transactions'!$F$9:$F$40,$AG$14,'ABT Transactions'!$C$9:$C$40,AI$15,'ABT Transactions'!$D$9:$D$40,$B$24)","v":0},{"$f":"SUMIFS('ABT Transactions'!$B$9:$B$40,'ABT Transactions'!$G$9:$G$40,$C96,'ABT Transactions'!$F$9:$F$40,$AJ$14,'ABT Transactions'!$C$9:$C$40,AJ$15,'ABT Transactions'!$D$9:$D$40,$B$24)","v":0},{"$f":"SUMIFS('ABT Transactions'!$B$9:$B$40,'ABT Transactions'!$G$9:$G$40,$C96,'ABT Transactions'!$F$9:$F$40,$AJ$14,'ABT Transactions'!$C$9:$C$40,AK$15,'ABT Transactions'!$D$9:$D$40,$B$24)","v":0},{"$f":"SUMIFS('ABT Transactions'!$B$9:$B$40,'ABT Transactions'!$G$9:$G$40,$C96,'ABT Transactions'!$F$9:$F$40,$AJ$14,'ABT Transactions'!$C$9:$C$40,AL$15,'ABT Transactions'!$D$9:$D$40,$B$24)","v":0},{"$f":"SUMIFS('ABT Transactions'!$B$9:$B$40,'ABT Transactions'!$G$9:$G$40,$C96,'ABT Transactions'!$F$9:$F$40,$AM$14,'ABT Transactions'!$C$9:$C$40,AM$15,'ABT Transactions'!$D$9:$D$40,$B$24)","v":0},{"$f":"SUMIFS('ABT Transactions'!$B$9:$B$40,'ABT Transactions'!$G$9:$G$40,$C96,'ABT Transactions'!$F$9:$F$40,$AM$14,'ABT Transactions'!$C$9:$C$40,AN$15,'ABT Transactions'!$D$9:$D$40,$B$24)","v":0},{"$f":"SUMIFS('ABT Transactions'!$B$9:$B$40,'ABT Transactions'!$G$9:$G$40,$C96,'ABT Transactions'!$F$9:$F$40,$AM$14,'ABT Transactions'!$C$9:$C$40,AO$15,'ABT Transactions'!$D$9:$D$40,$B$24)","v":0},{"$f":"SUMIFS('ABT Transactions'!$B$9:$B$40,'ABT Transactions'!$G$9:$G$40,$C96,'ABT Transactions'!$F$9:$F$40,$AP$14,'ABT Transactions'!$C$9:$C$40,AP$15,'ABT Transactions'!$D$9:$D$40,$B$24)","v":0},{"$f":"SUMIFS('ABT Transactions'!$B$9:$B$40,'ABT Transactions'!$G$9:$G$40,$C96,'ABT Transactions'!$F$9:$F$40,$AP$14,'ABT Transactions'!$C$9:$C$40,AQ$15,'ABT Transactions'!$D$9:$D$40,$B$24)","v":0},{"$f":"SUMIFS('ABT Transactions'!$B$9:$B$40,'ABT Transactions'!$G$9:$G$40,$C96,'ABT Transactions'!$F$9:$F$40,$AP$14,'ABT Transactions'!$C$9:$C$40,AR$15,'ABT Transactions'!$D$9:$D$40,$B$24)","v":0},{"$f":"SUMIFS('ABT Transactions'!$B$9:$B$40,'ABT Transactions'!$G$9:$G$40,$C$96,'ABT Transactions'!$F$9:$F$40,$AS$97,'ABT Transactions'!$C$9:$C$40,AS98,'ABT Transactions'!$D$9:$D$40,$B$107)","v":0},{"$f":"SUMIFS('ABT Transactions'!$B$9:$B$40,'ABT Transactions'!$G$9:$G$40,$C$96,'ABT Transactions'!$F$9:$F$40,$AS$97,'ABT Transactions'!$C$9:$C$40,AT98,'ABT Transactions'!$D$9:$D$40,$B$107)","v":0},{"$f":"SUMIFS('ABT Transactions'!$B$9:$B$40,'ABT Transactions'!$G$9:$G$40,$C$96,'ABT Transactions'!$F$9:$F$40,$AS$97,'ABT Transactions'!$C$9:$C$40,AU98,'ABT Transactions'!$D$9:$D$40,$B$107)","v":0}]
[null,"Expired Credits",{"$f":"SUMIFS('ABT Transactions'!$B$9:$B$40,'ABT Transactions'!$G$9:$G$40,$C$96,'ABT Transactions'!$F$9:$F$40,$C$97,'ABT Transactions'!$C$9:$C$40,C98,'ABT Transactions'!$D$9:$D$40,$B$108)","v":0},{"$f":"SUMIFS('ABT Transactions'!$B$9:$B$40,'ABT Transactions'!$G$9:$G$40,$C$96,'ABT Transactions'!$F$9:$F$40,$C$97,'ABT Transactions'!$C$9:$C$40,D98,'ABT Transactions'!$D$9:$D$40,$B$108)","v":0},{"$f":"SUMIFS('ABT Transactions'!$B$9:$B$40,'ABT Transactions'!$G$9:$G$40,$C$96,'ABT Transactions'!$F$9:$F$40,$C$97,'ABT Transactions'!$C$9:$C$40,E98,'ABT Transactions'!$D$9:$D$40,$B$108)","v":0},{"$f":"SUMIFS('ABT Transactions'!$B$9:$B$40,'ABT Transactions'!$G$9:$G$40,$C$96,'ABT Transactions'!$F$9:$F$40,$F$97,'ABT Transactions'!$C$9:$C$40,F98,'ABT Transactions'!$D$9:$D$40,$B$108)","v":0},{"$f":"SUMIFS('ABT Transactions'!$B$9:$B$40,'ABT Transactions'!$G$9:$G$40,$C$96,'ABT Transactions'!$F$9:$F$40,$F$97,'ABT Transactions'!$C$9:$C$40,G98,'ABT Transactions'!$D$9:$D$40,$B$108)","v":0},{"$f":"SUMIFS('ABT Transactions'!$B$9:$B$40,'ABT Transactions'!$G$9:$G$40,$C$96,'ABT Transactions'!$F$9:$F$40,$F$97,'ABT Transactions'!$C$9:$C$40,H98,'ABT Transactions'!$D$9:$D$40,$B$108)","v":0},{"$f":"SUMIFS('ABT Transactions'!$B$9:$B$40,'ABT Transactions'!$G$9:$G$40,$C$96,'ABT Transactions'!$F$9:$F$40,$I$97,'ABT Transactions'!$C$9:$C$40,I98,'ABT Transactions'!$D$9:$D$40,$B$108)","v":0},{"$f":"SUMIFS('ABT Transactions'!$B$9:$B$40,'ABT Transactions'!$G$9:$G$40,$C$96,'ABT Transactions'!$F$9:$F$40,$I$97,'ABT Transactions'!$C$9:$C$40,J98,'ABT Transactions'!$D$9:$D$40,$B$108)","v":0},{"$f":"SUMIFS('ABT Transactions'!$B$9:$B$40,'ABT Transactions'!$G$9:$G$40,$C$96,'ABT Transactions'!$F$9:$F$40,$I$97,'ABT Transactions'!$C$9:$C$40,K98,'ABT Transactions'!$D$9:$D$40,$B$108)","v":0},{"$f":"SUMIFS('ABT Transactions'!$B$9:$B$40,'ABT Transactions'!$G$9:$G$40,$C$96,'ABT Transactions'!$F$9:$F$40,$L$97,'ABT Transactions'!$C$9:$C$40,L98,'ABT Transactions'!$D$9:$D$40,$B$108)","v":0},{"$f":"SUMIFS('ABT Transactions'!$B$9:$B$40,'ABT Transactions'!$G$9:$G$40,$C$96,'ABT Transactions'!$F$9:$F$40,$L$97,'ABT Transactions'!$C$9:$C$40,M98,'ABT Transactions'!$D$9:$D$40,$B$108)","v":0},{"$f":"SUMIFS('ABT Transactions'!$B$9:$B$40,'ABT Transactions'!$G$9:$G$40,$C$96,'ABT Transactions'!$F$9:$F$40,$L$97,'ABT Transactions'!$C$9:$C$40,N98,'ABT Transactions'!$D$9:$D$40,$B$108)","v":0},{"$f":"SUMIFS('ABT Transactions'!$B$9:$B$40,'ABT Transactions'!$G$9:$G$40,$C$96,'ABT Transactions'!$F$9:$F$40,$O$97,'ABT Transactions'!$C$9:$C$40,O98,'ABT Transactions'!$D$9:$D$40,$B$108)","v":0},{"$f":"SUMIFS('ABT Transactions'!$B$9:$B$40,'ABT Transactions'!$G$9:$G$40,$C$96,'ABT Transactions'!$F$9:$F$40,$O$97,'ABT Transactions'!$C$9:$C$40,P98,'ABT Transactions'!$D$9:$D$40,$B$108)","v":0},{"$f":"SUMIFS('ABT Transactions'!$B$9:$B$40,'ABT Transactions'!$G$9:$G$40,$C$96,'ABT Transactions'!$F$9:$F$40,$O$97,'ABT Transactions'!$C$9:$C$40,Q98,'ABT Transactions'!$D$9:$D$40,$B$108)","v":0},{"$f":"SUMIFS('ABT Transactions'!$B$9:$B$40,'ABT Transactions'!$G$9:$G$40,$C$96,'ABT Transactions'!$F$9:$F$40,$R$97,'ABT Transactions'!$C$9:$C$40,R98,'ABT Transactions'!$D$9:$D$40,$B$108)","v":0},{"$f":"SUMIFS('ABT Transactions'!$B$9:$B$40,'ABT Transactions'!$G$9:$G$40,$C$96,'ABT Transactions'!$F$9:$F$40,$R$97,'ABT Transactions'!$C$9:$C$40,S98,'ABT Transactions'!$D$9:$D$40,$B$108)","v":0},{"$f":"SUMIFS('ABT Transactions'!$B$9:$B$40,'ABT Transactions'!$G$9:$G$40,$C$96,'ABT Transactions'!$F$9:$F$40,$R$97,'ABT Transactions'!$C$9:$C$40,T98,'ABT Transactions'!$D$9:$D$40,$B$108)","v":0},{"$f":"SUMIFS('ABT Transactions'!$B$9:$B$40,'ABT Transactions'!$G$9:$G$40,$C96,'ABT Transactions'!$F$9:$F$40,$U$14,'ABT Transactions'!$C$9:$C$40,U$15,'ABT Transactions'!$D$9:$D$40,$B$25)","v":0},{"$f":"SUMIFS('ABT Transactions'!$B$9:$B$40,'ABT Transactions'!$G$9:$G$40,$C96,'ABT Transactions'!$F$9:$F$40,$U$14,'ABT Transactions'!$C$9:$C$40,V$15,'ABT Transactions'!$D$9:$D$40,$B$25)","v":0},{"$f":"SUMIFS('ABT Transactions'!$B$9:$B$40,'ABT Transactions'!$G$9:$G$40,$C96,'ABT Transactions'!$F$9:$F$40,$U$14,'ABT Transactions'!$C$9:$C$40,W$15,'ABT Transactions'!$D$9:$D$40,$B$25)","v":0},{"$f":"SUMIFS('ABT Transactions'!$B$9:$B$40,'ABT Transactions'!$G$9:$G$40,$C96,'ABT Transactions'!$F$9:$F$40,$X$14,'ABT Transactions'!$C$9:$C$40,X$15,'ABT Transactions'!$D$9:$D$40,$B$25)","v":0},{"$f":"SUMIFS('ABT Transactions'!$B$9:$B$40,'ABT Transactions'!$G$9:$G$40,$C96,'ABT Transactions'!$F$9:$F$40,$X$14,'ABT Transactions'!$C$9:$C$40,Y$15,'ABT Transactions'!$D$9:$D$40,$B$25)","v":0},{"$f":"SUMIFS('ABT Transactions'!$B$9:$B$40,'ABT Transactions'!$G$9:$G$40,$C96,'ABT Transactions'!$F$9:$F$40,$X$14,'ABT Transactions'!$C$9:$C$40,Z$15,'ABT Transactions'!$D$9:$D$40,$B$25)","v":0},{"$f":"SUMIFS('ABT Transactions'!$B$9:$B$40,'ABT Transactions'!$G$9:$G$40,$C96,'ABT Transactions'!$F$9:$F$40,$AA$14,'ABT Transactions'!$C$9:$C$40,AA$15,'ABT Transactions'!$D$9:$D$40,$B$25)","v":0},{"$f":"SUMIFS('ABT Transactions'!$B$9:$B$40,'ABT Transactions'!$G$9:$G$40,$C96,'ABT Transactions'!$F$9:$F$40,$AA$14,'ABT Transactions'!$C$9:$C$40,AB$15,'ABT Transactions'!$D$9:$D$40,$B$25)","v":0},{"$f":"SUMIFS('ABT Transactions'!$B$9:$B$40,'ABT Transactions'!$G$9:$G$40,$C96,'ABT Transactions'!$F$9:$F$40,$AA$14,'ABT Transactions'!$C$9:$C$40,AC$15,'ABT Transactions'!$D$9:$D$40,$B$25)","v":0},{"$f":"SUMIFS('ABT Transactions'!$B$9:$B$40,'ABT Transactions'!$G$9:$G$40,$C96,'ABT Transactions'!$F$9:$F$40,$AD$14,'ABT Transactions'!$C$9:$C$40,AD$15,'ABT Transactions'!$D$9:$D$40,$B$25)","v":0},{"$f":"SUMIFS('ABT Transactions'!$B$9:$B$40,'ABT Transactions'!$G$9:$G$40,$C96,'ABT Transactions'!$F$9:$F$40,$AD$14,'ABT Transactions'!$C$9:$C$40,AE$15,'ABT Transactions'!$D$9:$D$40,$B$25)","v":0},{"$f":"SUMIFS('ABT Transactions'!$B$9:$B$40,'ABT Transactions'!$G$9:$G$40,$C96,'ABT Transactions'!$F$9:$F$40,$AD$14,'ABT Transactions'!$C$9:$C$40,AF$15,'ABT Transactions'!$D$9:$D$40,$B$25)","v":0},{"$f":"SUMIFS('ABT Transactions'!$B$9:$B$40,'ABT Transactions'!$G$9:$G$40,$C96,'ABT Transactions'!$F$9:$F$40,$AG$14,'ABT Transactions'!$C$9:$C$40,AG$15,'ABT Transactions'!$D$9:$D$40,$B$25)","v":0},{"$f":"SUMIFS('ABT Transactions'!$B$9:$B$40,'ABT Transactions'!$G$9:$G$40,$C96,'ABT Transactions'!$F$9:$F$40,$AG$14,'ABT Transactions'!$C$9:$C$40,AH$15,'ABT Transactions'!$D$9:$D$40,$B$25)","v":0},{"$f":"SUMIFS('ABT Transactions'!$B$9:$B$40,'ABT Transactions'!$G$9:$G$40,$C96,'ABT Transactions'!$F$9:$F$40,$AG$14,'ABT Transactions'!$C$9:$C$40,AI$15,'ABT Transactions'!$D$9:$D$40,$B$25)","v":0},{"$f":"SUMIFS('ABT Transactions'!$B$9:$B$40,'ABT Transactions'!$G$9:$G$40,$C96,'ABT Transactions'!$F$9:$F$40,$AJ$14,'ABT Transactions'!$C$9:$C$40,AJ$15,'ABT Transactions'!$D$9:$D$40,$B$25)","v":0},{"$f":"SUMIFS('ABT Transactions'!$B$9:$B$40,'ABT Transactions'!$G$9:$G$40,$C96,'ABT Transactions'!$F$9:$F$40,$AJ$14,'ABT Transactions'!$C$9:$C$40,AK$15,'ABT Transactions'!$D$9:$D$40,$B$25)","v":0},{"$f":"SUMIFS('ABT Transactions'!$B$9:$B$40,'ABT Transactions'!$G$9:$G$40,$C96,'ABT Transactions'!$F$9:$F$40,$AJ$14,'ABT Transactions'!$C$9:$C$40,AL$15,'ABT Transactions'!$D$9:$D$40,$B$25)","v":0},{"$f":"SUMIFS('ABT Transactions'!$B$9:$B$40,'ABT Transactions'!$G$9:$G$40,$C96,'ABT Transactions'!$F$9:$F$40,$AM$14,'ABT Transactions'!$C$9:$C$40,AM$15,'ABT Transactions'!$D$9:$D$40,$B$25)","v":0},{"$f":"SUMIFS('ABT Transactions'!$B$9:$B$40,'ABT Transactions'!$G$9:$G$40,$C96,'ABT Transactions'!$F$9:$F$40,$AM$14,'ABT Transactions'!$C$9:$C$40,AN$15,'ABT Transactions'!$D$9:$D$40,$B$25)","v":0},{"$f":"SUMIFS('ABT Transactions'!$B$9:$B$40,'ABT Transactions'!$G$9:$G$40,$C96,'ABT Transactions'!$F$9:$F$40,$AM$14,'ABT Transactions'!$C$9:$C$40,AO$15,'ABT Transactions'!$D$9:$D$40,$B$25)","v":0},{"$f":"SUMIFS('ABT Transactions'!$B$9:$B$40,'ABT Transactions'!$G$9:$G$40,$C96,'ABT Transactions'!$F$9:$F$40,$AP$14,'ABT Transactions'!$C$9:$C$40,AP$15,'ABT Transactions'!$D$9:$D$40,$B$25)","v":0},{"$f":"SUMIFS('ABT Transactions'!$B$9:$B$40,'ABT Transactions'!$G$9:$G$40,$C96,'ABT Transactions'!$F$9:$F$40,$AP$14,'ABT Transactions'!$C$9:$C$40,AQ$15,'ABT Transactions'!$D$9:$D$40,$B$25)","v":0},{"$f":"SUMIFS('ABT Transactions'!$B$9:$B$40,'ABT Transactions'!$G$9:$G$40,$C96,'ABT Transactions'!$F$9:$F$40,$AP$14,'ABT Transactions'!$C$9:$C$40,AR$15,'ABT Transactions'!$D$9:$D$40,$B$25)","v":0},{"$f":"SUMIFS('ABT Transactions'!$B$9:$B$40,'ABT Transactions'!$G$9:$G$40,$C$96,'ABT Transactions'!$F$9:$F$40,$AS$97,'ABT Transactions'!$C$9:$C$40,AS98,'ABT Transactions'!$D$9:$D$40,$B$108)","v":0},{"$f":"SUMIFS('ABT Transactions'!$B$9:$B$40,'ABT Transactions'!$G$9:$G$40,$C$96,'ABT Transactions'!$F$9:$F$40,$AS$97,'ABT Transactions'!$C$9:$C$40,AT98,'ABT Transactions'!$D$9:$D$40,$B$108)","v":0},{"$f":"SUMIFS('ABT Transactions'!$B$9:$B$40,'ABT Transactions'!$G$9:$G$40,$C$96,'ABT Transactions'!$F$9:$F$40,$AS$97,'ABT Transactions'!$C$9:$C$40,AU98,'ABT Transactions'!$D$9:$D$40,$B$108)","v":0}]
[null,"Final Credit Balance",{"$f":"(C99+C100+C102+C104+C106+C107+C108)-(C101+C103+C105)","v":0},{"$f":"(D99+D100+D102+D104+D106+D107+D108)-(D101+D103+D105)","v":0},{"$f":"(E99+E100+E102+E104+E106+E107+E108)-(E101+E103+E105)","v":0},{"$f":"(F99+F100+F102+F104+F106+F107+F108)-(F101+F103+F105)","v":0},{"$f":"(G99+G100+G102+G104+G106+G107+G108)-(G101+G103+G105)","v":0},{"$f":"(H99+H100+H102+H104+H106+H107+H108)-(H101+H103+H105)","v":0},{"$f":"(I99+I100+I102+I104+I106+I107+I108)-(I101+I103+I105)","v":0},{"$f":"(J99+J100+J102+J104+J106+J107+J108)-(J101+J103+J105)","v":0},{"$f":"(K99+K100+K102+K104+K106+K107+K108)-(K101+K103+K105)","v":0},{"$f":"(L99+L100+L102+L104+L106+L107+L108)-(L101+L103+L105)","v":0},{"$f":"(M99+M100+M102+M104+M106+M107+M108)-(M101+M103+M105)","v":0},{"$f":"(N99+N100+N102+N104+N106+N107+N108)-(N101+N103+N105)","v":0},{"$f":"(O99+O100+O102+O104+O106+O107+O108)-(O101+O103+O105)","v":0},{"$f":"(P99+P100+P102+P104+P106+P107+P108)-(P101+P103+P105)","v":0},{"$f":"(Q99+Q100+Q102+Q104+Q106+Q107+Q108)-(Q101+Q103+Q105)","v":0},{"$f":"(R99+R100+R102+R104+R106+R107+R108)-(R101+R103+R105)","v":0},{"$f":"(S99+S100+S102+S104+S106+S107+S108)-(S101+S103+S105)","v":0},{"$f":"(T99+T100+T102+T104+T106+T107+T108)-(T101+T103+T105)","v":0},{"$f":"(U99+U100+U102+U104+U106+U107+U108)-(U101+U103+U105)","v":0},{"$f":"(V99+V100+V102+V104+V106+V107+V108)-(V101+V103+V105)","v":0},{"$f":"(W99+W100+W102+W104+W106+W107+W108)-(W101+W103+W105)","v":0},{"$f":"(X99+X100+X102+X104+X106+X107+X108)-(X101+X103+X105)","v":0},{"$f":"(Y99+Y100+Y102+Y104+Y106+Y107+Y108)-(Y101+Y103+Y105)","v":0},{"$f":"(Z99+Z100+Z102+Z104+Z106+Z107+Z108)-(Z101+Z103+Z105)","v":0},{"$f":"(AA99+AA100+AA102+AA104+AA106+AA107+AA108)-(AA101+AA103+AA105)","v":0},{"$f":"(AB99+AB100+AB102+AB104+AB106+AB107+AB108)-(AB101+AB103+AB105)","v":0},{"$f":"(AC99+AC100+AC102+AC104+AC106+AC107+AC108)-(AC101+AC103+AC105)","v":0},{"$f":"(AD99+AD100+AD102+AD104+AD106+AD107+AD108)-(AD101+AD103+AD105)","v":0},{"$f":"(AE99+AE100+AE102+AE104+AE106+AE107+AE108)-(AE101+AE103+AE105)","v":0},{"$f":"(AF99+AF100+AF102+AF104+AF106+AF107+AF108)-(AF101+AF103+AF105)","v":0},{"$f":"(AG99+AG100+AG102+AG104+AG106+AG107+AG108)-(AG101+AG103+AG105)","v":0},{"$f":"(AH99+AH100+AH102+AH104+AH106+AH107+AH108)-(AH101+AH103+AH105)","v":0},{"$f":"(AI99+AI100+AI102+AI104+AI106+AI107+AI108)-(AI101+AI103+AI105)","v":0},{"$f":"(AJ99+AJ100+AJ102+AJ104+AJ106+AJ107+AJ108)-(AJ101+AJ103+AJ105)","v":0},{"$f":"(AK99+AK100+AK102+AK104+AK106+AK107+AK108)-(AK101+AK103+AK105)","v":0},{"$f":"(AL99+AL100+AL102+AL104+AL106+AL107+AL108)-(AL101+AL103+AL105)","v":0},{"$f":"(AM99+AM100+AM102+AM104+AM106+AM107+AM108)-(AM101+AM103+AM105)","v":0},{"$f":"(AN99+AN100+AN102+AN104+AN106+AN107+AN108)-(AN101+AN103+AN105)","v":0},{"$f":"(AO99+AO100+AO102+AO104+AO106+AO107+AO108)-(AO101+AO103+AO105)","v":0},{"$f":"(AP99+AP100+AP102+AP104+AP106+AP107+AP108)-(AP101+AP103+AP105)","v":0},{"$f":"(AQ99+AQ100+AQ102+AQ104+AQ106+AQ107+AQ108)-(AQ101+AQ103+AQ105)","v":0},{"$f":"(AR99+AR100+AR102+AR104+AR106+AR107+AR108)-(AR101+AR103+AR105)","v":0},{"$f":"(AS99+AS100+AS102+AS104+AS106+AS107+AS108)-(AS101+AS103+AS105)","v":0},{"$f":"(AT99+AT100+AT102+AT104+AT106+AT107+AT108)-(AT101+AT103+AT105)","v":0},{"$f":"(AU99+AU100+AU102+AU104+AU106+AU107+AU108)-(AU101+AU103+AU105)","v":0}]
[null,"Averaging Set Credit Balance",{"$f":"SUM(C109:E109)","v":0},null,null,{"$f":"SUM(F109:H109)","v":0},null,null,{"$f":"SUM(I109:K109)","v":0},null,null,{"$f":"SUM(L109:N109)","v":0},null,null,{"$f":"SUM(O109:Q109)","v":0},null,null,{"$f":"SUM(R109:T109)","v":0},null,null,{"$f":"SUM(U109:W109)","v":0},null,null,{"$f":"SUM(X109:Z109)","v":0},null,null,{"$f":"SUM(AA109:AC109)","v":0},null,null,{"$f":"SUM(AD109:AF109)","v":0},null,null,{"$f":"SUM(AG109:AI109)","v":0},null,null,{"$f":"SUM(AJ109:AL109)","v":0},null,null,{"$f":"SUM(AM109:AO109)","v":0},null,null,{"$f":"SUM(AP109:AR109)","v":0},null,null,{"$f":"SUM(AS109:AU109)","v":0}]
[]
[]
[null,null,"CI - HHDE (Cl 8)"]
[null,null,2013,null,null,2014,null,null,2015,null,null,2016,null,null,2017,null,null,2018,null,null,2019,null,null,2020,null,null,2021,null,null,2022,null,null,2023,null,null,2024,null,null,2025,null,null,2026,null,null,2027]
[null,"Credit Type","Conventional Credit","Innovative Technology Credit","Advanced Technology Credit","Conventional Credit","Innovative Technology Credit","Advanced Technology Credit","Conventional Credit","Innovative Technology Credit","Advanced Technology Credit","Conventional Credit","Innovative Technology Credit","Advanced Technology Credit","Conventional Credit","Innovative Technology Credit","Advanced Technology Credit","Conventional Credit","Innovative Technology Credit","Advanced Technology Credit","Conventional Credit","Innovative Technology Credit","Advanced Technology Credit","Conventional Credit","Innovative Technology Credit","Advanced Technology Credit","Conventional Credit","Innovative Technology Credit","Advanced Technology Credit","Conventional Credit","Innovative Technology Credit","Advanced Technology Credit","Conventional Credit","Innovative Technology Credit","Advanced Technology Credit","Conventional Credit","Innovative Technology Credit","Advanced Technology Credit","Conventional Credit","Innovative Technology Credit","Advanced Technology Credit","Conventional Credit","Innovative Technology Credit","Advanced Technology Credit","Conventional Credit","Innovative Technology Credit","Advanced Technology Credit"]
[null,"Earned Credits",{"$f":"SUMIFS('ABT Credit Balances'!$D$9:$D$208,'ABT Credit Balances'!$B$9:$B$208,$C$113,'ABT Credit Balances'!$F$9:$F$208,C115,'ABT Credit Balances'!$E$9:$E$208,$C$114,'ABT Credit Balances'!$C$9:$C$208,$B$116)","v":0},{"$f":"SUMIFS('ABT Credit Balances'!$D$9:$D$208,'ABT Credit Balances'!$B$9:$B$208,$C$113,'ABT Credit Balances'!$F$9:$F$208,D115,'ABT Credit Balances'!$E$9:$E$208,$C$114,'ABT Credit Balances'!$C$9:$C$208,$B$116)","v":0},{"$f":"SUMIFS('ABT Credit Balances'!$D$9:$D$208,'ABT Credit Balances'!$B$9:$B$208,$C$113,'ABT Credit Balances'!$F$9:$F$208,E115,'ABT Credit Balances'!$E$9:$E$208,$C$114,'ABT Credit Balances'!$C$9:$C$208,$B$116)","v":0},{"$f":"SUMIFS('ABT Credit Balances'!$D$9:$D$208,'ABT Credit Balances'!$B$9:$B$208,$C$113,'ABT Credit Balances'!$F$9:$F$208,F115,'ABT Credit Balances'!$E$9:$E$208,$F$114,'ABT Credit Balances'!$C$9:$C$208,$B$116)","v":0},{"$f":"SUMIFS('ABT Credit Balances'!$D$9:$D$208,'ABT Credit Balances'!$B$9:$B$208,$C$113,'ABT Credit Balances'!$F$9:$F$208,G115,'ABT Credit Balances'!$E$9:$E$208,$F$114,'ABT Credit Balances'!$C$9:$C$208,$B$116)","v":0},{"$f":"SUMIFS('ABT Credit Balances'!$D$9:$D$208,'ABT Credit Balances'!$B$9:$B$208,$C$113,'ABT Credit Balances'!$F$9:$F$208,H115,'ABT Credit Balances'!$E$9:$E$208,$F$114,'ABT Credit Balances'!$C$9:$C$208,$B$116)","v":0},{"$f":"SUMIFS('ABT Credit Balances'!$D$9:$D$208,'ABT Credit Balances'!$B$9:$B$208,$C$113,'ABT Credit Balances'!$F$9:$F$208,I115,'ABT Credit Balances'!$E$9:$E$208,$I$114,'ABT Credit Balances'!$C$9:$C$208,$B$116)","v":0},{"$f":"SUMIFS('ABT Credit Balances'!$D$9:$D$208,'ABT Credit Balances'!$B$9:$B$208,$C$113,'ABT Credit Balances'!$F$9:$F$208,J115,'ABT Credit Balances'!$E$9:$E$208,$I$114,'ABT Credit Balances'!$C$9:$C$208,$B$116)","v":0},{"$f":"SUMIFS('ABT Credit Balances'!$D$9:$D$208,'ABT Credit Balances'!$B$9:$B$208,$C$113,'ABT Credit Balances'!$F$9:$F$208,K115,'ABT Credit Balances'!$E$9:$E$208,$I$114,'ABT Credit Balances'!$C$9:$C$208,$B$116)","v":0},{"$f":"SUMIFS('ABT Credit Balances'!$D$9:$D$208,'ABT Credit Balances'!$B$9:$B$208,$C$113,'ABT Credit Balances'!$F$9:$F$208,L115,'ABT Credit Balances'!$E$9:$E$208,$L$114,'ABT Credit Balances'!$C$9:$C$208,$B$116)","v":0},{"$f":"SUMIFS('ABT Credit Balances'!$D$9:$D$208,'ABT Credit Balances'!$B$9:$B$208,$C$113,'ABT Credit Balances'!$F$9:$F$208,M115,'ABT Credit Balances'!$E$9:$E$208,$L$114,'ABT Credit Balances'!$C$9:$C$208,$B$116)","v":0},{"$f":"SUMIFS('ABT Credit Balances'!$D$9:$D$208,'ABT Credit Balances'!$B$9:$B$208,$C$113,'ABT Credit Balances'!$F$9:$F$208,N115,'ABT Credit Balances'!$E$9:$E$208,$L$114,'ABT Credit Balances'!$C$9:$C$208,$B$116)","v":0},{"$f":"SUMIFS('ABT Credit Balances'!$D$9:$D$208,'ABT Credit Balances'!$B$9:$B$208,$C$113,'ABT Credit Balances'!$F$9:$F$208,O115,'ABT Credit Balances'!$E$9:$E$208,$O$114,'ABT Credit Balances'!$C$9:$C$208,$B$116)","v":0},{"$f":"SUMIFS('ABT Credit Balances'!$D$9:$D$208,'ABT Credit Balances'!$B$9:$B$208,$C$113,'ABT Credit Balances'!$F$9:$F$208,P115,'ABT Credit Balances'!$E$9:$E$208,$O$114,'ABT Credit Balances'!$C$9:$C$208,$B$116)","v":0},{"$f":"SUMIFS('ABT Credit Balances'!$D$9:$D$208,'ABT Credit Balances'!$B$9:$B$208,$C$113,'ABT Credit Balances'!$F$9:$F$208,Q115,'ABT Credit Balances'!$E$9:$E$208,$O$114,'ABT Credit Balances'!$C$9:$C$208,$B$116)","v":0},{"$f":"SUMIFS('ABT Credit Balances'!$D$9:$D$208,'ABT Credit Balances'!$B$9:$B$208,$C$113,'ABT Credit Balances'!$F$9:$F$208,R115,'ABT Credit Balances'!$E$9:$E$208,$R$114,'ABT Credit Balances'!$C$9:$C$208,$B$116)","v":0},{"$f":"SUMIFS('ABT Credit Balances'!$D$9:$D$208,'ABT Credit Balances'!$B$9:$B$208,$C$113,'ABT Credit Balances'!$F$9:$F$208,S115,'ABT Credit Balances'!$E$9:$E$208,$R$114,'ABT Credit Balances'!$C$9:$C$208,$B$116)","v":0},{"$f":"SUMIFS('ABT Credit Balances'!$D$9:$D$208,'ABT Credit Balances'!$B$9:$B$208,$C$113,'ABT Credit Balances'!$F$9:$F$208,T115,'ABT Credit Balances'!$E$9:$E$208,$R$114,'ABT Credit Balances'!$C$9:$C$208,$B$116)","v":0},{"$f":"SUMIFS('ABT Credit Balances'!$D$9:$D$208,'ABT Credit Balances'!$B$9:$B$208,$C113,'ABT Credit Balances'!$F$9:$F$208,U115,'ABT Credit Balances'!$E$9:$E$208,$U$14,'ABT Credit Balances'!$C$9:$C$208,$B$16)","v":0},{"$f":"SUMIFS('ABT Credit Balances'!$D$9:$D$208,'ABT Credit Balances'!$B$9:$B$208,$C113,'ABT Credit Balances'!$F$9:$F$208,V115,'ABT Credit Balances'!$E$9:$E$208,$U$14,'ABT Credit Balances'!$C$9:$C$208,$B$16)","v":0},{"$f":"SUMIFS('ABT Credit Balances'!$D$9:$D$208,'ABT Credit Balances'!$B$9:$B$208,$C113,'ABT Credit Balances'!$F$9:$F$208,W115,'ABT Credit Balances'!$E$9:$E$208,$U$14,'ABT Credit Balances'!$C$9:$C$208,$B$16)","v":0},{"$f":"SUMIFS('ABT Credit Balances'!$D$9:$D$208,'ABT Credit Balances'!$B$9:$B$208,$C113,'ABT Credit Balances'!$F$9:$F$208,X115,'ABT Credit Balances'!$E$9:$E$208,$X$14,'ABT Credit Balances'!$C$9:$C$208,$B$16)","v":0},{"$f":"SUMIFS('ABT Credit Balances'!$D$9:$D$208,'ABT Credit Balances'!$B$9:$B$208,$C113,'ABT Credit Balances'!$F$9:$F$208,Y115,'ABT Credit Balances'!$E$9:$E$208,$X$14,'ABT Credit Balances'!$C$9:$C$208,$B$16)","v":0},{"$f":"SUMIFS('ABT Credit Balances'!$D$9:$D$208,'ABT Credit Balances'!$B$9:$B$208,$C113,'ABT Credit Balances'!$F$9:$F$208,Z115,'ABT Credit Balances'!$E$9:$E$208,$X$14,'ABT Credit Balances'!$C$9:$C$208,$B$16)","v":0},{"$f":"SUMIFS('ABT Credit Balances'!$D$9:$D$208,'ABT Credit Balances'!$B$9:$B$208,$C113,'ABT Credit Balances'!$F$9:$F$208,AA115,'ABT Credit Balances'!$E$9:$E$208,$AA$14,'ABT Credit Balances'!$C$9:$C$208,$B$16)","v":0},{"$f":"SUMIFS('ABT Credit Balances'!$D$9:$D$208,'ABT Credit Balances'!$B$9:$B$208,$C113,'ABT Credit Balances'!$F$9:$F$208,AB115,'ABT Credit Balances'!$E$9:$E$208,$AA$14,'ABT Credit Balances'!$C$9:$C$208,$B$16)","v":0},{"$f":"SUMIFS('ABT Credit Balances'!$D$9:$D$208,'ABT Credit Balances'!$B$9:$B$208,$C113,'ABT Credit Balances'!$F$9:$F$208,AC115,'ABT Credit Balances'!$E$9:$E$208,$AA$14,'ABT Credit Balances'!$C$9:$C$208,$B$16)","v":0},{"$f":"SUMIFS('ABT Credit Balances'!$D$9:$D$208,'ABT Credit Balances'!$B$9:$B$208,$C113,'ABT Credit Balances'!$F$9:$F$208,AD115,'ABT Credit Balances'!$E$9:$E$208,$AD$14,'ABT Credit Balances'!$C$9:$C$208,$B$16)","v":0},{"$f":"SUMIFS('ABT Credit Balances'!$D$9:$D$208,'ABT Credit Balances'!$B$9:$B$208,$C113,'ABT Credit Balances'!$F$9:$F$208,AE115,'ABT Credit Balances'!$E$9:$E$208,$AD$14,'ABT Credit Balances'!$C$9:$C$208,$B$16)","v":0},{"$f":"SUMIFS('ABT Credit Balances'!$D$9:$D$208,'ABT Credit Balances'!$B$9:$B$208,$C113,'ABT Credit Balances'!$F$9:$F$208,AF115,'ABT Credit Balances'!$E$9:$E$208,$AD$14,'ABT Credit Balances'!$C$9:$C$208,$B$16)","v":0},{"$f":"SUMIFS('ABT Credit Balances'!$D$9:$D$208,'ABT Credit Balances'!$B$9:$B$208,$C113,'ABT Credit Balances'!$F$9:$F$208,AG115,'ABT Credit Balances'!$E$9:$E$208,$AG$14,'ABT Credit Balances'!$C$9:$C$208,$B$16)","v":0},{"$f":"SUMIFS('ABT Credit Balances'!$D$9:$D$208,'ABT Credit Balances'!$B$9:$B$208,$C113,'ABT Credit Balances'!$F$9:$F$208,AH115,'ABT Credit Balances'!$E$9:$E$208,$AG$14,'ABT Credit Balances'!$C$9:$C$208,$B$16)","v":0},{"$f":"SUMIFS('ABT Credit Balances'!$D$9:$D$208,'ABT Credit Balances'!$B$9:$B$208,$C113,'ABT Credit Balances'!$F$9:$F$208,AI115,'ABT Credit Balances'!$E$9:$E$208,$AG$14,'ABT Credit Balances'!$C$9:$C$208,$B$16)","v":0},{"$f":"SUMIFS('ABT Credit Balances'!$D$9:$D$208,'ABT Credit Balances'!$B$9:$B$208,$C113,'ABT Credit Balances'!$F$9:$F$208,AJ115,'ABT Credit Balances'!$E$9:$E$208,$AJ$14,'ABT Credit Balances'!$C$9:$C$208,$B$16)","v":0},{"$f":"SUMIFS('ABT Credit Balances'!$D$9:$D$208,'ABT Credit Balances'!$B$9:$B$208,$C113,'ABT Credit Balances'!$F$9:$F$208,AK115,'ABT Credit Balances'!$E$9:$E$208,$AJ$14,'ABT Credit Balances'!$C$9:$C$208,$B$16)","v":0},{"$f":"SUMIFS('ABT Credit Balances'!$D$9:$D$208,'ABT Credit Balances'!$B$9:$B$208,$C113,'ABT Credit Balances'!$F$9:$F$208,AL115,'ABT Credit Balances'!$E$9:$E$208,$AJ$14,'ABT Credit Balances'!$C$9:$C$208,$B$16)","v":0},{"$f":"SUMIFS('ABT Credit Balances'!$D$9:$D$208,'ABT Credit Balances'!$B$9:$B$208,$C113,'ABT Credit Balances'!$F$9:$F$208,AM115,'ABT Credit Balances'!$E$9:$E$208,$AM$14,'ABT Credit Balances'!$C$9:$C$208,$B$16)","v":0},{"$f":"SUMIFS('ABT Credit Balances'!$D$9:$D$208,'ABT Credit Balances'!$B$9:$B$208,$C113,'ABT Credit Balances'!$F$9:$F$208,AN115,'ABT Credit Balances'!$E$9:$E$208,$AM$14,'ABT Credit Balances'!$C$9:$C$208,$B$16)","v":0},{"$f":"SUMIFS('ABT Credit Balances'!$D$9:$D$208,'ABT Credit Balances'!$B$9:$B$208,$C113,'ABT Credit Balances'!$F$9:$F$208,AO115,'ABT Credit Balances'!$E$9:$E$208,$AM$14,'ABT Credit Balances'!$C$9:$C$208,$B$16)","v":0},{"$f":"SUMIFS('ABT Credit Balances'!$D$9:$D$208,'ABT Credit Balances'!$B$9:$B$208,$C113,'ABT Credit Balances'!$F$9:$F$208,AP115,'ABT Credit Balances'!$E$9:$E$208,$AP$14,'ABT Credit Balances'!$C$9:$C$208,$B$16)","v":0},{"$f":"SUMIFS('ABT Credit Balances'!$D$9:$D$208,'ABT Credit Balances'!$B$9:$B$208,$C113,'ABT Credit Balances'!$F$9:$F$208,AQ115,'ABT Credit Balances'!$E$9:$E$208,$AP$14,'ABT Credit Balances'!$C$9:$C$208,$B$16)","v":0},{"$f":"SUMIFS('ABT Credit Balances'!$D$9:$D$208,'ABT Credit Balances'!$B$9:$B$208,$C113,'ABT Credit Balances'!$F$9:$F$208,AR115,'ABT Credit Balances'!$E$9:$E$208,$AP$14,'ABT Credit Balances'!$C$9:$C$208,$B$16)","v":0},{"$f":"SUMIFS('ABT Credit Balances'!$D$9:$D$208,'ABT Credit Balances'!$B$9:$B$208,$C$113,'ABT Credit Balances'!$F$9:$F$208,AS115,'ABT Credit Balances'!$E$9:$E$208,$AS$114,'ABT Credit Balances'!$C$9:$C$208,$B$116)","v":0},{"$f":"SUMIFS('ABT Credit Balances'!$D$9:$D$208,'ABT Credit Balances'!$B$9:$B$208,$C$113,'ABT Credit Balances'!$F$9:$F$208,AT115,'ABT Credit Balances'!$E$9:$E$208,$AS$114,'ABT Credit Balances'!$C$9:$C$208,$B$116)","v":0},{"$f":"SUMIFS('ABT Credit Balances'!$D$9:$D$208,'ABT Credit Balances'!$B$9:$B$208,$C$113,'ABT Credit Balances'!$F$9:$F$208,AU115,'ABT Credit Balances'!$E$9:$E$208,$AS$114,'ABT Credit Balances'!$C$9:$C$208,$B$116)","v":0}]
[null,"Projected Credits",{"$f":"SUMIFS('ABT Credit Balances'!$D$9:$D$208,'ABT Credit Balances'!$B$9:$B$208,$C$113,'ABT Credit Balances'!$F$9:$F$208,C115,'ABT Credit Balances'!$E$9:$E$208,$C$114,'ABT Credit Balances'!$C$9:$C$208,$B$117)","v":0},{"$f":"SUMIFS('ABT Credit Balances'!$D$9:$D$208,'ABT Credit Balances'!$B$9:$B$208,$C$113,'ABT Credit Balances'!$F$9:$F$208,D115,'ABT Credit Balances'!$E$9:$E$208,$C$114,'ABT Credit Balances'!$C$9:$C$208,$B$117)","v":0},{"$f":"SUMIFS('ABT Credit Balances'!$D$9:$D$208,'ABT Credit Balances'!$B$9:$B$208,$C$113,'ABT Credit Balances'!$F$9:$F$208,E115,'ABT Credit Balances'!$E$9:$E$208,$C$114,'ABT Credit Balances'!$C$9:$C$208,$B$117)","v":0},{"$f":"SUMIFS('ABT Credit Balances'!$D$9:$D$208,'ABT Credit Balances'!$B$9:$B$208,$C$113,'ABT Credit Balances'!$F$9:$F$208,F115,'ABT Credit Balances'!$E$9:$E$208,$F$114,'ABT Credit Balances'!$C$9:$C$208,$B$117)","v":0},{"$f":"SUMIFS('ABT Credit Balances'!$D$9:$D$208,'ABT Credit Balances'!$B$9:$B$208,$C$113,'ABT Credit Balances'!$F$9:$F$208,G115,'ABT Credit Balances'!$E$9:$E$208,$F$114,'ABT Credit Balances'!$C$9:$C$208,$B$117)","v":0},{"$f":"SUMIFS('ABT Credit Balances'!$D$9:$D$208,'ABT Credit Balances'!$B$9:$B$208,$C$113,'ABT Credit Balances'!$F$9:$F$208,H115,'ABT Credit Balances'!$E$9:$E$208,$F$114,'ABT Credit Balances'!$C$9:$C$208,$B$117)","v":0},{"$f":"SUMIFS('ABT Credit Balances'!$D$9:$D$208,'ABT Credit Balances'!$B$9:$B$208,$C$113,'ABT Credit Balances'!$F$9:$F$208,I115,'ABT Credit Balances'!$E$9:$E$208,$I$114,'ABT Credit Balances'!$C$9:$C$208,$B$117)","v":0},{"$f":"SUMIFS('ABT Credit Balances'!$D$9:$D$208,'ABT Credit Balances'!$B$9:$B$208,$C$113,'ABT Credit Balances'!$F$9:$F$208,J115,'ABT Credit Balances'!$E$9:$E$208,$I$114,'ABT Credit Balances'!$C$9:$C$208,$B$117)","v":0},{"$f":"SUMIFS('ABT Credit Balances'!$D$9:$D$208,'ABT Credit Balances'!$B$9:$B$208,$C$113,'ABT Credit Balances'!$F$9:$F$208,K115,'ABT Credit Balances'!$E$9:$E$208,$I$114,'ABT Credit Balances'!$C$9:$C$208,$B$117)","v":0},{"$f":"SUMIFS('ABT Credit Balances'!$D$9:$D$208,'ABT Credit Balances'!$B$9:$B$208,$C$113,'ABT Credit Balances'!$F$9:$F$208,L115,'ABT Credit Balances'!$E$9:$E$208,$L$114,'ABT Credit Balances'!$C$9:$C$208,$B$117)","v":0},{"$f":"SUMIFS('ABT Credit Balances'!$D$9:$D$208,'ABT Credit Balances'!$B$9:$B$208,$C$113,'ABT Credit Balances'!$F$9:$F$208,M115,'ABT Credit Balances'!$E$9:$E$208,$L$114,'ABT Credit Balances'!$C$9:$C$208,$B$117)","v":0},{"$f":"SUMIFS('ABT Credit Balances'!$D$9:$D$208,'ABT Credit Balances'!$B$9:$B$208,$C$113,'ABT Credit Balances'!$F$9:$F$208,N115,'ABT Credit Balances'!$E$9:$E$208,$L$114,'ABT Credit Balances'!$C$9:$C$208,$B$117)","v":0},{"$f":"SUMIFS('ABT Credit Balances'!$D$9:$D$208,'ABT Credit Balances'!$B$9:$B$208,$C$113,'ABT Credit Balances'!$F$9:$F$208,O115,'ABT Credit Balances'!$E$9:$E$208,$O$114,'ABT Credit Balances'!$C$9:$C$208,$B$117)","v":0},{"$f":"SUMIFS('ABT Credit Balances'!$D$9:$D$208,'ABT Credit Balances'!$B$9:$B$208,$C$113,'ABT Credit Balances'!$F$9:$F$208,P115,'ABT Credit Balances'!$E$9:$E$208,$O$114,'ABT Credit Balances'!$C$9:$C$208,$B$117)","v":0},{"$f":"SUMIFS('ABT Credit Balances'!$D$9:$D$208,'ABT Credit Balances'!$B$9:$B$208,$C$113,'ABT Credit Balances'!$F$9:$F$208,Q115,'ABT Credit Balances'!$E$9:$E$208,$O$114,'ABT Credit Balances'!$C$9:$C$208,$B$117)","v":0},{"$f":"SUMIFS('ABT Credit Balances'!$D$9:$D$208,'ABT Credit Balances'!$B$9:$B$208,$C$113,'ABT Credit Balances'!$F$9:$F$208,R115,'ABT Credit Balances'!$E$9:$E$208,$R$114,'ABT Credit Balances'!$C$9:$C$208,$B$117)","v":0},{"$f":"SUMIFS('ABT Credit Balances'!$D$9:$D$208,'ABT Credit Balances'!$B$9:$B$208,$C$113,'ABT Credit Balances'!$F$9:$F$208,S115,'ABT Credit Balances'!$E$9:$E$208,$R$114,'ABT Credit Balances'!$C$9:$C$208,$B$117)","v":0},{"$f":"SUMIFS('ABT Credit Balances'!$D$9:$D$208,'ABT Credit Balances'!$B$9:$B$208,$C$113,'ABT Credit Balances'!$F$9:$F$208,T115,'ABT Credit Balances'!$E$9:$E$208,$R$114,'ABT Credit Balances'!$C$9:$C$208,$B$117)","v":0},{"$f":"SUMIFS('ABT Credit Balances'!$D$9:$D$208,'ABT Credit Balances'!$B$9:$B$208,$C113,'ABT Credit Balances'!$F$9:$F$208,U115,'ABT Credit Balances'!$E$9:$E$208,$U$14,'ABT Credit Balances'!$C$9:$C$208,$B$17)","v":0},{"$f":"SUMIFS('ABT Credit Balances'!$D$9:$D$208,'ABT Credit Balances'!$B$9:$B$208,$C113,'ABT Credit Balances'!$F$9:$F$208,V115,'ABT Credit Balances'!$E$9:$E$208,$U$14,'ABT Credit Balances'!$C$9:$C$208,$B$17)","v":0},{"$f":"SUMIFS('ABT Credit Balances'!$D$9:$D$208,'ABT Credit Balances'!$B$9:$B$208,$C113,'ABT Credit Balances'!$F$9:$F$208,W115,'ABT Credit Balances'!$E$9:$E$208,$U$14,'ABT Credit Balances'!$C$9:$C$208,$B$17)","v":0},{"$f":"SUMIFS('ABT Credit Balances'!$D$9:$D$208,'ABT Credit Balances'!$B$9:$B$208,$C113,'ABT Credit Balances'!$F$9:$F$208,X115,'ABT Credit Balances'!$E$9:$E$208,$X$14,'ABT Credit Balances'!$C$9:$C$208,$B$17)","v":0},{"$f":"SUMIFS('ABT Credit Balances'!$D$9:$D$208,'ABT Credit Balances'!$B$9:$B$208,$C113,'ABT Credit Balances'!$F$9:$F$208,Y115,'ABT Credit Balances'!$E$9:$E$208,$X$14,'ABT Credit Balances'!$C$9:$C$208,$B$17)","v":0},{"$f":"SUMIFS('ABT Credit Balances'!$D$9:$D$208,'ABT Credit Balances'!$B$9:$B$208,$C113,'ABT Credit Balances'!$F$9:$F$208,Z115,'ABT Credit Balances'!$E$9:$E$208,$X$14,'ABT Credit Balances'!$C$9:$C$208,$B$17)","v":0},{"$f":"SUMIFS('ABT Credit Balances'!$D$9:$D$208,'ABT Credit Balances'!$B$9:$B$208,$C113,'ABT Credit Balances'!$F$9:$F$208,AA115,'ABT Credit Balances'!$E$9:$E$208,$AA$14,'ABT Credit Balances'!$C$9:$C$208,$B$17)","v":0},{"$f":"SUMIFS('ABT Credit Balances'!$D$9:$D$208,'ABT Credit Balances'!$B$9:$B$208,$C113,'ABT Credit Balances'!$F$9:$F$208,AB115,'ABT Credit Balances'!$E$9:$E$208,$AA$14,'ABT Credit Balances'!$C$9:$C$208,$B$17)","v":0},{"$f":"SUMIFS('ABT Credit Balances'!$D$9:$D$208,'ABT Credit Balances'!$B$9:$B$208,$C113,'ABT Credit Balances'!$F$9:$F$208,AC115,'ABT Credit Balances'!$E$9:$E$208,$AA$14,'ABT Credit Balances'!$C$9:$C$208,$B$17)","v":0},{"$f":"SUMIFS('ABT Credit Balances'!$D$9:$D$208,'ABT Credit Balances'!$B$9:$B$208,$C113,'ABT Credit Balances'!$F$9:$F$208,AD115,'ABT Credit Balances'!$E$9:$E$208,$AD$14,'ABT Credit Balances'!$C$9:$C$208,$B$17)","v":0},{"$f":"SUMIFS('ABT Credit Balances'!$D$9:$D$208,'ABT Credit Balances'!$B$9:$B$208,$C113,'ABT Credit Balances'!$F$9:$F$208,AE115,'ABT Credit Balances'!$E$9:$E$208,$AD$14,'ABT Credit Balances'!$C$9:$C$208,$B$17)","v":0},{"$f":"SUMIFS('ABT Credit Balances'!$D$9:$D$208,'ABT Credit Balances'!$B$9:$B$208,$C113,'ABT Credit Balances'!$F$9:$F$208,AF115,'ABT Credit Balances'!$E$9:$E$208,$AD$14,'ABT Credit Balances'!$C$9:$C$208,$B$17)","v":0},{"$f":"SUMIFS('ABT Credit Balances'!$D$9:$D$208,'ABT Credit Balances'!$B$9:$B$208,$C113,'ABT Credit Balances'!$F$9:$F$208,AG115,'ABT Credit Balances'!$E$9:$E$208,$AG$14,'ABT Credit Balances'!$C$9:$C$208,$B$17)","v":0},{"$f":"SUMIFS('ABT Credit Balances'!$D$9:$D$208,'ABT Credit Balances'!$B$9:$B$208,$C113,'ABT Credit Balances'!$F$9:$F$208,AH115,'ABT Credit Balances'!$E$9:$E$208,$AG$14,'ABT Credit Balances'!$C$9:$C$208,$B$17)","v":0},{"$f":"SUMIFS('ABT Credit Balances'!$D$9:$D$208,'ABT Credit Balances'!$B$9:$B$208,$C113,'ABT Credit Balances'!$F$9:$F$208,AI115,'ABT Credit Balances'!$E$9:$E$208,$AG$14,'ABT Credit Balances'!$C$9:$C$208,$B$17)","v":0},{"$f":"SUMIFS('ABT Credit Balances'!$D$9:$D$208,'ABT Credit Balances'!$B$9:$B$208,$C113,'ABT Credit Balances'!$F$9:$F$208,AJ115,'ABT Credit Balances'!$E$9:$E$208,$AJ$14,'ABT Credit Balances'!$C$9:$C$208,$B$17)","v":0},{"$f":"SUMIFS('ABT Credit Balances'!$D$9:$D$208,'ABT Credit Balances'!$B$9:$B$208,$C113,'ABT Credit Balances'!$F$9:$F$208,AK115,'ABT Credit Balances'!$E$9:$E$208,$AJ$14,'ABT Credit Balances'!$C$9:$C$208,$B$17)","v":0},{"$f":"SUMIFS('ABT Credit Balances'!$D$9:$D$208,'ABT Credit Balances'!$B$9:$B$208,$C113,'ABT Credit Balances'!$F$9:$F$208,AL115,'ABT Credit Balances'!$E$9:$E$208,$AJ$14,'ABT Credit Balances'!$C$9:$C$208,$B$17)","v":0},{"$f":"SUMIFS('ABT Credit Balances'!$D$9:$D$208,'ABT Credit Balances'!$B$9:$B$208,$C113,'ABT Credit Balances'!$F$9:$F$208,AM115,'ABT Credit Balances'!$E$9:$E$208,$AM$14,'ABT Credit Balances'!$C$9:$C$208,$B$17)","v":0},{"$f":"SUMIFS('ABT Credit Balances'!$D$9:$D$208,'ABT Credit Balances'!$B$9:$B$208,$C113,'ABT Credit Balances'!$F$9:$F$208,AN115,'ABT Credit Balances'!$E$9:$E$208,$AM$14,'ABT Credit Balances'!$C$9:$C$208,$B$17)","v":0},{"$f":"SUMIFS('ABT Credit Balances'!$D$9:$D$208,'ABT Credit Balances'!$B$9:$B$208,$C113,'ABT Credit Balances'!$F$9:$F$208,AO115,'ABT Credit Balances'!$E$9:$E$208,$AM$14,'ABT Credit Balances'!$C$9:$C$208,$B$17)","v":0},{"$f":"SUMIFS('ABT Credit Balances'!$D$9:$D$208,'ABT Credit Balances'!$B$9:$B$208,$C113,'ABT Credit Balances'!$F$9:$F$208,AP115,'ABT Credit Balances'!$E$9:$E$208,$AP$14,'ABT Credit Balances'!$C$9:$C$208,$B$17)","v":0},{"$f":"SUMIFS('ABT Credit Balances'!$D$9:$D$208,'ABT Credit Balances'!$B$9:$B$208,$C113,'ABT Credit Balances'!$F$9:$F$208,AQ115,'ABT Credit Balances'!$E$9:$E$208,$AP$14,'ABT Credit Balances'!$C$9:$C$208,$B$17)","v":0},{"$f":"SUMIFS('ABT Credit Balances'!$D$9:$D$208,'ABT Credit Balances'!$B$9:$B$208,$C113,'ABT Credit Balances'!$F$9:$F$208,AR115,'ABT Credit Balances'!$E$9:$E$208,$AP$14,'ABT Credit Balances'!$C$9:$C$208,$B$17)","v":0},{"$f":"SUMIFS('ABT Credit Balances'!$D$9:$D$208,'ABT Credit Balances'!$B$9:$B$208,$C$113,'ABT Credit Balances'!$F$9:$F$208,AS115,'ABT Credit Balances'!$E$9:$E$208,$AS$114,'ABT Credit Balances'!$C$9:$C$208,$B$117)","v":0},{"$f":"SUMIFS('ABT Credit Balances'!$D$9:$D$208,'ABT Credit Balances'!$B$9:$B$208,$C$113,'ABT Credit Balances'!$F$9:$F$208,AT115,'ABT Credit Balances'!$E$9:$E$208,$AS$114,'ABT Credit Balances'!$C$9:$C$208,$B$117)","v":0},{"$f":"SUMIFS('ABT Credit Balances'!$D$9:$D$208,'ABT Credit Balances'!$B$9:$B$208,$C$113,'ABT Credit Balances'!$F$9:$F$208,AU115,'ABT Credit Balances'!$E$9:$E$208,$AS$114,'ABT Credit Balances'!$C$9:$C$208,$B$117)","v":0}]
[null,"Applied Banked Credits (out)",{"$f":"SUMIFS('ABT Transactions'!$B$9:$B$40,'ABT Transactions'!$G$9:$G$40,$C$113,'ABT Transactions'!$F$9:$F$40,$C114,'ABT Transactions'!$C$9:$C$40,C115,'ABT Transactions'!$D$9:$D$40,$B$118)","v":0},{"$f":"SUMIFS('ABT Transactions'!$B$9:$B$40,'ABT Transactions'!$G$9:$G$40,$C$113,'ABT Transactions'!$F$9:$F$40,$C114,'ABT Transactions'!$C$9:$C$40,D115,'ABT Transactions'!$D$9:$D$40,$B$118)","v":0},{"$f":"SUMIFS('ABT Transactions'!$B$9:$B$40,'ABT Transactions'!$G$9:$G$40,$C$113,'ABT Transactions'!$F$9:$F$40,$C114,'ABT Transactions'!$C$9:$C$40,E115,'ABT Transactions'!$D$9:$D$40,$B$118)","v":0},{"$f":"SUMIFS('ABT Transactions'!$B$9:$B$40,'ABT Transactions'!$G$9:$G$40,$C$113,'ABT Transactions'!$F$9:$F$40,F114,'ABT Transactions'!$C$9:$C$40,F115,'ABT Transactions'!$D$9:$D$40,$B$118)","v":0},{"$f":"SUMIFS('ABT Transactions'!$B$9:$B$40,'ABT Transactions'!$G$9:$G$40,$C$113,'ABT Transactions'!$F$9:$F$40,F114,'ABT Transactions'!$C$9:$C$40,G115,'ABT Transactions'!$D$9:$D$40,$B$118)","v":0},{"$f":"SUMIFS('ABT Transactions'!$B$9:$B$40,'ABT Transactions'!$G$9:$G$40,$C$113,'ABT Transactions'!$F$9:$F$40,F114,'ABT Transactions'!$C$9:$C$40,H115,'ABT Transactions'!$D$9:$D$40,$B$118)","v":0},{"$f":"SUMIFS('ABT Transactions'!$B$9:$B$40,'ABT Transactions'!$G$9:$G$40,$C$113,'ABT Transactions'!$F$9:$F$40,I114,'ABT Transactions'!$C$9:$C$40,I115,'ABT Transactions'!$D$9:$D$40,$B$118)","v":0},{"$f":"SUMIFS('ABT Transactions'!$B$9:$B$40,'ABT Transactions'!$G$9:$G$40,$C$113,'ABT Transactions'!$F$9:$F$40,I114,'ABT Transactions'!$C$9:$C$40,J115,'ABT Transactions'!$D$9:$D$40,$B$118)","v":0},{"$f":"SUMIFS('ABT Transactions'!$B$9:$B$40,'ABT Transactions'!$G$9:$G$40,$C$113,'ABT Transactions'!$F$9:$F$40,I114,'ABT Transactions'!$C$9:$C$40,K115,'ABT Transactions'!$D$9:$D$40,$B$118)","v":0},{"$f":"SUMIFS('ABT Transactions'!$B$9:$B$40,'ABT Transactions'!$G$9:$G$40,$C$113,'ABT Transactions'!$F$9:$F$40,L114,'ABT Transactions'!$C$9:$C$40,L115,'ABT Transactions'!$D$9:$D$40,$B$118)","v":0},{"$f":"SUMIFS('ABT Transactions'!$B$9:$B$40,'ABT Transactions'!$G$9:$G$40,$C$113,'ABT Transactions'!$F$9:$F$40,L114,'ABT Transactions'!$C$9:$C$40,M115,'ABT Transactions'!$D$9:$D$40,$B$118)","v":0},{"$f":"SUMIFS('ABT Transactions'!$B$9:$B$40,'ABT Transactions'!$G$9:$G$40,$C$113,'ABT Transactions'!$F$9:$F$40,L114,'ABT Transactions'!$C$9:$C$40,N115,'ABT Transactions'!$D$9:$D$40,$B$118)","v":0},{"$f":"SUMIFS('ABT Transactions'!$B$9:$B$40,'ABT Transactions'!$G$9:$G$40,$C$113,'ABT Transactions'!$F$9:$F$40,O114,'ABT Transactions'!$C$9:$C$40,O115,'ABT Transactions'!$D$9:$D$40,$B$118)","v":0},{"$f":"SUMIFS('ABT Transactions'!$B$9:$B$40,'ABT Transactions'!$G$9:$G$40,$C$113,'ABT Transactions'!$F$9:$F$40,O114,'ABT Transactions'!$C$9:$C$40,P115,'ABT Transactions'!$D$9:$D$40,$B$118)","v":0},{"$f":"SUMIFS('ABT Transactions'!$B$9:$B$40,'ABT Transactions'!$G$9:$G$40,$C$113,'ABT Transactions'!$F$9:$F$40,O114,'ABT Transactions'!$C$9:$C$40,Q115,'ABT Transactions'!$D$9:$D$40,$B$118)","v":0},{"$f":"SUMIFS('ABT Transactions'!$B$9:$B$40,'ABT Transactions'!$G$9:$G$40,$C$113,'ABT Transactions'!$F$9:$F$40,R114,'ABT Transactions'!$C$9:$C$40,R115,'ABT Transactions'!$D$9:$D$40,$B$118)","v":0},{"$f":"SUMIFS('ABT Transactions'!$B$9:$B$40,'ABT Transactions'!$G$9:$G$40,$C$113,'ABT Transactions'!$F$9:$F$40,R114,'ABT Transactions'!$C$9:$C$40,S115,'ABT Transactions'!$D$9:$D$40,$B$118)","v":0},{"$f":"SUMIFS('ABT Transactions'!$B$9:$B$40,'ABT Transactions'!$G$9:$G$40,$C$113,'ABT Transactions'!$F$9:$F$40,R114,'ABT Transactions'!$C$9:$C$40,T115,'ABT Transactions'!$D$9:$D$40,$B$118)","v":0},{"$f":"SUMIFS('ABT Transactions'!$B$9:$B$40,'ABT Transactions'!$G$9:$G$40,$C113,'ABT Transactions'!$F$9:$F$40,$U$14,'ABT Transactions'!$C$9:$C$40,U115,'ABT Transactions'!$D$9:$D$40,$B$18)","v":0},{"$f":"SUMIFS('ABT Transactions'!$B$9:$B$40,'ABT Transactions'!$G$9:$G$40,$C113,'ABT Transactions'!$F$9:$F$40,$U$14,'ABT Transactions'!$C$9:$C$40,V115,'ABT Transactions'!$D$9:$D$40,$B$18)","v":0},{"$f":"SUMIFS('ABT Transactions'!$B$9:$B$40,'ABT Transactions'!$G$9:$G$40,$C113,'ABT Transactions'!$F$9:$F$40,$U$14,'ABT Transactions'!$C$9:$C$40,W115,'ABT Transactions'!$D$9:$D$40,$B$18)","v":0},{"$f":"SUMIFS('ABT Transactions'!$B$9:$B$40,'ABT Transactions'!$G$9:$G$40,$C113,'ABT Transactions'!$F$9:$F$40,$X$14,'ABT Transactions'!$C$9:$C$40,X115,'ABT Transactions'!$D$9:$D$40,$B$18)","v":0},{"$f":"SUMIFS('ABT Transactions'!$B$9:$B$40,'ABT Transactions'!$G$9:$G$40,$C113,'ABT Transactions'!$F$9:$F$40,$X$14,'ABT Transactions'!$C$9:$C$40,Y115,'ABT Transactions'!$D$9:$D$40,$B$18)","v":0},{"$f":"SUMIFS('ABT Transactions'!$B$9:$B$40,'ABT Transactions'!$G$9:$G$40,$C113,'ABT Transactions'!$F$9:$F$40,$X$14,'ABT Transactions'!$C$9:$C$40,Z115,'ABT Transactions'!$D$9:$D$40,$B$18)","v":0},{"$f":"SUMIFS('ABT Transactions'!$B$9:$B$40,'ABT Transactions'!$G$9:$G$40,$C113,'ABT Transactions'!$F$9:$F$40,$AA$14,'ABT Transactions'!$C$9:$C$40,AA115,'ABT Transactions'!$D$9:$D$40,$B$18)","v":0},{"$f":"SUMIFS('ABT Transactions'!$B$9:$B$40,'ABT Transactions'!$G$9:$G$40,$C113,'ABT Transactions'!$F$9:$F$40,$AA$14,'ABT Transactions'!$C$9:$C$40,AB115,'ABT Transactions'!$D$9:$D$40,$B$18)","v":0},{"$f":"SUMIFS('ABT Transactions'!$B$9:$B$40,'ABT Transactions'!$G$9:$G$40,$C113,'ABT Transactions'!$F$9:$F$40,$AA$14,'ABT Transactions'!$C$9:$C$40,AC115,'ABT Transactions'!$D$9:$D$40,$B$18)","v":0},{"$f":"SUMIFS('ABT Transactions'!$B$9:$B$40,'ABT Transactions'!$G$9:$G$40,$C113,'ABT Transactions'!$F$9:$F$40,$AD$14,'ABT Transactions'!$C$9:$C$40,AD115,'ABT Transactions'!$D$9:$D$40,$B$18)","v":0},{"$f":"SUMIFS('ABT Transactions'!$B$9:$B$40,'ABT Transactions'!$G$9:$G$40,$C113,'ABT Transactions'!$F$9:$F$40,$AD$14,'ABT Transactions'!$C$9:$C$40,AE115,'ABT Transactions'!$D$9:$D$40,$B$18)","v":0},{"$f":"SUMIFS('ABT Transactions'!$B$9:$B$40,'ABT Transactions'!$G$9:$G$40,$C113,'ABT Transactions'!$F$9:$F$40,$AD$14,'ABT Transactions'!$C$9:$C$40,AF115,'ABT Transactions'!$D$9:$D$40,$B$18)","v":0},{"$f":"SUMIFS('ABT Transactions'!$B$9:$B$40,'ABT Transactions'!$G$9:$G$40,$C113,'ABT Transactions'!$F$9:$F$40,$AG$14,'ABT Transactions'!$C$9:$C$40,AG115,'ABT Transactions'!$D$9:$D$40,$B$18)","v":0},{"$f":"SUMIFS('ABT Transactions'!$B$9:$B$40,'ABT Transactions'!$G$9:$G$40,$C113,'ABT Transactions'!$F$9:$F$40,$AG$14,'ABT Transactions'!$C$9:$C$40,AH115,'ABT Transactions'!$D$9:$D$40,$B$18)","v":0},{"$f":"SUMIFS('ABT Transactions'!$B$9:$B$40,'ABT Transactions'!$G$9:$G$40,$C113,'ABT Transactions'!$F$9:$F$40,$AG$14,'ABT Transactions'!$C$9:$C$40,AI115,'ABT Transactions'!$D$9:$D$40,$B$18)","v":0},{"$f":"SUMIFS('ABT Transactions'!$B$9:$B$40,'ABT Transactions'!$G$9:$G$40,$C113,'ABT Transactions'!$F$9:$F$40,$AJ$14,'ABT Transactions'!$C$9:$C$40,AJ115,'ABT Transactions'!$D$9:$D$40,$B$18)","v":0},{"$f":"SUMIFS('ABT Transactions'!$B$9:$B$40,'ABT Transactions'!$G$9:$G$40,$C113,'ABT Transactions'!$F$9:$F$40,$AJ$14,'ABT Transactions'!$C$9:$C$40,AK115,'ABT Transactions'!$D$9:$D$40,$B$18)","v":0},{"$f":"SUMIFS('ABT Transactions'!$B$9:$B$40,'ABT Transactions'!$G$9:$G$40,$C113,'ABT Transactions'!$F$9:$F$40,$AJ$14,'ABT Transactions'!$C$9:$C$40,AL115,'ABT Transactions'!$D$9:$D$40,$B$18)","v":0},{"$f":"SUMIFS('ABT Transactions'!$B$9:$B$40,'ABT Transactions'!$G$9:$G$40,$C113,'ABT Transactions'!$F$9:$F$40,$AM$14,'ABT Transactions'!$C$9:$C$40,AM115,'ABT Transactions'!$D$9:$D$40,$B$18)","v":0},{"$f":"SUMIFS('ABT Transactions'!$B$9:$B$40,'ABT Transactions'!$G$9:$G$40,$C113,'ABT Transactions'!$F$9:$F$40,$AM$14,'ABT Transactions'!$C$9:$C$40,AN115,'ABT Transactions'!$D$9:$D$40,$B$18)","v":0},{"$f":"SUMIFS('ABT Transactions'!$B$9:$B$40,'ABT Transactions'!$G$9:$G$40,$C113,'ABT Transactions'!$F$9:$F$40,$AM$14,'ABT Transactions'!$C$9:$C$40,AO115,'ABT Transactions'!$D$9:$D$40,$B$18)","v":0},{"$f":"SUMIFS('ABT Transactions'!$B$9:$B$40,'ABT Transactions'!$G$9:$G$40,$C113,'ABT Transactions'!$F$9:$F$40,$AP$14,'ABT Transactions'!$C$9:$C$40,AP115,'ABT Transactions'!$D$9:$D$40,$B$18)","v":0},{"$f":"SUMIFS('ABT Transactions'!$B$9:$B$40,'ABT Transactions'!$G$9:$G$40,$C113,'ABT Transactions'!$F$9:$F$40,$AP$14,'ABT Transactions'!$C$9:$C$40,AQ115,'ABT Transactions'!$D$9:$D$40,$B$18)","v":0},{"$f":"SUMIFS('ABT Transactions'!$B$9:$B$40,'ABT Transactions'!$G$9:$G$40,$C113,'ABT Transactions'!$F$9:$F$40,$AP$14,'ABT Transactions'!$C$9:$C$40,AR115,'ABT Transactions'!$D$9:$D$40,$B$18)","v":0},{"$f":"SUMIFS('ABT Transactions'!$B$9:$B$40,'ABT Transactions'!$G$9:$G$40,$C$113,'ABT Transactions'!$F$9:$F$40,AS114,'ABT Transactions'!$C$9:$C$40,AS115,'ABT Transactions'!$D$9:$D$40,$B$118)","v":0},{"$f":"SUMIFS('ABT Transactions'!$B$9:$B$40,'ABT Transactions'!$G$9:$G$40,$C$113,'ABT Transactions'!$F$9:$F$40,AS114,'ABT Transactions'!$C$9:$C$40,AT115,'ABT Transactions'!$D$9:$D$40,$B$118)","v":0},{"$f":"SUMIFS('ABT Transactions'!$B$9:$B$40,'ABT Transactions'!$G$9:$G$40,$C$113,'ABT Transactions'!$F$9:$F$40,AS114,'ABT Transactions'!$C$9:$C$40,AU115,'ABT Transactions'!$D$9:$D$40,$B$118)","v":0}]
[null,"Applied Banked Credits (in)",{"$f":"SUMIFS('ABT Transactions'!$B$9:$B$40,'ABT Transactions'!$J$9:$J$40,$C$113,'ABT Transactions'!$I$9:$I$40,$C$114,'ABT Transactions'!$C$9:$C$40,C115,'ABT Transactions'!$D$9:$D$40,$B$119)","v":0},{"$f":"SUMIFS('ABT Transactions'!$B$9:$B$40,'ABT Transactions'!$J$9:$J$40,$C$113,'ABT Transactions'!$I$9:$I$40,$C$114,'ABT Transactions'!$C$9:$C$40,D115,'ABT Transactions'!$D$9:$D$40,$B$119)","v":0},{"$f":"SUMIFS('ABT Transactions'!$B$9:$B$40,'ABT Transactions'!$J$9:$J$40,$C$113,'ABT Transactions'!$I$9:$I$40,$C$114,'ABT Transactions'!$C$9:$C$40,E115,'ABT Transactions'!$D$9:$D$40,$B$119)","v":0},{"$f":"SUMIFS('ABT Transactions'!$B$9:$B$40,'ABT Transactions'!$J$9:$J$40,$C$113,'ABT Transactions'!$I$9:$I$40,$F$114,'ABT Transactions'!$C$9:$C$40,F115,'ABT Transactions'!$D$9:$D$40,$B$119)","v":0},{"$f":"SUMIFS('ABT Transactions'!$B$9:$B$40,'ABT Transactions'!$J$9:$J$40,$C$113,'ABT Transactions'!$I$9:$I$40,$F$114,'ABT Transactions'!$C$9:$C$40,G115,'ABT Transactions'!$D$9:$D$40,$B$119)","v":0},{"$f":"SUMIFS('ABT Transactions'!$B$9:$B$40,'ABT Transactions'!$J$9:$J$40,$C$113,'ABT Transactions'!$I$9:$I$40,$F$114,'ABT Transactions'!$C$9:$C$40,H115,'ABT Transactions'!$D$9:$D$40,$B$119)","v":0},{"$f":"SUMIFS('ABT Transactions'!$B$9:$B$40,'ABT Transactions'!$J$9:$J$40,$C$113,'ABT Transactions'!$I$9:$I$40,$I$114,'ABT Transactions'!$C$9:$C$40,I115,'ABT Transactions'!$D$9:$D$40,$B$119)","v":0},{"$f":"SUMIFS('ABT Transactions'!$B$9:$B$40,'ABT Transactions'!$J$9:$J$40,$C$113,'ABT Transactions'!$I$9:$I$40,$I$114,'ABT Transactions'!$C$9:$C$40,J115,'ABT Transactions'!$D$9:$D$40,$B$119)","v":0},{"$f":"SUMIFS('ABT Transactions'!$B$9:$B$40,'ABT Transactions'!$J$9:$J$40,$C$113,'ABT Transactions'!$I$9:$I$40,$I$114,'ABT Transactions'!$C$9:$C$40,K115,'ABT Transactions'!$D$9:$D$40,$B$119)","v":0},{"$f":"SUMIFS('ABT Transactions'!$B$9:$B$40,'ABT Transactions'!$J$9:$J$40,$C$113,'ABT Transactions'!$I$9:$I$40,$L$114,'ABT Transactions'!$C$9:$C$40,L115,'ABT Transactions'!$D$9:$D$40,$B$119)","v":0},{"$f":"SUMIFS('ABT Transactions'!$B$9:$B$40,'ABT Transactions'!$J$9:$J$40,$C$113,'ABT Transactions'!$I$9:$I$40,$L$114,'ABT Transactions'!$C$9:$C$40,M115,'ABT Transactions'!$D$9:$D$40,$B$119)","v":0},{"$f":"SUMIFS('ABT Transactions'!$B$9:$B$40,'ABT Transactions'!$J$9:$J$40,$C$113,'ABT Transactions'!$I$9:$I$40,$L$114,'ABT Transactions'!$C$9:$C$40,N115,'ABT Transactions'!$D$9:$D$40,$B$119)","v":0},{"$f":"SUMIFS('ABT Transactions'!$B$9:$B$40,'ABT Transactions'!$J$9:$J$40,$C$113,'ABT Transactions'!$I$9:$I$40,$O$114,'ABT Transactions'!$C$9:$C$40,O115,'ABT Transactions'!$D$9:$D$40,$B$119)","v":0},{"$f":"SUMIFS('ABT Transactions'!$B$9:$B$40,'ABT Transactions'!$J$9:$J$40,$C$113,'ABT Transactions'!$I$9:$I$40,$O$114,'ABT Transactions'!$C$9:$C$40,P115,'ABT Transactions'!$D$9:$D$40,$B$119)","v":0},{"$f":"SUMIFS('ABT Transactions'!$B$9:$B$40,'ABT Transactions'!$J$9:$J$40,$C$113,'ABT Transactions'!$I$9:$I$40,$O$114,'ABT Transactions'!$C$9:$C$40,Q115,'ABT Transactions'!$D$9:$D$40,$B$119)","v":0},{"$f":"SUMIFS('ABT Transactions'!$B$9:$B$40,'ABT Transactions'!$J$9:$J$40,$C$113,'ABT Transactions'!$I$9:$I$40,$R$114,'ABT Transactions'!$C$9:$C$40,R115,'ABT Transactions'!$D$9:$D$40,$B$119)","v":0},{"$f":"SUMIFS('ABT Transactions'!$B$9:$B$40,'ABT Transactions'!$J$9:$J$40,$C$113,'ABT Transactions'!$I$9:$I$40,$R$114,'ABT Transactions'!$C$9:$C$40,S115,'ABT Transactions'!$D$9:$D$40,$B$119)","v":0},{"$f":"SUMIFS('ABT Transactions'!$B$9:$B$40,'ABT Transactions'!$J$9:$J$40,$C$113,'ABT Transactions'!$I$9:$I$40,$R$114,'ABT Transactions'!$C$9:$C$40,T115,'ABT Transactions'!$D$9:$D$40,$B$119)","v":0},{"$f":"SUMIFS('ABT Transactions'!$B$9:$B$40,'ABT Transactions'!$J$9:$J$40,$C113,'ABT Transactions'!$I$9:$I$40,$U$14,'ABT Transactions'!$C$9:$C$40,U115,'ABT Transactions'!$D$9:$D$40,$B$19)","v":0},{"$f":"SUMIFS('ABT Transactions'!$B$9:$B$40,'ABT Transactions'!$J$9:$J$40,$C113,'ABT Transactions'!$I$9:$I$40,$U$14,'ABT Transactions'!$C$9:$C$40,V115,'ABT Transactions'!$D$9:$D$40,$B$19)","v":0},{"$f":"SUMIFS('ABT Transactions'!$B$9:$B$40,'ABT Transactions'!$J$9:$J$40,$C113,'ABT Transactions'!$I$9:$I$40,$U$14,'ABT Transactions'!$C$9:$C$40,W115,'ABT Transactions'!$D$9:$D$40,$B$19)","v":0},{"$f":"SUMIFS('ABT Transactions'!$B$9:$B$40,'ABT Transactions'!$J$9:$J$40,$C113,'ABT Transactions'!$I$9:$I$40,$X$14,'ABT Transactions'!$C$9:$C$40,X115,'ABT Transactions'!$D$9:$D$40,$B$19)","v":0},{"$f":"SUMIFS('ABT Transactions'!$B$9:$B$40,'ABT Transactions'!$J$9:$J$40,$C113,'ABT Transactions'!$I$9:$I$40,$X$14,'ABT Transactions'!$C$9:$C$40,Y115,'ABT Transactions'!$D$9:$D$40,$B$19)","v":0},{"$f":"SUMIFS('ABT Transactions'!$B$9:$B$40,'ABT Transactions'!$J$9:$J$40,$C113,'ABT Transactions'!$I$9:$I$40,$X$14,'ABT Transactions'!$C$9:$C$40,Z115,'ABT Transactions'!$D$9:$D$40,$B$19)","v":0},{"$f":"SUMIFS('ABT Transactions'!$B$9:$B$40,'ABT Transactions'!$J$9:$J$40,$C113,'ABT Transactions'!$I$9:$I$40,$AA$14,'ABT Transactions'!$C$9:$C$40,AA115,'ABT Transactions'!$D$9:$D$40,$B$19)","v":0},{"$f":"SUMIFS('ABT Transactions'!$B$9:$B$40,'ABT Transactions'!$J$9:$J$40,$C113,'ABT Transactions'!$I$9:$I$40,$AA$14,'ABT Transactions'!$C$9:$C$40,AB115,'ABT Transactions'!$D$9:$D$40,$B$19)","v":0},{"$f":"SUMIFS('ABT Transactions'!$B$9:$B$40,'ABT Transactions'!$J$9:$J$40,$C113,'ABT Transactions'!$I$9:$I$40,$AA$14,'ABT Transactions'!$C$9:$C$40,AC115,'ABT Transactions'!$D$9:$D$40,$B$19)","v":0},{"$f":"SUMIFS('ABT Transactions'!$B$9:$B$40,'ABT Transactions'!$J$9:$J$40,$C113,'ABT Transactions'!$I$9:$I$40,$AD$14,'ABT Transactions'!$C$9:$C$40,AD115,'ABT Transactions'!$D$9:$D$40,$B$19)","v":0},{"$f":"SUMIFS('ABT Transactions'!$B$9:$B$40,'ABT Transactions'!$J$9:$J$40,$C113,'ABT Transactions'!$I$9:$I$40,$AD$14,'ABT Transactions'!$C$9:$C$40,AE115,'ABT Transactions'!$D$9:$D$40,$B$19)","v":0},{"$f":"SUMIFS('ABT Transactions'!$B$9:$B$40,'ABT Transactions'!$J$9:$J$40,$C113,'ABT Transactions'!$I$9:$I$40,$AD$14,'ABT Transactions'!$C$9:$C$40,AF115,'ABT Transactions'!$D$9:$D$40,$B$19)","v":0},{"$f":"SUMIFS('ABT Transactions'!$B$9:$B$40,'ABT Transactions'!$J$9:$J$40,$C113,'ABT Transactions'!$I$9:$I$40,$AG$14,'ABT Transactions'!$C$9:$C$40,AG115,'ABT Transactions'!$D$9:$D$40,$B$19)","v":0},{"$f":"SUMIFS('ABT Transactions'!$B$9:$B$40,'ABT Transactions'!$J$9:$J$40,$C113,'ABT Transactions'!$I$9:$I$40,$AG$14,'ABT Transactions'!$C$9:$C$40,AH115,'ABT Transactions'!$D$9:$D$40,$B$19)","v":0},{"$f":"SUMIFS('ABT Transactions'!$B$9:$B$40,'ABT Transactions'!$J$9:$J$40,$C113,'ABT Transactions'!$I$9:$I$40,$AG$14,'ABT Transactions'!$C$9:$C$40,AI115,'ABT Transactions'!$D$9:$D$40,$B$19)","v":0},{"$f":"SUMIFS('ABT Transactions'!$B$9:$B$40,'ABT Transactions'!$J$9:$J$40,$C113,'ABT Transactions'!$I$9:$I$40,$AJ$14,'ABT Transactions'!$C$9:$C$40,AJ115,'ABT Transactions'!$D$9:$D$40,$B$19)","v":0},{"$f":"SUMIFS('ABT Transactions'!$B$9:$B$40,'ABT Transactions'!$J$9:$J$40,$C113,'ABT Transactions'!$I$9:$I$40,$AJ$14,'ABT Transactions'!$C$9:$C$40,AK115,'ABT Transactions'!$D$9:$D$40,$B$19)","v":0},{"$f":"SUMIFS('ABT Transactions'!$B$9:$B$40,'ABT Transactions'!$J$9:$J$40,$C113,'ABT Transactions'!$I$9:$I$40,$AJ$14,'ABT Transactions'!$C$9:$C$40,AL115,'ABT Transactions'!$D$9:$D$40,$B$19)","v":0},{"$f":"SUMIFS('ABT Transactions'!$B$9:$B$40,'ABT Transactions'!$J$9:$J$40,$C113,'ABT Transactions'!$I$9:$I$40,$AM$14,'ABT Transactions'!$C$9:$C$40,AM115,'ABT Transactions'!$D$9:$D$40,$B$19)","v":0},{"$f":"SUMIFS('ABT Transactions'!$B$9:$B$40,'ABT Transactions'!$J$9:$J$40,$C113,'ABT Transactions'!$I$9:$I$40,$AM$14,'ABT Transactions'!$C$9:$C$40,AN115,'ABT Transactions'!$D$9:$D$40,$B$19)","v":0},{"$f":"SUMIFS('ABT Transactions'!$B$9:$B$40,'ABT Transactions'!$J$9:$J$40,$C113,'ABT Transactions'!$I$9:$I$40,$AM$14,'ABT Transactions'!$C$9:$C$40,AO115,'ABT Transactions'!$D$9:$D$40,$B$19)","v":0},{"$f":"SUMIFS('ABT Transactions'!$B$9:$B$40,'ABT Transactions'!$J$9:$J$40,$C113,'ABT Transactions'!$I$9:$I$40,$AP$14,'ABT Transactions'!$C$9:$C$40,AP115,'ABT Transactions'!$D$9:$D$40,$B$19)","v":0},{"$f":"SUMIFS('ABT Transactions'!$B$9:$B$40,'ABT Transactions'!$J$9:$J$40,$C113,'ABT Transactions'!$I$9:$I$40,$AP$14,'ABT Transactions'!$C$9:$C$40,AQ115,'ABT Transactions'!$D$9:$D$40,$B$19)","v":0},{"$f":"SUMIFS('ABT Transactions'!$B$9:$B$40,'ABT Transactions'!$J$9:$J$40,$C113,'ABT Transactions'!$I$9:$I$40,$AP$14,'ABT Transactions'!$C$9:$C$40,AR115,'ABT Transactions'!$D$9:$D$40,$B$19)","v":0},{"$f":"SUMIFS('ABT Transactions'!$B$9:$B$40,'ABT Transactions'!$J$9:$J$40,$C$113,'ABT Transactions'!$I$9:$I$40,$AS$114,'ABT Transactions'!$C$9:$C$40,AS115,'ABT Transactions'!$D$9:$D$40,$B$119)","v":0},{"$f":"SUMIFS('ABT Transactions'!$B$9:$B$40,'ABT Transactions'!$J$9:$J$40,$C$113,'ABT Transactions'!$I$9:$I$40,$AS$114,'ABT Transactions'!$C$9:$C$40,AT115,'ABT Transactions'!$D$9:$D$40,$B$119)","v":0},{"$f":"SUMIFS('ABT Transactions'!$B$9:$B$40,'ABT Transactions'!$J$9:$J$40,$C$113,'ABT Transactions'!$I$9:$I$40,$AS$114,'ABT Transactions'!$C$9:$C$40,AU115,'ABT Transactions'!$D$9:$D$40,$B$119)","v":0}]
[null,"Trade Out",{"$f":"SUMIFS('ABT Transactions'!$B$9:$B$40,'ABT Transactions'!$G$9:$G$40,$C$113,'ABT Transactions'!$F$9:$F$40,$C$114,'ABT Transactions'!$C$9:$C$40,C115,'ABT Transactions'!$D$9:$D$40,$B$120)","v":0},{"$f":"SUMIFS('ABT Transactions'!$B$9:$B$40,'ABT Transactions'!$G$9:$G$40,$C$113,'ABT Transactions'!$F$9:$F$40,$C$114,'ABT Transactions'!$C$9:$C$40,D115,'ABT Transactions'!$D$9:$D$40,$B$120)","v":0},{"$f":"SUMIFS('ABT Transactions'!$B$9:$B$40,'ABT Transactions'!$G$9:$G$40,$C$113,'ABT Transactions'!$F$9:$F$40,$C$114,'ABT Transactions'!$C$9:$C$40,E115,'ABT Transactions'!$D$9:$D$40,$B$120)","v":0},{"$f":"SUMIFS('ABT Transactions'!$B$9:$B$40,'ABT Transactions'!$G$9:$G$40,$C$113,'ABT Transactions'!$F$9:$F$40,$F$114,'ABT Transactions'!$C$9:$C$40,F115,'ABT Transactions'!$D$9:$D$40,$B$120)","v":0},{"$f":"SUMIFS('ABT Transactions'!$B$9:$B$40,'ABT Transactions'!$G$9:$G$40,$C$113,'ABT Transactions'!$F$9:$F$40,$F$114,'ABT Transactions'!$C$9:$C$40,G115,'ABT Transactions'!$D$9:$D$40,$B$120)","v":0},{"$f":"SUMIFS('ABT Transactions'!$B$9:$B$40,'ABT Transactions'!$G$9:$G$40,$C$113,'ABT Transactions'!$F$9:$F$40,$F$114,'ABT Transactions'!$C$9:$C$40,H115,'ABT Transactions'!$D$9:$D$40,$B$120)","v":0},{"$f":"SUMIFS('ABT Transactions'!$B$9:$B$40,'ABT Transactions'!$G$9:$G$40,$C$113,'ABT Transactions'!$F$9:$F$40,$I$114,'ABT Transactions'!$C$9:$C$40,I115,'ABT Transactions'!$D$9:$D$40,$B$120)","v":0},{"$f":"SUMIFS('ABT Transactions'!$B$9:$B$40,'ABT Transactions'!$G$9:$G$40,$C$113,'ABT Transactions'!$F$9:$F$40,$I$114,'ABT Transactions'!$C$9:$C$40,J115,'ABT Transactions'!$D$9:$D$40,$B$120)","v":0},{"$f":"SUMIFS('ABT Transactions'!$B$9:$B$40,'ABT Transactions'!$G$9:$G$40,$C$113,'ABT Transactions'!$F$9:$F$40,$I$114,'ABT Transactions'!$C$9:$C$40,K115,'ABT Transactions'!$D$9:$D$40,$B$120)","v":0},{"$f":"SUMIFS('ABT Transactions'!$B$9:$B$40,'ABT Transactions'!$G$9:$G$40,$C$113,'ABT Transactions'!$F$9:$F$40,$L$114,'ABT Transactions'!$C$9:$C$40,L115,'ABT Transactions'!$D$9:$D$40,$B$120)","v":0},{"$f":"SUMIFS('ABT Transactions'!$B$9:$B$40,'ABT Transactions'!$G$9:$G$40,$C$113,'ABT Transactions'!$F$9:$F$40,$L$114,'ABT Transactions'!$C$9:$C$40,M115,'ABT Transactions'!$D$9:$D$40,$B$120)","v":0},{"$f":"SUMIFS('ABT Transactions'!$B$9:$B$40,'ABT Transactions'!$G$9:$G$40,$C$113,'ABT Transactions'!$F$9:$F$40,$L$114,'ABT Transactions'!$C$9:$C$40,N115,'ABT Transactions'!$D$9:$D$40,$B$120)","v":0},{"$f":"SUMIFS('ABT Transactions'!$B$9:$B$40,'ABT Transactions'!$G$9:$G$40,$C$113,'ABT Transactions'!$F$9:$F$40,$O$114,'ABT Transactions'!$C$9:$C$40,O115,'ABT Transactions'!$D$9:$D$40,$B$120)","v":0},{"$f":"SUMIFS('ABT Transactions'!$B$9:$B$40,'ABT Transactions'!$G$9:$G$40,$C$113,'ABT Transactions'!$F$9:$F$40,$O$114,'ABT Transactions'!$C$9:$C$40,P115,'ABT Transactions'!$D$9:$D$40,$B$120)","v":0},{"$f":"SUMIFS('ABT Transactions'!$B$9:$B$40,'ABT Transactions'!$G$9:$G$40,$C$113,'ABT Transactions'!$F$9:$F$40,$O$114,'ABT Transactions'!$C$9:$C$40,Q115,'ABT Transactions'!$D$9:$D$40,$B$120)","v":0},{"$f":"SUMIFS('ABT Transactions'!$B$9:$B$40,'ABT Transactions'!$G$9:$G$40,$C$113,'ABT Transactions'!$F$9:$F$40,$R$114,'ABT Transactions'!$C$9:$C$40,R115,'ABT Transactions'!$D$9:$D$40,$B$120)","v":0},{"$f":"SUMIFS('ABT Transactions'!$B$9:$B$40,'ABT Transactions'!$G$9:$G$40,$C$113,'ABT Transactions'!$F$9:$F$40,$R$114,'ABT Transactions'!$C$9:$C$40,S115,'ABT Transactions'!$D$9:$D$40,$B$120)","v":0},{"$f":"SUMIFS('ABT Transactions'!$B$9:$B$40,'ABT Transactions'!$G$9:$G$40,$C$113,'ABT Transactions'!$F$9:$F$40,$R$114,'ABT Transactions'!$C$9:$C$40,T115,'ABT Transactions'!$D$9:$D$40,$B$120)","v":0},{"$f":"SUMIFS('ABT Transactions'!$B$9:$B$40,'ABT Transactions'!$G$9:$G$40,$C113,'ABT Transactions'!$F$9:$F$40,$U$14,'ABT Transactions'!$C$9:$C$40,U115,'ABT Transactions'!$D$9:$D$40,$B$20)","v":0},{"$f":"SUMIFS('ABT Transactions'!$B$9:$B$40,'ABT Transactions'!$G$9:$G$40,$C113,'ABT Transactions'!$F$9:$F$40,$U$14,'ABT Transactions'!$C$9:$C$40,V115,'ABT Transactions'!$D$9:$D$40,$B$20)","v":0},{"$f":"SUMIFS('ABT Transactions'!$B$9:$B$40,'ABT Transactions'!$G$9:$G$40,$C113,'ABT Transactions'!$F$9:$F$40,$U$14,'ABT Transactions'!$C$9:$C$40,W115,'ABT Transactions'!$D$9:$D$40,$B$20)","v":0},{"$f":"SUMIFS('ABT Transactions'!$B$9:$B$40,'ABT Transactions'!$G$9:$G$40,$C113,'ABT Transactions'!$F$9:$F$40,$X$14,'ABT Transactions'!$C$9:$C$40,X115,'ABT Transactions'!$D$9:$D$40,$B$20)","v":0},{"$f":"SUMIFS('ABT Transactions'!$B$9:$B$40,'ABT Transactions'!$G$9:$G$40,$C113,'ABT Transactions'!$F$9:$F$40,$X$14,'ABT Transactions'!$C$9:$C$40,Y115,'ABT Transactions'!$D$9:$D$40,$B$20)","v":0},{"$f":"SUMIFS('ABT Transactions'!$B$9:$B$40,'ABT Transactions'!$G$9:$G$40,$C113,'ABT Transactions'!$F$9:$F$40,$X$14,'ABT Transactions'!$C$9:$C$40,Z115,'ABT Transactions'!$D$9:$D$40,$B$20)","v":0},{"$f":"SUMIFS('ABT Transactions'!$B$9:$B$40,'ABT Transactions'!$G$9:$G$40,$C113,'ABT Transactions'!$F$9:$F$40,$AA$14,'ABT Transactions'!$C$9:$C$40,AA115,'ABT Transactions'!$D$9:$D$40,$B$20)","v":0},{"$f":"SUMIFS('ABT Transactions'!$B$9:$B$40,'ABT Transactions'!$G$9:$G$40,$C113,'ABT Transactions'!$F$9:$F$40,$AA$14,'ABT Transactions'!$C$9:$C$40,AB115,'ABT Transactions'!$D$9:$D$40,$B$20)","v":0},{"$f":"SUMIFS('ABT Transactions'!$B$9:$B$40,'ABT Transactions'!$G$9:$G$40,$C113,'ABT Transactions'!$F$9:$F$40,$AA$14,'ABT Transactions'!$C$9:$C$40,AC115,'ABT Transactions'!$D$9:$D$40,$B$20)","v":0},{"$f":"SUMIFS('ABT Transactions'!$B$9:$B$40,'ABT Transactions'!$G$9:$G$40,$C113,'ABT Transactions'!$F$9:$F$40,$AD$14,'ABT Transactions'!$C$9:$C$40,AD115,'ABT Transactions'!$D$9:$D$40,$B$20)","v":0},{"$f":"SUMIFS('ABT Transactions'!$B$9:$B$40,'ABT Transactions'!$G$9:$G$40,$C113,'ABT Transactions'!$F$9:$F$40,$AD$14,'ABT Transactions'!$C$9:$C$40,AE115,'ABT Transactions'!$D$9:$D$40,$B$20)","v":0},{"$f":"SUMIFS('ABT Transactions'!$B$9:$B$40,'ABT Transactions'!$G$9:$G$40,$C113,'ABT Transactions'!$F$9:$F$40,$AD$14,'ABT Transactions'!$C$9:$C$40,AF115,'ABT Transactions'!$D$9:$D$40,$B$20)","v":0},{"$f":"SUMIFS('ABT Transactions'!$B$9:$B$40,'ABT Transactions'!$G$9:$G$40,$C113,'ABT Transactions'!$F$9:$F$40,$AG$14,'ABT Transactions'!$C$9:$C$40,AG115,'ABT Transactions'!$D$9:$D$40,$B$20)","v":0},{"$f":"SUMIFS('ABT Transactions'!$B$9:$B$40,'ABT Transactions'!$G$9:$G$40,$C113,'ABT Transactions'!$F$9:$F$40,$AG$14,'ABT Transactions'!$C$9:$C$40,AH115,'ABT Transactions'!$D$9:$D$40,$B$20)","v":0},{"$f":"SUMIFS('ABT Transactions'!$B$9:$B$40,'ABT Transactions'!$G$9:$G$40,$C113,'ABT Transactions'!$F$9:$F$40,$AG$14,'ABT Transactions'!$C$9:$C$40,AI115,'ABT Transactions'!$D$9:$D$40,$B$20)","v":0},{"$f":"SUMIFS('ABT Transactions'!$B$9:$B$40,'ABT Transactions'!$G$9:$G$40,$C113,'ABT Transactions'!$F$9:$F$40,$AJ$14,'ABT Transactions'!$C$9:$C$40,AJ115,'ABT Transactions'!$D$9:$D$40,$B$20)","v":0},{"$f":"SUMIFS('ABT Transactions'!$B$9:$B$40,'ABT Transactions'!$G$9:$G$40,$C113,'ABT Transactions'!$F$9:$F$40,$AJ$14,'ABT Transactions'!$C$9:$C$40,AK115,'ABT Transactions'!$D$9:$D$40,$B$20)","v":0},{"$f":"SUMIFS('ABT Transactions'!$B$9:$B$40,'ABT Transactions'!$G$9:$G$40,$C113,'ABT Transactions'!$F$9:$F$40,$AJ$14,'ABT Transactions'!$C$9:$C$40,AL115,'ABT Transactions'!$D$9:$D$40,$B$20)","v":0},{"$f":"SUMIFS('ABT Transactions'!$B$9:$B$40,'ABT Transactions'!$G$9:$G$40,$C113,'ABT Transactions'!$F$9:$F$40,$AM$14,'ABT Transactions'!$C$9:$C$40,AM115,'ABT Transactions'!$D$9:$D$40,$B$20)","v":0},{"$f":"SUMIFS('ABT Transactions'!$B$9:$B$40,'ABT Transactions'!$G$9:$G$40,$C113,'ABT Transactions'!$F$9:$F$40,$AM$14,'ABT Transactions'!$C$9:$C$40,AN115,'ABT Transactions'!$D$9:$D$40,$B$20)","v":0},{"$f":"SUMIFS('ABT Transactions'!$B$9:$B$40,'ABT Transactions'!$G$9:$G$40,$C113,'ABT Transactions'!$F$9:$F$40,$AM$14,'ABT Transactions'!$C$9:$C$40,AO115,'ABT Transactions'!$D$9:$D$40,$B$20)","v":0},{"$f":"SUMIFS('ABT Transactions'!$B$9:$B$40,'ABT Transactions'!$G$9:$G$40,$C113,'ABT Transactions'!$F$9:$F$40,$AP$14,'ABT Transactions'!$C$9:$C$40,AP115,'ABT Transactions'!$D$9:$D$40,$B$20)","v":0},{"$f":"SUMIFS('ABT Transactions'!$B$9:$B$40,'ABT Transactions'!$G$9:$G$40,$C113,'ABT Transactions'!$F$9:$F$40,$AP$14,'ABT Transactions'!$C$9:$C$40,AQ115,'ABT Transactions'!$D$9:$D$40,$B$20)","v":0},{"$f":"SUMIFS('ABT Transactions'!$B$9:$B$40,'ABT Transactions'!$G$9:$G$40,$C113,'ABT Transactions'!$F$9:$F$40,$AP$14,'ABT Transactions'!$C$9:$C$40,AR115,'ABT Transactions'!$D$9:$D$40,$B$20)","v":0},{"$f":"SUMIFS('ABT Transactions'!$B$9:$B$40,'ABT Transactions'!$G$9:$G$40,$C$113,'ABT Transactions'!$F$9:$F$40,$AS$114,'ABT Transactions'!$C$9:$C$40,AS115,'ABT Transactions'!$D$9:$D$40,$B$120)","v":0},{"$f":"SUMIFS('ABT Transactions'!$B$9:$B$40,'ABT Transactions'!$G$9:$G$40,$C$113,'ABT Transactions'!$F$9:$F$40,$AS$114,'ABT Transactions'!$C$9:$C$40,AT115,'ABT Transactions'!$D$9:$D$40,$B$120)","v":0},{"$f":"SUMIFS('ABT Transactions'!$B$9:$B$40,'ABT Transactions'!$G$9:$G$40,$C$113,'ABT Transactions'!$F$9:$F$40,$AS$114,'ABT Transactions'!$C$9:$C$40,AU115,'ABT Transactions'!$D$9:$D$40,$B$120)","v":0}]
[null,"Trade In",{"$f":"SUMIFS('ABT Transactions'!$B$9:$B$40,'ABT Transactions'!$J$9:$J$40,$C$113,'ABT Transactions'!$I$9:$I$40,$C$114,'ABT Transactions'!$C$9:$C$40,C115,'ABT Transactions'!$D$9:$D$40,$B$121)","v":0},{"$f":"SUMIFS('ABT Transactions'!$B$9:$B$40,'ABT Transactions'!$J$9:$J$40,$C$113,'ABT Transactions'!$I$9:$I$40,$C$114,'ABT Transactions'!$C$9:$C$40,D115,'ABT Transactions'!$D$9:$D$40,$B$121)","v":0},{"$f":"SUMIFS('ABT Transactions'!$B$9:$B$40,'ABT Transactions'!$J$9:$J$40,$C$113,'ABT Transactions'!$I$9:$I$40,$C$114,'ABT Transactions'!$C$9:$C$40,E115,'ABT Transactions'!$D$9:$D$40,$B$121)","v":0},{"$f":"SUMIFS('ABT Transactions'!$B$9:$B$40,'ABT Transactions'!$J$9:$J$40,$C$113,'ABT Transactions'!$I$9:$I$40,$F$114,'ABT Transactions'!$C$9:$C$40,F115,'ABT Transactions'!$D$9:$D$40,$B$121)","v":0},{"$f":"SUMIFS('ABT Transactions'!$B$9:$B$40,'ABT Transactions'!$J$9:$J$40,$C$113,'ABT Transactions'!$I$9:$I$40,$F$114,'ABT Transactions'!$C$9:$C$40,G115,'ABT Transactions'!$D$9:$D$40,$B$121)","v":0},{"$f":"SUMIFS('ABT Transactions'!$B$9:$B$40,'ABT Transactions'!$J$9:$J$40,$C$113,'ABT Transactions'!$I$9:$I$40,$F$114,'ABT Transactions'!$C$9:$C$40,H115,'ABT Transactions'!$D$9:$D$40,$B$121)","v":0},{"$f":"SUMIFS('ABT Transactions'!$B$9:$B$40,'ABT Transactions'!$J$9:$J$40,$C$113,'ABT Transactions'!$I$9:$I$40,$I$114,'ABT Transactions'!$C$9:$C$40,I115,'ABT Transactions'!$D$9:$D$40,$B$121)","v":0},{"$f":"SUMIFS('ABT Transactions'!$B$9:$B$40,'ABT Transactions'!$J$9:$J$40,$C$113,'ABT Transactions'!$I$9:$I$40,$I$114,'ABT Transactions'!$C$9:$C$40,J115,'ABT Transactions'!$D$9:$D$40,$B$121)","v":0},{"$f":"SUMIFS('ABT Transactions'!$B$9:$B$40,'ABT Transactions'!$J$9:$J$40,$C$113,'ABT Transactions'!$I$9:$I$40,$I$114,'ABT Transactions'!$C$9:$C$40,K115,'ABT Transactions'!$D$9:$D$40,$B$121)","v":0},{"$f":"SUMIFS('ABT Transactions'!$B$9:$B$40,'ABT Transactions'!$J$9:$J$40,$C$113,'ABT Transactions'!$I$9:$I$40,$L$114,'ABT Transactions'!$C$9:$C$40,L115,'ABT Transactions'!$D$9:$D$40,$B$121)","v":0},{"$f":"SUMIFS('ABT Transactions'!$B$9:$B$40,'ABT Transactions'!$J$9:$J$40,$C$113,'ABT Transactions'!$I$9:$I$40,$L$114,'ABT Transactions'!$C$9:$C$40,M115,'ABT Transactions'!$D$9:$D$40,$B$121)","v":0},{"$f":"SUMIFS('ABT Transactions'!$B$9:$B$40,'ABT Transactions'!$J$9:$J$40,$C$113,'ABT Transactions'!$I$9:$I$40,$L$114,'ABT Transactions'!$C$9:$C$40,N115,'ABT Transactions'!$D$9:$D$40,$B$121)","v":0},{"$f":"SUMIFS('ABT Transactions'!$B$9:$B$40,'ABT Transactions'!$J$9:$J$40,$C$113,'ABT Transactions'!$I$9:$I$40,$O$114,'ABT Transactions'!$C$9:$C$40,O115,'ABT Transactions'!$D$9:$D$40,$B$121)","v":0},{"$f":"SUMIFS('ABT Transactions'!$B$9:$B$40,'ABT Transactions'!$J$9:$J$40,$C$113,'ABT Transactions'!$I$9:$I$40,$O$114,'ABT Transactions'!$C$9:$C$40,P115,'ABT Transactions'!$D$9:$D$40,$B$121)","v":0},{"$f":"SUMIFS('ABT Transactions'!$B$9:$B$40,'ABT Transactions'!$J$9:$J$40,$C$113,'ABT Transactions'!$I$9:$I$40,$O$114,'ABT Transactions'!$C$9:$C$40,Q115,'ABT Transactions'!$D$9:$D$40,$B$121)","v":0},{"$f":"SUMIFS('ABT Transactions'!$B$9:$B$40,'ABT Transactions'!$J$9:$J$40,$C$113,'ABT Transactions'!$I$9:$I$40,$R$114,'ABT Transactions'!$C$9:$C$40,R115,'ABT Transactions'!$D$9:$D$40,$B$121)","v":0},{"$f":"SUMIFS('ABT Transactions'!$B$9:$B$40,'ABT Transactions'!$J$9:$J$40,$C$113,'ABT Transactions'!$I$9:$I$40,$R$114,'ABT Transactions'!$C$9:$C$40,S115,'ABT Transactions'!$D$9:$D$40,$B$121)","v":0},{"$f":"SUMIFS('ABT Transactions'!$B$9:$B$40,'ABT Transactions'!$J$9:$J$40,$C$113,'ABT Transactions'!$I$9:$I$40,$R$114,'ABT Transactions'!$C$9:$C$40,T115,'ABT Transactions'!$D$9:$D$40,$B$121)","v":0},{"$f":"SUMIFS('ABT Transactions'!$B$9:$B$40,'ABT Transactions'!$J$9:$J$40,$C113,'ABT Transactions'!$I$9:$I$40,$U$14,'ABT Transactions'!$C$9:$C$40,U115,'ABT Transactions'!$D$9:$D$40,$B$21)","v":0},{"$f":"SUMIFS('ABT Transactions'!$B$9:$B$40,'ABT Transactions'!$J$9:$J$40,$C113,'ABT Transactions'!$I$9:$I$40,$U$14,'ABT Transactions'!$C$9:$C$40,V115,'ABT Transactions'!$D$9:$D$40,$B$21)","v":0},{"$f":"SUMIFS('ABT Transactions'!$B$9:$B$40,'ABT Transactions'!$J$9:$J$40,$C113,'ABT Transactions'!$I$9:$I$40,$U$14,'ABT Transactions'!$C$9:$C$40,W115,'ABT Transactions'!$D$9:$D$40,$B$21)","v":0},{"$f":"SUMIFS('ABT Transactions'!$B$9:$B$40,'ABT Transactions'!$J$9:$J$40,$C113,'ABT Transactions'!$I$9:$I$40,$X$14,'ABT Transactions'!$C$9:$C$40,X115,'ABT Transactions'!$D$9:$D$40,$B$21)","v":0},{"$f":"SUMIFS('ABT Transactions'!$B$9:$B$40,'ABT Transactions'!$J$9:$J$40,$C113,'ABT Transactions'!$I$9:$I$40,$X$14,'ABT Transactions'!$C$9:$C$40,Y115,'ABT Transactions'!$D$9:$D$40,$B$21)","v":0},{"$f":"SUMIFS('ABT Transactions'!$B$9:$B$40,'ABT Transactions'!$J$9:$J$40,$C113,'ABT Transactions'!$I$9:$I$40,$X$14,'ABT Transactions'!$C$9:$C$40,Z115,'ABT Transactions'!$D$9:$D$40,$B$21)","v":0},{"$f":"SUMIFS('ABT Transactions'!$B$9:$B$40,'ABT Transactions'!$J$9:$J$40,$C113,'ABT Transactions'!$I$9:$I$40,$AA$14,'ABT Transactions'!$C$9:$C$40,AA115,'ABT Transactions'!$D$9:$D$40,$B$21)","v":0},{"$f":"SUMIFS('ABT Transactions'!$B$9:$B$40,'ABT Transactions'!$J$9:$J$40,$C113,'ABT Transactions'!$I$9:$I$40,$AA$14,'ABT Transactions'!$C$9:$C$40,AB115,'ABT Transactions'!$D$9:$D$40,$B$21)","v":0},{"$f":"SUMIFS('ABT Transactions'!$B$9:$B$40,'ABT Transactions'!$J$9:$J$40,$C113,'ABT Transactions'!$I$9:$I$40,$AA$14,'ABT Transactions'!$C$9:$C$40,AC115,'ABT Transactions'!$D$9:$D$40,$B$21)","v":0},{"$f":"SUMIFS('ABT Transactions'!$B$9:$B$40,'ABT Transactions'!$J$9:$J$40,$C113,'ABT Transactions'!$I$9:$I$40,$AD$14,'ABT Transactions'!$C$9:$C$40,AD115,'ABT Transactions'!$D$9:$D$40,$B$21)","v":0},{"$f":"SUMIFS('ABT Transactions'!$B$9:$B$40,'ABT Transactions'!$J$9:$J$40,$C113,'ABT Transactions'!$I$9:$I$40,$AD$14,'ABT Transactions'!$C$9:$C$40,AE115,'ABT Transactions'!$D$9:$D$40,$B$21)","v":0},{"$f":"SUMIFS('ABT Transactions'!$B$9:$B$40,'ABT Transactions'!$J$9:$J$40,$C113,'ABT Transactions'!$I$9:$I$40,$AD$14,'ABT Transactions'!$C$9:$C$40,AF115,'ABT Transactions'!$D$9:$D$40,$B$21)","v":0},{"$f":"SUMIFS('ABT Transactions'!$B$9:$B$40,'ABT Transactions'!$J$9:$J$40,$C113,'ABT Transactions'!$I$9:$I$40,$AG$14,'ABT Transactions'!$C$9:$C$40,AG115,'ABT Transactions'!$D$9:$D$40,$B$21)","v":0},{"$f":"SUMIFS('ABT Transactions'!$B$9:$B$40,'ABT Transactions'!$J$9:$J$40,$C113,'ABT Transactions'!$I$9:$I$40,$AG$14,'ABT Transactions'!$C$9:$C$40,AH115,'ABT Transactions'!$D$9:$D$40,$B$21)","v":0},{"$f":"SUMIFS('ABT Transactions'!$B$9:$B$40,'ABT Transactions'!$J$9:$J$40,$C113,'ABT Transactions'!$I$9:$I$40,$AG$14,'ABT Transactions'!$C$9:$C$40,AI115,'ABT Transactions'!$D$9:$D$40,$B$21)","v":0},{"$f":"SUMIFS('ABT Transactions'!$B$9:$B$40,'ABT Transactions'!$J$9:$J$40,$C113,'ABT Transactions'!$I$9:$I$40,$AJ$14,'ABT Transactions'!$C$9:$C$40,AJ115,'ABT Transactions'!$D$9:$D$40,$B$21)","v":0},{"$f":"SUMIFS('ABT Transactions'!$B$9:$B$40,'ABT Transactions'!$J$9:$J$40,$C113,'ABT Transactions'!$I$9:$I$40,$AJ$14,'ABT Transactions'!$C$9:$C$40,AK115,'ABT Transactions'!$D$9:$D$40,$B$21)","v":0},{"$f":"SUMIFS('ABT Transactions'!$B$9:$B$40,'ABT Transactions'!$J$9:$J$40,$C113,'ABT Transactions'!$I$9:$I$40,$AJ$14,'ABT Transactions'!$C$9:$C$40,AL115,'ABT Transactions'!$D$9:$D$40,$B$21)","v":0},{"$f":"SUMIFS('ABT Transactions'!$B$9:$B$40,'ABT Transactions'!$J$9:$J$40,$C113,'ABT Transactions'!$I$9:$I$40,$AM$14,'ABT Transactions'!$C$9:$C$40,AM115,'ABT Transactions'!$D$9:$D$40,$B$21)","v":0},{"$f":"SUMIFS('ABT Transactions'!$B$9:$B$40,'ABT Transactions'!$J$9:$J$40,$C113,'ABT Transactions'!$I$9:$I$40,$AM$14,'ABT Transactions'!$C$9:$C$40,AN115,'ABT Transactions'!$D$9:$D$40,$B$21)","v":0},{"$f":"SUMIFS('ABT Transactions'!$B$9:$B$40,'ABT Transactions'!$J$9:$J$40,$C113,'ABT Transactions'!$I$9:$I$40,$AM$14,'ABT Transactions'!$C$9:$C$40,AO115,'ABT Transactions'!$D$9:$D$40,$B$21)","v":0},{"$f":"SUMIFS('ABT Transactions'!$B$9:$B$40,'ABT Transactions'!$J$9:$J$40,$C113,'ABT Transactions'!$I$9:$I$40,$AP$14,'ABT Transactions'!$C$9:$C$40,AP115,'ABT Transactions'!$D$9:$D$40,$B$21)","v":0},{"$f":"SUMIFS('ABT Transactions'!$B$9:$B$40,'ABT Transactions'!$J$9:$J$40,$C113,'ABT Transactions'!$I$9:$I$40,$AP$14,'ABT Transactions'!$C$9:$C$40,AQ115,'ABT Transactions'!$D$9:$D$40,$B$21)","v":0},{"$f":"SUMIFS('ABT Transactions'!$B$9:$B$40,'ABT Transactions'!$J$9:$J$40,$C113,'ABT Transactions'!$I$9:$I$40,$AP$14,'ABT Transactions'!$C$9:$C$40,AR115,'ABT Transactions'!$D$9:$D$40,$B$21)","v":0},{"$f":"SUMIFS('ABT Transactions'!$B$9:$B$40,'ABT Transactions'!$J$9:$J$40,$C$113,'ABT Transactions'!$I$9:$I$40,$AS$114,'ABT Transactions'!$C$9:$C$40,AS115,'ABT Transactions'!$D$9:$D$40,$B$121)","v":0},{"$f":"SUMIFS('ABT Transactions'!$B$9:$B$40,'ABT Transactions'!$J$9:$J$40,$C$113,'ABT Transactions'!$I$9:$I$40,$AS$114,'ABT Transactions'!$C$9:$C$40,AT115,'ABT Transactions'!$D$9:$D$40,$B$121)","v":0},{"$f":"SUMIFS('ABT Transactions'!$B$9:$B$40,'ABT Transactions'!$J$9:$J$40,$C$113,'ABT Transactions'!$I$9:$I$40,$AS$114,'ABT Transactions'!$C$9:$C$40,AU115,'ABT Transactions'!$D$9:$D$40,$B$121)","v":0}]
[null,"Transfer ADV Credits (out)",{"$f":"SUMIFS('ABT Transactions'!$B$9:$B$40,'ABT Transactions'!$G$9:$G$40,$C$113,'ABT Transactions'!$F$9:$F$40,$C$114,'ABT Transactions'!$C$9:$C$40,C115,'ABT Transactions'!$D$9:$D$40,$B$122)","v":0},{"$f":"SUMIFS('ABT Transactions'!$B$9:$B$40,'ABT Transactions'!$G$9:$G$40,$C$113,'ABT Transactions'!$F$9:$F$40,$C$114,'ABT Transactions'!$C$9:$C$40,D115,'ABT Transactions'!$D$9:$D$40,$B$122)","v":0},{"$f":"SUMIFS('ABT Transactions'!$B$9:$B$40,'ABT Transactions'!$G$9:$G$40,$C$113,'ABT Transactions'!$F$9:$F$40,$C$114,'ABT Transactions'!$C$9:$C$40,E115,'ABT Transactions'!$D$9:$D$40,$B$122)","v":0},{"$f":"SUMIFS('ABT Transactions'!$B$9:$B$40,'ABT Transactions'!$G$9:$G$40,$C$113,'ABT Transactions'!$F$9:$F$40,$F$114,'ABT Transactions'!$C$9:$C$40,F115,'ABT Transactions'!$D$9:$D$40,$B$122)","v":0},{"$f":"SUMIFS('ABT Transactions'!$B$9:$B$40,'ABT Transactions'!$G$9:$G$40,$C$113,'ABT Transactions'!$F$9:$F$40,$F$114,'ABT Transactions'!$C$9:$C$40,G115,'ABT Transactions'!$D$9:$D$40,$B$122)","v":0},{"$f":"SUMIFS('ABT Transactions'!$B$9:$B$40,'ABT Transactions'!$G$9:$G$40,$C$113,'ABT Transactions'!$F$9:$F$40,$F$114,'ABT Transactions'!$C$9:$C$40,H115,'ABT Transactions'!$D$9:$D$40,$B$122)","v":0},{"$f":"SUMIFS('ABT Transactions'!$B$9:$B$40,'ABT Transactions'!$G$9:$G$40,$C$113,'ABT Transactions'!$F$9:$F$40,$I$114,'ABT Transactions'!$C$9:$C$40,I115,'ABT Transactions'!$D$9:$D$40,$B$122)","v":0},{"$f":"SUMIFS('ABT Transactions'!$B$9:$B$40,'ABT Transactions'!$G$9:$G$40,$C$113,'ABT Transactions'!$F$9:$F$40,$I$114,'ABT Transactions'!$C$9:$C$40,J115,'ABT Transactions'!$D$9:$D$40,$B$122)","v":0},{"$f":"SUMIFS('ABT Transactions'!$B$9:$B$40,'ABT Transactions'!$G$9:$G$40,$C$113,'ABT Transactions'!$F$9:$F$40,$I$114,'ABT Transactions'!$C$9:$C$40,K115,'ABT Transactions'!$D$9:$D$40,$B$122)","v":0},{"$f":"SUMIFS('ABT Transactions'!$B$9:$B$40,'ABT Transactions'!$G$9:$G$40,$C$113,'ABT Transactions'!$F$9:$F$40,$L$114,'ABT Transactions'!$C$9:$C$40,L115,'ABT Transactions'!$D$9:$D$40,$B$122)","v":0},{"$f":"SUMIFS('ABT Transactions'!$B$9:$B$40,'ABT Transactions'!$G$9:$G$40,$C$113,'ABT Transactions'!$F$9:$F$40,$L$114,'ABT Transactions'!$C$9:$C$40,M115,'ABT Transactions'!$D$9:$D$40,$B$122)","v":0},{"$f":"SUMIFS('ABT Transactions'!$B$9:$B$40,'ABT Transactions'!$G$9:$G$40,$C$113,'ABT Transactions'!$F$9:$F$40,$L$114,'ABT Transactions'!$C$9:$C$40,N115,'ABT Transactions'!$D$9:$D$40,$B$122)","v":0},{"$f":"SUMIFS('ABT Transactions'!$B$9:$B$40,'ABT Transactions'!$G$9:$G$40,$C$113,'ABT Transactions'!$F$9:$F$40,$O$114,'ABT Transactions'!$C$9:$C$40,O115,'ABT Transactions'!$D$9:$D$40,$B$122)","v":0},{"$f":"SUMIFS('ABT Transactions'!$B$9:$B$40,'ABT Transactions'!$G$9:$G$40,$C$113,'ABT Transactions'!$F$9:$F$40,$O$114,'ABT Transactions'!$C$9:$C$40,P115,'ABT Transactions'!$D$9:$D$40,$B$122)","v":0},{"$f":"SUMIFS('ABT Transactions'!$B$9:$B$40,'ABT Transactions'!$G$9:$G$40,$C$113,'ABT Transactions'!$F$9:$F$40,$O$114,'ABT Transactions'!$C$9:$C$40,Q115,'ABT Transactions'!$D$9:$D$40,$B$122)","v":0},{"$f":"SUMIFS('ABT Transactions'!$B$9:$B$40,'ABT Transactions'!$G$9:$G$40,$C$113,'ABT Transactions'!$F$9:$F$40,$R$114,'ABT Transactions'!$C$9:$C$40,R115,'ABT Transactions'!$D$9:$D$40,$B$122)","v":0},{"$f":"SUMIFS('ABT Transactions'!$B$9:$B$40,'ABT Transactions'!$G$9:$G$40,$C$113,'ABT Transactions'!$F$9:$F$40,$R$114,'ABT Transactions'!$C$9:$C$40,S115,'ABT Transactions'!$D$9:$D$40,$B$122)","v":0},{"$f":"SUMIFS('ABT Transactions'!$B$9:$B$40,'ABT Transactions'!$G$9:$G$40,$C$113,'ABT Transactions'!$F$9:$F$40,$R$114,'ABT Transactions'!$C$9:$C$40,T115,'ABT Transactions'!$D$9:$D$40,$B$122)","v":0},{"$f":"SUMIFS('ABT Transactions'!$B$9:$B$40,'ABT Transactions'!$G$9:$G$40,$C113,'ABT Transactions'!$F$9:$F$40,$U$14,'ABT Transactions'!$C$9:$C$40,U$15,'ABT Transactions'!$D$9:$D$40,$B$22)","v":0},{"$f":"SUMIFS('ABT Transactions'!$B$9:$B$40,'ABT Transactions'!$G$9:$G$40,$C113,'ABT Transactions'!$F$9:$F$40,$U$14,'ABT Transactions'!$C$9:$C$40,V$15,'ABT Transactions'!$D$9:$D$40,$B$22)","v":0},{"$f":"SUMIFS('ABT Transactions'!$B$9:$B$40,'ABT Transactions'!$G$9:$G$40,$C113,'ABT Transactions'!$F$9:$F$40,$U$14,'ABT Transactions'!$C$9:$C$40,W$15,'ABT Transactions'!$D$9:$D$40,$B$22)","v":0},{"$f":"SUMIFS('ABT Transactions'!$B$9:$B$40,'ABT Transactions'!$G$9:$G$40,$C113,'ABT Transactions'!$F$9:$F$40,$X$14,'ABT Transactions'!$C$9:$C$40,X$15,'ABT Transactions'!$D$9:$D$40,$B$22)","v":0},{"$f":"SUMIFS('ABT Transactions'!$B$9:$B$40,'ABT Transactions'!$G$9:$G$40,$C113,'ABT Transactions'!$F$9:$F$40,$X$14,'ABT Transactions'!$C$9:$C$40,Y$15,'ABT Transactions'!$D$9:$D$40,$B$22)","v":0},{"$f":"SUMIFS('ABT Transactions'!$B$9:$B$40,'ABT Transactions'!$G$9:$G$40,$C113,'ABT Transactions'!$F$9:$F$40,$X$14,'ABT Transactions'!$C$9:$C$40,Z$15,'ABT Transactions'!$D$9:$D$40,$B$22)","v":0},{"$f":"SUMIFS('ABT Transactions'!$B$9:$B$40,'ABT Transactions'!$G$9:$G$40,$C113,'ABT Transactions'!$F$9:$F$40,$AA$14,'ABT Transactions'!$C$9:$C$40,AA$15,'ABT Transactions'!$D$9:$D$40,$B$22)","v":0},{"$f":"SUMIFS('ABT Transactions'!$B$9:$B$40,'ABT Transactions'!$G$9:$G$40,$C113,'ABT Transactions'!$F$9:$F$40,$AA$14,'ABT Transactions'!$C$9:$C$40,AB$15,'ABT Transactions'!$D$9:$D$40,$B$22)","v":0},{"$f":"SUMIFS('ABT Transactions'!$B$9:$B$40,'ABT Transactions'!$G$9:$G$40,$C113,'ABT Transactions'!$F$9:$F$40,$AA$14,'ABT Transactions'!$C$9:$C$40,AC$15,'ABT Transactions'!$D$9:$D$40,$B$22)","v":0},{"$f":"SUMIFS('ABT Transactions'!$B$9:$B$40,'ABT Transactions'!$G$9:$G$40,$C113,'ABT Transactions'!$F$9:$F$40,$AD$14,'ABT Transactions'!$C$9:$C$40,AD$15,'ABT Transactions'!$D$9:$D$40,$B$22)","v":0},{"$f":"SUMIFS('ABT Transactions'!$B$9:$B$40,'ABT Transactions'!$G$9:$G$40,$C113,'ABT Transactions'!$F$9:$F$40,$AD$14,'ABT Transactions'!$C$9:$C$40,AE$15,'ABT Transactions'!$D$9:$D$40,$B$22)","v":0},{"$f":"SUMIFS('ABT Transactions'!$B$9:$B$40,'ABT Transactions'!$G$9:$G$40,$C113,'ABT Transactions'!$F$9:$F$40,$AD$14,'ABT Transactions'!$C$9:$C$40,AF$15,'ABT Transactions'!$D$9:$D$40,$B$22)","v":0},{"$f":"SUMIFS('ABT Transactions'!$B$9:$B$40,'ABT Transactions'!$G$9:$G$40,$C113,'ABT Transactions'!$F$9:$F$40,$AG$14,'ABT Transactions'!$C$9:$C$40,AG$15,'ABT Transactions'!$D$9:$D$40,$B$22)","v":0},{"$f":"SUMIFS('ABT Transactions'!$B$9:$B$40,'ABT Transactions'!$G$9:$G$40,$C113,'ABT Transactions'!$F$9:$F$40,$AG$14,'ABT Transactions'!$C$9:$C$40,AH$15,'ABT Transactions'!$D$9:$D$40,$B$22)","v":0},{"$f":"SUMIFS('ABT Transactions'!$B$9:$B$40,'ABT Transactions'!$G$9:$G$40,$C113,'ABT Transactions'!$F$9:$F$40,$AG$14,'ABT Transactions'!$C$9:$C$40,AI$15,'ABT Transactions'!$D$9:$D$40,$B$22)","v":0},{"$f":"SUMIFS('ABT Transactions'!$B$9:$B$40,'ABT Transactions'!$G$9:$G$40,$C113,'ABT Transactions'!$F$9:$F$40,$AJ$14,'ABT Transactions'!$C$9:$C$40,AJ$15,'ABT Transactions'!$D$9:$D$40,$B$22)","v":0},{"$f":"SUMIFS('ABT Transactions'!$B$9:$B$40,'ABT Transactions'!$G$9:$G$40,$C113,'ABT Transactions'!$F$9:$F$40,$AJ$14,'ABT Transactions'!$C$9:$C$40,AK$15,'ABT Transactions'!$D$9:$D$40,$B$22)","v":0},{"$f":"SUMIFS('ABT Transactions'!$B$9:$B$40,'ABT Transactions'!$G$9:$G$40,$C113,'ABT Transactions'!$F$9:$F$40,$AJ$14,'ABT Transactions'!$C$9:$C$40,AL$15,'ABT Transactions'!$D$9:$D$40,$B$22)","v":0},{"$f":"SUMIFS('ABT Transactions'!$B$9:$B$40,'ABT Transactions'!$G$9:$G$40,$C113,'ABT Transactions'!$F$9:$F$40,$AM$14,'ABT Transactions'!$C$9:$C$40,AM$15,'ABT Transactions'!$D$9:$D$40,$B$22)","v":0},{"$f":"SUMIFS('ABT Transactions'!$B$9:$B$40,'ABT Transactions'!$G$9:$G$40,$C113,'ABT Transactions'!$F$9:$F$40,$AM$14,'ABT Transactions'!$C$9:$C$40,AN$15,'ABT Transactions'!$D$9:$D$40,$B$22)","v":0},{"$f":"SUMIFS('ABT Transactions'!$B$9:$B$40,'ABT Transactions'!$G$9:$G$40,$C113,'ABT Transactions'!$F$9:$F$40,$AM$14,'ABT Transactions'!$C$9:$C$40,AO$15,'ABT Transactions'!$D$9:$D$40,$B$22)","v":0},{"$f":"SUMIFS('ABT Transactions'!$B$9:$B$40,'ABT Transactions'!$G$9:$G$40,$C113,'ABT Transactions'!$F$9:$F$40,$AP$14,'ABT Transactions'!$C$9:$C$40,AP$15,'ABT Transactions'!$D$9:$D$40,$B$22)","v":0},{"$f":"SUMIFS('ABT Transactions'!$B$9:$B$40,'ABT Transactions'!$G$9:$G$40,$C113,'ABT Transactions'!$F$9:$F$40,$AP$14,'ABT Transactions'!$C$9:$C$40,AQ$15,'ABT Transactions'!$D$9:$D$40,$B$22)","v":0},{"$f":"SUMIFS('ABT Transactions'!$B$9:$B$40,'ABT Transactions'!$G$9:$G$40,$C113,'ABT Transactions'!$F$9:$F$40,$AP$14,'ABT Transactions'!$C$9:$C$40,AR$15,'ABT Transactions'!$D$9:$D$40,$B$22)","v":0},{"$f":"SUMIFS('ABT Transactions'!$B$9:$B$40,'ABT Transactions'!$G$9:$G$40,$C$113,'ABT Transactions'!$F$9:$F$40,$AS$114,'ABT Transactions'!$C$9:$C$40,AS115,'ABT Transactions'!$D$9:$D$40,$B$122)","v":0},{"$f":"SUMIFS('ABT Transactions'!$B$9:$B$40,'ABT Transactions'!$G$9:$G$40,$C$113,'ABT Transactions'!$F$9:$F$40,$AS$114,'ABT Transactions'!$C$9:$C$40,AT115,'ABT Transactions'!$D$9:$D$40,$B$122)","v":0},{"$f":"SUMIFS('ABT Transactions'!$B$9:$B$40,'ABT Transactions'!$G$9:$G$40,$C$113,'ABT Transactions'!$F$9:$F$40,$AS$114,'ABT Transactions'!$C$9:$C$40,AU115,'ABT Transactions'!$D$9:$D$40,$B$122)","v":0}]
[null,"Transfer ADV Credits (in)",{"$f":"SUMIFS('ABT Transactions'!$B$9:$B$40,'ABT Transactions'!$J$9:$J$40,$C$113,'ABT Transactions'!$I$9:$I$40,$C$114,'ABT Transactions'!$C$9:$C$40,C115,'ABT Transactions'!$D$9:$D$40,$B$123)","v":0},{"$f":"SUMIFS('ABT Transactions'!$B$9:$B$40,'ABT Transactions'!$J$9:$J$40,$C$113,'ABT Transactions'!$I$9:$I$40,$C$114,'ABT Transactions'!$C$9:$C$40,D115,'ABT Transactions'!$D$9:$D$40,$B$123)","v":0},{"$f":"SUMIFS('ABT Transactions'!$B$9:$B$40,'ABT Transactions'!$J$9:$J$40,$C$113,'ABT Transactions'!$I$9:$I$40,$C$114,'ABT Transactions'!$C$9:$C$40,E115,'ABT Transactions'!$D$9:$D$40,$B$123)","v":0},{"$f":"SUMIFS('ABT Transactions'!$B$9:$B$40,'ABT Transactions'!$J$9:$J$40,$C$113,'ABT Transactions'!$I$9:$I$40,$F$114,'ABT Transactions'!$C$9:$C$40,F115,'ABT Transactions'!$D$9:$D$40,$B$123)","v":0},{"$f":"SUMIFS('ABT Transactions'!$B$9:$B$40,'ABT Transactions'!$J$9:$J$40,$C$113,'ABT Transactions'!$I$9:$I$40,$F$114,'ABT Transactions'!$C$9:$C$40,G115,'ABT Transactions'!$D$9:$D$40,$B$123)","v":0},{"$f":"SUMIFS('ABT Transactions'!$B$9:$B$40,'ABT Transactions'!$J$9:$J$40,$C$113,'ABT Transactions'!$I$9:$I$40,$F$114,'ABT Transactions'!$C$9:$C$40,H115,'ABT Transactions'!$D$9:$D$40,$B$123)","v":0},{"$f":"SUMIFS('ABT Transactions'!$B$9:$B$40,'ABT Transactions'!$J$9:$J$40,$C$113,'ABT Transactions'!$I$9:$I$40,$I$114,'ABT Transactions'!$C$9:$C$40,I115,'ABT Transactions'!$D$9:$D$40,$B$123)","v":0},{"$f":"SUMIFS('ABT Transactions'!$B$9:$B$40,'ABT Transactions'!$J$9:$J$40,$C$113,'ABT Transactions'!$I$9:$I$40,$I$114,'ABT Transactions'!$C$9:$C$40,J115,'ABT Transactions'!$D$9:$D$40,$B$123)","v":0},{"$f":"SUMIFS('ABT Transactions'!$B$9:$B$40,'ABT Transactions'!$J$9:$J$40,$C$113,'ABT Transactions'!$I$9:$I$40,$I$114,'ABT Transactions'!$C$9:$C$40,K115,'ABT Transactions'!$D$9:$D$40,$B$123)","v":0},{"$f":"SUMIFS('ABT Transactions'!$B$9:$B$40,'ABT Transactions'!$J$9:$J$40,$C$113,'ABT Transactions'!$I$9:$I$40,$L$114,'ABT Transactions'!$C$9:$C$40,L115,'ABT Transactions'!$D$9:$D$40,$B$123)","v":0},{"$f":"SUMIFS('ABT Transactions'!$B$9:$B$40,'ABT Transactions'!$J$9:$J$40,$C$113,'ABT Transactions'!$I$9:$I$40,$L$114,'ABT Transactions'!$C$9:$C$40,M115,'ABT Transactions'!$D$9:$D$40,$B$123)","v":0},{"$f":"SUMIFS('ABT Transactions'!$B$9:$B$40,'ABT Transactions'!$J$9:$J$40,$C$113,'ABT Transactions'!$I$9:$I$40,$L$114,'ABT Transactions'!$C$9:$C$40,N115,'ABT Transactions'!$D$9:$D$40,$B$123)","v":0},{"$f":"SUMIFS('ABT Transactions'!$B$9:$B$40,'ABT Transactions'!$J$9:$J$40,$C$113,'ABT Transactions'!$I$9:$I$40,$O$114,'ABT Transactions'!$C$9:$C$40,O115,'ABT Transactions'!$D$9:$D$40,$B$123)","v":0},{"$f":"SUMIFS('ABT Transactions'!$B$9:$B$40,'ABT Transactions'!$J$9:$J$40,$C$113,'ABT Transactions'!$I$9:$I$40,$O$114,'ABT Transactions'!$C$9:$C$40,P115,'ABT Transactions'!$D$9:$D$40,$B$123)","v":0},{"$f":"SUMIFS('ABT Transactions'!$B$9:$B$40,'ABT Transactions'!$J$9:$J$40,$C$113,'ABT Transactions'!$I$9:$I$40,$O$114,'ABT Transactions'!$C$9:$C$40,Q115,'ABT Transactions'!$D$9:$D$40,$B$123)","v":0},{"$f":"SUMIFS('ABT Transactions'!$B$9:$B$40,'ABT Transactions'!$J$9:$J$40,$C$113,'ABT Transactions'!$I$9:$I$40,$R$114,'ABT Transactions'!$C$9:$C$40,R115,'ABT Transactions'!$D$9:$D$40,$B$123)","v":0},{"$f":"SUMIFS('ABT Transactions'!$B$9:$B$40,'ABT Transactions'!$J$9:$J$40,$C$113,'ABT Transactions'!$I$9:$I$40,$R$114,'ABT Transactions'!$C$9:$C$40,S115,'ABT Transactions'!$D$9:$D$40,$B$123)","v":0},{"$f":"SUMIFS('ABT Transactions'!$B$9:$B$40,'ABT Transactions'!$J$9:$J$40,$C$113,'ABT Transactions'!$I$9:$I$40,$R$114,'ABT Transactions'!$C$9:$C$40,T115,'ABT Transactions'!$D$9:$D$40,$B$123)","v":0},{"$f":"SUMIFS('ABT Transactions'!$B$9:$B$40,'ABT Transactions'!$J$9:$J$40,$C113,'ABT Transactions'!$I$9:$I$40,$U$14,'ABT Transactions'!$C$9:$C$40,U115,'ABT Transactions'!$D$9:$D$40,$B$23)","v":0},{"$f":"SUMIFS('ABT Transactions'!$B$9:$B$40,'ABT Transactions'!$J$9:$J$40,$C113,'ABT Transactions'!$I$9:$I$40,$U$14,'ABT Transactions'!$C$9:$C$40,V115,'ABT Transactions'!$D$9:$D$40,$B$23)","v":0},{"$f":"SUMIFS('ABT Transactions'!$B$9:$B$40,'ABT Transactions'!$J$9:$J$40,$C113,'ABT Transactions'!$I$9:$I$40,$U$14,'ABT Transactions'!$C$9:$C$40,W115,'ABT Transactions'!$D$9:$D$40,$B$23)","v":0},{"$f":"SUMIFS('ABT Transactions'!$B$9:$B$40,'ABT Transactions'!$J$9:$J$40,$C113,'ABT Transactions'!$I$9:$I$40,$X$14,'ABT Transactions'!$C$9:$C$40,X115,'ABT Transactions'!$D$9:$D$40,$B$23)","v":0},{"$f":"SUMIFS('ABT Transactions'!$B$9:$B$40,'ABT Transactions'!$J$9:$J$40,$C113,'ABT Transactions'!$I$9:$I$40,$X$14,'ABT Transactions'!$C$9:$C$40,Y115,'ABT Transactions'!$D$9:$D$40,$B$23)","v":0},{"$f":"SUMIFS('ABT Transactions'!$B$9:$B$40,'ABT Transactions'!$J$9:$J$40,$C113,'ABT Transactions'!$I$9:$I$40,$X$14,'ABT Transactions'!$C$9:$C$40,Z115,'ABT Transactions'!$D$9:$D$40,$B$23)","v":0},{"$f":"SUMIFS('ABT Transactions'!$B$9:$B$40,'ABT Transactions'!$J$9:$J$40,$C113,'ABT Transactions'!$I$9:$I$40,$AA$14,'ABT Transactions'!$C$9:$C$40,AA115,'ABT Transactions'!$D$9:$D$40,$B$23)","v":0},{"$f":"SUMIFS('ABT Transactions'!$B$9:$B$40,'ABT Transactions'!$J$9:$J$40,$C113,'ABT Transactions'!$I$9:$I$40,$AA$14,'ABT Transactions'!$C$9:$C$40,AB115,'ABT Transactions'!$D$9:$D$40,$B$23)","v":0},{"$f":"SUMIFS('ABT Transactions'!$B$9:$B$40,'ABT Transactions'!$J$9:$J$40,$C113,'ABT Transactions'!$I$9:$I$40,$AA$14,'ABT Transactions'!$C$9:$C$40,AC115,'ABT Transactions'!$D$9:$D$40,$B$23)","v":0},{"$f":"SUMIFS('ABT Transactions'!$B$9:$B$40,'ABT Transactions'!$J$9:$J$40,$C113,'ABT Transactions'!$I$9:$I$40,$AD$14,'ABT Transactions'!$C$9:$C$40,AD115,'ABT Transactions'!$D$9:$D$40,$B$23)","v":0},{"$f":"SUMIFS('ABT Transactions'!$B$9:$B$40,'ABT Transactions'!$J$9:$J$40,$C113,'ABT Transactions'!$I$9:$I$40,$AD$14,'ABT Transactions'!$C$9:$C$40,AE115,'ABT Transactions'!$D$9:$D$40,$B$23)","v":0},{"$f":"SUMIFS('ABT Transactions'!$B$9:$B$40,'ABT Transactions'!$J$9:$J$40,$C113,'ABT Transactions'!$I$9:$I$40,$AD$14,'ABT Transactions'!$C$9:$C$40,AF115,'ABT Transactions'!$D$9:$D$40,$B$23)","v":0},{"$f":"SUMIFS('ABT Transactions'!$B$9:$B$40,'ABT Transactions'!$J$9:$J$40,$C113,'ABT Transactions'!$I$9:$I$40,$AG$14,'ABT Transactions'!$C$9:$C$40,AG115,'ABT Transactions'!$D$9:$D$40,$B$23)","v":0},{"$f":"SUMIFS('ABT Transactions'!$B$9:$B$40,'ABT Transactions'!$J$9:$J$40,$C113,'ABT Transactions'!$I$9:$I$40,$AG$14,'ABT Transactions'!$C$9:$C$40,AH115,'ABT Transactions'!$D$9:$D$40,$B$23)","v":0},{"$f":"SUMIFS('ABT Transactions'!$B$9:$B$40,'ABT Transactions'!$J$9:$J$40,$C113,'ABT Transactions'!$I$9:$I$40,$AG$14,'ABT Transactions'!$C$9:$C$40,AI115,'ABT Transactions'!$D$9:$D$40,$B$23)","v":0},{"$f":"SUMIFS('ABT Transactions'!$B$9:$B$40,'ABT Transactions'!$J$9:$J$40,$C113,'ABT Transactions'!$I$9:$I$40,$AJ$14,'ABT Transactions'!$C$9:$C$40,AJ115,'ABT Transactions'!$D$9:$D$40,$B$23)","v":0},{"$f":"SUMIFS('ABT Transactions'!$B$9:$B$40,'ABT Transactions'!$J$9:$J$40,$C113,'ABT Transactions'!$I$9:$I$40,$AJ$14,'ABT Transactions'!$C$9:$C$40,AK115,'ABT Transactions'!$D$9:$D$40,$B$23)","v":0},{"$f":"SUMIFS('ABT Transactions'!$B$9:$B$40,'ABT Transactions'!$J$9:$J$40,$C113,'ABT Transactions'!$I$9:$I$40,$AJ$14,'ABT Transactions'!$C$9:$C$40,AL115,'ABT Transactions'!$D$9:$D$40,$B$23)","v":0},{"$f":"SUMIFS('ABT Transactions'!$B$9:$B$40,'ABT Transactions'!$J$9:$J$40,$C113,'ABT Transactions'!$I$9:$I$40,$AM$14,'ABT Transactions'!$C$9:$C$40,AM115,'ABT Transactions'!$D$9:$D$40,$B$23)","v":0},{"$f":"SUMIFS('ABT Transactions'!$B$9:$B$40,'ABT Transactions'!$J$9:$J$40,$C113,'ABT Transactions'!$I$9:$I$40,$AM$14,'ABT Transactions'!$C$9:$C$40,AN115,'ABT Transactions'!$D$9:$D$40,$B$23)","v":0},{"$f":"SUMIFS('ABT Transactions'!$B$9:$B$40,'ABT Transactions'!$J$9:$J$40,$C113,'ABT Transactions'!$I$9:$I$40,$AM$14,'ABT Transactions'!$C$9:$C$40,AO115,'ABT Transactions'!$D$9:$D$40,$B$23)","v":0},{"$f":"SUMIFS('ABT Transactions'!$B$9:$B$40,'ABT Transactions'!$J$9:$J$40,$C113,'ABT Transactions'!$I$9:$I$40,$AP$14,'ABT Transactions'!$C$9:$C$40,AP115,'ABT Transactions'!$D$9:$D$40,$B$23)","v":0},{"$f":"SUMIFS('ABT Transactions'!$B$9:$B$40,'ABT Transactions'!$J$9:$J$40,$C113,'ABT Transactions'!$I$9:$I$40,$AP$14,'ABT Transactions'!$C$9:$C$40,AQ115,'ABT Transactions'!$D$9:$D$40,$B$23)","v":0},{"$f":"SUMIFS('ABT Transactions'!$B$9:$B$40,'ABT Transactions'!$J$9:$J$40,$C113,'ABT Transactions'!$I$9:$I$40,$AP$14,'ABT Transactions'!$C$9:$C$40,AR115,'ABT Transactions'!$D$9:$D$40,$B$23)","v":0},{"$f":"SUMIFS('ABT Transactions'!$B$9:$B$40,'ABT Transactions'!$J$9:$J$40,$C$113,'ABT Transactions'!$I$9:$I$40,$AS$114,'ABT Transactions'!$C$9:$C$40,AS115,'ABT Transactions'!$D$9:$D$40,$B$123)","v":0},{"$f":"SUMIFS('ABT Transactions'!$B$9:$B$40,'ABT Transactions'!$J$9:$J$40,$C$113,'ABT Transactions'!$I$9:$I$40,$AS$114,'ABT Transactions'!$C$9:$C$40,AT115,'ABT Transactions'!$D$9:$D$40,$B$123)","v":0},{"$f":"SUMIFS('ABT Transactions'!$B$9:$B$40,'ABT Transactions'!$J$9:$J$40,$C$113,'ABT Transactions'!$I$9:$I$40,$AS$114,'ABT Transactions'!$C$9:$C$40,AU115,'ABT Transactions'!$D$9:$D$40,$B$123)","v":0}]
[null,"Retired Credits",{"$f":"SUMIFS('ABT Transactions'!$B$9:$B$40,'ABT Transactions'!$G$9:$G$40,$C$113,'ABT Transactions'!$F$9:$F$40,$C$114,'ABT Transactions'!$C$9:$C$40,C115,'ABT Transactions'!$D$9:$D$40,$B$124)","v":0},{"$f":"SUMIFS('ABT Transactions'!$B$9:$B$40,'ABT Transactions'!$G$9:$G$40,$C$113,'ABT Transactions'!$F$9:$F$40,$C$114,'ABT Transactions'!$C$9:$C$40,D115,'ABT Transactions'!$D$9:$D$40,$B$124)","v":0},{"$f":"SUMIFS('ABT Transactions'!$B$9:$B$40,'ABT Transactions'!$G$9:$G$40,$C$113,'ABT Transactions'!$F$9:$F$40,$C$114,'ABT Transactions'!$C$9:$C$40,E115,'ABT Transactions'!$D$9:$D$40,$B$124)","v":0},{"$f":"SUMIFS('ABT Transactions'!$B$9:$B$40,'ABT Transactions'!$G$9:$G$40,$C$113,'ABT Transactions'!$F$9:$F$40,$F$114,'ABT Transactions'!$C$9:$C$40,F115,'ABT Transactions'!$D$9:$D$40,$B$124)","v":0},{"$f":"SUMIFS('ABT Transactions'!$B$9:$B$40,'ABT Transactions'!$G$9:$G$40,$C$113,'ABT Transactions'!$F$9:$F$40,$F$114,'ABT Transactions'!$C$9:$C$40,G115,'ABT Transactions'!$D$9:$D$40,$B$124)","v":0},{"$f":"SUMIFS('ABT Transactions'!$B$9:$B$40,'ABT Transactions'!$G$9:$G$40,$C$113,'ABT Transactions'!$F$9:$F$40,$F$114,'ABT Transactions'!$C$9:$C$40,H115,'ABT Transactions'!$D$9:$D$40,$B$124)","v":0},{"$f":"SUMIFS('ABT Transactions'!$B$9:$B$40,'ABT Transactions'!$G$9:$G$40,$C$113,'ABT Transactions'!$F$9:$F$40,$I$114,'ABT Transactions'!$C$9:$C$40,I115,'ABT Transactions'!$D$9:$D$40,$B$124)","v":0},{"$f":"SUMIFS('ABT Transactions'!$B$9:$B$40,'ABT Transactions'!$G$9:$G$40,$C$113,'ABT Transactions'!$F$9:$F$40,$I$114,'ABT Transactions'!$C$9:$C$40,J115,'ABT Transactions'!$D$9:$D$40,$B$124)","v":0},{"$f":"SUMIFS('ABT Transactions'!$B$9:$B$40,'ABT Transactions'!$G$9:$G$40,$C$113,'ABT Transactions'!$F$9:$F$40,$I$114,'ABT Transactions'!$C$9:$C$40,K115,'ABT Transactions'!$D$9:$D$40,$B$124)","v":0},{"$f":"SUMIFS('ABT Transactions'!$B$9:$B$40,'ABT Transactions'!$G$9:$G$40,$C$113,'ABT Transactions'!$F$9:$F$40,$L$114,'ABT Transactions'!$C$9:$C$40,L115,'ABT Transactions'!$D$9:$D$40,$B$124)","v":0},{"$f":"SUMIFS('ABT Transactions'!$B$9:$B$40,'ABT Transactions'!$G$9:$G$40,$C$113,'ABT Transactions'!$F$9:$F$40,$L$114,'ABT Transactions'!$C$9:$C$40,M115,'ABT Transactions'!$D$9:$D$40,$B$124)","v":0},{"$f":"SUMIFS('ABT Transactions'!$B$9:$B$40,'ABT Transactions'!$G$9:$G$40,$C$113,'ABT Transactions'!$F$9:$F$40,$L$114,'ABT Transactions'!$C$9:$C$40,N115,'ABT Transactions'!$D$9:$D$40,$B$124)","v":0},{"$f":"SUMIFS('ABT Transactions'!$B$9:$B$40,'ABT Transactions'!$G$9:$G$40,$C$113,'ABT Transactions'!$F$9:$F$40,$O$114,'ABT Transactions'!$C$9:$C$40,O115,'ABT Transactions'!$D$9:$D$40,$B$124)","v":0},{"$f":"SUMIFS('ABT Transactions'!$B$9:$B$40,'ABT Transactions'!$G$9:$G$40,$C$113,'ABT Transactions'!$F$9:$F$40,$O$114,'ABT Transactions'!$C$9:$C$40,P115,'ABT Transactions'!$D$9:$D$40,$B$124)","v":0},{"$f":"SUMIFS('ABT Transactions'!$B$9:$B$40,'ABT Transactions'!$G$9:$G$40,$C$113,'ABT Transactions'!$F$9:$F$40,$O$114,'ABT Transactions'!$C$9:$C$40,Q115,'ABT Transactions'!$D$9:$D$40,$B$124)","v":0},{"$f":"SUMIFS('ABT Transactions'!$B$9:$B$40,'ABT Transactions'!$G$9:$G$40,$C$113,'ABT Transactions'!$F$9:$F$40,$R$114,'ABT Transactions'!$C$9:$C$40,R115,'ABT Transactions'!$D$9:$D$40,$B$124)","v":0},{"$f":"SUMIFS('ABT Transactions'!$B$9:$B$40,'ABT Transactions'!$G$9:$G$40,$C$113,'ABT Transactions'!$F$9:$F$40,$R$114,'ABT Transactions'!$C$9:$C$40,S115,'ABT Transactions'!$D$9:$D$40,$B$124)","v":0},{"$f":"SUMIFS('ABT Transactions'!$B$9:$B$40,'ABT Transactions'!$G$9:$G$40,$C$113,'ABT Transactions'!$F$9:$F$40,$R$114,'ABT Transactions'!$C$9:$C$40,T115,'ABT Transactions'!$D$9:$D$40,$B$124)","v":0},{"$f":"SUMIFS('ABT Transactions'!$B$9:$B$40,'ABT Transactions'!$G$9:$G$40,$C113,'ABT Transactions'!$F$9:$F$40,$U$14,'ABT Transactions'!$C$9:$C$40,U$15,'ABT Transactions'!$D$9:$D$40,$B$24)","v":0},{"$f":"SUMIFS('ABT Transactions'!$B$9:$B$40,'ABT Transactions'!$G$9:$G$40,$C113,'ABT Transactions'!$F$9:$F$40,$U$14,'ABT Transactions'!$C$9:$C$40,V$15,'ABT Transactions'!$D$9:$D$40,$B$24)","v":0},{"$f":"SUMIFS('ABT Transactions'!$B$9:$B$40,'ABT Transactions'!$G$9:$G$40,$C113,'ABT Transactions'!$F$9:$F$40,$U$14,'ABT Transactions'!$C$9:$C$40,W$15,'ABT Transactions'!$D$9:$D$40,$B$24)","v":0},{"$f":"SUMIFS('ABT Transactions'!$B$9:$B$40,'ABT Transactions'!$G$9:$G$40,$C113,'ABT Transactions'!$F$9:$F$40,$X$14,'ABT Transactions'!$C$9:$C$40,X$15,'ABT Transactions'!$D$9:$D$40,$B$24)","v":0},{"$f":"SUMIFS('ABT Transactions'!$B$9:$B$40,'ABT Transactions'!$G$9:$G$40,$C113,'ABT Transactions'!$F$9:$F$40,$X$14,'ABT Transactions'!$C$9:$C$40,Y$15,'ABT Transactions'!$D$9:$D$40,$B$24)","v":0},{"$f":"SUMIFS('ABT Transactions'!$B$9:$B$40,'ABT Transactions'!$G$9:$G$40,$C113,'ABT Transactions'!$F$9:$F$40,$X$14,'ABT Transactions'!$C$9:$C$40,Z$15,'ABT Transactions'!$D$9:$D$40,$B$24)","v":0},{"$f":"SUMIFS('ABT Transactions'!$B$9:$B$40,'ABT Transactions'!$G$9:$G$40,$C113,'ABT Transactions'!$F$9:$F$40,$AA$14,'ABT Transactions'!$C$9:$C$40,AA$15,'ABT Transactions'!$D$9:$D$40,$B$24)","v":0},{"$f":"SUMIFS('ABT Transactions'!$B$9:$B$40,'ABT Transactions'!$G$9:$G$40,$C113,'ABT Transactions'!$F$9:$F$40,$AA$14,'ABT Transactions'!$C$9:$C$40,AB$15,'ABT Transactions'!$D$9:$D$40,$B$24)","v":0},{"$f":"SUMIFS('ABT Transactions'!$B$9:$B$40,'ABT Transactions'!$G$9:$G$40,$C113,'ABT Transactions'!$F$9:$F$40,$AA$14,'ABT Transactions'!$C$9:$C$40,AC$15,'ABT Transactions'!$D$9:$D$40,$B$24)","v":0},{"$f":"SUMIFS('ABT Transactions'!$B$9:$B$40,'ABT Transactions'!$G$9:$G$40,$C113,'ABT Transactions'!$F$9:$F$40,$AD$14,'ABT Transactions'!$C$9:$C$40,AD$15,'ABT Transactions'!$D$9:$D$40,$B$24)","v":0},{"$f":"SUMIFS('ABT Transactions'!$B$9:$B$40,'ABT Transactions'!$G$9:$G$40,$C113,'ABT Transactions'!$F$9:$F$40,$AD$14,'ABT Transactions'!$C$9:$C$40,AE$15,'ABT Transactions'!$D$9:$D$40,$B$24)","v":0},{"$f":"SUMIFS('ABT Transactions'!$B$9:$B$40,'ABT Transactions'!$G$9:$G$40,$C113,'ABT Transactions'!$F$9:$F$40,$AD$14,'ABT Transactions'!$C$9:$C$40,AF$15,'ABT Transactions'!$D$9:$D$40,$B$24)","v":0},{"$f":"SUMIFS('ABT Transactions'!$B$9:$B$40,'ABT Transactions'!$G$9:$G$40,$C113,'ABT Transactions'!$F$9:$F$40,$AG$14,'ABT Transactions'!$C$9:$C$40,AG$15,'ABT Transactions'!$D$9:$D$40,$B$24)","v":0},{"$f":"SUMIFS('ABT Transactions'!$B$9:$B$40,'ABT Transactions'!$G$9:$G$40,$C113,'ABT Transactions'!$F$9:$F$40,$AG$14,'ABT Transactions'!$C$9:$C$40,AH$15,'ABT Transactions'!$D$9:$D$40,$B$24)","v":0},{"$f":"SUMIFS('ABT Transactions'!$B$9:$B$40,'ABT Transactions'!$G$9:$G$40,$C113,'ABT Transactions'!$F$9:$F$40,$AG$14,'ABT Transactions'!$C$9:$C$40,AI$15,'ABT Transactions'!$D$9:$D$40,$B$24)","v":0},{"$f":"SUMIFS('ABT Transactions'!$B$9:$B$40,'ABT Transactions'!$G$9:$G$40,$C113,'ABT Transactions'!$F$9:$F$40,$AJ$14,'ABT Transactions'!$C$9:$C$40,AJ$15,'ABT Transactions'!$D$9:$D$40,$B$24)","v":0},{"$f":"SUMIFS('ABT Transactions'!$B$9:$B$40,'ABT Transactions'!$G$9:$G$40,$C113,'ABT Transactions'!$F$9:$F$40,$AJ$14,'ABT Transactions'!$C$9:$C$40,AK$15,'ABT Transactions'!$D$9:$D$40,$B$24)","v":0},{"$f":"SUMIFS('ABT Transactions'!$B$9:$B$40,'ABT Transactions'!$G$9:$G$40,$C113,'ABT Transactions'!$F$9:$F$40,$AJ$14,'ABT Transactions'!$C$9:$C$40,AL$15,'ABT Transactions'!$D$9:$D$40,$B$24)","v":0},{"$f":"SUMIFS('ABT Transactions'!$B$9:$B$40,'ABT Transactions'!$G$9:$G$40,$C113,'ABT Transactions'!$F$9:$F$40,$AM$14,'ABT Transactions'!$C$9:$C$40,AM$15,'ABT Transactions'!$D$9:$D$40,$B$24)","v":0},{"$f":"SUMIFS('ABT Transactions'!$B$9:$B$40,'ABT Transactions'!$G$9:$G$40,$C113,'ABT Transactions'!$F$9:$F$40,$AM$14,'ABT Transactions'!$C$9:$C$40,AN$15,'ABT Transactions'!$D$9:$D$40,$B$24)","v":0},{"$f":"SUMIFS('ABT Transactions'!$B$9:$B$40,'ABT Transactions'!$G$9:$G$40,$C113,'ABT Transactions'!$F$9:$F$40,$AM$14,'ABT Transactions'!$C$9:$C$40,AO$15,'ABT Transactions'!$D$9:$D$40,$B$24)","v":0},{"$f":"SUMIFS('ABT Transactions'!$B$9:$B$40,'ABT Transactions'!$G$9:$G$40,$C113,'ABT Transactions'!$F$9:$F$40,$AP$14,'ABT Transactions'!$C$9:$C$40,AP$15,'ABT Transactions'!$D$9:$D$40,$B$24)","v":0},{"$f":"SUMIFS('ABT Transactions'!$B$9:$B$40,'ABT Transactions'!$G$9:$G$40,$C113,'ABT Transactions'!$F$9:$F$40,$AP$14,'ABT Transactions'!$C$9:$C$40,AQ$15,'ABT Transactions'!$D$9:$D$40,$B$24)","v":0},{"$f":"SUMIFS('ABT Transactions'!$B$9:$B$40,'ABT Transactions'!$G$9:$G$40,$C113,'ABT Transactions'!$F$9:$F$40,$AP$14,'ABT Transactions'!$C$9:$C$40,AR$15,'ABT Transactions'!$D$9:$D$40,$B$24)","v":0},{"$f":"SUMIFS('ABT Transactions'!$B$9:$B$40,'ABT Transactions'!$G$9:$G$40,$C$113,'ABT Transactions'!$F$9:$F$40,$AS$114,'ABT Transactions'!$C$9:$C$40,AS115,'ABT Transactions'!$D$9:$D$40,$B$124)","v":0},{"$f":"SUMIFS('ABT Transactions'!$B$9:$B$40,'ABT Transactions'!$G$9:$G$40,$C$113,'ABT Transactions'!$F$9:$F$40,$AS$114,'ABT Transactions'!$C$9:$C$40,AT115,'ABT Transactions'!$D$9:$D$40,$B$124)","v":0},{"$f":"SUMIFS('ABT Transactions'!$B$9:$B$40,'ABT Transactions'!$G$9:$G$40,$C$113,'ABT Transactions'!$F$9:$F$40,$AS$114,'ABT Transactions'!$C$9:$C$40,AU115,'ABT Transactions'!$D$9:$D$40,$B$124)","v":0}]
[null,"Expired Credits",{"$f":"SUMIFS('ABT Transactions'!$B$9:$B$40,'ABT Transactions'!$G$9:$G$40,$C$113,'ABT Transactions'!$F$9:$F$40,$C$114,'ABT Transactions'!$C$9:$C$40,C115,'ABT Transactions'!$D$9:$D$40,$B$125)","v":0},{"$f":"SUMIFS('ABT Transactions'!$B$9:$B$40,'ABT Transactions'!$G$9:$G$40,$C$113,'ABT Transactions'!$F$9:$F$40,$C$114,'ABT Transactions'!$C$9:$C$40,D115,'ABT Transactions'!$D$9:$D$40,$B$125)","v":0},{"$f":"SUMIFS('ABT Transactions'!$B$9:$B$40,'ABT Transactions'!$G$9:$G$40,$C$113,'ABT Transactions'!$F$9:$F$40,$C$114,'ABT Transactions'!$C$9:$C$40,E115,'ABT Transactions'!$D$9:$D$40,$B$125)","v":0},{"$f":"SUMIFS('ABT Transactions'!$B$9:$B$40,'ABT Transactions'!$G$9:$G$40,$C$113,'ABT Transactions'!$F$9:$F$40,$F$114,'ABT Transactions'!$C$9:$C$40,F115,'ABT Transactions'!$D$9:$D$40,$B$125)","v":0},{"$f":"SUMIFS('ABT Transactions'!$B$9:$B$40,'ABT Transactions'!$G$9:$G$40,$C$113,'ABT Transactions'!$F$9:$F$40,$F$114,'ABT Transactions'!$C$9:$C$40,G115,'ABT Transactions'!$D$9:$D$40,$B$125)","v":0},{"$f":"SUMIFS('ABT Transactions'!$B$9:$B$40,'ABT Transactions'!$G$9:$G$40,$C$113,'ABT Transactions'!$F$9:$F$40,$F$114,'ABT Transactions'!$C$9:$C$40,H115,'ABT Transactions'!$D$9:$D$40,$B$125)","v":0},{"$f":"SUMIFS('ABT Transactions'!$B$9:$B$40,'ABT Transactions'!$G$9:$G$40,$C$113,'ABT Transactions'!$F$9:$F$40,$I$114,'ABT Transactions'!$C$9:$C$40,I115,'ABT Transactions'!$D$9:$D$40,$B$125)","v":0},{"$f":"SUMIFS('ABT Transactions'!$B$9:$B$40,'ABT Transactions'!$G$9:$G$40,$C$113,'ABT Transactions'!$F$9:$F$40,$I$114,'ABT Transactions'!$C$9:$C$40,J115,'ABT Transactions'!$D$9:$D$40,$B$125)","v":0},{"$f":"SUMIFS('ABT Transactions'!$B$9:$B$40,'ABT Transactions'!$G$9:$G$40,$C$113,'ABT Transactions'!$F$9:$F$40,$I$114,'ABT Transactions'!$C$9:$C$40,K115,'ABT Transactions'!$D$9:$D$40,$B$125)","v":0},{"$f":"SUMIFS('ABT Transactions'!$B$9:$B$40,'ABT Transactions'!$G$9:$G$40,$C$113,'ABT Transactions'!$F$9:$F$40,$L$114,'ABT Transactions'!$C$9:$C$40,L115,'ABT Transactions'!$D$9:$D$40,$B$125)","v":0},{"$f":"SUMIFS('ABT Transactions'!$B$9:$B$40,'ABT Transactions'!$G$9:$G$40,$C$113,'ABT Transactions'!$F$9:$F$40,$L$114,'ABT Transactions'!$C$9:$C$40,M115,'ABT Transactions'!$D$9:$D$40,$B$125)","v":0},{"$f":"SUMIFS('ABT Transactions'!$B$9:$B$40,'ABT Transactions'!$G$9:$G$40,$C$113,'ABT Transactions'!$F$9:$F$40,$L$114,'ABT Transactions'!$C$9:$C$40,N115,'ABT Transactions'!$D$9:$D$40,$B$125)","v":0},{"$f":"SUMIFS('ABT Transactions'!$B$9:$B$40,'ABT Transactions'!$G$9:$G$40,$C$113,'ABT Transactions'!$F$9:$F$40,$O$114,'ABT Transactions'!$C$9:$C$40,O115,'ABT Transactions'!$D$9:$D$40,$B$125)","v":0},{"$f":"SUMIFS('ABT Transactions'!$B$9:$B$40,'ABT Transactions'!$G$9:$G$40,$C$113,'ABT Transactions'!$F$9:$F$40,$O$114,'ABT Transactions'!$C$9:$C$40,P115,'ABT Transactions'!$D$9:$D$40,$B$125)","v":0},{"$f":"SUMIFS('ABT Transactions'!$B$9:$B$40,'ABT Transactions'!$G$9:$G$40,$C$113,'ABT Transactions'!$F$9:$F$40,$O$114,'ABT Transactions'!$C$9:$C$40,Q115,'ABT Transactions'!$D$9:$D$40,$B$125)","v":0},{"$f":"SUMIFS('ABT Transactions'!$B$9:$B$40,'ABT Transactions'!$G$9:$G$40,$C$113,'ABT Transactions'!$F$9:$F$40,$R$114,'ABT Transactions'!$C$9:$C$40,R115,'ABT Transactions'!$D$9:$D$40,$B$125)","v":0},{"$f":"SUMIFS('ABT Transactions'!$B$9:$B$40,'ABT Transactions'!$G$9:$G$40,$C$113,'ABT Transactions'!$F$9:$F$40,$R$114,'ABT Transactions'!$C$9:$C$40,S115,'ABT Transactions'!$D$9:$D$40,$B$125)","v":0},{"$f":"SUMIFS('ABT Transactions'!$B$9:$B$40,'ABT Transactions'!$G$9:$G$40,$C$113,'ABT Transactions'!$F$9:$F$40,$R$114,'ABT Transactions'!$C$9:$C$40,T115,'ABT Transactions'!$D$9:$D$40,$B$125)","v":0},{"$f":"SUMIFS('ABT Transactions'!$B$9:$B$40,'ABT Transactions'!$G$9:$G$40,$C113,'ABT Transactions'!$F$9:$F$40,$U$14,'ABT Transactions'!$C$9:$C$40,U$15,'ABT Transactions'!$D$9:$D$40,$B$25)","v":0},{"$f":"SUMIFS('ABT Transactions'!$B$9:$B$40,'ABT Transactions'!$G$9:$G$40,$C113,'ABT Transactions'!$F$9:$F$40,$U$14,'ABT Transactions'!$C$9:$C$40,V$15,'ABT Transactions'!$D$9:$D$40,$B$25)","v":0},{"$f":"SUMIFS('ABT Transactions'!$B$9:$B$40,'ABT Transactions'!$G$9:$G$40,$C113,'ABT Transactions'!$F$9:$F$40,$U$14,'ABT Transactions'!$C$9:$C$40,W$15,'ABT Transactions'!$D$9:$D$40,$B$25)","v":0},{"$f":"SUMIFS('ABT Transactions'!$B$9:$B$40,'ABT Transactions'!$G$9:$G$40,$C113,'ABT Transactions'!$F$9:$F$40,$X$14,'ABT Transactions'!$C$9:$C$40,X$15,'ABT Transactions'!$D$9:$D$40,$B$25)","v":0},{"$f":"SUMIFS('ABT Transactions'!$B$9:$B$40,'ABT Transactions'!$G$9:$G$40,$C113,'ABT Transactions'!$F$9:$F$40,$X$14,'ABT Transactions'!$C$9:$C$40,Y$15,'ABT Transactions'!$D$9:$D$40,$B$25)","v":0},{"$f":"SUMIFS('ABT Transactions'!$B$9:$B$40,'ABT Transactions'!$G$9:$G$40,$C113,'ABT Transactions'!$F$9:$F$40,$X$14,'ABT Transactions'!$C$9:$C$40,Z$15,'ABT Transactions'!$D$9:$D$40,$B$25)","v":0},{"$f":"SUMIFS('ABT Transactions'!$B$9:$B$40,'ABT Transactions'!$G$9:$G$40,$C113,'ABT Transactions'!$F$9:$F$40,$AA$14,'ABT Transactions'!$C$9:$C$40,AA$15,'ABT Transactions'!$D$9:$D$40,$B$25)","v":0},{"$f":"SUMIFS('ABT Transactions'!$B$9:$B$40,'ABT Transactions'!$G$9:$G$40,$C113,'ABT Transactions'!$F$9:$F$40,$AA$14,'ABT Transactions'!$C$9:$C$40,AB$15,'ABT Transactions'!$D$9:$D$40,$B$25)","v":0},{"$f":"SUMIFS('ABT Transactions'!$B$9:$B$40,'ABT Transactions'!$G$9:$G$40,$C113,'ABT Transactions'!$F$9:$F$40,$AA$14,'ABT Transactions'!$C$9:$C$40,AC$15,'ABT Transactions'!$D$9:$D$40,$B$25)","v":0},{"$f":"SUMIFS('ABT Transactions'!$B$9:$B$40,'ABT Transactions'!$G$9:$G$40,$C113,'ABT Transactions'!$F$9:$F$40,$AD$14,'ABT Transactions'!$C$9:$C$40,AD$15,'ABT Transactions'!$D$9:$D$40,$B$25)","v":0},{"$f":"SUMIFS('ABT Transactions'!$B$9:$B$40,'ABT Transactions'!$G$9:$G$40,$C113,'ABT Transactions'!$F$9:$F$40,$AD$14,'ABT Transactions'!$C$9:$C$40,AE$15,'ABT Transactions'!$D$9:$D$40,$B$25)","v":0},{"$f":"SUMIFS('ABT Transactions'!$B$9:$B$40,'ABT Transactions'!$G$9:$G$40,$C113,'ABT Transactions'!$F$9:$F$40,$AD$14,'ABT Transactions'!$C$9:$C$40,AF$15,'ABT Transactions'!$D$9:$D$40,$B$25)","v":0},{"$f":"SUMIFS('ABT Transactions'!$B$9:$B$40,'ABT Transactions'!$G$9:$G$40,$C113,'ABT Transactions'!$F$9:$F$40,$AG$14,'ABT Transactions'!$C$9:$C$40,AG$15,'ABT Transactions'!$D$9:$D$40,$B$25)","v":0},{"$f":"SUMIFS('ABT Transactions'!$B$9:$B$40,'ABT Transactions'!$G$9:$G$40,$C113,'ABT Transactions'!$F$9:$F$40,$AG$14,'ABT Transactions'!$C$9:$C$40,AH$15,'ABT Transactions'!$D$9:$D$40,$B$25)","v":0},{"$f":"SUMIFS('ABT Transactions'!$B$9:$B$40,'ABT Transactions'!$G$9:$G$40,$C113,'ABT Transactions'!$F$9:$F$40,$AG$14,'ABT Transactions'!$C$9:$C$40,AI$15,'ABT Transactions'!$D$9:$D$40,$B$25)","v":0},{"$f":"SUMIFS('ABT Transactions'!$B$9:$B$40,'ABT Transactions'!$G$9:$G$40,$C113,'ABT Transactions'!$F$9:$F$40,$AJ$14,'ABT Transactions'!$C$9:$C$40,AJ$15,'ABT Transactions'!$D$9:$D$40,$B$25)","v":0},{"$f":"SUMIFS('ABT Transactions'!$B$9:$B$40,'ABT Transactions'!$G$9:$G$40,$C113,'ABT Transactions'!$F$9:$F$40,$AJ$14,'ABT Transactions'!$C$9:$C$40,AK$15,'ABT Transactions'!$D$9:$D$40,$B$25)","v":0},{"$f":"SUMIFS('ABT Transactions'!$B$9:$B$40,'ABT Transactions'!$G$9:$G$40,$C113,'ABT Transactions'!$F$9:$F$40,$AJ$14,'ABT Transactions'!$C$9:$C$40,AL$15,'ABT Transactions'!$D$9:$D$40,$B$25)","v":0},{"$f":"SUMIFS('ABT Transactions'!$B$9:$B$40,'ABT Transactions'!$G$9:$G$40,$C113,'ABT Transactions'!$F$9:$F$40,$AM$14,'ABT Transactions'!$C$9:$C$40,AM$15,'ABT Transactions'!$D$9:$D$40,$B$25)","v":0},{"$f":"SUMIFS('ABT Transactions'!$B$9:$B$40,'ABT Transactions'!$G$9:$G$40,$C113,'ABT Transactions'!$F$9:$F$40,$AM$14,'ABT Transactions'!$C$9:$C$40,AN$15,'ABT Transactions'!$D$9:$D$40,$B$25)","v":0},{"$f":"SUMIFS('ABT Transactions'!$B$9:$B$40,'ABT Transactions'!$G$9:$G$40,$C113,'ABT Transactions'!$F$9:$F$40,$AM$14,'ABT Transactions'!$C$9:$C$40,AO$15,'ABT Transactions'!$D$9:$D$40,$B$25)","v":0},{"$f":"SUMIFS('ABT Transactions'!$B$9:$B$40,'ABT Transactions'!$G$9:$G$40,$C113,'ABT Transactions'!$F$9:$F$40,$AP$14,'ABT Transactions'!$C$9:$C$40,AP$15,'ABT Transactions'!$D$9:$D$40,$B$25)","v":0},{"$f":"SUMIFS('ABT Transactions'!$B$9:$B$40,'ABT Transactions'!$G$9:$G$40,$C113,'ABT Transactions'!$F$9:$F$40,$AP$14,'ABT Transactions'!$C$9:$C$40,AQ$15,'ABT Transactions'!$D$9:$D$40,$B$25)","v":0},{"$f":"SUMIFS('ABT Transactions'!$B$9:$B$40,'ABT Transactions'!$G$9:$G$40,$C113,'ABT Transactions'!$F$9:$F$40,$AP$14,'ABT Transactions'!$C$9:$C$40,AR$15,'ABT Transactions'!$D$9:$D$40,$B$25)","v":0},{"$f":"SUMIFS('ABT Transactions'!$B$9:$B$40,'ABT Transactions'!$G$9:$G$40,$C$113,'ABT Transactions'!$F$9:$F$40,$AS$114,'ABT Transactions'!$C$9:$C$40,AS115,'ABT Transactions'!$D$9:$D$40,$B$125)","v":0},{"$f":"SUMIFS('ABT Transactions'!$B$9:$B$40,'ABT Transactions'!$G$9:$G$40,$C$113,'ABT Transactions'!$F$9:$F$40,$AS$114,'ABT Transactions'!$C$9:$C$40,AT115,'ABT Transactions'!$D$9:$D$40,$B$125)","v":0},{"$f":"SUMIFS('ABT Transactions'!$B$9:$B$40,'ABT Transactions'!$G$9:$G$40,$C$113,'ABT Transactions'!$F$9:$F$40,$AS$114,'ABT Transactions'!$C$9:$C$40,AU115,'ABT Transactions'!$D$9:$D$40,$B$125)","v":0}]
[null,"Final Credit Balance",{"$f":"(C116+C117+C119+C121+C123+C124+C125)-(C118+C120+C122)","v":0},{"$f":"(D116+D117+D119+D121+D123+D124+D125)-(D118+D120+D122)","v":0},{"$f":"(E116+E117+E119+E121+E123+E124+E125)-(E118+E120+E122)","v":0},{"$f":"(F116+F117+F119+F121+F123+F124+F125)-(F118+F120+F122)","v":0},{"$f":"(G116+G117+G119+G121+G123+G124+G125)-(G118+G120+G122)","v":0},{"$f":"(H116+H117+H119+H121+H123+H124+H125)-(H118+H120+H122)","v":0},{"$f":"(I116+I117+I119+I121+I123+I124+I125)-(I118+I120+I122)","v":0},{"$f":"(J116+J117+J119+J121+J123+J124+J125)-(J118+J120+J122)","v":0},{"$f":"(K116+K117+K119+K121+K123+K124+K125)-(K118+K120+K122)","v":0},{"$f":"(L116+L117+L119+L121+L123+L124+L125)-(L118+L120+L122)","v":0},{"$f":"(M116+M117+M119+M121+M123+M124+M125)-(M118+M120+M122)","v":0},{"$f":"(N116+N117+N119+N121+N123+N124+N125)-(N118+N120+N122)","v":0},{"$f":"(O116+O117+O119+O121+O123+O124+O125)-(O118+O120+O122)","v":0},{"$f":"(P116+P117+P119+P121+P123+P124+P125)-(P118+P120+P122)","v":0},{"$f":"(Q116+Q117+Q119+Q121+Q123+Q124+Q125)-(Q118+Q120+Q122)","v":0},{"$f":"(R116+R117+R119+R121+R123+R124+R125)-(R118+R120+R122)","v":0},{"$f":"(S116+S117+S119+S121+S123+S124+S125)-(S118+S120+S122)","v":0},{"$f":"(T116+T117+T119+T121+T123+T124+T125)-(T118+T120+T122)","v":0},{"$f":"(U116+U117+U119+U121+U123+U124+U125)-(U118+U120+U122)","v":0},{"$f":"(V116+V117+V119+V121+V123+V124+V125)-(V118+V120+V122)","v":0},{"$f":"(W116+W117+W119+W121+W123+W124+W125)-(W118+W120+W122)","v":0},{"$f":"(X116+X117+X119+X121+X123+X124+X125)-(X118+X120+X122)","v":0},{"$f":"(Y116+Y117+Y119+Y121+Y123+Y124+Y125)-(Y118+Y120+Y122)","v":0},{"$f":"(Z116+Z117+Z119+Z121+Z123+Z124+Z125)-(Z118+Z120+Z122)","v":0},{"$f":"(AA116+AA117+AA119+AA121+AA123+AA124+AA125)-(AA118+AA120+AA122)","v":0},{"$f":"(AB116+AB117+AB119+AB121+AB123+AB124+AB125)-(AB118+AB120+AB122)","v":0},{"$f":"(AC116+AC117+AC119+AC121+AC123+AC124+AC125)-(AC118+AC120+AC122)","v":0},{"$f":"(AD116+AD117+AD119+AD121+AD123+AD124+AD125)-(AD118+AD120+AD122)","v":0},{"$f":"(AE116+AE117+AE119+AE121+AE123+AE124+AE125)-(AE118+AE120+AE122)","v":0},{"$f":"(AF116+AF117+AF119+AF121+AF123+AF124+AF125)-(AF118+AF120+AF122)","v":0},{"$f":"(AG116+AG117+AG119+AG121+AG123+AG124+AG125)-(AG118+AG120+AG122)","v":0},{"$f":"(AH116+AH117+AH119+AH121+AH123+AH124+AH125)-(AH118+AH120+AH122)","v":0},{"$f":"(AI116+AI117+AI119+AI121+AI123+AI124+AI125)-(AI118+AI120+AI122)","v":0},{"$f":"(AJ116+AJ117+AJ119+AJ121+AJ123+AJ124+AJ125)-(AJ118+AJ120+AJ122)","v":0},{"$f":"(AK116+AK117+AK119+AK121+AK123+AK124+AK125)-(AK118+AK120+AK122)","v":0},{"$f":"(AL116+AL117+AL119+AL121+AL123+AL124+AL125)-(AL118+AL120+AL122)","v":0},{"$f":"(AM116+AM117+AM119+AM121+AM123+AM124+AM125)-(AM118+AM120+AM122)","v":0},{"$f":"(AN116+AN117+AN119+AN121+AN123+AN124+AN125)-(AN118+AN120+AN122)","v":0},{"$f":"(AO116+AO117+AO119+AO121+AO123+AO124+AO125)-(AO118+AO120+AO122)","v":0},{"$f":"(AP116+AP117+AP119+AP121+AP123+AP124+AP125)-(AP118+AP120+AP122)","v":0},{"$f":"(AQ116+AQ117+AQ119+AQ121+AQ123+AQ124+AQ125)-(AQ118+AQ120+AQ122)","v":0},{"$f":"(AR116+AR117+AR119+AR121+AR123+AR124+AR125)-(AR118+AR120+AR122)","v":0},{"$f":"(AS116+AS117+AS119+AS121+AS123+AS124+AS125)-(AS118+AS120+AS122)","v":0},{"$f":"(AT116+AT117+AT119+AT121+AT123+AT124+AT125)-(AT118+AT120+AT122)","v":0},{"$f":"(AU116+AU117+AU119+AU121+AU123+AU124+AU125)-(AU118+AU120+AU122)","v":0}]
[null,"Averaging Set Credit Balance",{"$f":"SUM(C126:E126)","v":0},null,null,{"$f":"SUM(F126:H126)","v":0},null,null,{"$f":"SUM(I126:K126)","v":0},null,null,{"$f":"SUM(L126:N126)","v":0},null,null,{"$f":"SUM(O126:Q126)","v":0},null,null,{"$f":"SUM(R126:T126)","v":0},null,null,{"$f":"SUM(U126:W126)","v":0},null,null,{"$f":"SUM(X126:Z126)","v":0},null,null,{"$f":"SUM(AA126:AC126)","v":0},null,null,{"$f":"SUM(AD126:AF126)","v":0},null,null,{"$f":"SUM(AG126:AI126)","v":0},null,null,{"$f":"SUM(AJ126:AL126)","v":0},null,null,{"$f":"SUM(AM126:AO126)","v":0},null,null,{"$f":"SUM(AP126:AR126)","v":0},null,null,{"$f":"SUM(AS126:AU126)","v":0}]
[]
[]
[null,null,"SI - HDE (Cl 2b-8)"]
[null,null,2013,null,null,2014,null,null,2015,null,null,2016,null,null,2017,null,null,2018,null,null,2019,null,null,2020,null,null,2021,null,null,2022,null,null,2023,null,null,2024,null,null,2025,null,null,2026,null,null,2027]
[null,"Credit Type","Conventional Credit","Innovative Technology Credit","Advanced Technology Credit","Conventional Credit","Innovative Technology Credit","Advanced Technology Credit","Conventional Credit","Innovative Technology Credit","Advanced Technology Credit","Conventional Credit","Innovative Technology Credit","Advanced Technology Credit","Conventional Credit","Innovative Technology Credit","Advanced Technology Credit","Conventional Credit","Innovative Technology Credit","Advanced Technology Credit","Conventional Credit","Innovative Technology Credit","Advanced Technology Credit","Conventional Credit","Innovative Technology Credit","Advanced Technology Credit","Conventional Credit","Innovative Technology Credit","Advanced Technology Credit","Conventional Credit","Innovative Technology Credit","Advanced Technology Credit","Conventional Credit","Innovative Technology Credit","Advanced Technology Credit","Conventional Credit","Innovative Technology Credit","Advanced Technology Credit","Conventional Credit","Innovative Technology Credit","Advanced Technology Credit","Conventional Credit","Innovative Technology Credit","Advanced Technology Credit","Conventional Credit","Innovative Technology Credit","Advanced Technology Credit"]
[null,"Earned Credits",{"$f":"SUMIFS('ABT Credit Balances'!$D$9:$D$208,'ABT Credit Balances'!$B$9:$B$208,$C$130,'ABT Credit Balances'!$F$9:$F$208,C132,'ABT Credit Balances'!$E$9:$E$208,$C$131,'ABT Credit Balances'!$C$9:$C$208,$B$133)","v":0},{"$f":"SUMIFS('ABT Credit Balances'!$D$9:$D$208,'ABT Credit Balances'!$B$9:$B$208,$C$130,'ABT Credit Balances'!$F$9:$F$208,D132,'ABT Credit Balances'!$E$9:$E$208,$C$131,'ABT Credit Balances'!$C$9:$C$208,$B$133)","v":0},{"$f":"SUMIFS('ABT Credit Balances'!$D$9:$D$208,'ABT Credit Balances'!$B$9:$B$208,$C$130,'ABT Credit Balances'!$F$9:$F$208,E132,'ABT Credit Balances'!$E$9:$E$208,$C$131,'ABT Credit Balances'!$C$9:$C$208,$B$133)","v":0},{"$f":"SUMIFS('ABT Credit Balances'!$D$9:$D$208,'ABT Credit Balances'!$B$9:$B$208,$C$130,'ABT Credit Balances'!$F$9:$F$208,F132,'ABT Credit Balances'!$E$9:$E$208,$F$131,'ABT Credit Balances'!$C$9:$C$208,$B$133)","v":0},{"$f":"SUMIFS('ABT Credit Balances'!$D$9:$D$208,'ABT Credit Balances'!$B$9:$B$208,$C$130,'ABT Credit Balances'!$F$9:$F$208,G132,'ABT Credit Balances'!$E$9:$E$208,$F$131,'ABT Credit Balances'!$C$9:$C$208,$B$133)","v":0},{"$f":"SUMIFS('ABT Credit Balances'!$D$9:$D$208,'ABT Credit Balances'!$B$9:$B$208,$C$130,'ABT Credit Balances'!$F$9:$F$208,H132,'ABT Credit Balances'!$E$9:$E$208,$F$131,'ABT Credit Balances'!$C$9:$C$208,$B$133)","v":0},{"$f":"SUMIFS('ABT Credit Balances'!$D$9:$D$208,'ABT Credit Balances'!$B$9:$B$208,$C$130,'ABT Credit Balances'!$F$9:$F$208,I132,'ABT Credit Balances'!$E$9:$E$208,$I$131,'ABT Credit Balances'!$C$9:$C$208,$B$133)","v":0},{"$f":"SUMIFS('ABT Credit Balances'!$D$9:$D$208,'ABT Credit Balances'!$B$9:$B$208,$C$130,'ABT Credit Balances'!$F$9:$F$208,J132,'ABT Credit Balances'!$E$9:$E$208,$I$131,'ABT Credit Balances'!$C$9:$C$208,$B$133)","v":0},{"$f":"SUMIFS('ABT Credit Balances'!$D$9:$D$208,'ABT Credit Balances'!$B$9:$B$208,$C$130,'ABT Credit Balances'!$F$9:$F$208,K132,'ABT Credit Balances'!$E$9:$E$208,$I$131,'ABT Credit Balances'!$C$9:$C$208,$B$133)","v":0},{"$f":"SUMIFS('ABT Credit Balances'!$D$9:$D$208,'ABT Credit Balances'!$B$9:$B$208,$C$130,'ABT Credit Balances'!$F$9:$F$208,L132,'ABT Credit Balances'!$E$9:$E$208,$L$131,'ABT Credit Balances'!$C$9:$C$208,$B$133)","v":0},{"$f":"SUMIFS('ABT Credit Balances'!$D$9:$D$208,'ABT Credit Balances'!$B$9:$B$208,$C$130,'ABT Credit Balances'!$F$9:$F$208,M132,'ABT Credit Balances'!$E$9:$E$208,$L$131,'ABT Credit Balances'!$C$9:$C$208,$B$133)","v":0},{"$f":"SUMIFS('ABT Credit Balances'!$D$9:$D$208,'ABT Credit Balances'!$B$9:$B$208,$C$130,'ABT Credit Balances'!$F$9:$F$208,N132,'ABT Credit Balances'!$E$9:$E$208,$L$131,'ABT Credit Balances'!$C$9:$C$208,$B$133)","v":0},{"$f":"SUMIFS('ABT Credit Balances'!$D$9:$D$208,'ABT Credit Balances'!$B$9:$B$208,$C$130,'ABT Credit Balances'!$F$9:$F$208,O132,'ABT Credit Balances'!$E$9:$E$208,$O$131,'ABT Credit Balances'!$C$9:$C$208,$B$133)","v":0},{"$f":"SUMIFS('ABT Credit Balances'!$D$9:$D$208,'ABT Credit Balances'!$B$9:$B$208,$C$130,'ABT Credit Balances'!$F$9:$F$208,P132,'ABT Credit Balances'!$E$9:$E$208,$O$131,'ABT Credit Balances'!$C$9:$C$208,$B$133)","v":0},{"$f":"SUMIFS('ABT Credit Balances'!$D$9:$D$208,'ABT Credit Balances'!$B$9:$B$208,$C$130,'ABT Credit Balances'!$F$9:$F$208,Q132,'ABT Credit Balances'!$E$9:$E$208,$O$131,'ABT Credit Balances'!$C$9:$C$208,$B$133)","v":0},{"$f":"SUMIFS('ABT Credit Balances'!$D$9:$D$208,'ABT Credit Balances'!$B$9:$B$208,$C$130,'ABT Credit Balances'!$F$9:$F$208,R132,'ABT Credit Balances'!$E$9:$E$208,$R$131,'ABT Credit Balances'!$C$9:$C$208,$B$133)","v":0},{"$f":"SUMIFS('ABT Credit Balances'!$D$9:$D$208,'ABT Credit Balances'!$B$9:$B$208,$C$130,'ABT Credit Balances'!$F$9:$F$208,S132,'ABT Credit Balances'!$E$9:$E$208,$R$131,'ABT Credit Balances'!$C$9:$C$208,$B$133)","v":0},{"$f":"SUMIFS('ABT Credit Balances'!$D$9:$D$208,'ABT Credit Balances'!$B$9:$B$208,$C$130,'ABT Credit Balances'!$F$9:$F$208,T132,'ABT Credit Balances'!$E$9:$E$208,$R$131,'ABT Credit Balances'!$C$9:$C$208,$B$133)","v":0},{"$f":"SUMIFS('ABT Credit Balances'!$D$9:$D$208,'ABT Credit Balances'!$B$9:$B$208,$C130,'ABT Credit Balances'!$F$9:$F$208,U132,'ABT Credit Balances'!$E$9:$E$208,$U$14,'ABT Credit Balances'!$C$9:$C$208,$B$16)","v":0},{"$f":"SUMIFS('ABT Credit Balances'!$D$9:$D$208,'ABT Credit Balances'!$B$9:$B$208,$C130,'ABT Credit Balances'!$F$9:$F$208,V132,'ABT Credit Balances'!$E$9:$E$208,$U$14,'ABT Credit Balances'!$C$9:$C$208,$B$16)","v":0},{"$f":"SUMIFS('ABT Credit Balances'!$D$9:$D$208,'ABT Credit Balances'!$B$9:$B$208,$C130,'ABT Credit Balances'!$F$9:$F$208,W132,'ABT Credit Balances'!$E$9:$E$208,$U$14,'ABT Credit Balances'!$C$9:$C$208,$B$16)","v":0},{"$f":"SUMIFS('ABT Credit Balances'!$D$9:$D$208,'ABT Credit Balances'!$B$9:$B$208,$C130,'ABT Credit Balances'!$F$9:$F$208,X132,'ABT Credit Balances'!$E$9:$E$208,$X$14,'ABT Credit Balances'!$C$9:$C$208,$B$16)","v":0},{"$f":"SUMIFS('ABT Credit Balances'!$D$9:$D$208,'ABT Credit Balances'!$B$9:$B$208,$C130,'ABT Credit Balances'!$F$9:$F$208,Y132,'ABT Credit Balances'!$E$9:$E$208,$X$14,'ABT Credit Balances'!$C$9:$C$208,$B$16)","v":0},{"$f":"SUMIFS('ABT Credit Balances'!$D$9:$D$208,'ABT Credit Balances'!$B$9:$B$208,$C130,'ABT Credit Balances'!$F$9:$F$208,Z132,'ABT Credit Balances'!$E$9:$E$208,$X$14,'ABT Credit Balances'!$C$9:$C$208,$B$16)","v":0},{"$f":"SUMIFS('ABT Credit Balances'!$D$9:$D$208,'ABT Credit Balances'!$B$9:$B$208,$C130,'ABT Credit Balances'!$F$9:$F$208,AA132,'ABT Credit Balances'!$E$9:$E$208,$AA$14,'ABT Credit Balances'!$C$9:$C$208,$B$16)","v":0},{"$f":"SUMIFS('ABT Credit Balances'!$D$9:$D$208,'ABT Credit Balances'!$B$9:$B$208,$C130,'ABT Credit Balances'!$F$9:$F$208,AB132,'ABT Credit Balances'!$E$9:$E$208,$AA$14,'ABT Credit Balances'!$C$9:$C$208,$B$16)","v":0},{"$f":"SUMIFS('ABT Credit Balances'!$D$9:$D$208,'ABT Credit Balances'!$B$9:$B$208,$C130,'ABT Credit Balances'!$F$9:$F$208,AC132,'ABT Credit Balances'!$E$9:$E$208,$AA$14,'ABT Credit Balances'!$C$9:$C$208,$B$16)","v":0},{"$f":"SUMIFS('ABT Credit Balances'!$D$9:$D$208,'ABT Credit Balances'!$B$9:$B$208,$C130,'ABT Credit Balances'!$F$9:$F$208,AD132,'ABT Credit Balances'!$E$9:$E$208,$AD$14,'ABT Credit Balances'!$C$9:$C$208,$B$16)","v":0},{"$f":"SUMIFS('ABT Credit Balances'!$D$9:$D$208,'ABT Credit Balances'!$B$9:$B$208,$C130,'ABT Credit Balances'!$F$9:$F$208,AE132,'ABT Credit Balances'!$E$9:$E$208,$AD$14,'ABT Credit Balances'!$C$9:$C$208,$B$16)","v":0},{"$f":"SUMIFS('ABT Credit Balances'!$D$9:$D$208,'ABT Credit Balances'!$B$9:$B$208,$C130,'ABT Credit Balances'!$F$9:$F$208,AF132,'ABT Credit Balances'!$E$9:$E$208,$AD$14,'ABT Credit Balances'!$C$9:$C$208,$B$16)","v":0},{"$f":"SUMIFS('ABT Credit Balances'!$D$9:$D$208,'ABT Credit Balances'!$B$9:$B$208,$C130,'ABT Credit Balances'!$F$9:$F$208,AG132,'ABT Credit Balances'!$E$9:$E$208,$AG$14,'ABT Credit Balances'!$C$9:$C$208,$B$16)","v":0},{"$f":"SUMIFS('ABT Credit Balances'!$D$9:$D$208,'ABT Credit Balances'!$B$9:$B$208,$C130,'ABT Credit Balances'!$F$9:$F$208,AH132,'ABT Credit Balances'!$E$9:$E$208,$AG$14,'ABT Credit Balances'!$C$9:$C$208,$B$16)","v":0},{"$f":"SUMIFS('ABT Credit Balances'!$D$9:$D$208,'ABT Credit Balances'!$B$9:$B$208,$C130,'ABT Credit Balances'!$F$9:$F$208,AI132,'ABT Credit Balances'!$E$9:$E$208,$AG$14,'ABT Credit Balances'!$C$9:$C$208,$B$16)","v":0},{"$f":"SUMIFS('ABT Credit Balances'!$D$9:$D$208,'ABT Credit Balances'!$B$9:$B$208,$C130,'ABT Credit Balances'!$F$9:$F$208,AJ132,'ABT Credit Balances'!$E$9:$E$208,$AJ$14,'ABT Credit Balances'!$C$9:$C$208,$B$16)","v":0},{"$f":"SUMIFS('ABT Credit Balances'!$D$9:$D$208,'ABT Credit Balances'!$B$9:$B$208,$C130,'ABT Credit Balances'!$F$9:$F$208,AK132,'ABT Credit Balances'!$E$9:$E$208,$AJ$14,'ABT Credit Balances'!$C$9:$C$208,$B$16)","v":0},{"$f":"SUMIFS('ABT Credit Balances'!$D$9:$D$208,'ABT Credit Balances'!$B$9:$B$208,$C130,'ABT Credit Balances'!$F$9:$F$208,AL132,'ABT Credit Balances'!$E$9:$E$208,$AJ$14,'ABT Credit Balances'!$C$9:$C$208,$B$16)","v":0},{"$f":"SUMIFS('ABT Credit Balances'!$D$9:$D$208,'ABT Credit Balances'!$B$9:$B$208,$C130,'ABT Credit Balances'!$F$9:$F$208,AM132,'ABT Credit Balances'!$E$9:$E$208,$AM$14,'ABT Credit Balances'!$C$9:$C$208,$B$16)","v":0},{"$f":"SUMIFS('ABT Credit Balances'!$D$9:$D$208,'ABT Credit Balances'!$B$9:$B$208,$C130,'ABT Credit Balances'!$F$9:$F$208,AN132,'ABT Credit Balances'!$E$9:$E$208,$AM$14,'ABT Credit Balances'!$C$9:$C$208,$B$16)","v":0},{"$f":"SUMIFS('ABT Credit Balances'!$D$9:$D$208,'ABT Credit Balances'!$B$9:$B$208,$C130,'ABT Credit Balances'!$F$9:$F$208,AO132,'ABT Credit Balances'!$E$9:$E$208,$AM$14,'ABT Credit Balances'!$C$9:$C$208,$B$16)","v":0},{"$f":"SUMIFS('ABT Credit Balances'!$D$9:$D$208,'ABT Credit Balances'!$B$9:$B$208,$C130,'ABT Credit Balances'!$F$9:$F$208,AP132,'ABT Credit Balances'!$E$9:$E$208,$AP$14,'ABT Credit Balances'!$C$9:$C$208,$B$16)","v":0},{"$f":"SUMIFS('ABT Credit Balances'!$D$9:$D$208,'ABT Credit Balances'!$B$9:$B$208,$C130,'ABT Credit Balances'!$F$9:$F$208,AQ132,'ABT Credit Balances'!$E$9:$E$208,$AP$14,'ABT Credit Balances'!$C$9:$C$208,$B$16)","v":0},{"$f":"SUMIFS('ABT Credit Balances'!$D$9:$D$208,'ABT Credit Balances'!$B$9:$B$208,$C130,'ABT Credit Balances'!$F$9:$F$208,AR132,'ABT Credit Balances'!$E$9:$E$208,$AP$14,'ABT Credit Balances'!$C$9:$C$208,$B$16)","v":0},{"$f":"SUMIFS('ABT Credit Balances'!$D$9:$D$208,'ABT Credit Balances'!$B$9:$B$208,$C$130,'ABT Credit Balances'!$F$9:$F$208,AS132,'ABT Credit Balances'!$E$9:$E$208,$AS$131,'ABT Credit Balances'!$C$9:$C$208,$B$133)","v":0},{"$f":"SUMIFS('ABT Credit Balances'!$D$9:$D$208,'ABT Credit Balances'!$B$9:$B$208,$C$130,'ABT Credit Balances'!$F$9:$F$208,AT132,'ABT Credit Balances'!$E$9:$E$208,$AS$131,'ABT Credit Balances'!$C$9:$C$208,$B$133)","v":0},{"$f":"SUMIFS('ABT Credit Balances'!$D$9:$D$208,'ABT Credit Balances'!$B$9:$B$208,$C$130,'ABT Credit Balances'!$F$9:$F$208,AU132,'ABT Credit Balances'!$E$9:$E$208,$AS$131,'ABT Credit Balances'!$C$9:$C$208,$B$133)","v":0}]
[null,"Projected Credits",{"$f":"SUMIFS('ABT Credit Balances'!$D$9:$D$208,'ABT Credit Balances'!$B$9:$B$208,$C$130,'ABT Credit Balances'!$F$9:$F$208,C132,'ABT Credit Balances'!$E$9:$E$208,$C$131,'ABT Credit Balances'!$C$9:$C$208,$B$134)","v":0},{"$f":"SUMIFS('ABT Credit Balances'!$D$9:$D$208,'ABT Credit Balances'!$B$9:$B$208,$C$130,'ABT Credit Balances'!$F$9:$F$208,D132,'ABT Credit Balances'!$E$9:$E$208,$C$131,'ABT Credit Balances'!$C$9:$C$208,$B$134)","v":0},{"$f":"SUMIFS('ABT Credit Balances'!$D$9:$D$208,'ABT Credit Balances'!$B$9:$B$208,$C$130,'ABT Credit Balances'!$F$9:$F$208,E132,'ABT Credit Balances'!$E$9:$E$208,$C$131,'ABT Credit Balances'!$C$9:$C$208,$B$134)","v":0},{"$f":"SUMIFS('ABT Credit Balances'!$D$9:$D$208,'ABT Credit Balances'!$B$9:$B$208,$C$130,'ABT Credit Balances'!$F$9:$F$208,F132,'ABT Credit Balances'!$E$9:$E$208,$F$131,'ABT Credit Balances'!$C$9:$C$208,$B$134)","v":0},{"$f":"SUMIFS('ABT Credit Balances'!$D$9:$D$208,'ABT Credit Balances'!$B$9:$B$208,$C$130,'ABT Credit Balances'!$F$9:$F$208,G132,'ABT Credit Balances'!$E$9:$E$208,$F$131,'ABT Credit Balances'!$C$9:$C$208,$B$134)","v":0},{"$f":"SUMIFS('ABT Credit Balances'!$D$9:$D$208,'ABT Credit Balances'!$B$9:$B$208,$C$130,'ABT Credit Balances'!$F$9:$F$208,H132,'ABT Credit Balances'!$E$9:$E$208,$F$131,'ABT Credit Balances'!$C$9:$C$208,$B$134)","v":0},{"$f":"SUMIFS('ABT Credit Balances'!$D$9:$D$208,'ABT Credit Balances'!$B$9:$B$208,$C$130,'ABT Credit Balances'!$F$9:$F$208,I132,'ABT Credit Balances'!$E$9:$E$208,$I$131,'ABT Credit Balances'!$C$9:$C$208,$B$134)","v":0},{"$f":"SUMIFS('ABT Credit Balances'!$D$9:$D$208,'ABT Credit Balances'!$B$9:$B$208,$C$130,'ABT Credit Balances'!$F$9:$F$208,J132,'ABT Credit Balances'!$E$9:$E$208,$I$131,'ABT Credit Balances'!$C$9:$C$208,$B$134)","v":0},{"$f":"SUMIFS('ABT Credit Balances'!$D$9:$D$208,'ABT Credit Balances'!$B$9:$B$208,$C$130,'ABT Credit Balances'!$F$9:$F$208,K132,'ABT Credit Balances'!$E$9:$E$208,$I$131,'ABT Credit Balances'!$C$9:$C$208,$B$134)","v":0},{"$f":"SUMIFS('ABT Credit Balances'!$D$9:$D$208,'ABT Credit Balances'!$B$9:$B$208,$C$130,'ABT Credit Balances'!$F$9:$F$208,L132,'ABT Credit Balances'!$E$9:$E$208,$L$131,'ABT Credit Balances'!$C$9:$C$208,$B$134)","v":0},{"$f":"SUMIFS('ABT Credit Balances'!$D$9:$D$208,'ABT Credit Balances'!$B$9:$B$208,$C$130,'ABT Credit Balances'!$F$9:$F$208,M132,'ABT Credit Balances'!$E$9:$E$208,$L$131,'ABT Credit Balances'!$C$9:$C$208,$B$134)","v":0},{"$f":"SUMIFS('ABT Credit Balances'!$D$9:$D$208,'ABT Credit Balances'!$B$9:$B$208,$C$130,'ABT Credit Balances'!$F$9:$F$208,N132,'ABT Credit Balances'!$E$9:$E$208,$L$131,'ABT Credit Balances'!$C$9:$C$208,$B$134)","v":0},{"$f":"SUMIFS('ABT Credit Balances'!$D$9:$D$208,'ABT Credit Balances'!$B$9:$B$208,$C$130,'ABT Credit Balances'!$F$9:$F$208,O132,'ABT Credit Balances'!$E$9:$E$208,$O$131,'ABT Credit Balances'!$C$9:$C$208,$B$134)","v":0},{"$f":"SUMIFS('ABT Credit Balances'!$D$9:$D$208,'ABT Credit Balances'!$B$9:$B$208,$C$130,'ABT Credit Balances'!$F$9:$F$208,P132,'ABT Credit Balances'!$E$9:$E$208,$O$131,'ABT Credit Balances'!$C$9:$C$208,$B$134)","v":0},{"$f":"SUMIFS('ABT Credit Balances'!$D$9:$D$208,'ABT Credit Balances'!$B$9:$B$208,$C$130,'ABT Credit Balances'!$F$9:$F$208,Q132,'ABT Credit Balances'!$E$9:$E$208,$O$131,'ABT Credit Balances'!$C$9:$C$208,$B$134)","v":0},{"$f":"SUMIFS('ABT Credit Balances'!$D$9:$D$208,'ABT Credit Balances'!$B$9:$B$208,$C$130,'ABT Credit Balances'!$F$9:$F$208,R132,'ABT Credit Balances'!$E$9:$E$208,$R$131,'ABT Credit Balances'!$C$9:$C$208,$B$134)","v":0},{"$f":"SUMIFS('ABT Credit Balances'!$D$9:$D$208,'ABT Credit Balances'!$B$9:$B$208,$C$130,'ABT Credit Balances'!$F$9:$F$208,S132,'ABT Credit Balances'!$E$9:$E$208,$R$131,'ABT Credit Balances'!$C$9:$C$208,$B$134)","v":0},{"$f":"SUMIFS('ABT Credit Balances'!$D$9:$D$208,'ABT Credit Balances'!$B$9:$B$208,$C$130,'ABT Credit Balances'!$F$9:$F$208,T132,'ABT Credit Balances'!$E$9:$E$208,$R$131,'ABT Credit Balances'!$C$9:$C$208,$B$134)","v":0},{"$f":"SUMIFS('ABT Credit Balances'!$D$9:$D$208,'ABT Credit Balances'!$B$9:$B$208,$C130,'ABT Credit Balances'!$F$9:$F$208,U132,'ABT Credit Balances'!$E$9:$E$208,$U$14,'ABT Credit Balances'!$C$9:$C$208,$B$17)","v":0},{"$f":"SUMIFS('ABT Credit Balances'!$D$9:$D$208,'ABT Credit Balances'!$B$9:$B$208,$C130,'ABT Credit Balances'!$F$9:$F$208,V132,'ABT Credit Balances'!$E$9:$E$208,$U$14,'ABT Credit Balances'!$C$9:$C$208,$B$17)","v":0},{"$f":"SUMIFS('ABT Credit Balances'!$D$9:$D$208,'ABT Credit Balances'!$B$9:$B$208,$C130,'ABT Credit Balances'!$F$9:$F$208,W132,'ABT Credit Balances'!$E$9:$E$208,$U$14,'ABT Credit Balances'!$C$9:$C$208,$B$17)","v":0},{"$f":"SUMIFS('ABT Credit Balances'!$D$9:$D$208,'ABT Credit Balances'!$B$9:$B$208,$C130,'ABT Credit Balances'!$F$9:$F$208,X132,'ABT Credit Balances'!$E$9:$E$208,$X$14,'ABT Credit Balances'!$C$9:$C$208,$B$17)","v":0},{"$f":"SUMIFS('ABT Credit Balances'!$D$9:$D$208,'ABT Credit Balances'!$B$9:$B$208,$C130,'ABT Credit Balances'!$F$9:$F$208,Y132,'ABT Credit Balances'!$E$9:$E$208,$X$14,'ABT Credit Balances'!$C$9:$C$208,$B$17)","v":0},{"$f":"SUMIFS('ABT Credit Balances'!$D$9:$D$208,'ABT Credit Balances'!$B$9:$B$208,$C130,'ABT Credit Balances'!$F$9:$F$208,Z132,'ABT Credit Balances'!$E$9:$E$208,$X$14,'ABT Credit Balances'!$C$9:$C$208,$B$17)","v":0},{"$f":"SUMIFS('ABT Credit Balances'!$D$9:$D$208,'ABT Credit Balances'!$B$9:$B$208,$C130,'ABT Credit Balances'!$F$9:$F$208,AA132,'ABT Credit Balances'!$E$9:$E$208,$AA$14,'ABT Credit Balances'!$C$9:$C$208,$B$17)","v":0},{"$f":"SUMIFS('ABT Credit Balances'!$D$9:$D$208,'ABT Credit Balances'!$B$9:$B$208,$C130,'ABT Credit Balances'!$F$9:$F$208,AB132,'ABT Credit Balances'!$E$9:$E$208,$AA$14,'ABT Credit Balances'!$C$9:$C$208,$B$17)","v":0},{"$f":"SUMIFS('ABT Credit Balances'!$D$9:$D$208,'ABT Credit Balances'!$B$9:$B$208,$C130,'ABT Credit Balances'!$F$9:$F$208,AC132,'ABT Credit Balances'!$E$9:$E$208,$AA$14,'ABT Credit Balances'!$C$9:$C$208,$B$17)","v":0},{"$f":"SUMIFS('ABT Credit Balances'!$D$9:$D$208,'ABT Credit Balances'!$B$9:$B$208,$C130,'ABT Credit Balances'!$F$9:$F$208,AD132,'ABT Credit Balances'!$E$9:$E$208,$AD$14,'ABT Credit Balances'!$C$9:$C$208,$B$17)","v":0},{"$f":"SUMIFS('ABT Credit Balances'!$D$9:$D$208,'ABT Credit Balances'!$B$9:$B$208,$C130,'ABT Credit Balances'!$F$9:$F$208,AE132,'ABT Credit Balances'!$E$9:$E$208,$AD$14,'ABT Credit Balances'!$C$9:$C$208,$B$17)","v":0},{"$f":"SUMIFS('ABT Credit Balances'!$D$9:$D$208,'ABT Credit Balances'!$B$9:$B$208,$C130,'ABT Credit Balances'!$F$9:$F$208,AF132,'ABT Credit Balances'!$E$9:$E$208,$AD$14,'ABT Credit Balances'!$C$9:$C$208,$B$17)","v":0},{"$f":"SUMIFS('ABT Credit Balances'!$D$9:$D$208,'ABT Credit Balances'!$B$9:$B$208,$C130,'ABT Credit Balances'!$F$9:$F$208,AG132,'ABT Credit Balances'!$E$9:$E$208,$AG$14,'ABT Credit Balances'!$C$9:$C$208,$B$17)","v":0},{"$f":"SUMIFS('ABT Credit Balances'!$D$9:$D$208,'ABT Credit Balances'!$B$9:$B$208,$C130,'ABT Credit Balances'!$F$9:$F$208,AH132,'ABT Credit Balances'!$E$9:$E$208,$AG$14,'ABT Credit Balances'!$C$9:$C$208,$B$17)","v":0},{"$f":"SUMIFS('ABT Credit Balances'!$D$9:$D$208,'ABT Credit Balances'!$B$9:$B$208,$C130,'ABT Credit Balances'!$F$9:$F$208,AI132,'ABT Credit Balances'!$E$9:$E$208,$AG$14,'ABT Credit Balances'!$C$9:$C$208,$B$17)","v":0},{"$f":"SUMIFS('ABT Credit Balances'!$D$9:$D$208,'ABT Credit Balances'!$B$9:$B$208,$C130,'ABT Credit Balances'!$F$9:$F$208,AJ132,'ABT Credit Balances'!$E$9:$E$208,$AJ$14,'ABT Credit Balances'!$C$9:$C$208,$B$17)","v":0},{"$f":"SUMIFS('ABT Credit Balances'!$D$9:$D$208,'ABT Credit Balances'!$B$9:$B$208,$C130,'ABT Credit Balances'!$F$9:$F$208,AK132,'ABT Credit Balances'!$E$9:$E$208,$AJ$14,'ABT Credit Balances'!$C$9:$C$208,$B$17)","v":0},{"$f":"SUMIFS('ABT Credit Balances'!$D$9:$D$208,'ABT Credit Balances'!$B$9:$B$208,$C130,'ABT Credit Balances'!$F$9:$F$208,AL132,'ABT Credit Balances'!$E$9:$E$208,$AJ$14,'ABT Credit Balances'!$C$9:$C$208,$B$17)","v":0},{"$f":"SUMIFS('ABT Credit Balances'!$D$9:$D$208,'ABT Credit Balances'!$B$9:$B$208,$C130,'ABT Credit Balances'!$F$9:$F$208,AM132,'ABT Credit Balances'!$E$9:$E$208,$AM$14,'ABT Credit Balances'!$C$9:$C$208,$B$17)","v":0},{"$f":"SUMIFS('ABT Credit Balances'!$D$9:$D$208,'ABT Credit Balances'!$B$9:$B$208,$C130,'ABT Credit Balances'!$F$9:$F$208,AN132,'ABT Credit Balances'!$E$9:$E$208,$AM$14,'ABT Credit Balances'!$C$9:$C$208,$B$17)","v":0},{"$f":"SUMIFS('ABT Credit Balances'!$D$9:$D$208,'ABT Credit Balances'!$B$9:$B$208,$C130,'ABT Credit Balances'!$F$9:$F$208,AO132,'ABT Credit Balances'!$E$9:$E$208,$AM$14,'ABT Credit Balances'!$C$9:$C$208,$B$17)","v":0},{"$f":"SUMIFS('ABT Credit Balances'!$D$9:$D$208,'ABT Credit Balances'!$B$9:$B$208,$C130,'ABT Credit Balances'!$F$9:$F$208,AP132,'ABT Credit Balances'!$E$9:$E$208,$AP$14,'ABT Credit Balances'!$C$9:$C$208,$B$17)","v":0},{"$f":"SUMIFS('ABT Credit Balances'!$D$9:$D$208,'ABT Credit Balances'!$B$9:$B$208,$C130,'ABT Credit Balances'!$F$9:$F$208,AQ132,'ABT Credit Balances'!$E$9:$E$208,$AP$14,'ABT Credit Balances'!$C$9:$C$208,$B$17)","v":0},{"$f":"SUMIFS('ABT Credit Balances'!$D$9:$D$208,'ABT Credit Balances'!$B$9:$B$208,$C130,'ABT Credit Balances'!$F$9:$F$208,AR132,'ABT Credit Balances'!$E$9:$E$208,$AP$14,'ABT Credit Balances'!$C$9:$C$208,$B$17)","v":0},{"$f":"SUMIFS('ABT Credit Balances'!$D$9:$D$208,'ABT Credit Balances'!$B$9:$B$208,$C$130,'ABT Credit Balances'!$F$9:$F$208,AS132,'ABT Credit Balances'!$E$9:$E$208,$AS$131,'ABT Credit Balances'!$C$9:$C$208,$B$134)","v":0},{"$f":"SUMIFS('ABT Credit Balances'!$D$9:$D$208,'ABT Credit Balances'!$B$9:$B$208,$C$130,'ABT Credit Balances'!$F$9:$F$208,AT132,'ABT Credit Balances'!$E$9:$E$208,$AS$131,'ABT Credit Balances'!$C$9:$C$208,$B$134)","v":0},{"$f":"SUMIFS('ABT Credit Balances'!$D$9:$D$208,'ABT Credit Balances'!$B$9:$B$208,$C$130,'ABT Credit Balances'!$F$9:$F$208,AU132,'ABT Credit Balances'!$E$9:$E$208,$AS$131,'ABT Credit Balances'!$C$9:$C$208,$B$134)","v":0}]
[null,"Applied Banked Credits (out)",{"$f":"SUMIFS('ABT Transactions'!$B$9:$B$40,'ABT Transactions'!$G$9:$G$40,$C$130,'ABT Transactions'!$F$9:$F$40,$C131,'ABT Transactions'!$C$9:$C$40,C132,'ABT Transactions'!$D$9:$D$40,$B$135)","v":0},{"$f":"SUMIFS('ABT Transactions'!$B$9:$B$40,'ABT Transactions'!$G$9:$G$40,$C$130,'ABT Transactions'!$F$9:$F$40,$C131,'ABT Transactions'!$C$9:$C$40,D132,'ABT Transactions'!$D$9:$D$40,$B$135)","v":0},{"$f":"SUMIFS('ABT Transactions'!$B$9:$B$40,'ABT Transactions'!$G$9:$G$40,$C$130,'ABT Transactions'!$F$9:$F$40,$C131,'ABT Transactions'!$C$9:$C$40,E132,'ABT Transactions'!$D$9:$D$40,$B$135)","v":0},{"$f":"SUMIFS('ABT Transactions'!$B$9:$B$40,'ABT Transactions'!$G$9:$G$40,$C$130,'ABT Transactions'!$F$9:$F$40,F131,'ABT Transactions'!$C$9:$C$40,F132,'ABT Transactions'!$D$9:$D$40,$B$135)","v":0},{"$f":"SUMIFS('ABT Transactions'!$B$9:$B$40,'ABT Transactions'!$G$9:$G$40,$C$130,'ABT Transactions'!$F$9:$F$40,F131,'ABT Transactions'!$C$9:$C$40,G132,'ABT Transactions'!$D$9:$D$40,$B$135)","v":0},{"$f":"SUMIFS('ABT Transactions'!$B$9:$B$40,'ABT Transactions'!$G$9:$G$40,$C$130,'ABT Transactions'!$F$9:$F$40,F131,'ABT Transactions'!$C$9:$C$40,H132,'ABT Transactions'!$D$9:$D$40,$B$135)","v":0},{"$f":"SUMIFS('ABT Transactions'!$B$9:$B$40,'ABT Transactions'!$G$9:$G$40,$C$130,'ABT Transactions'!$F$9:$F$40,I131,'ABT Transactions'!$C$9:$C$40,I132,'ABT Transactions'!$D$9:$D$40,$B$135)","v":0},{"$f":"SUMIFS('ABT Transactions'!$B$9:$B$40,'ABT Transactions'!$G$9:$G$40,$C$130,'ABT Transactions'!$F$9:$F$40,I131,'ABT Transactions'!$C$9:$C$40,J132,'ABT Transactions'!$D$9:$D$40,$B$135)","v":0},{"$f":"SUMIFS('ABT Transactions'!$B$9:$B$40,'ABT Transactions'!$G$9:$G$40,$C$130,'ABT Transactions'!$F$9:$F$40,I131,'ABT Transactions'!$C$9:$C$40,K132,'ABT Transactions'!$D$9:$D$40,$B$135)","v":0},{"$f":"SUMIFS('ABT Transactions'!$B$9:$B$40,'ABT Transactions'!$G$9:$G$40,$C$130,'ABT Transactions'!$F$9:$F$40,L131,'ABT Transactions'!$C$9:$C$40,L132,'ABT Transactions'!$D$9:$D$40,$B$135)","v":0},{"$f":"SUMIFS('ABT Transactions'!$B$9:$B$40,'ABT Transactions'!$G$9:$G$40,$C$130,'ABT Transactions'!$F$9:$F$40,L131,'ABT Transactions'!$C$9:$C$40,M132,'ABT Transactions'!$D$9:$D$40,$B$135)","v":0},{"$f":"SUMIFS('ABT Transactions'!$B$9:$B$40,'ABT Transactions'!$G$9:$G$40,$C$130,'ABT Transactions'!$F$9:$F$40,L131,'ABT Transactions'!$C$9:$C$40,N132,'ABT Transactions'!$D$9:$D$40,$B$135)","v":0},{"$f":"SUMIFS('ABT Transactions'!$B$9:$B$40,'ABT Transactions'!$G$9:$G$40,$C$130,'ABT Transactions'!$F$9:$F$40,O131,'ABT Transactions'!$C$9:$C$40,O132,'ABT Transactions'!$D$9:$D$40,$B$135)","v":0},{"$f":"SUMIFS('ABT Transactions'!$B$9:$B$40,'ABT Transactions'!$G$9:$G$40,$C$130,'ABT Transactions'!$F$9:$F$40,O131,'ABT Transactions'!$C$9:$C$40,P132,'ABT Transactions'!$D$9:$D$40,$B$135)","v":0},{"$f":"SUMIFS('ABT Transactions'!$B$9:$B$40,'ABT Transactions'!$G$9:$G$40,$C$130,'ABT Transactions'!$F$9:$F$40,O131,'ABT Transactions'!$C$9:$C$40,Q132,'ABT Transactions'!$D$9:$D$40,$B$135)","v":0},{"$f":"SUMIFS('ABT Transactions'!$B$9:$B$40,'ABT Transactions'!$G$9:$G$40,$C$130,'ABT Transactions'!$F$9:$F$40,R131,'ABT Transactions'!$C$9:$C$40,R132,'ABT Transactions'!$D$9:$D$40,$B$135)","v":0},{"$f":"SUMIFS('ABT Transactions'!$B$9:$B$40,'ABT Transactions'!$G$9:$G$40,$C$130,'ABT Transactions'!$F$9:$F$40,R131,'ABT Transactions'!$C$9:$C$40,S132,'ABT Transactions'!$D$9:$D$40,$B$135)","v":0},{"$f":"SUMIFS('ABT Transactions'!$B$9:$B$40,'ABT Transactions'!$G$9:$G$40,$C$130,'ABT Transactions'!$F$9:$F$40,R131,'ABT Transactions'!$C$9:$C$40,T132,'ABT Transactions'!$D$9:$D$40,$B$135)","v":0},{"$f":"SUMIFS('ABT Transactions'!$B$9:$B$40,'ABT Transactions'!$G$9:$G$40,$C130,'ABT Transactions'!$F$9:$F$40,$U$14,'ABT Transactions'!$C$9:$C$40,U132,'ABT Transactions'!$D$9:$D$40,$B$18)","v":0},{"$f":"SUMIFS('ABT Transactions'!$B$9:$B$40,'ABT Transactions'!$G$9:$G$40,$C130,'ABT Transactions'!$F$9:$F$40,$U$14,'ABT Transactions'!$C$9:$C$40,V132,'ABT Transactions'!$D$9:$D$40,$B$18)","v":0},{"$f":"SUMIFS('ABT Transactions'!$B$9:$B$40,'ABT Transactions'!$G$9:$G$40,$C130,'ABT Transactions'!$F$9:$F$40,$U$14,'ABT Transactions'!$C$9:$C$40,W132,'ABT Transactions'!$D$9:$D$40,$B$18)","v":0},{"$f":"SUMIFS('ABT Transactions'!$B$9:$B$40,'ABT Transactions'!$G$9:$G$40,$C130,'ABT Transactions'!$F$9:$F$40,$X$14,'ABT Transactions'!$C$9:$C$40,X132,'ABT Transactions'!$D$9:$D$40,$B$18)","v":0},{"$f":"SUMIFS('ABT Transactions'!$B$9:$B$40,'ABT Transactions'!$G$9:$G$40,$C130,'ABT Transactions'!$F$9:$F$40,$X$14,'ABT Transactions'!$C$9:$C$40,Y132,'ABT Transactions'!$D$9:$D$40,$B$18)","v":0},{"$f":"SUMIFS('ABT Transactions'!$B$9:$B$40,'ABT Transactions'!$G$9:$G$40,$C130,'ABT Transactions'!$F$9:$F$40,$X$14,'ABT Transactions'!$C$9:$C$40,Z132,'ABT Transactions'!$D$9:$D$40,$B$18)","v":0},{"$f":"SUMIFS('ABT Transactions'!$B$9:$B$40,'ABT Transactions'!$G$9:$G$40,$C130,'ABT Transactions'!$F$9:$F$40,$AA$14,'ABT Transactions'!$C$9:$C$40,AA132,'ABT Transactions'!$D$9:$D$40,$B$18)","v":0},{"$f":"SUMIFS('ABT Transactions'!$B$9:$B$40,'ABT Transactions'!$G$9:$G$40,$C130,'ABT Transactions'!$F$9:$F$40,$AA$14,'ABT Transactions'!$C$9:$C$40,AB132,'ABT Transactions'!$D$9:$D$40,$B$18)","v":0},{"$f":"SUMIFS('ABT Transactions'!$B$9:$B$40,'ABT Transactions'!$G$9:$G$40,$C130,'ABT Transactions'!$F$9:$F$40,$AA$14,'ABT Transactions'!$C$9:$C$40,AC132,'ABT Transactions'!$D$9:$D$40,$B$18)","v":0},{"$f":"SUMIFS('ABT Transactions'!$B$9:$B$40,'ABT Transactions'!$G$9:$G$40,$C130,'ABT Transactions'!$F$9:$F$40,$AD$14,'ABT Transactions'!$C$9:$C$40,AD132,'ABT Transactions'!$D$9:$D$40,$B$18)","v":0},{"$f":"SUMIFS('ABT Transactions'!$B$9:$B$40,'ABT Transactions'!$G$9:$G$40,$C130,'ABT Transactions'!$F$9:$F$40,$AD$14,'ABT Transactions'!$C$9:$C$40,AE132,'ABT Transactions'!$D$9:$D$40,$B$18)","v":0},{"$f":"SUMIFS('ABT Transactions'!$B$9:$B$40,'ABT Transactions'!$G$9:$G$40,$C130,'ABT Transactions'!$F$9:$F$40,$AD$14,'ABT Transactions'!$C$9:$C$40,AF132,'ABT Transactions'!$D$9:$D$40,$B$18)","v":0},{"$f":"SUMIFS('ABT Transactions'!$B$9:$B$40,'ABT Transactions'!$G$9:$G$40,$C130,'ABT Transactions'!$F$9:$F$40,$AG$14,'ABT Transactions'!$C$9:$C$40,AG132,'ABT Transactions'!$D$9:$D$40,$B$18)","v":0},{"$f":"SUMIFS('ABT Transactions'!$B$9:$B$40,'ABT Transactions'!$G$9:$G$40,$C130,'ABT Transactions'!$F$9:$F$40,$AG$14,'ABT Transactions'!$C$9:$C$40,AH132,'ABT Transactions'!$D$9:$D$40,$B$18)","v":0},{"$f":"SUMIFS('ABT Transactions'!$B$9:$B$40,'ABT Transactions'!$G$9:$G$40,$C130,'ABT Transactions'!$F$9:$F$40,$AG$14,'ABT Transactions'!$C$9:$C$40,AI132,'ABT Transactions'!$D$9:$D$40,$B$18)","v":0},{"$f":"SUMIFS('ABT Transactions'!$B$9:$B$40,'ABT Transactions'!$G$9:$G$40,$C130,'ABT Transactions'!$F$9:$F$40,$AJ$14,'ABT Transactions'!$C$9:$C$40,AJ132,'ABT Transactions'!$D$9:$D$40,$B$18)","v":0},{"$f":"SUMIFS('ABT Transactions'!$B$9:$B$40,'ABT Transactions'!$G$9:$G$40,$C130,'ABT Transactions'!$F$9:$F$40,$AJ$14,'ABT Transactions'!$C$9:$C$40,AK132,'ABT Transactions'!$D$9:$D$40,$B$18)","v":0},{"$f":"SUMIFS('ABT Transactions'!$B$9:$B$40,'ABT Transactions'!$G$9:$G$40,$C130,'ABT Transactions'!$F$9:$F$40,$AJ$14,'ABT Transactions'!$C$9:$C$40,AL132,'ABT Transactions'!$D$9:$D$40,$B$18)","v":0},{"$f":"SUMIFS('ABT Transactions'!$B$9:$B$40,'ABT Transactions'!$G$9:$G$40,$C130,'ABT Transactions'!$F$9:$F$40,$AM$14,'ABT Transactions'!$C$9:$C$40,AM132,'ABT Transactions'!$D$9:$D$40,$B$18)","v":0},{"$f":"SUMIFS('ABT Transactions'!$B$9:$B$40,'ABT Transactions'!$G$9:$G$40,$C130,'ABT Transactions'!$F$9:$F$40,$AM$14,'ABT Transactions'!$C$9:$C$40,AN132,'ABT Transactions'!$D$9:$D$40,$B$18)","v":0},{"$f":"SUMIFS('ABT Transactions'!$B$9:$B$40,'ABT Transactions'!$G$9:$G$40,$C130,'ABT Transactions'!$F$9:$F$40,$AM$14,'ABT Transactions'!$C$9:$C$40,AO132,'ABT Transactions'!$D$9:$D$40,$B$18)","v":0},{"$f":"SUMIFS('ABT Transactions'!$B$9:$B$40,'ABT Transactions'!$G$9:$G$40,$C130,'ABT Transactions'!$F$9:$F$40,$AP$14,'ABT Transactions'!$C$9:$C$40,AP132,'ABT Transactions'!$D$9:$D$40,$B$18)","v":0},{"$f":"SUMIFS('ABT Transactions'!$B$9:$B$40,'ABT Transactions'!$G$9:$G$40,$C130,'ABT Transactions'!$F$9:$F$40,$AP$14,'ABT Transactions'!$C$9:$C$40,AQ132,'ABT Transactions'!$D$9:$D$40,$B$18)","v":0},{"$f":"SUMIFS('ABT Transactions'!$B$9:$B$40,'ABT Transactions'!$G$9:$G$40,$C130,'ABT Transactions'!$F$9:$F$40,$AP$14,'ABT Transactions'!$C$9:$C$40,AR132,'ABT Transactions'!$D$9:$D$40,$B$18)","v":0},{"$f":"SUMIFS('ABT Transactions'!$B$9:$B$40,'ABT Transactions'!$G$9:$G$40,$C$130,'ABT Transactions'!$F$9:$F$40,AS131,'ABT Transactions'!$C$9:$C$40,AS132,'ABT Transactions'!$D$9:$D$40,$B$135)","v":0},{"$f":"SUMIFS('ABT Transactions'!$B$9:$B$40,'ABT Transactions'!$G$9:$G$40,$C$130,'ABT Transactions'!$F$9:$F$40,AS131,'ABT Transactions'!$C$9:$C$40,AT132,'ABT Transactions'!$D$9:$D$40,$B$135)","v":0},{"$f":"SUMIFS('ABT Transactions'!$B$9:$B$40,'ABT Transactions'!$G$9:$G$40,$C$130,'ABT Transactions'!$F$9:$F$40,AS131,'ABT Transactions'!$C$9:$C$40,AU132,'ABT Transactions'!$D$9:$D$40,$B$135)","v":0}]
[null,"Applied Banked Credits (in)",{"$f":"SUMIFS('ABT Transactions'!$B$9:$B$40,'ABT Transactions'!$J$9:$J$40,$C$130,'ABT Transactions'!$I$9:$I$40,$C$131,'ABT Transactions'!$C$9:$C$40,C132,'ABT Transactions'!$D$9:$D$40,$B$136)","v":0},{"$f":"SUMIFS('ABT Transactions'!$B$9:$B$40,'ABT Transactions'!$J$9:$J$40,$C$130,'ABT Transactions'!$I$9:$I$40,$C$131,'ABT Transactions'!$C$9:$C$40,D132,'ABT Transactions'!$D$9:$D$40,$B$136)","v":0},{"$f":"SUMIFS('ABT Transactions'!$B$9:$B$40,'ABT Transactions'!$J$9:$J$40,$C$130,'ABT Transactions'!$I$9:$I$40,$C$131,'ABT Transactions'!$C$9:$C$40,E132,'ABT Transactions'!$D$9:$D$40,$B$136)","v":0},{"$f":"SUMIFS('ABT Transactions'!$B$9:$B$40,'ABT Transactions'!$J$9:$J$40,$C$130,'ABT Transactions'!$I$9:$I$40,$F$131,'ABT Transactions'!$C$9:$C$40,F132,'ABT Transactions'!$D$9:$D$40,$B$136)","v":0},{"$f":"SUMIFS('ABT Transactions'!$B$9:$B$40,'ABT Transactions'!$J$9:$J$40,$C$130,'ABT Transactions'!$I$9:$I$40,$F$131,'ABT Transactions'!$C$9:$C$40,G132,'ABT Transactions'!$D$9:$D$40,$B$136)","v":0},{"$f":"SUMIFS('ABT Transactions'!$B$9:$B$40,'ABT Transactions'!$J$9:$J$40,$C$130,'ABT Transactions'!$I$9:$I$40,$F$131,'ABT Transactions'!$C$9:$C$40,H132,'ABT Transactions'!$D$9:$D$40,$B$136)","v":0},{"$f":"SUMIFS('ABT Transactions'!$B$9:$B$40,'ABT Transactions'!$J$9:$J$40,$C$130,'ABT Transactions'!$I$9:$I$40,$I$131,'ABT Transactions'!$C$9:$C$40,I132,'ABT Transactions'!$D$9:$D$40,$B$136)","v":0},{"$f":"SUMIFS('ABT Transactions'!$B$9:$B$40,'ABT Transactions'!$J$9:$J$40,$C$130,'ABT Transactions'!$I$9:$I$40,$I$131,'ABT Transactions'!$C$9:$C$40,J132,'ABT Transactions'!$D$9:$D$40,$B$136)","v":0},{"$f":"SUMIFS('ABT Transactions'!$B$9:$B$40,'ABT Transactions'!$J$9:$J$40,$C$130,'ABT Transactions'!$I$9:$I$40,$I$131,'ABT Transactions'!$C$9:$C$40,K132,'ABT Transactions'!$D$9:$D$40,$B$136)","v":0},{"$f":"SUMIFS('ABT Transactions'!$B$9:$B$40,'ABT Transactions'!$J$9:$J$40,$C$130,'ABT Transactions'!$I$9:$I$40,$L$131,'ABT Transactions'!$C$9:$C$40,L132,'ABT Transactions'!$D$9:$D$40,$B$136)","v":0},{"$f":"SUMIFS('ABT Transactions'!$B$9:$B$40,'ABT Transactions'!$J$9:$J$40,$C$130,'ABT Transactions'!$I$9:$I$40,$L$131,'ABT Transactions'!$C$9:$C$40,M132,'ABT Transactions'!$D$9:$D$40,$B$136)","v":0},{"$f":"SUMIFS('ABT Transactions'!$B$9:$B$40,'ABT Transactions'!$J$9:$J$40,$C$130,'ABT Transactions'!$I$9:$I$40,$L$131,'ABT Transactions'!$C$9:$C$40,N132,'ABT Transactions'!$D$9:$D$40,$B$136)","v":0},{"$f":"SUMIFS('ABT Transactions'!$B$9:$B$40,'ABT Transactions'!$J$9:$J$40,$C$130,'ABT Transactions'!$I$9:$I$40,$O$131,'ABT Transactions'!$C$9:$C$40,O132,'ABT Transactions'!$D$9:$D$40,$B$136)","v":0},{"$f":"SUMIFS('ABT Transactions'!$B$9:$B$40,'ABT Transactions'!$J$9:$J$40,$C$130,'ABT Transactions'!$I$9:$I$40,$O$131,'ABT Transactions'!$C$9:$C$40,P132,'ABT Transactions'!$D$9:$D$40,$B$136)","v":0},{"$f":"SUMIFS('ABT Transactions'!$B$9:$B$40,'ABT Transactions'!$J$9:$J$40,$C$130,'ABT Transactions'!$I$9:$I$40,$O$131,'ABT Transactions'!$C$9:$C$40,Q132,'ABT Transactions'!$D$9:$D$40,$B$136)","v":0},{"$f":"SUMIFS('ABT Transactions'!$B$9:$B$40,'ABT Transactions'!$J$9:$J$40,$C$130,'ABT Transactions'!$I$9:$I$40,$R$131,'ABT Transactions'!$C$9:$C$40,R132,'ABT Transactions'!$D$9:$D$40,$B$136)","v":0},{"$f":"SUMIFS('ABT Transactions'!$B$9:$B$40,'ABT Transactions'!$J$9:$J$40,$C$130,'ABT Transactions'!$I$9:$I$40,$R$131,'ABT Transactions'!$C$9:$C$40,S132,'ABT Transactions'!$D$9:$D$40,$B$136)","v":0},{"$f":"SUMIFS('ABT Transactions'!$B$9:$B$40,'ABT Transactions'!$J$9:$J$40,$C$130,'ABT Transactions'!$I$9:$I$40,$R$131,'ABT Transactions'!$C$9:$C$40,T132,'ABT Transactions'!$D$9:$D$40,$B$136)","v":0},{"$f":"SUMIFS('ABT Transactions'!$B$9:$B$40,'ABT Transactions'!$J$9:$J$40,$C130,'ABT Transactions'!$I$9:$I$40,$U$14,'ABT Transactions'!$C$9:$C$40,U132,'ABT Transactions'!$D$9:$D$40,$B$19)","v":0},{"$f":"SUMIFS('ABT Transactions'!$B$9:$B$40,'ABT Transactions'!$J$9:$J$40,$C130,'ABT Transactions'!$I$9:$I$40,$U$14,'ABT Transactions'!$C$9:$C$40,V132,'ABT Transactions'!$D$9:$D$40,$B$19)","v":0},{"$f":"SUMIFS('ABT Transactions'!$B$9:$B$40,'ABT Transactions'!$J$9:$J$40,$C130,'ABT Transactions'!$I$9:$I$40,$U$14,'ABT Transactions'!$C$9:$C$40,W132,'ABT Transactions'!$D$9:$D$40,$B$19)","v":0},{"$f":"SUMIFS('ABT Transactions'!$B$9:$B$40,'ABT Transactions'!$J$9:$J$40,$C130,'ABT Transactions'!$I$9:$I$40,$X$14,'ABT Transactions'!$C$9:$C$40,X132,'ABT Transactions'!$D$9:$D$40,$B$19)","v":0},{"$f":"SUMIFS('ABT Transactions'!$B$9:$B$40,'ABT Transactions'!$J$9:$J$40,$C130,'ABT Transactions'!$I$9:$I$40,$X$14,'ABT Transactions'!$C$9:$C$40,Y132,'ABT Transactions'!$D$9:$D$40,$B$19)","v":0},{"$f":"SUMIFS('ABT Transactions'!$B$9:$B$40,'ABT Transactions'!$J$9:$J$40,$C130,'ABT Transactions'!$I$9:$I$40,$X$14,'ABT Transactions'!$C$9:$C$40,Z132,'ABT Transactions'!$D$9:$D$40,$B$19)","v":0},{"$f":"SUMIFS('ABT Transactions'!$B$9:$B$40,'ABT Transactions'!$J$9:$J$40,$C130,'ABT Transactions'!$I$9:$I$40,$AA$14,'ABT Transactions'!$C$9:$C$40,AA132,'ABT Transactions'!$D$9:$D$40,$B$19)","v":0},{"$f":"SUMIFS('ABT Transactions'!$B$9:$B$40,'ABT Transactions'!$J$9:$J$40,$C130,'ABT Transactions'!$I$9:$I$40,$AA$14,'ABT Transactions'!$C$9:$C$40,AB132,'ABT Transactions'!$D$9:$D$40,$B$19)","v":0},{"$f":"SUMIFS('ABT Transactions'!$B$9:$B$40,'ABT Transactions'!$J$9:$J$40,$C130,'ABT Transactions'!$I$9:$I$40,$AA$14,'ABT Transactions'!$C$9:$C$40,AC132,'ABT Transactions'!$D$9:$D$40,$B$19)","v":0},{"$f":"SUMIFS('ABT Transactions'!$B$9:$B$40,'ABT Transactions'!$J$9:$J$40,$C130,'ABT Transactions'!$I$9:$I$40,$AD$14,'ABT Transactions'!$C$9:$C$40,AD132,'ABT Transactions'!$D$9:$D$40,$B$19)","v":0},{"$f":"SUMIFS('ABT Transactions'!$B$9:$B$40,'ABT Transactions'!$J$9:$J$40,$C130,'ABT Transactions'!$I$9:$I$40,$AD$14,'ABT Transactions'!$C$9:$C$40,AE132,'ABT Transactions'!$D$9:$D$40,$B$19)","v":0},{"$f":"SUMIFS('ABT Transactions'!$B$9:$B$40,'ABT Transactions'!$J$9:$J$40,$C130,'ABT Transactions'!$I$9:$I$40,$AD$14,'ABT Transactions'!$C$9:$C$40,AF132,'ABT Transactions'!$D$9:$D$40,$B$19)","v":0},{"$f":"SUMIFS('ABT Transactions'!$B$9:$B$40,'ABT Transactions'!$J$9:$J$40,$C130,'ABT Transactions'!$I$9:$I$40,$AG$14,'ABT Transactions'!$C$9:$C$40,AG132,'ABT Transactions'!$D$9:$D$40,$B$19)","v":0},{"$f":"SUMIFS('ABT Transactions'!$B$9:$B$40,'ABT Transactions'!$J$9:$J$40,$C130,'ABT Transactions'!$I$9:$I$40,$AG$14,'ABT Transactions'!$C$9:$C$40,AH132,'ABT Transactions'!$D$9:$D$40,$B$19)","v":0},{"$f":"SUMIFS('ABT Transactions'!$B$9:$B$40,'ABT Transactions'!$J$9:$J$40,$C130,'ABT Transactions'!$I$9:$I$40,$AG$14,'ABT Transactions'!$C$9:$C$40,AI132,'ABT Transactions'!$D$9:$D$40,$B$19)","v":0},{"$f":"SUMIFS('ABT Transactions'!$B$9:$B$40,'ABT Transactions'!$J$9:$J$40,$C130,'ABT Transactions'!$I$9:$I$40,$AJ$14,'ABT Transactions'!$C$9:$C$40,AJ132,'ABT Transactions'!$D$9:$D$40,$B$19)","v":0},{"$f":"SUMIFS('ABT Transactions'!$B$9:$B$40,'ABT Transactions'!$J$9:$J$40,$C130,'ABT Transactions'!$I$9:$I$40,$AJ$14,'ABT Transactions'!$C$9:$C$40,AK132,'ABT Transactions'!$D$9:$D$40,$B$19)","v":0},{"$f":"SUMIFS('ABT Transactions'!$B$9:$B$40,'ABT Transactions'!$J$9:$J$40,$C130,'ABT Transactions'!$I$9:$I$40,$AJ$14,'ABT Transactions'!$C$9:$C$40,AL132,'ABT Transactions'!$D$9:$D$40,$B$19)","v":0},{"$f":"SUMIFS('ABT Transactions'!$B$9:$B$40,'ABT Transactions'!$J$9:$J$40,$C130,'ABT Transactions'!$I$9:$I$40,$AM$14,'ABT Transactions'!$C$9:$C$40,AM132,'ABT Transactions'!$D$9:$D$40,$B$19)","v":0},{"$f":"SUMIFS('ABT Transactions'!$B$9:$B$40,'ABT Transactions'!$J$9:$J$40,$C130,'ABT Transactions'!$I$9:$I$40,$AM$14,'ABT Transactions'!$C$9:$C$40,AN132,'ABT Transactions'!$D$9:$D$40,$B$19)","v":0},{"$f":"SUMIFS('ABT Transactions'!$B$9:$B$40,'ABT Transactions'!$J$9:$J$40,$C130,'ABT Transactions'!$I$9:$I$40,$AM$14,'ABT Transactions'!$C$9:$C$40,AO132,'ABT Transactions'!$D$9:$D$40,$B$19)","v":0},{"$f":"SUMIFS('ABT Transactions'!$B$9:$B$40,'ABT Transactions'!$J$9:$J$40,$C130,'ABT Transactions'!$I$9:$I$40,$AP$14,'ABT Transactions'!$C$9:$C$40,AP132,'ABT Transactions'!$D$9:$D$40,$B$19)","v":0},{"$f":"SUMIFS('ABT Transactions'!$B$9:$B$40,'ABT Transactions'!$J$9:$J$40,$C130,'ABT Transactions'!$I$9:$I$40,$AP$14,'ABT Transactions'!$C$9:$C$40,AQ132,'ABT Transactions'!$D$9:$D$40,$B$19)","v":0},{"$f":"SUMIFS('ABT Transactions'!$B$9:$B$40,'ABT Transactions'!$J$9:$J$40,$C130,'ABT Transactions'!$I$9:$I$40,$AP$14,'ABT Transactions'!$C$9:$C$40,AR132,'ABT Transactions'!$D$9:$D$40,$B$19)","v":0},{"$f":"SUMIFS('ABT Transactions'!$B$9:$B$40,'ABT Transactions'!$J$9:$J$40,$C$130,'ABT Transactions'!$I$9:$I$40,$AS$131,'ABT Transactions'!$C$9:$C$40,AS132,'ABT Transactions'!$D$9:$D$40,$B$136)","v":0},{"$f":"SUMIFS('ABT Transactions'!$B$9:$B$40,'ABT Transactions'!$J$9:$J$40,$C$130,'ABT Transactions'!$I$9:$I$40,$AS$131,'ABT Transactions'!$C$9:$C$40,AT132,'ABT Transactions'!$D$9:$D$40,$B$136)","v":0},{"$f":"SUMIFS('ABT Transactions'!$B$9:$B$40,'ABT Transactions'!$J$9:$J$40,$C$130,'ABT Transactions'!$I$9:$I$40,$AS$131,'ABT Transactions'!$C$9:$C$40,AU132,'ABT Transactions'!$D$9:$D$40,$B$136)","v":0}]
[null,"Trade Out",{"$f":"SUMIFS('ABT Transactions'!$B$9:$B$40,'ABT Transactions'!$G$9:$G$40,$C$130,'ABT Transactions'!$F$9:$F$40,$C$131,'ABT Transactions'!$C$9:$C$40,C132,'ABT Transactions'!$D$9:$D$40,$B$137)","v":0},{"$f":"SUMIFS('ABT Transactions'!$B$9:$B$40,'ABT Transactions'!$G$9:$G$40,$C$130,'ABT Transactions'!$F$9:$F$40,$C$131,'ABT Transactions'!$C$9:$C$40,D132,'ABT Transactions'!$D$9:$D$40,$B$137)","v":0},{"$f":"SUMIFS('ABT Transactions'!$B$9:$B$40,'ABT Transactions'!$G$9:$G$40,$C$130,'ABT Transactions'!$F$9:$F$40,$C$131,'ABT Transactions'!$C$9:$C$40,E132,'ABT Transactions'!$D$9:$D$40,$B$137)","v":0},{"$f":"SUMIFS('ABT Transactions'!$B$9:$B$40,'ABT Transactions'!$G$9:$G$40,$C$130,'ABT Transactions'!$F$9:$F$40,$F$131,'ABT Transactions'!$C$9:$C$40,F132,'ABT Transactions'!$D$9:$D$40,$B$137)","v":0},{"$f":"SUMIFS('ABT Transactions'!$B$9:$B$40,'ABT Transactions'!$G$9:$G$40,$C$130,'ABT Transactions'!$F$9:$F$40,$F$131,'ABT Transactions'!$C$9:$C$40,G132,'ABT Transactions'!$D$9:$D$40,$B$137)","v":0},{"$f":"SUMIFS('ABT Transactions'!$B$9:$B$40,'ABT Transactions'!$G$9:$G$40,$C$130,'ABT Transactions'!$F$9:$F$40,$F$131,'ABT Transactions'!$C$9:$C$40,H132,'ABT Transactions'!$D$9:$D$40,$B$137)","v":0},{"$f":"SUMIFS('ABT Transactions'!$B$9:$B$40,'ABT Transactions'!$G$9:$G$40,$C$130,'ABT Transactions'!$F$9:$F$40,$I$131,'ABT Transactions'!$C$9:$C$40,I132,'ABT Transactions'!$D$9:$D$40,$B$137)","v":0},{"$f":"SUMIFS('ABT Transactions'!$B$9:$B$40,'ABT Transactions'!$G$9:$G$40,$C$130,'ABT Transactions'!$F$9:$F$40,$I$131,'ABT Transactions'!$C$9:$C$40,J132,'ABT Transactions'!$D$9:$D$40,$B$137)","v":0},{"$f":"SUMIFS('ABT Transactions'!$B$9:$B$40,'ABT Transactions'!$G$9:$G$40,$C$130,'ABT Transactions'!$F$9:$F$40,$I$131,'ABT Transactions'!$C$9:$C$40,K132,'ABT Transactions'!$D$9:$D$40,$B$137)","v":0},{"$f":"SUMIFS('ABT Transactions'!$B$9:$B$40,'ABT Transactions'!$G$9:$G$40,$C$130,'ABT Transactions'!$F$9:$F$40,$L$131,'ABT Transactions'!$C$9:$C$40,L132,'ABT Transactions'!$D$9:$D$40,$B$137)","v":0},{"$f":"SUMIFS('ABT Transactions'!$B$9:$B$40,'ABT Transactions'!$G$9:$G$40,$C$130,'ABT Transactions'!$F$9:$F$40,$L$131,'ABT Transactions'!$C$9:$C$40,M132,'ABT Transactions'!$D$9:$D$40,$B$137)","v":0},{"$f":"SUMIFS('ABT Transactions'!$B$9:$B$40,'ABT Transactions'!$G$9:$G$40,$C$130,'ABT Transactions'!$F$9:$F$40,$L$131,'ABT Transactions'!$C$9:$C$40,N132,'ABT Transactions'!$D$9:$D$40,$B$137)","v":0},{"$f":"SUMIFS('ABT Transactions'!$B$9:$B$40,'ABT Transactions'!$G$9:$G$40,$C$130,'ABT Transactions'!$F$9:$F$40,$O$131,'ABT Transactions'!$C$9:$C$40,O132,'ABT Transactions'!$D$9:$D$40,$B$137)","v":0},{"$f":"SUMIFS('ABT Transactions'!$B$9:$B$40,'ABT Transactions'!$G$9:$G$40,$C$130,'ABT Transactions'!$F$9:$F$40,$O$131,'ABT Transactions'!$C$9:$C$40,P132,'ABT Transactions'!$D$9:$D$40,$B$137)","v":0},{"$f":"SUMIFS('ABT Transactions'!$B$9:$B$40,'ABT Transactions'!$G$9:$G$40,$C$130,'ABT Transactions'!$F$9:$F$40,$O$131,'ABT Transactions'!$C$9:$C$40,Q132,'ABT Transactions'!$D$9:$D$40,$B$137)","v":0},{"$f":"SUMIFS('ABT Transactions'!$B$9:$B$40,'ABT Transactions'!$G$9:$G$40,$C$130,'ABT Transactions'!$F$9:$F$40,$R$131,'ABT Transactions'!$C$9:$C$40,R132,'ABT Transactions'!$D$9:$D$40,$B$137)","v":0},{"$f":"SUMIFS('ABT Transactions'!$B$9:$B$40,'ABT Transactions'!$G$9:$G$40,$C$130,'ABT Transactions'!$F$9:$F$40,$R$131,'ABT Transactions'!$C$9:$C$40,S132,'ABT Transactions'!$D$9:$D$40,$B$137)","v":0},{"$f":"SUMIFS('ABT Transactions'!$B$9:$B$40,'ABT Transactions'!$G$9:$G$40,$C$130,'ABT Transactions'!$F$9:$F$40,$R$131,'ABT Transactions'!$C$9:$C$40,T132,'ABT Transactions'!$D$9:$D$40,$B$137)","v":0},{"$f":"SUMIFS('ABT Transactions'!$B$9:$B$40,'ABT Transactions'!$G$9:$G$40,$C130,'ABT Transactions'!$F$9:$F$40,$U$14,'ABT Transactions'!$C$9:$C$40,U132,'ABT Transactions'!$D$9:$D$40,$B$20)","v":0},{"$f":"SUMIFS('ABT Transactions'!$B$9:$B$40,'ABT Transactions'!$G$9:$G$40,$C130,'ABT Transactions'!$F$9:$F$40,$U$14,'ABT Transactions'!$C$9:$C$40,V132,'ABT Transactions'!$D$9:$D$40,$B$20)","v":0},{"$f":"SUMIFS('ABT Transactions'!$B$9:$B$40,'ABT Transactions'!$G$9:$G$40,$C130,'ABT Transactions'!$F$9:$F$40,$U$14,'ABT Transactions'!$C$9:$C$40,W132,'ABT Transactions'!$D$9:$D$40,$B$20)","v":0},{"$f":"SUMIFS('ABT Transactions'!$B$9:$B$40,'ABT Transactions'!$G$9:$G$40,$C130,'ABT Transactions'!$F$9:$F$40,$X$14,'ABT Transactions'!$C$9:$C$40,X132,'ABT Transactions'!$D$9:$D$40,$B$20)","v":0},{"$f":"SUMIFS('ABT Transactions'!$B$9:$B$40,'ABT Transactions'!$G$9:$G$40,$C130,'ABT Transactions'!$F$9:$F$40,$X$14,'ABT Transactions'!$C$9:$C$40,Y132,'ABT Transactions'!$D$9:$D$40,$B$20)","v":0},{"$f":"SUMIFS('ABT Transactions'!$B$9:$B$40,'ABT Transactions'!$G$9:$G$40,$C130,'ABT Transactions'!$F$9:$F$40,$X$14,'ABT Transactions'!$C$9:$C$40,Z132,'ABT Transactions'!$D$9:$D$40,$B$20)","v":0},{"$f":"SUMIFS('ABT Transactions'!$B$9:$B$40,'ABT Transactions'!$G$9:$G$40,$C130,'ABT Transactions'!$F$9:$F$40,$AA$14,'ABT Transactions'!$C$9:$C$40,AA132,'ABT Transactions'!$D$9:$D$40,$B$20)","v":0},{"$f":"SUMIFS('ABT Transactions'!$B$9:$B$40,'ABT Transactions'!$G$9:$G$40,$C130,'ABT Transactions'!$F$9:$F$40,$AA$14,'ABT Transactions'!$C$9:$C$40,AB132,'ABT Transactions'!$D$9:$D$40,$B$20)","v":0},{"$f":"SUMIFS('ABT Transactions'!$B$9:$B$40,'ABT Transactions'!$G$9:$G$40,$C130,'ABT Transactions'!$F$9:$F$40,$AA$14,'ABT Transactions'!$C$9:$C$40,AC132,'ABT Transactions'!$D$9:$D$40,$B$20)","v":0},{"$f":"SUMIFS('ABT Transactions'!$B$9:$B$40,'ABT Transactions'!$G$9:$G$40,$C130,'ABT Transactions'!$F$9:$F$40,$AD$14,'ABT Transactions'!$C$9:$C$40,AD132,'ABT Transactions'!$D$9:$D$40,$B$20)","v":0},{"$f":"SUMIFS('ABT Transactions'!$B$9:$B$40,'ABT Transactions'!$G$9:$G$40,$C130,'ABT Transactions'!$F$9:$F$40,$AD$14,'ABT Transactions'!$C$9:$C$40,AE132,'ABT Transactions'!$D$9:$D$40,$B$20)","v":0},{"$f":"SUMIFS('ABT Transactions'!$B$9:$B$40,'ABT Transactions'!$G$9:$G$40,$C130,'ABT Transactions'!$F$9:$F$40,$AD$14,'ABT Transactions'!$C$9:$C$40,AF132,'ABT Transactions'!$D$9:$D$40,$B$20)","v":0},{"$f":"SUMIFS('ABT Transactions'!$B$9:$B$40,'ABT Transactions'!$G$9:$G$40,$C130,'ABT Transactions'!$F$9:$F$40,$AG$14,'ABT Transactions'!$C$9:$C$40,AG132,'ABT Transactions'!$D$9:$D$40,$B$20)","v":0},{"$f":"SUMIFS('ABT Transactions'!$B$9:$B$40,'ABT Transactions'!$G$9:$G$40,$C130,'ABT Transactions'!$F$9:$F$40,$AG$14,'ABT Transactions'!$C$9:$C$40,AH132,'ABT Transactions'!$D$9:$D$40,$B$20)","v":0},{"$f":"SUMIFS('ABT Transactions'!$B$9:$B$40,'ABT Transactions'!$G$9:$G$40,$C130,'ABT Transactions'!$F$9:$F$40,$AG$14,'ABT Transactions'!$C$9:$C$40,AI132,'ABT Transactions'!$D$9:$D$40,$B$20)","v":0},{"$f":"SUMIFS('ABT Transactions'!$B$9:$B$40,'ABT Transactions'!$G$9:$G$40,$C130,'ABT Transactions'!$F$9:$F$40,$AJ$14,'ABT Transactions'!$C$9:$C$40,AJ132,'ABT Transactions'!$D$9:$D$40,$B$20)","v":0},{"$f":"SUMIFS('ABT Transactions'!$B$9:$B$40,'ABT Transactions'!$G$9:$G$40,$C130,'ABT Transactions'!$F$9:$F$40,$AJ$14,'ABT Transactions'!$C$9:$C$40,AK132,'ABT Transactions'!$D$9:$D$40,$B$20)","v":0},{"$f":"SUMIFS('ABT Transactions'!$B$9:$B$40,'ABT Transactions'!$G$9:$G$40,$C130,'ABT Transactions'!$F$9:$F$40,$AJ$14,'ABT Transactions'!$C$9:$C$40,AL132,'ABT Transactions'!$D$9:$D$40,$B$20)","v":0},{"$f":"SUMIFS('ABT Transactions'!$B$9:$B$40,'ABT Transactions'!$G$9:$G$40,$C130,'ABT Transactions'!$F$9:$F$40,$AM$14,'ABT Transactions'!$C$9:$C$40,AM132,'ABT Transactions'!$D$9:$D$40,$B$20)","v":0},{"$f":"SUMIFS('ABT Transactions'!$B$9:$B$40,'ABT Transactions'!$G$9:$G$40,$C130,'ABT Transactions'!$F$9:$F$40,$AM$14,'ABT Transactions'!$C$9:$C$40,AN132,'ABT Transactions'!$D$9:$D$40,$B$20)","v":0},{"$f":"SUMIFS('ABT Transactions'!$B$9:$B$40,'ABT Transactions'!$G$9:$G$40,$C130,'ABT Transactions'!$F$9:$F$40,$AM$14,'ABT Transactions'!$C$9:$C$40,AO132,'ABT Transactions'!$D$9:$D$40,$B$20)","v":0},{"$f":"SUMIFS('ABT Transactions'!$B$9:$B$40,'ABT Transactions'!$G$9:$G$40,$C130,'ABT Transactions'!$F$9:$F$40,$AP$14,'ABT Transactions'!$C$9:$C$40,AP132,'ABT Transactions'!$D$9:$D$40,$B$20)","v":0},{"$f":"SUMIFS('ABT Transactions'!$B$9:$B$40,'ABT Transactions'!$G$9:$G$40,$C130,'ABT Transactions'!$F$9:$F$40,$AP$14,'ABT Transactions'!$C$9:$C$40,AQ132,'ABT Transactions'!$D$9:$D$40,$B$20)","v":0},{"$f":"SUMIFS('ABT Transactions'!$B$9:$B$40,'ABT Transactions'!$G$9:$G$40,$C130,'ABT Transactions'!$F$9:$F$40,$AP$14,'ABT Transactions'!$C$9:$C$40,AR132,'ABT Transactions'!$D$9:$D$40,$B$20)","v":0},{"$f":"SUMIFS('ABT Transactions'!$B$9:$B$40,'ABT Transactions'!$G$9:$G$40,$C$130,'ABT Transactions'!$F$9:$F$40,$AS$131,'ABT Transactions'!$C$9:$C$40,AS132,'ABT Transactions'!$D$9:$D$40,$B$137)","v":0},{"$f":"SUMIFS('ABT Transactions'!$B$9:$B$40,'ABT Transactions'!$G$9:$G$40,$C$130,'ABT Transactions'!$F$9:$F$40,$AS$131,'ABT Transactions'!$C$9:$C$40,AT132,'ABT Transactions'!$D$9:$D$40,$B$137)","v":0},{"$f":"SUMIFS('ABT Transactions'!$B$9:$B$40,'ABT Transactions'!$G$9:$G$40,$C$130,'ABT Transactions'!$F$9:$F$40,$AS$131,'ABT Transactions'!$C$9:$C$40,AU132,'ABT Transactions'!$D$9:$D$40,$B$137)","v":0}]
[null,"Trade In",{"$f":"SUMIFS('ABT Transactions'!$B$9:$B$40,'ABT Transactions'!$J$9:$J$40,$C$130,'ABT Transactions'!$I$9:$I$40,$C$131,'ABT Transactions'!$C$9:$C$40,C132,'ABT Transactions'!$D$9:$D$40,$B$138)","v":0},{"$f":"SUMIFS('ABT Transactions'!$B$9:$B$40,'ABT Transactions'!$J$9:$J$40,$C$130,'ABT Transactions'!$I$9:$I$40,$C$131,'ABT Transactions'!$C$9:$C$40,D132,'ABT Transactions'!$D$9:$D$40,$B$138)","v":0},{"$f":"SUMIFS('ABT Transactions'!$B$9:$B$40,'ABT Transactions'!$J$9:$J$40,$C$130,'ABT Transactions'!$I$9:$I$40,$C$131,'ABT Transactions'!$C$9:$C$40,E132,'ABT Transactions'!$D$9:$D$40,$B$138)","v":0},{"$f":"SUMIFS('ABT Transactions'!$B$9:$B$40,'ABT Transactions'!$J$9:$J$40,$C$130,'ABT Transactions'!$I$9:$I$40,$F$131,'ABT Transactions'!$C$9:$C$40,F132,'ABT Transactions'!$D$9:$D$40,$B$138)","v":0},{"$f":"SUMIFS('ABT Transactions'!$B$9:$B$40,'ABT Transactions'!$J$9:$J$40,$C$130,'ABT Transactions'!$I$9:$I$40,$F$131,'ABT Transactions'!$C$9:$C$40,G132,'ABT Transactions'!$D$9:$D$40,$B$138)","v":0},{"$f":"SUMIFS('ABT Transactions'!$B$9:$B$40,'ABT Transactions'!$J$9:$J$40,$C$130,'ABT Transactions'!$I$9:$I$40,$F$131,'ABT Transactions'!$C$9:$C$40,H132,'ABT Transactions'!$D$9:$D$40,$B$138)","v":0},{"$f":"SUMIFS('ABT Transactions'!$B$9:$B$40,'ABT Transactions'!$J$9:$J$40,$C$130,'ABT Transactions'!$I$9:$I$40,$I$131,'ABT Transactions'!$C$9:$C$40,I132,'ABT Transactions'!$D$9:$D$40,$B$138)","v":0},{"$f":"SUMIFS('ABT Transactions'!$B$9:$B$40,'ABT Transactions'!$J$9:$J$40,$C$130,'ABT Transactions'!$I$9:$I$40,$I$131,'ABT Transactions'!$C$9:$C$40,J132,'ABT Transactions'!$D$9:$D$40,$B$138)","v":0},{"$f":"SUMIFS('ABT Transactions'!$B$9:$B$40,'ABT Transactions'!$J$9:$J$40,$C$130,'ABT Transactions'!$I$9:$I$40,$I$131,'ABT Transactions'!$C$9:$C$40,K132,'ABT Transactions'!$D$9:$D$40,$B$138)","v":0},{"$f":"SUMIFS('ABT Transactions'!$B$9:$B$40,'ABT Transactions'!$J$9:$J$40,$C$130,'ABT Transactions'!$I$9:$I$40,$L$131,'ABT Transactions'!$C$9:$C$40,L132,'ABT Transactions'!$D$9:$D$40,$B$138)","v":0},{"$f":"SUMIFS('ABT Transactions'!$B$9:$B$40,'ABT Transactions'!$J$9:$J$40,$C$130,'ABT Transactions'!$I$9:$I$40,$L$131,'ABT Transactions'!$C$9:$C$40,M132,'ABT Transactions'!$D$9:$D$40,$B$138)","v":0},{"$f":"SUMIFS('ABT Transactions'!$B$9:$B$40,'ABT Transactions'!$J$9:$J$40,$C$130,'ABT Transactions'!$I$9:$I$40,$L$131,'ABT Transactions'!$C$9:$C$40,N132,'ABT Transactions'!$D$9:$D$40,$B$138)","v":0},{"$f":"SUMIFS('ABT Transactions'!$B$9:$B$40,'ABT Transactions'!$J$9:$J$40,$C$130,'ABT Transactions'!$I$9:$I$40,$O$131,'ABT Transactions'!$C$9:$C$40,O132,'ABT Transactions'!$D$9:$D$40,$B$138)","v":0},{"$f":"SUMIFS('ABT Transactions'!$B$9:$B$40,'ABT Transactions'!$J$9:$J$40,$C$130,'ABT Transactions'!$I$9:$I$40,$O$131,'ABT Transactions'!$C$9:$C$40,P132,'ABT Transactions'!$D$9:$D$40,$B$138)","v":0},{"$f":"SUMIFS('ABT Transactions'!$B$9:$B$40,'ABT Transactions'!$J$9:$J$40,$C$130,'ABT Transactions'!$I$9:$I$40,$O$131,'ABT Transactions'!$C$9:$C$40,Q132,'ABT Transactions'!$D$9:$D$40,$B$138)","v":0},{"$f":"SUMIFS('ABT Transactions'!$B$9:$B$40,'ABT Transactions'!$J$9:$J$40,$C$130,'ABT Transactions'!$I$9:$I$40,$R$131,'ABT Transactions'!$C$9:$C$40,R132,'ABT Transactions'!$D$9:$D$40,$B$138)","v":0},{"$f":"SUMIFS('ABT Transactions'!$B$9:$B$40,'ABT Transactions'!$J$9:$J$40,$C$130,'ABT Transactions'!$I$9:$I$40,$R$131,'ABT Transactions'!$C$9:$C$40,S132,'ABT Transactions'!$D$9:$D$40,$B$138)","v":0},{"$f":"SUMIFS('ABT Transactions'!$B$9:$B$40,'ABT Transactions'!$J$9:$J$40,$C$130,'ABT Transactions'!$I$9:$I$40,$R$131,'ABT Transactions'!$C$9:$C$40,T132,'ABT Transactions'!$D$9:$D$40,$B$138)","v":0},{"$f":"SUMIFS('ABT Transactions'!$B$9:$B$40,'ABT Transactions'!$J$9:$J$40,$C130,'ABT Transactions'!$I$9:$I$40,$U$14,'ABT Transactions'!$C$9:$C$40,U132,'ABT Transactions'!$D$9:$D$40,$B$21)","v":0},{"$f":"SUMIFS('ABT Transactions'!$B$9:$B$40,'ABT Transactions'!$J$9:$J$40,$C130,'ABT Transactions'!$I$9:$I$40,$U$14,'ABT Transactions'!$C$9:$C$40,V132,'ABT Transactions'!$D$9:$D$40,$B$21)","v":0},{"$f":"SUMIFS('ABT Transactions'!$B$9:$B$40,'ABT Transactions'!$J$9:$J$40,$C130,'ABT Transactions'!$I$9:$I$40,$U$14,'ABT Transactions'!$C$9:$C$40,W132,'ABT Transactions'!$D$9:$D$40,$B$21)","v":0},{"$f":"SUMIFS('ABT Transactions'!$B$9:$B$40,'ABT Transactions'!$J$9:$J$40,$C130,'ABT Transactions'!$I$9:$I$40,$X$14,'ABT Transactions'!$C$9:$C$40,X132,'ABT Transactions'!$D$9:$D$40,$B$21)","v":0},{"$f":"SUMIFS('ABT Transactions'!$B$9:$B$40,'ABT Transactions'!$J$9:$J$40,$C130,'ABT Transactions'!$I$9:$I$40,$X$14,'ABT Transactions'!$C$9:$C$40,Y132,'ABT Transactions'!$D$9:$D$40,$B$21)","v":0},{"$f":"SUMIFS('ABT Transactions'!$B$9:$B$40,'ABT Transactions'!$J$9:$J$40,$C130,'ABT Transactions'!$I$9:$I$40,$X$14,'ABT Transactions'!$C$9:$C$40,Z132,'ABT Transactions'!$D$9:$D$40,$B$21)","v":0},{"$f":"SUMIFS('ABT Transactions'!$B$9:$B$40,'ABT Transactions'!$J$9:$J$40,$C130,'ABT Transactions'!$I$9:$I$40,$AA$14,'ABT Transactions'!$C$9:$C$40,AA132,'ABT Transactions'!$D$9:$D$40,$B$21)","v":0},{"$f":"SUMIFS('ABT Transactions'!$B$9:$B$40,'ABT Transactions'!$J$9:$J$40,$C130,'ABT Transactions'!$I$9:$I$40,$AA$14,'ABT Transactions'!$C$9:$C$40,AB132,'ABT Transactions'!$D$9:$D$40,$B$21)","v":0},{"$f":"SUMIFS('ABT Transactions'!$B$9:$B$40,'ABT Transactions'!$J$9:$J$40,$C130,'ABT Transactions'!$I$9:$I$40,$AA$14,'ABT Transactions'!$C$9:$C$40,AC132,'ABT Transactions'!$D$9:$D$40,$B$21)","v":0},{"$f":"SUMIFS('ABT Transactions'!$B$9:$B$40,'ABT Transactions'!$J$9:$J$40,$C130,'ABT Transactions'!$I$9:$I$40,$AD$14,'ABT Transactions'!$C$9:$C$40,AD132,'ABT Transactions'!$D$9:$D$40,$B$21)","v":0},{"$f":"SUMIFS('ABT Transactions'!$B$9:$B$40,'ABT Transactions'!$J$9:$J$40,$C130,'ABT Transactions'!$I$9:$I$40,$AD$14,'ABT Transactions'!$C$9:$C$40,AE132,'ABT Transactions'!$D$9:$D$40,$B$21)","v":0},{"$f":"SUMIFS('ABT Transactions'!$B$9:$B$40,'ABT Transactions'!$J$9:$J$40,$C130,'ABT Transactions'!$I$9:$I$40,$AD$14,'ABT Transactions'!$C$9:$C$40,AF132,'ABT Transactions'!$D$9:$D$40,$B$21)","v":0},{"$f":"SUMIFS('ABT Transactions'!$B$9:$B$40,'ABT Transactions'!$J$9:$J$40,$C130,'ABT Transactions'!$I$9:$I$40,$AG$14,'ABT Transactions'!$C$9:$C$40,AG132,'ABT Transactions'!$D$9:$D$40,$B$21)","v":0},{"$f":"SUMIFS('ABT Transactions'!$B$9:$B$40,'ABT Transactions'!$J$9:$J$40,$C130,'ABT Transactions'!$I$9:$I$40,$AG$14,'ABT Transactions'!$C$9:$C$40,AH132,'ABT Transactions'!$D$9:$D$40,$B$21)","v":0},{"$f":"SUMIFS('ABT Transactions'!$B$9:$B$40,'ABT Transactions'!$J$9:$J$40,$C130,'ABT Transactions'!$I$9:$I$40,$AG$14,'ABT Transactions'!$C$9:$C$40,AI132,'ABT Transactions'!$D$9:$D$40,$B$21)","v":0},{"$f":"SUMIFS('ABT Transactions'!$B$9:$B$40,'ABT Transactions'!$J$9:$J$40,$C130,'ABT Transactions'!$I$9:$I$40,$AJ$14,'ABT Transactions'!$C$9:$C$40,AJ132,'ABT Transactions'!$D$9:$D$40,$B$21)","v":0},{"$f":"SUMIFS('ABT Transactions'!$B$9:$B$40,'ABT Transactions'!$J$9:$J$40,$C130,'ABT Transactions'!$I$9:$I$40,$AJ$14,'ABT Transactions'!$C$9:$C$40,AK132,'ABT Transactions'!$D$9:$D$40,$B$21)","v":0},{"$f":"SUMIFS('ABT Transactions'!$B$9:$B$40,'ABT Transactions'!$J$9:$J$40,$C130,'ABT Transactions'!$I$9:$I$40,$AJ$14,'ABT Transactions'!$C$9:$C$40,AL132,'ABT Transactions'!$D$9:$D$40,$B$21)","v":0},{"$f":"SUMIFS('ABT Transactions'!$B$9:$B$40,'ABT Transactions'!$J$9:$J$40,$C130,'ABT Transactions'!$I$9:$I$40,$AM$14,'ABT Transactions'!$C$9:$C$40,AM132,'ABT Transactions'!$D$9:$D$40,$B$21)","v":0},{"$f":"SUMIFS('ABT Transactions'!$B$9:$B$40,'ABT Transactions'!$J$9:$J$40,$C130,'ABT Transactions'!$I$9:$I$40,$AM$14,'ABT Transactions'!$C$9:$C$40,AN132,'ABT Transactions'!$D$9:$D$40,$B$21)","v":0},{"$f":"SUMIFS('ABT Transactions'!$B$9:$B$40,'ABT Transactions'!$J$9:$J$40,$C130,'ABT Transactions'!$I$9:$I$40,$AM$14,'ABT Transactions'!$C$9:$C$40,AO132,'ABT Transactions'!$D$9:$D$40,$B$21)","v":0},{"$f":"SUMIFS('ABT Transactions'!$B$9:$B$40,'ABT Transactions'!$J$9:$J$40,$C130,'ABT Transactions'!$I$9:$I$40,$AP$14,'ABT Transactions'!$C$9:$C$40,AP132,'ABT Transactions'!$D$9:$D$40,$B$21)","v":0},{"$f":"SUMIFS('ABT Transactions'!$B$9:$B$40,'ABT Transactions'!$J$9:$J$40,$C130,'ABT Transactions'!$I$9:$I$40,$AP$14,'ABT Transactions'!$C$9:$C$40,AQ132,'ABT Transactions'!$D$9:$D$40,$B$21)","v":0},{"$f":"SUMIFS('ABT Transactions'!$B$9:$B$40,'ABT Transactions'!$J$9:$J$40,$C130,'ABT Transactions'!$I$9:$I$40,$AP$14,'ABT Transactions'!$C$9:$C$40,AR132,'ABT Transactions'!$D$9:$D$40,$B$21)","v":0},{"$f":"SUMIFS('ABT Transactions'!$B$9:$B$40,'ABT Transactions'!$J$9:$J$40,$C$130,'ABT Transactions'!$I$9:$I$40,$AS$131,'ABT Transactions'!$C$9:$C$40,AS132,'ABT Transactions'!$D$9:$D$40,$B$138)","v":0},{"$f":"SUMIFS('ABT Transactions'!$B$9:$B$40,'ABT Transactions'!$J$9:$J$40,$C$130,'ABT Transactions'!$I$9:$I$40,$AS$131,'ABT Transactions'!$C$9:$C$40,AT132,'ABT Transactions'!$D$9:$D$40,$B$138)","v":0},{"$f":"SUMIFS('ABT Transactions'!$B$9:$B$40,'ABT Transactions'!$J$9:$J$40,$C$130,'ABT Transactions'!$I$9:$I$40,$AS$131,'ABT Transactions'!$C$9:$C$40,AU132,'ABT Transactions'!$D$9:$D$40,$B$138)","v":0}]
[null,"Transfer ADV Credits (out)",{"$f":"SUMIFS('ABT Transactions'!$B$9:$B$40,'ABT Transactions'!$G$9:$G$40,$C$130,'ABT Transactions'!$F$9:$F$40,$C$131,'ABT Transactions'!$C$9:$C$40,C132,'ABT Transactions'!$D$9:$D$40,$B$139)","v":0},{"$f":"SUMIFS('ABT Transactions'!$B$9:$B$40,'ABT Transactions'!$G$9:$G$40,$C$130,'ABT Transactions'!$F$9:$F$40,$C$131,'ABT Transactions'!$C$9:$C$40,D132,'ABT Transactions'!$D$9:$D$40,$B$139)","v":0},{"$f":"SUMIFS('ABT Transactions'!$B$9:$B$40,'ABT Transactions'!$G$9:$G$40,$C$130,'ABT Transactions'!$F$9:$F$40,$C$131,'ABT Transactions'!$C$9:$C$40,E132,'ABT Transactions'!$D$9:$D$40,$B$139)","v":0},{"$f":"SUMIFS('ABT Transactions'!$B$9:$B$40,'ABT Transactions'!$G$9:$G$40,$C$130,'ABT Transactions'!$F$9:$F$40,$F$131,'ABT Transactions'!$C$9:$C$40,F132,'ABT Transactions'!$D$9:$D$40,$B$139)","v":0},{"$f":"SUMIFS('ABT Transactions'!$B$9:$B$40,'ABT Transactions'!$G$9:$G$40,$C$130,'ABT Transactions'!$F$9:$F$40,$F$131,'ABT Transactions'!$C$9:$C$40,G132,'ABT Transactions'!$D$9:$D$40,$B$139)","v":0},{"$f":"SUMIFS('ABT Transactions'!$B$9:$B$40,'ABT Transactions'!$G$9:$G$40,$C$130,'ABT Transactions'!$F$9:$F$40,$F$131,'ABT Transactions'!$C$9:$C$40,H132,'ABT Transactions'!$D$9:$D$40,$B$139)","v":0},{"$f":"SUMIFS('ABT Transactions'!$B$9:$B$40,'ABT Transactions'!$G$9:$G$40,$C$130,'ABT Transactions'!$F$9:$F$40,$I$131,'ABT Transactions'!$C$9:$C$40,I132,'ABT Transactions'!$D$9:$D$40,$B$139)","v":0},{"$f":"SUMIFS('ABT Transactions'!$B$9:$B$40,'ABT Transactions'!$G$9:$G$40,$C$130,'ABT Transactions'!$F$9:$F$40,$I$131,'ABT Transactions'!$C$9:$C$40,J132,'ABT Transactions'!$D$9:$D$40,$B$139)","v":0},{"$f":"SUMIFS('ABT Transactions'!$B$9:$B$40,'ABT Transactions'!$G$9:$G$40,$C$130,'ABT Transactions'!$F$9:$F$40,$I$131,'ABT Transactions'!$C$9:$C$40,K132,'ABT Transactions'!$D$9:$D$40,$B$139)","v":0},{"$f":"SUMIFS('ABT Transactions'!$B$9:$B$40,'ABT Transactions'!$G$9:$G$40,$C$130,'ABT Transactions'!$F$9:$F$40,$L$131,'ABT Transactions'!$C$9:$C$40,L132,'ABT Transactions'!$D$9:$D$40,$B$139)","v":0},{"$f":"SUMIFS('ABT Transactions'!$B$9:$B$40,'ABT Transactions'!$G$9:$G$40,$C$130,'ABT Transactions'!$F$9:$F$40,$L$131,'ABT Transactions'!$C$9:$C$40,M132,'ABT Transactions'!$D$9:$D$40,$B$139)","v":0},{"$f":"SUMIFS('ABT Transactions'!$B$9:$B$40,'ABT Transactions'!$G$9:$G$40,$C$130,'ABT Transactions'!$F$9:$F$40,$L$131,'ABT Transactions'!$C$9:$C$40,N132,'ABT Transactions'!$D$9:$D$40,$B$139)","v":0},{"$f":"SUMIFS('ABT Transactions'!$B$9:$B$40,'ABT Transactions'!$G$9:$G$40,$C$130,'ABT Transactions'!$F$9:$F$40,$O$131,'ABT Transactions'!$C$9:$C$40,O132,'ABT Transactions'!$D$9:$D$40,$B$139)","v":0},{"$f":"SUMIFS('ABT Transactions'!$B$9:$B$40,'ABT Transactions'!$G$9:$G$40,$C$130,'ABT Transactions'!$F$9:$F$40,$O$131,'ABT Transactions'!$C$9:$C$40,P132,'ABT Transactions'!$D$9:$D$40,$B$139)","v":0},{"$f":"SUMIFS('ABT Transactions'!$B$9:$B$40,'ABT Transactions'!$G$9:$G$40,$C$130,'ABT Transactions'!$F$9:$F$40,$O$131,'ABT Transactions'!$C$9:$C$40,Q132,'ABT Transactions'!$D$9:$D$40,$B$139)","v":0},{"$f":"SUMIFS('ABT Transactions'!$B$9:$B$40,'ABT Transactions'!$G$9:$G$40,$C$130,'ABT Transactions'!$F$9:$F$40,$R$131,'ABT Transactions'!$C$9:$C$40,R132,'ABT Transactions'!$D$9:$D$40,$B$139)","v":0},{"$f":"SUMIFS('ABT Transactions'!$B$9:$B$40,'ABT Transactions'!$G$9:$G$40,$C$130,'ABT Transactions'!$F$9:$F$40,$R$131,'ABT Transactions'!$C$9:$C$40,S132,'ABT Transactions'!$D$9:$D$40,$B$139)","v":0},{"$f":"SUMIFS('ABT Transactions'!$B$9:$B$40,'ABT Transactions'!$G$9:$G$40,$C$130,'ABT Transactions'!$F$9:$F$40,$R$131,'ABT Transactions'!$C$9:$C$40,T132,'ABT Transactions'!$D$9:$D$40,$B$139)","v":0},{"$f":"SUMIFS('ABT Transactions'!$B$9:$B$40,'ABT Transactions'!$G$9:$G$40,$C130,'ABT Transactions'!$F$9:$F$40,$U$14,'ABT Transactions'!$C$9:$C$40,U$15,'ABT Transactions'!$D$9:$D$40,$B$22)","v":0},{"$f":"SUMIFS('ABT Transactions'!$B$9:$B$40,'ABT Transactions'!$G$9:$G$40,$C130,'ABT Transactions'!$F$9:$F$40,$U$14,'ABT Transactions'!$C$9:$C$40,V$15,'ABT Transactions'!$D$9:$D$40,$B$22)","v":0},{"$f":"SUMIFS('ABT Transactions'!$B$9:$B$40,'ABT Transactions'!$G$9:$G$40,$C130,'ABT Transactions'!$F$9:$F$40,$U$14,'ABT Transactions'!$C$9:$C$40,W$15,'ABT Transactions'!$D$9:$D$40,$B$22)","v":0},{"$f":"SUMIFS('ABT Transactions'!$B$9:$B$40,'ABT Transactions'!$G$9:$G$40,$C130,'ABT Transactions'!$F$9:$F$40,$X$14,'ABT Transactions'!$C$9:$C$40,X$15,'ABT Transactions'!$D$9:$D$40,$B$22)","v":0},{"$f":"SUMIFS('ABT Transactions'!$B$9:$B$40,'ABT Transactions'!$G$9:$G$40,$C130,'ABT Transactions'!$F$9:$F$40,$X$14,'ABT Transactions'!$C$9:$C$40,Y$15,'ABT Transactions'!$D$9:$D$40,$B$22)","v":0},{"$f":"SUMIFS('ABT Transactions'!$B$9:$B$40,'ABT Transactions'!$G$9:$G$40,$C130,'ABT Transactions'!$F$9:$F$40,$X$14,'ABT Transactions'!$C$9:$C$40,Z$15,'ABT Transactions'!$D$9:$D$40,$B$22)","v":0},{"$f":"SUMIFS('ABT Transactions'!$B$9:$B$40,'ABT Transactions'!$G$9:$G$40,$C130,'ABT Transactions'!$F$9:$F$40,$AA$14,'ABT Transactions'!$C$9:$C$40,AA$15,'ABT Transactions'!$D$9:$D$40,$B$22)","v":0},{"$f":"SUMIFS('ABT Transactions'!$B$9:$B$40,'ABT Transactions'!$G$9:$G$40,$C130,'ABT Transactions'!$F$9:$F$40,$AA$14,'ABT Transactions'!$C$9:$C$40,AB$15,'ABT Transactions'!$D$9:$D$40,$B$22)","v":0},{"$f":"SUMIFS('ABT Transactions'!$B$9:$B$40,'ABT Transactions'!$G$9:$G$40,$C130,'ABT Transactions'!$F$9:$F$40,$AA$14,'ABT Transactions'!$C$9:$C$40,AC$15,'ABT Transactions'!$D$9:$D$40,$B$22)","v":0},{"$f":"SUMIFS('ABT Transactions'!$B$9:$B$40,'ABT Transactions'!$G$9:$G$40,$C130,'ABT Transactions'!$F$9:$F$40,$AD$14,'ABT Transactions'!$C$9:$C$40,AD$15,'ABT Transactions'!$D$9:$D$40,$B$22)","v":0},{"$f":"SUMIFS('ABT Transactions'!$B$9:$B$40,'ABT Transactions'!$G$9:$G$40,$C130,'ABT Transactions'!$F$9:$F$40,$AD$14,'ABT Transactions'!$C$9:$C$40,AE$15,'ABT Transactions'!$D$9:$D$40,$B$22)","v":0},{"$f":"SUMIFS('ABT Transactions'!$B$9:$B$40,'ABT Transactions'!$G$9:$G$40,$C130,'ABT Transactions'!$F$9:$F$40,$AD$14,'ABT Transactions'!$C$9:$C$40,AF$15,'ABT Transactions'!$D$9:$D$40,$B$22)","v":0},{"$f":"SUMIFS('ABT Transactions'!$B$9:$B$40,'ABT Transactions'!$G$9:$G$40,$C130,'ABT Transactions'!$F$9:$F$40,$AG$14,'ABT Transactions'!$C$9:$C$40,AG$15,'ABT Transactions'!$D$9:$D$40,$B$22)","v":0},{"$f":"SUMIFS('ABT Transactions'!$B$9:$B$40,'ABT Transactions'!$G$9:$G$40,$C130,'ABT Transactions'!$F$9:$F$40,$AG$14,'ABT Transactions'!$C$9:$C$40,AH$15,'ABT Transactions'!$D$9:$D$40,$B$22)","v":0},{"$f":"SUMIFS('ABT Transactions'!$B$9:$B$40,'ABT Transactions'!$G$9:$G$40,$C130,'ABT Transactions'!$F$9:$F$40,$AG$14,'ABT Transactions'!$C$9:$C$40,AI$15,'ABT Transactions'!$D$9:$D$40,$B$22)","v":0},{"$f":"SUMIFS('ABT Transactions'!$B$9:$B$40,'ABT Transactions'!$G$9:$G$40,$C130,'ABT Transactions'!$F$9:$F$40,$AJ$14,'ABT Transactions'!$C$9:$C$40,AJ$15,'ABT Transactions'!$D$9:$D$40,$B$22)","v":0},{"$f":"SUMIFS('ABT Transactions'!$B$9:$B$40,'ABT Transactions'!$G$9:$G$40,$C130,'ABT Transactions'!$F$9:$F$40,$AJ$14,'ABT Transactions'!$C$9:$C$40,AK$15,'ABT Transactions'!$D$9:$D$40,$B$22)","v":0},{"$f":"SUMIFS('ABT Transactions'!$B$9:$B$40,'ABT Transactions'!$G$9:$G$40,$C130,'ABT Transactions'!$F$9:$F$40,$AJ$14,'ABT Transactions'!$C$9:$C$40,AL$15,'ABT Transactions'!$D$9:$D$40,$B$22)","v":0},{"$f":"SUMIFS('ABT Transactions'!$B$9:$B$40,'ABT Transactions'!$G$9:$G$40,$C130,'ABT Transactions'!$F$9:$F$40,$AM$14,'ABT Transactions'!$C$9:$C$40,AM$15,'ABT Transactions'!$D$9:$D$40,$B$22)","v":0},{"$f":"SUMIFS('ABT Transactions'!$B$9:$B$40,'ABT Transactions'!$G$9:$G$40,$C130,'ABT Transactions'!$F$9:$F$40,$AM$14,'ABT Transactions'!$C$9:$C$40,AN$15,'ABT Transactions'!$D$9:$D$40,$B$22)","v":0},{"$f":"SUMIFS('ABT Transactions'!$B$9:$B$40,'ABT Transactions'!$G$9:$G$40,$C130,'ABT Transactions'!$F$9:$F$40,$AM$14,'ABT Transactions'!$C$9:$C$40,AO$15,'ABT Transactions'!$D$9:$D$40,$B$22)","v":0},{"$f":"SUMIFS('ABT Transactions'!$B$9:$B$40,'ABT Transactions'!$G$9:$G$40,$C130,'ABT Transactions'!$F$9:$F$40,$AP$14,'ABT Transactions'!$C$9:$C$40,AP$15,'ABT Transactions'!$D$9:$D$40,$B$22)","v":0},{"$f":"SUMIFS('ABT Transactions'!$B$9:$B$40,'ABT Transactions'!$G$9:$G$40,$C130,'ABT Transactions'!$F$9:$F$40,$AP$14,'ABT Transactions'!$C$9:$C$40,AQ$15,'ABT Transactions'!$D$9:$D$40,$B$22)","v":0},{"$f":"SUMIFS('ABT Transactions'!$B$9:$B$40,'ABT Transactions'!$G$9:$G$40,$C130,'ABT Transactions'!$F$9:$F$40,$AP$14,'ABT Transactions'!$C$9:$C$40,AR$15,'ABT Transactions'!$D$9:$D$40,$B$22)","v":0},{"$f":"SUMIFS('ABT Transactions'!$B$9:$B$40,'ABT Transactions'!$G$9:$G$40,$C$130,'ABT Transactions'!$F$9:$F$40,$AS$131,'ABT Transactions'!$C$9:$C$40,AS132,'ABT Transactions'!$D$9:$D$40,$B$139)","v":0},{"$f":"SUMIFS('ABT Transactions'!$B$9:$B$40,'ABT Transactions'!$G$9:$G$40,$C$130,'ABT Transactions'!$F$9:$F$40,$AS$131,'ABT Transactions'!$C$9:$C$40,AT132,'ABT Transactions'!$D$9:$D$40,$B$139)","v":0},{"$f":"SUMIFS('ABT Transactions'!$B$9:$B$40,'ABT Transactions'!$G$9:$G$40,$C$130,'ABT Transactions'!$F$9:$F$40,$AS$131,'ABT Transactions'!$C$9:$C$40,AU132,'ABT Transactions'!$D$9:$D$40,$B$139)","v":0}]
[null,"Transfer ADV Credits (in)",{"$f":"SUMIFS('ABT Transactions'!$B$9:$B$40,'ABT Transactions'!$J$9:$J$40,$C$130,'ABT Transactions'!$I$9:$I$40,$C$131,'ABT Transactions'!$C$9:$C$40,C132,'ABT Transactions'!$D$9:$D$40,$B$140)","v":0},{"$f":"SUMIFS('ABT Transactions'!$B$9:$B$40,'ABT Transactions'!$J$9:$J$40,$C$130,'ABT Transactions'!$I$9:$I$40,$C$131,'ABT Transactions'!$C$9:$C$40,D132,'ABT Transactions'!$D$9:$D$40,$B$140)","v":0},{"$f":"SUMIFS('ABT Transactions'!$B$9:$B$40,'ABT Transactions'!$J$9:$J$40,$C$130,'ABT Transactions'!$I$9:$I$40,$C$131,'ABT Transactions'!$C$9:$C$40,E132,'ABT Transactions'!$D$9:$D$40,$B$140)","v":0},{"$f":"SUMIFS('ABT Transactions'!$B$9:$B$40,'ABT Transactions'!$J$9:$J$40,$C$130,'ABT Transactions'!$I$9:$I$40,$F$131,'ABT Transactions'!$C$9:$C$40,F132,'ABT Transactions'!$D$9:$D$40,$B$140)","v":0},{"$f":"SUMIFS('ABT Transactions'!$B$9:$B$40,'ABT Transactions'!$J$9:$J$40,$C$130,'ABT Transactions'!$I$9:$I$40,$F$131,'ABT Transactions'!$C$9:$C$40,G132,'ABT Transactions'!$D$9:$D$40,$B$140)","v":0},{"$f":"SUMIFS('ABT Transactions'!$B$9:$B$40,'ABT Transactions'!$J$9:$J$40,$C$130,'ABT Transactions'!$I$9:$I$40,$F$131,'ABT Transactions'!$C$9:$C$40,H132,'ABT Transactions'!$D$9:$D$40,$B$140)","v":0},{"$f":"SUMIFS('ABT Transactions'!$B$9:$B$40,'ABT Transactions'!$J$9:$J$40,$C$130,'ABT Transactions'!$I$9:$I$40,$I$131,'ABT Transactions'!$C$9:$C$40,I132,'ABT Transactions'!$D$9:$D$40,$B$140)","v":0},{"$f":"SUMIFS('ABT Transactions'!$B$9:$B$40,'ABT Transactions'!$J$9:$J$40,$C$130,'ABT Transactions'!$I$9:$I$40,$I$131,'ABT Transactions'!$C$9:$C$40,J132,'ABT Transactions'!$D$9:$D$40,$B$140)","v":0},{"$f":"SUMIFS('ABT Transactions'!$B$9:$B$40,'ABT Transactions'!$J$9:$J$40,$C$130,'ABT Transactions'!$I$9:$I$40,$I$131,'ABT Transactions'!$C$9:$C$40,K132,'ABT Transactions'!$D$9:$D$40,$B$140)","v":0},{"$f":"SUMIFS('ABT Transactions'!$B$9:$B$40,'ABT Transactions'!$J$9:$J$40,$C$130,'ABT Transactions'!$I$9:$I$40,$L$131,'ABT Transactions'!$C$9:$C$40,L132,'ABT Transactions'!$D$9:$D$40,$B$140)","v":0},{"$f":"SUMIFS('ABT Transactions'!$B$9:$B$40,'ABT Transactions'!$J$9:$J$40,$C$130,'ABT Transactions'!$I$9:$I$40,$L$131,'ABT Transactions'!$C$9:$C$40,M132,'ABT Transactions'!$D$9:$D$40,$B$140)","v":0},{"$f":"SUMIFS('ABT Transactions'!$B$9:$B$40,'ABT Transactions'!$J$9:$J$40,$C$130,'ABT Transactions'!$I$9:$I$40,$L$131,'ABT Transactions'!$C$9:$C$40,N132,'ABT Transactions'!$D$9:$D$40,$B$140)","v":0},{"$f":"SUMIFS('ABT Transactions'!$B$9:$B$40,'ABT Transactions'!$J$9:$J$40,$C$130,'ABT Transactions'!$I$9:$I$40,$O$131,'ABT Transactions'!$C$9:$C$40,O132,'ABT Transactions'!$D$9:$D$40,$B$140)","v":0},{"$f":"SUMIFS('ABT Transactions'!$B$9:$B$40,'ABT Transactions'!$J$9:$J$40,$C$130,'ABT Transactions'!$I$9:$I$40,$O$131,'ABT Transactions'!$C$9:$C$40,P132,'ABT Transactions'!$D$9:$D$40,$B$140)","v":0},{"$f":"SUMIFS('ABT Transactions'!$B$9:$B$40,'ABT Transactions'!$J$9:$J$40,$C$130,'ABT Transactions'!$I$9:$I$40,$O$131,'ABT Transactions'!$C$9:$C$40,Q132,'ABT Transactions'!$D$9:$D$40,$B$140)","v":0},{"$f":"SUMIFS('ABT Transactions'!$B$9:$B$40,'ABT Transactions'!$J$9:$J$40,$C$130,'ABT Transactions'!$I$9:$I$40,$R$131,'ABT Transactions'!$C$9:$C$40,R132,'ABT Transactions'!$D$9:$D$40,$B$140)","v":0},{"$f":"SUMIFS('ABT Transactions'!$B$9:$B$40,'ABT Transactions'!$J$9:$J$40,$C$130,'ABT Transactions'!$I$9:$I$40,$R$131,'ABT Transactions'!$C$9:$C$40,S132,'ABT Transactions'!$D$9:$D$40,$B$140)","v":0},{"$f":"SUMIFS('ABT Transactions'!$B$9:$B$40,'ABT Transactions'!$J$9:$J$40,$C$130,'ABT Transactions'!$I$9:$I$40,$R$131,'ABT Transactions'!$C$9:$C$40,T132,'ABT Transactions'!$D$9:$D$40,$B$140)","v":0},{"$f":"SUMIFS('ABT Transactions'!$B$9:$B$40,'ABT Transactions'!$J$9:$J$40,$C130,'ABT Transactions'!$I$9:$I$40,$U$14,'ABT Transactions'!$C$9:$C$40,U132,'ABT Transactions'!$D$9:$D$40,$B$23)","v":0},{"$f":"SUMIFS('ABT Transactions'!$B$9:$B$40,'ABT Transactions'!$J$9:$J$40,$C130,'ABT Transactions'!$I$9:$I$40,$U$14,'ABT Transactions'!$C$9:$C$40,V132,'ABT Transactions'!$D$9:$D$40,$B$23)","v":0},{"$f":"SUMIFS('ABT Transactions'!$B$9:$B$40,'ABT Transactions'!$J$9:$J$40,$C130,'ABT Transactions'!$I$9:$I$40,$U$14,'ABT Transactions'!$C$9:$C$40,W132,'ABT Transactions'!$D$9:$D$40,$B$23)","v":0},{"$f":"SUMIFS('ABT Transactions'!$B$9:$B$40,'ABT Transactions'!$J$9:$J$40,$C130,'ABT Transactions'!$I$9:$I$40,$X$14,'ABT Transactions'!$C$9:$C$40,X132,'ABT Transactions'!$D$9:$D$40,$B$23)","v":0},{"$f":"SUMIFS('ABT Transactions'!$B$9:$B$40,'ABT Transactions'!$J$9:$J$40,$C130,'ABT Transactions'!$I$9:$I$40,$X$14,'ABT Transactions'!$C$9:$C$40,Y132,'ABT Transactions'!$D$9:$D$40,$B$23)","v":0},{"$f":"SUMIFS('ABT Transactions'!$B$9:$B$40,'ABT Transactions'!$J$9:$J$40,$C130,'ABT Transactions'!$I$9:$I$40,$X$14,'ABT Transactions'!$C$9:$C$40,Z132,'ABT Transactions'!$D$9:$D$40,$B$23)","v":0},{"$f":"SUMIFS('ABT Transactions'!$B$9:$B$40,'ABT Transactions'!$J$9:$J$40,$C130,'ABT Transactions'!$I$9:$I$40,$AA$14,'ABT Transactions'!$C$9:$C$40,AA132,'ABT Transactions'!$D$9:$D$40,$B$23)","v":0},{"$f":"SUMIFS('ABT Transactions'!$B$9:$B$40,'ABT Transactions'!$J$9:$J$40,$C130,'ABT Transactions'!$I$9:$I$40,$AA$14,'ABT Transactions'!$C$9:$C$40,AB132,'ABT Transactions'!$D$9:$D$40,$B$23)","v":0},{"$f":"SUMIFS('ABT Transactions'!$B$9:$B$40,'ABT Transactions'!$J$9:$J$40,$C130,'ABT Transactions'!$I$9:$I$40,$AA$14,'ABT Transactions'!$C$9:$C$40,AC132,'ABT Transactions'!$D$9:$D$40,$B$23)","v":0},{"$f":"SUMIFS('ABT Transactions'!$B$9:$B$40,'ABT Transactions'!$J$9:$J$40,$C130,'ABT Transactions'!$I$9:$I$40,$AD$14,'ABT Transactions'!$C$9:$C$40,AD132,'ABT Transactions'!$D$9:$D$40,$B$23)","v":0},{"$f":"SUMIFS('ABT Transactions'!$B$9:$B$40,'ABT Transactions'!$J$9:$J$40,$C130,'ABT Transactions'!$I$9:$I$40,$AD$14,'ABT Transactions'!$C$9:$C$40,AE132,'ABT Transactions'!$D$9:$D$40,$B$23)","v":0},{"$f":"SUMIFS('ABT Transactions'!$B$9:$B$40,'ABT Transactions'!$J$9:$J$40,$C130,'ABT Transactions'!$I$9:$I$40,$AD$14,'ABT Transactions'!$C$9:$C$40,AF132,'ABT Transactions'!$D$9:$D$40,$B$23)","v":0},{"$f":"SUMIFS('ABT Transactions'!$B$9:$B$40,'ABT Transactions'!$J$9:$J$40,$C130,'ABT Transactions'!$I$9:$I$40,$AG$14,'ABT Transactions'!$C$9:$C$40,AG132,'ABT Transactions'!$D$9:$D$40,$B$23)","v":0},{"$f":"SUMIFS('ABT Transactions'!$B$9:$B$40,'ABT Transactions'!$J$9:$J$40,$C130,'ABT Transactions'!$I$9:$I$40,$AG$14,'ABT Transactions'!$C$9:$C$40,AH132,'ABT Transactions'!$D$9:$D$40,$B$23)","v":0},{"$f":"SUMIFS('ABT Transactions'!$B$9:$B$40,'ABT Transactions'!$J$9:$J$40,$C130,'ABT Transactions'!$I$9:$I$40,$AG$14,'ABT Transactions'!$C$9:$C$40,AI132,'ABT Transactions'!$D$9:$D$40,$B$23)","v":0},{"$f":"SUMIFS('ABT Transactions'!$B$9:$B$40,'ABT Transactions'!$J$9:$J$40,$C130,'ABT Transactions'!$I$9:$I$40,$AJ$14,'ABT Transactions'!$C$9:$C$40,AJ132,'ABT Transactions'!$D$9:$D$40,$B$23)","v":0},{"$f":"SUMIFS('ABT Transactions'!$B$9:$B$40,'ABT Transactions'!$J$9:$J$40,$C130,'ABT Transactions'!$I$9:$I$40,$AJ$14,'ABT Transactions'!$C$9:$C$40,AK132,'ABT Transactions'!$D$9:$D$40,$B$23)","v":0},{"$f":"SUMIFS('ABT Transactions'!$B$9:$B$40,'ABT Transactions'!$J$9:$J$40,$C130,'ABT Transactions'!$I$9:$I$40,$AJ$14,'ABT Transactions'!$C$9:$C$40,AL132,'ABT Transactions'!$D$9:$D$40,$B$23)","v":0},{"$f":"SUMIFS('ABT Transactions'!$B$9:$B$40,'ABT Transactions'!$J$9:$J$40,$C130,'ABT Transactions'!$I$9:$I$40,$AM$14,'ABT Transactions'!$C$9:$C$40,AM132,'ABT Transactions'!$D$9:$D$40,$B$23)","v":0},{"$f":"SUMIFS('ABT Transactions'!$B$9:$B$40,'ABT Transactions'!$J$9:$J$40,$C130,'ABT Transactions'!$I$9:$I$40,$AM$14,'ABT Transactions'!$C$9:$C$40,AN132,'ABT Transactions'!$D$9:$D$40,$B$23)","v":0},{"$f":"SUMIFS('ABT Transactions'!$B$9:$B$40,'ABT Transactions'!$J$9:$J$40,$C130,'ABT Transactions'!$I$9:$I$40,$AM$14,'ABT Transactions'!$C$9:$C$40,AO132,'ABT Transactions'!$D$9:$D$40,$B$23)","v":0},{"$f":"SUMIFS('ABT Transactions'!$B$9:$B$40,'ABT Transactions'!$J$9:$J$40,$C130,'ABT Transactions'!$I$9:$I$40,$AP$14,'ABT Transactions'!$C$9:$C$40,AP132,'ABT Transactions'!$D$9:$D$40,$B$23)","v":0},{"$f":"SUMIFS('ABT Transactions'!$B$9:$B$40,'ABT Transactions'!$J$9:$J$40,$C130,'ABT Transactions'!$I$9:$I$40,$AP$14,'ABT Transactions'!$C$9:$C$40,AQ132,'ABT Transactions'!$D$9:$D$40,$B$23)","v":0},{"$f":"SUMIFS('ABT Transactions'!$B$9:$B$40,'ABT Transactions'!$J$9:$J$40,$C130,'ABT Transactions'!$I$9:$I$40,$AP$14,'ABT Transactions'!$C$9:$C$40,AR132,'ABT Transactions'!$D$9:$D$40,$B$23)","v":0},{"$f":"SUMIFS('ABT Transactions'!$B$9:$B$40,'ABT Transactions'!$J$9:$J$40,$C$130,'ABT Transactions'!$I$9:$I$40,$AS$131,'ABT Transactions'!$C$9:$C$40,AS132,'ABT Transactions'!$D$9:$D$40,$B$140)","v":0},{"$f":"SUMIFS('ABT Transactions'!$B$9:$B$40,'ABT Transactions'!$J$9:$J$40,$C$130,'ABT Transactions'!$I$9:$I$40,$AS$131,'ABT Transactions'!$C$9:$C$40,AT132,'ABT Transactions'!$D$9:$D$40,$B$140)","v":0},{"$f":"SUMIFS('ABT Transactions'!$B$9:$B$40,'ABT Transactions'!$J$9:$J$40,$C$130,'ABT Transactions'!$I$9:$I$40,$AS$131,'ABT Transactions'!$C$9:$C$40,AU132,'ABT Transactions'!$D$9:$D$40,$B$140)","v":0}]
[null,"Retired Credits",{"$f":"SUMIFS('ABT Transactions'!$B$9:$B$40,'ABT Transactions'!$G$9:$G$40,$C$130,'ABT Transactions'!$F$9:$F$40,$C$131,'ABT Transactions'!$C$9:$C$40,C132,'ABT Transactions'!$D$9:$D$40,$B$141)","v":0},{"$f":"SUMIFS('ABT Transactions'!$B$9:$B$40,'ABT Transactions'!$G$9:$G$40,$C$130,'ABT Transactions'!$F$9:$F$40,$C$131,'ABT Transactions'!$C$9:$C$40,D132,'ABT Transactions'!$D$9:$D$40,$B$141)","v":0},{"$f":"SUMIFS('ABT Transactions'!$B$9:$B$40,'ABT Transactions'!$G$9:$G$40,$C$130,'ABT Transactions'!$F$9:$F$40,$C$131,'ABT Transactions'!$C$9:$C$40,E132,'ABT Transactions'!$D$9:$D$40,$B$141)","v":0},{"$f":"SUMIFS('ABT Transactions'!$B$9:$B$40,'ABT Transactions'!$G$9:$G$40,$C$130,'ABT Transactions'!$F$9:$F$40,$F$131,'ABT Transactions'!$C$9:$C$40,F132,'ABT Transactions'!$D$9:$D$40,$B$141)","v":0},{"$f":"SUMIFS('ABT Transactions'!$B$9:$B$40,'ABT Transactions'!$G$9:$G$40,$C$130,'ABT Transactions'!$F$9:$F$40,$F$131,'ABT Transactions'!$C$9:$C$40,G132,'ABT Transactions'!$D$9:$D$40,$B$141)","v":0},{"$f":"SUMIFS('ABT Transactions'!$B$9:$B$40,'ABT Transactions'!$G$9:$G$40,$C$130,'ABT Transactions'!$F$9:$F$40,$F$131,'ABT Transactions'!$C$9:$C$40,H132,'ABT Transactions'!$D$9:$D$40,$B$141)","v":0},{"$f":"SUMIFS('ABT Transactions'!$B$9:$B$40,'ABT Transactions'!$G$9:$G$40,$C$130,'ABT Transactions'!$F$9:$F$40,$I$131,'ABT Transactions'!$C$9:$C$40,I132,'ABT Transactions'!$D$9:$D$40,$B$141)","v":0},{"$f":"SUMIFS('ABT Transactions'!$B$9:$B$40,'ABT Transactions'!$G$9:$G$40,$C$130,'ABT Transactions'!$F$9:$F$40,$I$131,'ABT Transactions'!$C$9:$C$40,J132,'ABT Transactions'!$D$9:$D$40,$B$141)","v":0},{"$f":"SUMIFS('ABT Transactions'!$B$9:$B$40,'ABT Transactions'!$G$9:$G$40,$C$130,'ABT Transactions'!$F$9:$F$40,$I$131,'ABT Transactions'!$C$9:$C$40,K132,'ABT Transactions'!$D$9:$D$40,$B$141)","v":0},{"$f":"SUMIFS('ABT Transactions'!$B$9:$B$40,'ABT Transactions'!$G$9:$G$40,$C$130,'ABT Transactions'!$F$9:$F$40,$L$131,'ABT Transactions'!$C$9:$C$40,L132,'ABT Transactions'!$D$9:$D$40,$B$141)","v":0},{"$f":"SUMIFS('ABT Transactions'!$B$9:$B$40,'ABT Transactions'!$G$9:$G$40,$C$130,'ABT Transactions'!$F$9:$F$40,$L$131,'ABT Transactions'!$C$9:$C$40,M132,'ABT Transactions'!$D$9:$D$40,$B$141)","v":0},{"$f":"SUMIFS('ABT Transactions'!$B$9:$B$40,'ABT Transactions'!$G$9:$G$40,$C$130,'ABT Transactions'!$F$9:$F$40,$L$131,'ABT Transactions'!$C$9:$C$40,N132,'ABT Transactions'!$D$9:$D$40,$B$141)","v":0},{"$f":"SUMIFS('ABT Transactions'!$B$9:$B$40,'ABT Transactions'!$G$9:$G$40,$C$130,'ABT Transactions'!$F$9:$F$40,$O$131,'ABT Transactions'!$C$9:$C$40,O132,'ABT Transactions'!$D$9:$D$40,$B$141)","v":0},{"$f":"SUMIFS('ABT Transactions'!$B$9:$B$40,'ABT Transactions'!$G$9:$G$40,$C$130,'ABT Transactions'!$F$9:$F$40,$O$131,'ABT Transactions'!$C$9:$C$40,P132,'ABT Transactions'!$D$9:$D$40,$B$141)","v":0},{"$f":"SUMIFS('ABT Transactions'!$B$9:$B$40,'ABT Transactions'!$G$9:$G$40,$C$130,'ABT Transactions'!$F$9:$F$40,$O$131,'ABT Transactions'!$C$9:$C$40,Q132,'ABT Transactions'!$D$9:$D$40,$B$141)","v":0},{"$f":"SUMIFS('ABT Transactions'!$B$9:$B$40,'ABT Transactions'!$G$9:$G$40,$C$130,'ABT Transactions'!$F$9:$F$40,$R$131,'ABT Transactions'!$C$9:$C$40,R132,'ABT Transactions'!$D$9:$D$40,$B$141)","v":0},{"$f":"SUMIFS('ABT Transactions'!$B$9:$B$40,'ABT Transactions'!$G$9:$G$40,$C$130,'ABT Transactions'!$F$9:$F$40,$R$131,'ABT Transactions'!$C$9:$C$40,S132,'ABT Transactions'!$D$9:$D$40,$B$141)","v":0},{"$f":"SUMIFS('ABT Transactions'!$B$9:$B$40,'ABT Transactions'!$G$9:$G$40,$C$130,'ABT Transactions'!$F$9:$F$40,$R$131,'ABT Transactions'!$C$9:$C$40,T132,'ABT Transactions'!$D$9:$D$40,$B$141)","v":0},{"$f":"SUMIFS('ABT Transactions'!$B$9:$B$40,'ABT Transactions'!$G$9:$G$40,$C130,'ABT Transactions'!$F$9:$F$40,$U$14,'ABT Transactions'!$C$9:$C$40,U$15,'ABT Transactions'!$D$9:$D$40,$B$24)","v":0},{"$f":"SUMIFS('ABT Transactions'!$B$9:$B$40,'ABT Transactions'!$G$9:$G$40,$C130,'ABT Transactions'!$F$9:$F$40,$U$14,'ABT Transactions'!$C$9:$C$40,V$15,'ABT Transactions'!$D$9:$D$40,$B$24)","v":0},{"$f":"SUMIFS('ABT Transactions'!$B$9:$B$40,'ABT Transactions'!$G$9:$G$40,$C130,'ABT Transactions'!$F$9:$F$40,$U$14,'ABT Transactions'!$C$9:$C$40,W$15,'ABT Transactions'!$D$9:$D$40,$B$24)","v":0},{"$f":"SUMIFS('ABT Transactions'!$B$9:$B$40,'ABT Transactions'!$G$9:$G$40,$C130,'ABT Transactions'!$F$9:$F$40,$X$14,'ABT Transactions'!$C$9:$C$40,X$15,'ABT Transactions'!$D$9:$D$40,$B$24)","v":0},{"$f":"SUMIFS('ABT Transactions'!$B$9:$B$40,'ABT Transactions'!$G$9:$G$40,$C130,'ABT Transactions'!$F$9:$F$40,$X$14,'ABT Transactions'!$C$9:$C$40,Y$15,'ABT Transactions'!$D$9:$D$40,$B$24)","v":0},{"$f":"SUMIFS('ABT Transactions'!$B$9:$B$40,'ABT Transactions'!$G$9:$G$40,$C130,'ABT Transactions'!$F$9:$F$40,$X$14,'ABT Transactions'!$C$9:$C$40,Z$15,'ABT Transactions'!$D$9:$D$40,$B$24)","v":0},{"$f":"SUMIFS('ABT Transactions'!$B$9:$B$40,'ABT Transactions'!$G$9:$G$40,$C130,'ABT Transactions'!$F$9:$F$40,$AA$14,'ABT Transactions'!$C$9:$C$40,AA$15,'ABT Transactions'!$D$9:$D$40,$B$24)","v":0},{"$f":"SUMIFS('ABT Transactions'!$B$9:$B$40,'ABT Transactions'!$G$9:$G$40,$C130,'ABT Transactions'!$F$9:$F$40,$AA$14,'ABT Transactions'!$C$9:$C$40,AB$15,'ABT Transactions'!$D$9:$D$40,$B$24)","v":0},{"$f":"SUMIFS('ABT Transactions'!$B$9:$B$40,'ABT Transactions'!$G$9:$G$40,$C130,'ABT Transactions'!$F$9:$F$40,$AA$14,'ABT Transactions'!$C$9:$C$40,AC$15,'ABT Transactions'!$D$9:$D$40,$B$24)","v":0},{"$f":"SUMIFS('ABT Transactions'!$B$9:$B$40,'ABT Transactions'!$G$9:$G$40,$C130,'ABT Transactions'!$F$9:$F$40,$AD$14,'ABT Transactions'!$C$9:$C$40,AD$15,'ABT Transactions'!$D$9:$D$40,$B$24)","v":0},{"$f":"SUMIFS('ABT Transactions'!$B$9:$B$40,'ABT Transactions'!$G$9:$G$40,$C130,'ABT Transactions'!$F$9:$F$40,$AD$14,'ABT Transactions'!$C$9:$C$40,AE$15,'ABT Transactions'!$D$9:$D$40,$B$24)","v":0},{"$f":"SUMIFS('ABT Transactions'!$B$9:$B$40,'ABT Transactions'!$G$9:$G$40,$C130,'ABT Transactions'!$F$9:$F$40,$AD$14,'ABT Transactions'!$C$9:$C$40,AF$15,'ABT Transactions'!$D$9:$D$40,$B$24)","v":0},{"$f":"SUMIFS('ABT Transactions'!$B$9:$B$40,'ABT Transactions'!$G$9:$G$40,$C130,'ABT Transactions'!$F$9:$F$40,$AG$14,'ABT Transactions'!$C$9:$C$40,AG$15,'ABT Transactions'!$D$9:$D$40,$B$24)","v":0},{"$f":"SUMIFS('ABT Transactions'!$B$9:$B$40,'ABT Transactions'!$G$9:$G$40,$C130,'ABT Transactions'!$F$9:$F$40,$AG$14,'ABT Transactions'!$C$9:$C$40,AH$15,'ABT Transactions'!$D$9:$D$40,$B$24)","v":0},{"$f":"SUMIFS('ABT Transactions'!$B$9:$B$40,'ABT Transactions'!$G$9:$G$40,$C130,'ABT Transactions'!$F$9:$F$40,$AG$14,'ABT Transactions'!$C$9:$C$40,AI$15,'ABT Transactions'!$D$9:$D$40,$B$24)","v":0},{"$f":"SUMIFS('ABT Transactions'!$B$9:$B$40,'ABT Transactions'!$G$9:$G$40,$C130,'ABT Transactions'!$F$9:$F$40,$AJ$14,'ABT Transactions'!$C$9:$C$40,AJ$15,'ABT Transactions'!$D$9:$D$40,$B$24)","v":0},{"$f":"SUMIFS('ABT Transactions'!$B$9:$B$40,'ABT Transactions'!$G$9:$G$40,$C130,'ABT Transactions'!$F$9:$F$40,$AJ$14,'ABT Transactions'!$C$9:$C$40,AK$15,'ABT Transactions'!$D$9:$D$40,$B$24)","v":0},{"$f":"SUMIFS('ABT Transactions'!$B$9:$B$40,'ABT Transactions'!$G$9:$G$40,$C130,'ABT Transactions'!$F$9:$F$40,$AJ$14,'ABT Transactions'!$C$9:$C$40,AL$15,'ABT Transactions'!$D$9:$D$40,$B$24)","v":0},{"$f":"SUMIFS('ABT Transactions'!$B$9:$B$40,'ABT Transactions'!$G$9:$G$40,$C130,'ABT Transactions'!$F$9:$F$40,$AM$14,'ABT Transactions'!$C$9:$C$40,AM$15,'ABT Transactions'!$D$9:$D$40,$B$24)","v":0},{"$f":"SUMIFS('ABT Transactions'!$B$9:$B$40,'ABT Transactions'!$G$9:$G$40,$C130,'ABT Transactions'!$F$9:$F$40,$AM$14,'ABT Transactions'!$C$9:$C$40,AN$15,'ABT Transactions'!$D$9:$D$40,$B$24)","v":0},{"$f":"SUMIFS('ABT Transactions'!$B$9:$B$40,'ABT Transactions'!$G$9:$G$40,$C130,'ABT Transactions'!$F$9:$F$40,$AM$14,'ABT Transactions'!$C$9:$C$40,AO$15,'ABT Transactions'!$D$9:$D$40,$B$24)","v":0},{"$f":"SUMIFS('ABT Transactions'!$B$9:$B$40,'ABT Transactions'!$G$9:$G$40,$C130,'ABT Transactions'!$F$9:$F$40,$AP$14,'ABT Transactions'!$C$9:$C$40,AP$15,'ABT Transactions'!$D$9:$D$40,$B$24)","v":0},{"$f":"SUMIFS('ABT Transactions'!$B$9:$B$40,'ABT Transactions'!$G$9:$G$40,$C130,'ABT Transactions'!$F$9:$F$40,$AP$14,'ABT Transactions'!$C$9:$C$40,AQ$15,'ABT Transactions'!$D$9:$D$40,$B$24)","v":0},{"$f":"SUMIFS('ABT Transactions'!$B$9:$B$40,'ABT Transactions'!$G$9:$G$40,$C130,'ABT Transactions'!$F$9:$F$40,$AP$14,'ABT Transactions'!$C$9:$C$40,AR$15,'ABT Transactions'!$D$9:$D$40,$B$24)","v":0},{"$f":"SUMIFS('ABT Transactions'!$B$9:$B$40,'ABT Transactions'!$G$9:$G$40,$C$130,'ABT Transactions'!$F$9:$F$40,$AS$131,'ABT Transactions'!$C$9:$C$40,AS132,'ABT Transactions'!$D$9:$D$40,$B$141)","v":0},{"$f":"SUMIFS('ABT Transactions'!$B$9:$B$40,'ABT Transactions'!$G$9:$G$40,$C$130,'ABT Transactions'!$F$9:$F$40,$AS$131,'ABT Transactions'!$C$9:$C$40,AT132,'ABT Transactions'!$D$9:$D$40,$B$141)","v":0},{"$f":"SUMIFS('ABT Transactions'!$B$9:$B$40,'ABT Transactions'!$G$9:$G$40,$C$130,'ABT Transactions'!$F$9:$F$40,$AS$131,'ABT Transactions'!$C$9:$C$40,AU132,'ABT Transactions'!$D$9:$D$40,$B$141)","v":0}]
[null,"Expired Credits",{"$f":"SUMIFS('ABT Transactions'!$B$9:$B$40,'ABT Transactions'!$G$9:$G$40,$C$130,'ABT Transactions'!$F$9:$F$40,$C$131,'ABT Transactions'!$C$9:$C$40,C132,'ABT Transactions'!$D$9:$D$40,$B$142)","v":0},{"$f":"SUMIFS('ABT Transactions'!$B$9:$B$40,'ABT Transactions'!$G$9:$G$40,$C$130,'ABT Transactions'!$F$9:$F$40,$C$131,'ABT Transactions'!$C$9:$C$40,D132,'ABT Transactions'!$D$9:$D$40,$B$142)","v":0},{"$f":"SUMIFS('ABT Transactions'!$B$9:$B$40,'ABT Transactions'!$G$9:$G$40,$C$130,'ABT Transactions'!$F$9:$F$40,$C$131,'ABT Transactions'!$C$9:$C$40,E132,'ABT Transactions'!$D$9:$D$40,$B$142)","v":0},{"$f":"SUMIFS('ABT Transactions'!$B$9:$B$40,'ABT Transactions'!$G$9:$G$40,$C$130,'ABT Transactions'!$F$9:$F$40,$F$131,'ABT Transactions'!$C$9:$C$40,F132,'ABT Transactions'!$D$9:$D$40,$B$142)","v":0},{"$f":"SUMIFS('ABT Transactions'!$B$9:$B$40,'ABT Transactions'!$G$9:$G$40,$C$130,'ABT Transactions'!$F$9:$F$40,$F$131,'ABT Transactions'!$C$9:$C$40,G132,'ABT Transactions'!$D$9:$D$40,$B$142)","v":0},{"$f":"SUMIFS('ABT Transactions'!$B$9:$B$40,'ABT Transactions'!$G$9:$G$40,$C$130,'ABT Transactions'!$F$9:$F$40,$F$131,'ABT Transactions'!$C$9:$C$40,H132,'ABT Transactions'!$D$9:$D$40,$B$142)","v":0},{"$f":"SUMIFS('ABT Transactions'!$B$9:$B$40,'ABT Transactions'!$G$9:$G$40,$C$130,'ABT Transactions'!$F$9:$F$40,$I$131,'ABT Transactions'!$C$9:$C$40,I132,'ABT Transactions'!$D$9:$D$40,$B$142)","v":0},{"$f":"SUMIFS('ABT Transactions'!$B$9:$B$40,'ABT Transactions'!$G$9:$G$40,$C$130,'ABT Transactions'!$F$9:$F$40,$I$131,'ABT Transactions'!$C$9:$C$40,J132,'ABT Transactions'!$D$9:$D$40,$B$142)","v":0},{"$f":"SUMIFS('ABT Transactions'!$B$9:$B$40,'ABT Transactions'!$G$9:$G$40,$C$130,'ABT Transactions'!$F$9:$F$40,$I$131,'ABT Transactions'!$C$9:$C$40,K132,'ABT Transactions'!$D$9:$D$40,$B$142)","v":0},{"$f":"SUMIFS('ABT Transactions'!$B$9:$B$40,'ABT Transactions'!$G$9:$G$40,$C$130,'ABT Transactions'!$F$9:$F$40,$L$131,'ABT Transactions'!$C$9:$C$40,L132,'ABT Transactions'!$D$9:$D$40,$B$142)","v":0},{"$f":"SUMIFS('ABT Transactions'!$B$9:$B$40,'ABT Transactions'!$G$9:$G$40,$C$130,'ABT Transactions'!$F$9:$F$40,$L$131,'ABT Transactions'!$C$9:$C$40,M132,'ABT Transactions'!$D$9:$D$40,$B$142)","v":0},{"$f":"SUMIFS('ABT Transactions'!$B$9:$B$40,'ABT Transactions'!$G$9:$G$40,$C$130,'ABT Transactions'!$F$9:$F$40,$L$131,'ABT Transactions'!$C$9:$C$40,N132,'ABT Transactions'!$D$9:$D$40,$B$142)","v":0},{"$f":"SUMIFS('ABT Transactions'!$B$9:$B$40,'ABT Transactions'!$G$9:$G$40,$C$130,'ABT Transactions'!$F$9:$F$40,$O$131,'ABT Transactions'!$C$9:$C$40,O132,'ABT Transactions'!$D$9:$D$40,$B$142)","v":0},{"$f":"SUMIFS('ABT Transactions'!$B$9:$B$40,'ABT Transactions'!$G$9:$G$40,$C$130,'ABT Transactions'!$F$9:$F$40,$O$131,'ABT Transactions'!$C$9:$C$40,P132,'ABT Transactions'!$D$9:$D$40,$B$142)","v":0},{"$f":"SUMIFS('ABT Transactions'!$B$9:$B$40,'ABT Transactions'!$G$9:$G$40,$C$130,'ABT Transactions'!$F$9:$F$40,$O$131,'ABT Transactions'!$C$9:$C$40,Q132,'ABT Transactions'!$D$9:$D$40,$B$142)","v":0},{"$f":"SUMIFS('ABT Transactions'!$B$9:$B$40,'ABT Transactions'!$G$9:$G$40,$C$130,'ABT Transactions'!$F$9:$F$40,$R$131,'ABT Transactions'!$C$9:$C$40,R132,'ABT Transactions'!$D$9:$D$40,$B$142)","v":0},{"$f":"SUMIFS('ABT Transactions'!$B$9:$B$40,'ABT Transactions'!$G$9:$G$40,$C$130,'ABT Transactions'!$F$9:$F$40,$R$131,'ABT Transactions'!$C$9:$C$40,S132,'ABT Transactions'!$D$9:$D$40,$B$142)","v":0},{"$f":"SUMIFS('ABT Transactions'!$B$9:$B$40,'ABT Transactions'!$G$9:$G$40,$C$130,'ABT Transactions'!$F$9:$F$40,$R$131,'ABT Transactions'!$C$9:$C$40,T132,'ABT Transactions'!$D$9:$D$40,$B$142)","v":0},{"$f":"SUMIFS('ABT Transactions'!$B$9:$B$40,'ABT Transactions'!$G$9:$G$40,$C130,'ABT Transactions'!$F$9:$F$40,$U$14,'ABT Transactions'!$C$9:$C$40,U$15,'ABT Transactions'!$D$9:$D$40,$B$25)","v":0},{"$f":"SUMIFS('ABT Transactions'!$B$9:$B$40,'ABT Transactions'!$G$9:$G$40,$C130,'ABT Transactions'!$F$9:$F$40,$U$14,'ABT Transactions'!$C$9:$C$40,V$15,'ABT Transactions'!$D$9:$D$40,$B$25)","v":0},{"$f":"SUMIFS('ABT Transactions'!$B$9:$B$40,'ABT Transactions'!$G$9:$G$40,$C130,'ABT Transactions'!$F$9:$F$40,$U$14,'ABT Transactions'!$C$9:$C$40,W$15,'ABT Transactions'!$D$9:$D$40,$B$25)","v":0},{"$f":"SUMIFS('ABT Transactions'!$B$9:$B$40,'ABT Transactions'!$G$9:$G$40,$C130,'ABT Transactions'!$F$9:$F$40,$X$14,'ABT Transactions'!$C$9:$C$40,X$15,'ABT Transactions'!$D$9:$D$40,$B$25)","v":0},{"$f":"SUMIFS('ABT Transactions'!$B$9:$B$40,'ABT Transactions'!$G$9:$G$40,$C130,'ABT Transactions'!$F$9:$F$40,$X$14,'ABT Transactions'!$C$9:$C$40,Y$15,'ABT Transactions'!$D$9:$D$40,$B$25)","v":0},{"$f":"SUMIFS('ABT Transactions'!$B$9:$B$40,'ABT Transactions'!$G$9:$G$40,$C130,'ABT Transactions'!$F$9:$F$40,$X$14,'ABT Transactions'!$C$9:$C$40,Z$15,'ABT Transactions'!$D$9:$D$40,$B$25)","v":0},{"$f":"SUMIFS('ABT Transactions'!$B$9:$B$40,'ABT Transactions'!$G$9:$G$40,$C130,'ABT Transactions'!$F$9:$F$40,$AA$14,'ABT Transactions'!$C$9:$C$40,AA$15,'ABT Transactions'!$D$9:$D$40,$B$25)","v":0},{"$f":"SUMIFS('ABT Transactions'!$B$9:$B$40,'ABT Transactions'!$G$9:$G$40,$C130,'ABT Transactions'!$F$9:$F$40,$AA$14,'ABT Transactions'!$C$9:$C$40,AB$15,'ABT Transactions'!$D$9:$D$40,$B$25)","v":0},{"$f":"SUMIFS('ABT Transactions'!$B$9:$B$40,'ABT Transactions'!$G$9:$G$40,$C130,'ABT Transactions'!$F$9:$F$40,$AA$14,'ABT Transactions'!$C$9:$C$40,AC$15,'ABT Transactions'!$D$9:$D$40,$B$25)","v":0},{"$f":"SUMIFS('ABT Transactions'!$B$9:$B$40,'ABT Transactions'!$G$9:$G$40,$C130,'ABT Transactions'!$F$9:$F$40,$AD$14,'ABT Transactions'!$C$9:$C$40,AD$15,'ABT Transactions'!$D$9:$D$40,$B$25)","v":0},{"$f":"SUMIFS('ABT Transactions'!$B$9:$B$40,'ABT Transactions'!$G$9:$G$40,$C130,'ABT Transactions'!$F$9:$F$40,$AD$14,'ABT Transactions'!$C$9:$C$40,AE$15,'ABT Transactions'!$D$9:$D$40,$B$25)","v":0},{"$f":"SUMIFS('ABT Transactions'!$B$9:$B$40,'ABT Transactions'!$G$9:$G$40,$C130,'ABT Transactions'!$F$9:$F$40,$AD$14,'ABT Transactions'!$C$9:$C$40,AF$15,'ABT Transactions'!$D$9:$D$40,$B$25)","v":0},{"$f":"SUMIFS('ABT Transactions'!$B$9:$B$40,'ABT Transactions'!$G$9:$G$40,$C130,'ABT Transactions'!$F$9:$F$40,$AG$14,'ABT Transactions'!$C$9:$C$40,AG$15,'ABT Transactions'!$D$9:$D$40,$B$25)","v":0},{"$f":"SUMIFS('ABT Transactions'!$B$9:$B$40,'ABT Transactions'!$G$9:$G$40,$C130,'ABT Transactions'!$F$9:$F$40,$AG$14,'ABT Transactions'!$C$9:$C$40,AH$15,'ABT Transactions'!$D$9:$D$40,$B$25)","v":0},{"$f":"SUMIFS('ABT Transactions'!$B$9:$B$40,'ABT Transactions'!$G$9:$G$40,$C130,'ABT Transactions'!$F$9:$F$40,$AG$14,'ABT Transactions'!$C$9:$C$40,AI$15,'ABT Transactions'!$D$9:$D$40,$B$25)","v":0},{"$f":"SUMIFS('ABT Transactions'!$B$9:$B$40,'ABT Transactions'!$G$9:$G$40,$C130,'ABT Transactions'!$F$9:$F$40,$AJ$14,'ABT Transactions'!$C$9:$C$40,AJ$15,'ABT Transactions'!$D$9:$D$40,$B$25)","v":0},{"$f":"SUMIFS('ABT Transactions'!$B$9:$B$40,'ABT Transactions'!$G$9:$G$40,$C130,'ABT Transactions'!$F$9:$F$40,$AJ$14,'ABT Transactions'!$C$9:$C$40,AK$15,'ABT Transactions'!$D$9:$D$40,$B$25)","v":0},{"$f":"SUMIFS('ABT Transactions'!$B$9:$B$40,'ABT Transactions'!$G$9:$G$40,$C130,'ABT Transactions'!$F$9:$F$40,$AJ$14,'ABT Transactions'!$C$9:$C$40,AL$15,'ABT Transactions'!$D$9:$D$40,$B$25)","v":0},{"$f":"SUMIFS('ABT Transactions'!$B$9:$B$40,'ABT Transactions'!$G$9:$G$40,$C130,'ABT Transactions'!$F$9:$F$40,$AM$14,'ABT Transactions'!$C$9:$C$40,AM$15,'ABT Transactions'!$D$9:$D$40,$B$25)","v":0},{"$f":"SUMIFS('ABT Transactions'!$B$9:$B$40,'ABT Transactions'!$G$9:$G$40,$C130,'ABT Transactions'!$F$9:$F$40,$AM$14,'ABT Transactions'!$C$9:$C$40,AN$15,'ABT Transactions'!$D$9:$D$40,$B$25)","v":0},{"$f":"SUMIFS('ABT Transactions'!$B$9:$B$40,'ABT Transactions'!$G$9:$G$40,$C130,'ABT Transactions'!$F$9:$F$40,$AM$14,'ABT Transactions'!$C$9:$C$40,AO$15,'ABT Transactions'!$D$9:$D$40,$B$25)","v":0},{"$f":"SUMIFS('ABT Transactions'!$B$9:$B$40,'ABT Transactions'!$G$9:$G$40,$C130,'ABT Transactions'!$F$9:$F$40,$AP$14,'ABT Transactions'!$C$9:$C$40,AP$15,'ABT Transactions'!$D$9:$D$40,$B$25)","v":0},{"$f":"SUMIFS('ABT Transactions'!$B$9:$B$40,'ABT Transactions'!$G$9:$G$40,$C130,'ABT Transactions'!$F$9:$F$40,$AP$14,'ABT Transactions'!$C$9:$C$40,AQ$15,'ABT Transactions'!$D$9:$D$40,$B$25)","v":0},{"$f":"SUMIFS('ABT Transactions'!$B$9:$B$40,'ABT Transactions'!$G$9:$G$40,$C130,'ABT Transactions'!$F$9:$F$40,$AP$14,'ABT Transactions'!$C$9:$C$40,AR$15,'ABT Transactions'!$D$9:$D$40,$B$25)","v":0},{"$f":"SUMIFS('ABT Transactions'!$B$9:$B$40,'ABT Transactions'!$G$9:$G$40,$C$130,'ABT Transactions'!$F$9:$F$40,$AS$131,'ABT Transactions'!$C$9:$C$40,AS132,'ABT Transactions'!$D$9:$D$40,$B$142)","v":0},{"$f":"SUMIFS('ABT Transactions'!$B$9:$B$40,'ABT Transactions'!$G$9:$G$40,$C$130,'ABT Transactions'!$F$9:$F$40,$AS$131,'ABT Transactions'!$C$9:$C$40,AT132,'ABT Transactions'!$D$9:$D$40,$B$142)","v":0},{"$f":"SUMIFS('ABT Transactions'!$B$9:$B$40,'ABT Transactions'!$G$9:$G$40,$C$130,'ABT Transactions'!$F$9:$F$40,$AS$131,'ABT Transactions'!$C$9:$C$40,AU132,'ABT Transactions'!$D$9:$D$40,$B$142)","v":0}]
[null,"Final Credit Balance",{"$f":"(C133+C134+C136+C138+C140+C141+C142)-(C135+C137+C139)","v":0},{"$f":"(D133+D134+D136+D138+D140+D141+D142)-(D135+D137+D139)","v":0},{"$f":"(E133+E134+E136+E138+E140+E141+E142)-(E135+E137+E139)","v":0},{"$f":"(F133+F134+F136+F138+F140+F141+F142)-(F135+F137+F139)","v":0},{"$f":"(G133+G134+G136+G138+G140+G141+G142)-(G135+G137+G139)","v":0},{"$f":"(H133+H134+H136+H138+H140+H141+H142)-(H135+H137+H139)","v":0},{"$f":"(I133+I134+I136+I138+I140+I141+I142)-(I135+I137+I139)","v":0},{"$f":"(J133+J134+J136+J138+J140+J141+J142)-(J135+J137+J139)","v":0},{"$f":"(K133+K134+K136+K138+K140+K141+K142)-(K135+K137+K139)","v":0},{"$f":"(L133+L134+L136+L138+L140+L141+L142)-(L135+L137+L139)","v":0},{"$f":"(M133+M134+M136+M138+M140+M141+M142)-(M135+M137+M139)","v":0},{"$f":"(N133+N134+N136+N138+N140+N141+N142)-(N135+N137+N139)","v":0},{"$f":"(O133+O134+O136+O138+O140+O141+O142)-(O135+O137+O139)","v":0},{"$f":"(P133+P134+P136+P138+P140+P141+P142)-(P135+P137+P139)","v":0},{"$f":"(Q133+Q134+Q136+Q138+Q140+Q141+Q142)-(Q135+Q137+Q139)","v":0},{"$f":"(R133+R134+R136+R138+R140+R141+R142)-(R135+R137+R139)","v":0},{"$f":"(S133+S134+S136+S138+S140+S141+S142)-(S135+S137+S139)","v":0},{"$f":"(T133+T134+T136+T138+T140+T141+T142)-(T135+T137+T139)","v":0},{"$f":"(U133+U134+U136+U138+U140+U141+U142)-(U135+U137+U139)","v":0},{"$f":"(V133+V134+V136+V138+V140+V141+V142)-(V135+V137+V139)","v":0},{"$f":"(W133+W134+W136+W138+W140+W141+W142)-(W135+W137+W139)","v":0},{"$f":"(X133+X134+X136+X138+X140+X141+X142)-(X135+X137+X139)","v":0},{"$f":"(Y133+Y134+Y136+Y138+Y140+Y141+Y142)-(Y135+Y137+Y139)","v":0},{"$f":"(Z133+Z134+Z136+Z138+Z140+Z141+Z142)-(Z135+Z137+Z139)","v":0},{"$f":"(AA133+AA134+AA136+AA138+AA140+AA141+AA142)-(AA135+AA137+AA139)","v":0},{"$f":"(AB133+AB134+AB136+AB138+AB140+AB141+AB142)-(AB135+AB137+AB139)","v":0},{"$f":"(AC133+AC134+AC136+AC138+AC140+AC141+AC142)-(AC135+AC137+AC139)","v":0},{"$f":"(AD133+AD134+AD136+AD138+AD140+AD141+AD142)-(AD135+AD137+AD139)","v":0},{"$f":"(AE133+AE134+AE136+AE138+AE140+AE141+AE142)-(AE135+AE137+AE139)","v":0},{"$f":"(AF133+AF134+AF136+AF138+AF140+AF141+AF142)-(AF135+AF137+AF139)","v":0},{"$f":"(AG133+AG134+AG136+AG138+AG140+AG141+AG142)-(AG135+AG137+AG139)","v":0},{"$f":"(AH133+AH134+AH136+AH138+AH140+AH141+AH142)-(AH135+AH137+AH139)","v":0},{"$f":"(AI133+AI134+AI136+AI138+AI140+AI141+AI142)-(AI135+AI137+AI139)","v":0},{"$f":"(AJ133+AJ134+AJ136+AJ138+AJ140+AJ141+AJ142)-(AJ135+AJ137+AJ139)","v":0},{"$f":"(AK133+AK134+AK136+AK138+AK140+AK141+AK142)-(AK135+AK137+AK139)","v":0},{"$f":"(AL133+AL134+AL136+AL138+AL140+AL141+AL142)-(AL135+AL137+AL139)","v":0},{"$f":"(AM133+AM134+AM136+AM138+AM140+AM141+AM142)-(AM135+AM137+AM139)","v":0},{"$f":"(AN133+AN134+AN136+AN138+AN140+AN141+AN142)-(AN135+AN137+AN139)","v":0},{"$f":"(AO133+AO134+AO136+AO138+AO140+AO141+AO142)-(AO135+AO137+AO139)","v":0},{"$f":"(AP133+AP134+AP136+AP138+AP140+AP141+AP142)-(AP135+AP137+AP139)","v":0},{"$f":"(AQ133+AQ134+AQ136+AQ138+AQ140+AQ141+AQ142)-(AQ135+AQ137+AQ139)","v":0},{"$f":"(AR133+AR134+AR136+AR138+AR140+AR141+AR142)-(AR135+AR137+AR139)","v":0},{"$f":"(AS133+AS134+AS136+AS138+AS140+AS141+AS142)-(AS135+AS137+AS139)","v":0},{"$f":"(AT133+AT134+AT136+AT138+AT140+AT141+AT142)-(AT135+AT137+AT139)","v":0},{"$f":"(AU133+AU134+AU136+AU138+AU140+AU141+AU142)-(AU135+AU137+AU139)","v":0}]
[null,"Averaging Set Credit Balance",{"$f":"SUM(C143:E143)","v":0},null,null,{"$f":"SUM(F143:H143)","v":0},null,null,{"$f":"SUM(I143:K143)","v":0},null,null,{"$f":"SUM(L143:N143)","v":0},null,null,{"$f":"SUM(O143:Q143)","v":0},null,null,{"$f":"SUM(R143:T143)","v":0},null,null,{"$f":"SUM(U143:W143)","v":0},null,null,{"$f":"SUM(X143:Z143)","v":0},null,null,{"$f":"SUM(AA143:AC143)","v":0},null,null,{"$f":"SUM(AD143:AF143)","v":0},null,null,{"$f":"SUM(AG143:AI143)","v":0},null,null,{"$f":"SUM(AJ143:AL143)","v":0},null,null,{"$f":"SUM(AM143:AO143)","v":0},null,null,{"$f":"SUM(AP143:AR143)","v":0},null,null,{"$f":"SUM(AS143:AU143)","v":0}]
[]
[]
[null,null,"Coach Bus"]
[null,null,2013,null,null,2014,null,null,2015,null,null,2016,null,null,2017,null,null,2018,null,null,2019,null,null,2020,null,null,2021,null,null,2022,null,null,2023,null,null,2024,null,null,2025,null,null,2026,null,null,2027]
[null,"Credit Type","Conventional Credit","Innovative Technology Credit","Advanced Technology Credit","Conventional Credit","Innovative Technology Credit","Advanced Technology Credit","Conventional Credit","Innovative Technology Credit","Advanced Technology Credit","Conventional Credit","Innovative Technology Credit","Advanced Technology Credit","Conventional Credit","Innovative Technology Credit","Advanced Technology Credit","Conventional Credit","Innovative Technology Credit","Advanced Technology Credit","Conventional Credit","Innovative Technology Credit","Advanced Technology Credit","Conventional Credit","Innovative Technology Credit","Advanced Technology Credit","Conventional Credit","Innovative Technology Credit","Advanced Technology Credit","Conventional Credit","Innovative Technology Credit","Advanced Technology Credit","Conventional Credit","Innovative Technology Credit","Advanced Technology Credit","Conventional Credit","Innovative Technology Credit","Advanced Technology Credit","Conventional Credit","Innovative Technology Credit","Advanced Technology Credit","Conventional Credit","Innovative Technology Credit","Advanced Technology Credit","Conventional Credit","Innovative Technology Credit","Advanced Technology Credit"]
[null,"Earned Credits",{"$f":"SUMIFS('ABT Credit Balances'!$D$9:$D$208,'ABT Credit Balances'!$B$9:$B$208,$C$147,'ABT Credit Balances'!$F$9:$F$208,C149,'ABT Credit Balances'!$E$9:$E$208,$C$148,'ABT Credit Balances'!$C$9:$C$208,$B$150)","v":0},{"$f":"SUMIFS('ABT Credit Balances'!$D$9:$D$208,'ABT Credit Balances'!$B$9:$B$208,$C$147,'ABT Credit Balances'!$F$9:$F$208,D149,'ABT Credit Balances'!$E$9:$E$208,$C$148,'ABT Credit Balances'!$C$9:$C$208,$B$150)","v":0},{"$f":"SUMIFS('ABT Credit Balances'!$D$9:$D$208,'ABT Credit Balances'!$B$9:$B$208,$C$147,'ABT Credit Balances'!$F$9:$F$208,E149,'ABT Credit Balances'!$E$9:$E$208,$C$148,'ABT Credit Balances'!$C$9:$C$208,$B$150)","v":0},{"$f":"SUMIFS('ABT Credit Balances'!$D$9:$D$208,'ABT Credit Balances'!$B$9:$B$208,$C$147,'ABT Credit Balances'!$F$9:$F$208,F149,'ABT Credit Balances'!$E$9:$E$208,$F$148,'ABT Credit Balances'!$C$9:$C$208,$B$150)","v":0},{"$f":"SUMIFS('ABT Credit Balances'!$D$9:$D$208,'ABT Credit Balances'!$B$9:$B$208,$C$147,'ABT Credit Balances'!$F$9:$F$208,G149,'ABT Credit Balances'!$E$9:$E$208,$F$148,'ABT Credit Balances'!$C$9:$C$208,$B$150)","v":0},{"$f":"SUMIFS('ABT Credit Balances'!$D$9:$D$208,'ABT Credit Balances'!$B$9:$B$208,$C$147,'ABT Credit Balances'!$F$9:$F$208,H149,'ABT Credit Balances'!$E$9:$E$208,$F$148,'ABT Credit Balances'!$C$9:$C$208,$B$150)","v":0},{"$f":"SUMIFS('ABT Credit Balances'!$D$9:$D$208,'ABT Credit Balances'!$B$9:$B$208,$C$147,'ABT Credit Balances'!$F$9:$F$208,I149,'ABT Credit Balances'!$E$9:$E$208,$I$148,'ABT Credit Balances'!$C$9:$C$208,$B$150)","v":0},{"$f":"SUMIFS('ABT Credit Balances'!$D$9:$D$208,'ABT Credit Balances'!$B$9:$B$208,$C$147,'ABT Credit Balances'!$F$9:$F$208,J149,'ABT Credit Balances'!$E$9:$E$208,$I$148,'ABT Credit Balances'!$C$9:$C$208,$B$150)","v":0},{"$f":"SUMIFS('ABT Credit Balances'!$D$9:$D$208,'ABT Credit Balances'!$B$9:$B$208,$C$147,'ABT Credit Balances'!$F$9:$F$208,K149,'ABT Credit Balances'!$E$9:$E$208,$I$148,'ABT Credit Balances'!$C$9:$C$208,$B$150)","v":0},{"$f":"SUMIFS('ABT Credit Balances'!$D$9:$D$208,'ABT Credit Balances'!$B$9:$B$208,$C$147,'ABT Credit Balances'!$F$9:$F$208,L149,'ABT Credit Balances'!$E$9:$E$208,$L$148,'ABT Credit Balances'!$C$9:$C$208,$B$150)","v":0},{"$f":"SUMIFS('ABT Credit Balances'!$D$9:$D$208,'ABT Credit Balances'!$B$9:$B$208,$C$147,'ABT Credit Balances'!$F$9:$F$208,M149,'ABT Credit Balances'!$E$9:$E$208,$L$148,'ABT Credit Balances'!$C$9:$C$208,$B$150)","v":0},{"$f":"SUMIFS('ABT Credit Balances'!$D$9:$D$208,'ABT Credit Balances'!$B$9:$B$208,$C$147,'ABT Credit Balances'!$F$9:$F$208,N149,'ABT Credit Balances'!$E$9:$E$208,$L$148,'ABT Credit Balances'!$C$9:$C$208,$B$150)","v":0},{"$f":"SUMIFS('ABT Credit Balances'!$D$9:$D$208,'ABT Credit Balances'!$B$9:$B$208,$C$147,'ABT Credit Balances'!$F$9:$F$208,O149,'ABT Credit Balances'!$E$9:$E$208,$O$148,'ABT Credit Balances'!$C$9:$C$208,$B$150)","v":0},{"$f":"SUMIFS('ABT Credit Balances'!$D$9:$D$208,'ABT Credit Balances'!$B$9:$B$208,$C$147,'ABT Credit Balances'!$F$9:$F$208,P149,'ABT Credit Balances'!$E$9:$E$208,$O$148,'ABT Credit Balances'!$C$9:$C$208,$B$150)","v":0},{"$f":"SUMIFS('ABT Credit Balances'!$D$9:$D$208,'ABT Credit Balances'!$B$9:$B$208,$C$147,'ABT Credit Balances'!$F$9:$F$208,Q149,'ABT Credit Balances'!$E$9:$E$208,$O$148,'ABT Credit Balances'!$C$9:$C$208,$B$150)","v":0},{"$f":"SUMIFS('ABT Credit Balances'!$D$9:$D$208,'ABT Credit Balances'!$B$9:$B$208,$C$147,'ABT Credit Balances'!$F$9:$F$208,R149,'ABT Credit Balances'!$E$9:$E$208,$R$148,'ABT Credit Balances'!$C$9:$C$208,$B$150)","v":0},{"$f":"SUMIFS('ABT Credit Balances'!$D$9:$D$208,'ABT Credit Balances'!$B$9:$B$208,$C$147,'ABT Credit Balances'!$F$9:$F$208,S149,'ABT Credit Balances'!$E$9:$E$208,$R$148,'ABT Credit Balances'!$C$9:$C$208,$B$150)","v":0},{"$f":"SUMIFS('ABT Credit Balances'!$D$9:$D$208,'ABT Credit Balances'!$B$9:$B$208,$C$147,'ABT Credit Balances'!$F$9:$F$208,T149,'ABT Credit Balances'!$E$9:$E$208,$R$148,'ABT Credit Balances'!$C$9:$C$208,$B$150)","v":0},{"$f":"SUMIFS('ABT Credit Balances'!$D$9:$D$208,'ABT Credit Balances'!$B$9:$B$208,$C$147,'ABT Credit Balances'!$F$9:$F$208,U149,'ABT Credit Balances'!$E$9:$E$208,$U$148,'ABT Credit Balances'!$C$9:$C$208,$B$150)","v":0},{"$f":"SUMIFS('ABT Credit Balances'!$D$9:$D$208,'ABT Credit Balances'!$B$9:$B$208,$C$147,'ABT Credit Balances'!$F$9:$F$208,V149,'ABT Credit Balances'!$E$9:$E$208,$U$148,'ABT Credit Balances'!$C$9:$C$208,$B$150)","v":0},{"$f":"SUMIFS('ABT Credit Balances'!$D$9:$D$208,'ABT Credit Balances'!$B$9:$B$208,$C$147,'ABT Credit Balances'!$F$9:$F$208,W149,'ABT Credit Balances'!$E$9:$E$208,U$148,'ABT Credit Balances'!$C$9:$C$208,$B$150)","v":0},{"$f":"SUMIFS('ABT Credit Balances'!$D$9:$D$208,'ABT Credit Balances'!$B$9:$B$208,$C$147,'ABT Credit Balances'!$F$9:$F$208,X149,'ABT Credit Balances'!$E$9:$E$208,$X$148,'ABT Credit Balances'!$C$9:$C$208,$B$150)","v":0},{"$f":"SUMIFS('ABT Credit Balances'!$D$9:$D$208,'ABT Credit Balances'!$B$9:$B$208,$C$147,'ABT Credit Balances'!$F$9:$F$208,Y149,'ABT Credit Balances'!$E$9:$E$208,$X$148,'ABT Credit Balances'!$C$9:$C$208,$B$150)","v":0},{"$f":"SUMIFS('ABT Credit Balances'!$D$9:$D$208,'ABT Credit Balances'!$B$9:$B$208,$C$147,'ABT Credit Balances'!$F$9:$F$208,Z149,'ABT Credit Balances'!$E$9:$E$208,$X$148,'ABT Credit Balances'!$C$9:$C$208,$B$150)","v":0},{"$f":"SUMIFS('ABT Credit Balances'!$D$9:$D$208,'ABT Credit Balances'!$B$9:$B$208,$C$147,'ABT Credit Balances'!$F$9:$F$208,AA149,'ABT Credit Balances'!$E$9:$E$208,$AA$148,'ABT Credit Balances'!$C$9:$C$208,$B$150)","v":0},{"$f":"SUMIFS('ABT Credit Balances'!$D$9:$D$208,'ABT Credit Balances'!$B$9:$B$208,$C$147,'ABT Credit Balances'!$F$9:$F$208,AB149,'ABT Credit Balances'!$E$9:$E$208,$AA$148,'ABT Credit Balances'!$C$9:$C$208,$B$150)","v":0},{"$f":"SUMIFS('ABT Credit Balances'!$D$9:$D$208,'ABT Credit Balances'!$B$9:$B$208,$C$147,'ABT Credit Balances'!$F$9:$F$208,AC149,'ABT Credit Balances'!$E$9:$E$208,$AA$148,'ABT Credit Balances'!$C$9:$C$208,$B$150)","v":0},{"$f":"SUMIFS('ABT Credit Balances'!$D$9:$D$208,'ABT Credit Balances'!$B$9:$B$208,$C$147,'ABT Credit Balances'!$F$9:$F$208,AD149,'ABT Credit Balances'!$E$9:$E$208,$AD$148,'ABT Credit Balances'!$C$9:$C$208,$B$150)","v":0},{"$f":"SUMIFS('ABT Credit Balances'!$D$9:$D$208,'ABT Credit Balances'!$B$9:$B$208,$C$147,'ABT Credit Balances'!$F$9:$F$208,AE149,'ABT Credit Balances'!$E$9:$E$208,$AD$148,'ABT Credit Balances'!$C$9:$C$208,$B$150)","v":0},{"$f":"SUMIFS('ABT Credit Balances'!$D$9:$D$208,'ABT Credit Balances'!$B$9:$B$208,$C$147,'ABT Credit Balances'!$F$9:$F$208,AF149,'ABT Credit Balances'!$E$9:$E$208,$AD$148,'ABT Credit Balances'!$C$9:$C$208,$B$150)","v":0},{"$f":"SUMIFS('ABT Credit Balances'!$D$9:$D$208,'ABT Credit Balances'!$B$9:$B$208,$C$147,'ABT Credit Balances'!$F$9:$F$208,AG149,'ABT Credit Balances'!$E$9:$E$208,$AG$148,'ABT Credit Balances'!$C$9:$C$208,$B$150)","v":0},{"$f":"SUMIFS('ABT Credit Balances'!$D$9:$D$208,'ABT Credit Balances'!$B$9:$B$208,$C$147,'ABT Credit Balances'!$F$9:$F$208,AH149,'ABT Credit Balances'!$E$9:$E$208,$AG$148,'ABT Credit Balances'!$C$9:$C$208,$B$150)","v":0},{"$f":"SUMIFS('ABT Credit Balances'!$D$9:$D$208,'ABT Credit Balances'!$B$9:$B$208,$C$147,'ABT Credit Balances'!$F$9:$F$208,AI149,'ABT Credit Balances'!$E$9:$E$208,$AG$148,'ABT Credit Balances'!$C$9:$C$208,$B$150)","v":0},{"$f":"SUMIFS('ABT Credit Balances'!$D$9:$D$208,'ABT Credit Balances'!$B$9:$B$208,$C$147,'ABT Credit Balances'!$F$9:$F$208,AJ149,'ABT Credit Balances'!$E$9:$E$208,$AJ$148,'ABT Credit Balances'!$C$9:$C$208,$B$150)","v":0},{"$f":"SUMIFS('ABT Credit Balances'!$D$9:$D$208,'ABT Credit Balances'!$B$9:$B$208,$C$147,'ABT Credit Balances'!$F$9:$F$208,AK149,'ABT Credit Balances'!$E$9:$E$208,$AJ$148,'ABT Credit Balances'!$C$9:$C$208,$B$150)","v":0},{"$f":"SUMIFS('ABT Credit Balances'!$D$9:$D$208,'ABT Credit Balances'!$B$9:$B$208,$C$147,'ABT Credit Balances'!$F$9:$F$208,AL149,'ABT Credit Balances'!$E$9:$E$208,$AJ$148,'ABT Credit Balances'!$C$9:$C$208,$B$150)","v":0},{"$f":"SUMIFS('ABT Credit Balances'!$D$9:$D$208,'ABT Credit Balances'!$B$9:$B$208,$C$147,'ABT Credit Balances'!$F$9:$F$208,AM149,'ABT Credit Balances'!$E$9:$E$208,$AM$148,'ABT Credit Balances'!$C$9:$C$208,$B$150)","v":0},{"$f":"SUMIFS('ABT Credit Balances'!$D$9:$D$208,'ABT Credit Balances'!$B$9:$B$208,$C$147,'ABT Credit Balances'!$F$9:$F$208,AN149,'ABT Credit Balances'!$E$9:$E$208,$AM$148,'ABT Credit Balances'!$C$9:$C$208,$B$150)","v":0},{"$f":"SUMIFS('ABT Credit Balances'!$D$9:$D$208,'ABT Credit Balances'!$B$9:$B$208,$C$147,'ABT Credit Balances'!$F$9:$F$208,AO149,'ABT Credit Balances'!$E$9:$E$208,$AM$148,'ABT Credit Balances'!$C$9:$C$208,$B$150)","v":0},{"$f":"SUMIFS('ABT Credit Balances'!$D$9:$D$208,'ABT Credit Balances'!$B$9:$B$208,$C$147,'ABT Credit Balances'!$F$9:$F$208,AP149,'ABT Credit Balances'!$E$9:$E$208,$AP$148,'ABT Credit Balances'!$C$9:$C$208,$B$150)","v":0},{"$f":"SUMIFS('ABT Credit Balances'!$D$9:$D$208,'ABT Credit Balances'!$B$9:$B$208,$C$147,'ABT Credit Balances'!$F$9:$F$208,AQ149,'ABT Credit Balances'!$E$9:$E$208,$AP$148,'ABT Credit Balances'!$C$9:$C$208,$B$150)","v":0},{"$f":"SUMIFS('ABT Credit Balances'!$D$9:$D$208,'ABT Credit Balances'!$B$9:$B$208,$C$147,'ABT Credit Balances'!$F$9:$F$208,AR149,'ABT Credit Balances'!$E$9:$E$208,$AP$148,'ABT Credit Balances'!$C$9:$C$208,$B$150)","v":0},{"$f":"SUMIFS('ABT Credit Balances'!$D$9:$D$208,'ABT Credit Balances'!$B$9:$B$208,$C$147,'ABT Credit Balances'!$F$9:$F$208,AS149,'ABT Credit Balances'!$E$9:$E$208,$AS$148,'ABT Credit Balances'!$C$9:$C$208,$B$150)","v":0},{"$f":"SUMIFS('ABT Credit Balances'!$D$9:$D$208,'ABT Credit Balances'!$B$9:$B$208,$C$147,'ABT Credit Balances'!$F$9:$F$208,AT149,'ABT Credit Balances'!$E$9:$E$208,$AS$148,'ABT Credit Balances'!$C$9:$C$208,$B$150)","v":0},{"$f":"SUMIFS('ABT Credit Balances'!$D$9:$D$208,'ABT Credit Balances'!$B$9:$B$208,$C$147,'ABT Credit Balances'!$F$9:$F$208,AU149,'ABT Credit Balances'!$E$9:$E$208,$AS$148,'ABT Credit Balances'!$C$9:$C$208,$B$150)","v":0}]
[null,"Projected Credits",{"$f":"SUMIFS('ABT Credit Balances'!$D$9:$D$208,'ABT Credit Balances'!$B$9:$B$208,$C$147,'ABT Credit Balances'!$F$9:$F$208,C149,'ABT Credit Balances'!$E$9:$E$208,$C$148,'ABT Credit Balances'!$C$9:$C$208,$B$151)","v":0},{"$f":"SUMIFS('ABT Credit Balances'!$D$9:$D$208,'ABT Credit Balances'!$B$9:$B$208,$C$147,'ABT Credit Balances'!$F$9:$F$208,D149,'ABT Credit Balances'!$E$9:$E$208,$C$148,'ABT Credit Balances'!$C$9:$C$208,$B$151)","v":0},{"$f":"SUMIFS('ABT Credit Balances'!$D$9:$D$208,'ABT Credit Balances'!$B$9:$B$208,$C$147,'ABT Credit Balances'!$F$9:$F$208,E149,'ABT Credit Balances'!$E$9:$E$208,$C$148,'ABT Credit Balances'!$C$9:$C$208,$B$151)","v":0},{"$f":"SUMIFS('ABT Credit Balances'!$D$9:$D$208,'ABT Credit Balances'!$B$9:$B$208,$C$147,'ABT Credit Balances'!$F$9:$F$208,F149,'ABT Credit Balances'!$E$9:$E$208,$F$148,'ABT Credit Balances'!$C$9:$C$208,$B$151)","v":0},{"$f":"SUMIFS('ABT Credit Balances'!$D$9:$D$208,'ABT Credit Balances'!$B$9:$B$208,$C$147,'ABT Credit Balances'!$F$9:$F$208,G149,'ABT Credit Balances'!$E$9:$E$208,$F$148,'ABT Credit Balances'!$C$9:$C$208,$B$151)","v":0},{"$f":"SUMIFS('ABT Credit Balances'!$D$9:$D$208,'ABT Credit Balances'!$B$9:$B$208,$C$147,'ABT Credit Balances'!$F$9:$F$208,H149,'ABT Credit Balances'!$E$9:$E$208,$F$148,'ABT Credit Balances'!$C$9:$C$208,$B$151)","v":0},{"$f":"SUMIFS('ABT Credit Balances'!$D$9:$D$208,'ABT Credit Balances'!$B$9:$B$208,$C$147,'ABT Credit Balances'!$F$9:$F$208,I149,'ABT Credit Balances'!$E$9:$E$208,$I$148,'ABT Credit Balances'!$C$9:$C$208,$B$151)","v":0},{"$f":"SUMIFS('ABT Credit Balances'!$D$9:$D$208,'ABT Credit Balances'!$B$9:$B$208,$C$147,'ABT Credit Balances'!$F$9:$F$208,J149,'ABT Credit Balances'!$E$9:$E$208,$I$148,'ABT Credit Balances'!$C$9:$C$208,$B$151)","v":0},{"$f":"SUMIFS('ABT Credit Balances'!$D$9:$D$208,'ABT Credit Balances'!$B$9:$B$208,$C$147,'ABT Credit Balances'!$F$9:$F$208,K149,'ABT Credit Balances'!$E$9:$E$208,$I$148,'ABT Credit Balances'!$C$9:$C$208,$B$151)","v":0},{"$f":"SUMIFS('ABT Credit Balances'!$D$9:$D$208,'ABT Credit Balances'!$B$9:$B$208,$C$147,'ABT Credit Balances'!$F$9:$F$208,L149,'ABT Credit Balances'!$E$9:$E$208,$L$148,'ABT Credit Balances'!$C$9:$C$208,$B$151)","v":0},{"$f":"SUMIFS('ABT Credit Balances'!$D$9:$D$208,'ABT Credit Balances'!$B$9:$B$208,$C$147,'ABT Credit Balances'!$F$9:$F$208,M149,'ABT Credit Balances'!$E$9:$E$208,$L$148,'ABT Credit Balances'!$C$9:$C$208,$B$151)","v":0},{"$f":"SUMIFS('ABT Credit Balances'!$D$9:$D$208,'ABT Credit Balances'!$B$9:$B$208,$C$147,'ABT Credit Balances'!$F$9:$F$208,N149,'ABT Credit Balances'!$E$9:$E$208,$L$148,'ABT Credit Balances'!$C$9:$C$208,$B$151)","v":0},{"$f":"SUMIFS('ABT Credit Balances'!$D$9:$D$208,'ABT Credit Balances'!$B$9:$B$208,$C$147,'ABT Credit Balances'!$F$9:$F$208,O149,'ABT Credit Balances'!$E$9:$E$208,$O$148,'ABT Credit Balances'!$C$9:$C$208,$B$151)","v":0},{"$f":"SUMIFS('ABT Credit Balances'!$D$9:$D$208,'ABT Credit Balances'!$B$9:$B$208,$C$147,'ABT Credit Balances'!$F$9:$F$208,P149,'ABT Credit Balances'!$E$9:$E$208,$O$148,'ABT Credit Balances'!$C$9:$C$208,$B$151)","v":0},{"$f":"SUMIFS('ABT Credit Balances'!$D$9:$D$208,'ABT Credit Balances'!$B$9:$B$208,$C$147,'ABT Credit Balances'!$F$9:$F$208,Q149,'ABT Credit Balances'!$E$9:$E$208,$O$148,'ABT Credit Balances'!$C$9:$C$208,$B$151)","v":0},{"$f":"SUMIFS('ABT Credit Balances'!$D$9:$D$208,'ABT Credit Balances'!$B$9:$B$208,$C$147,'ABT Credit Balances'!$F$9:$F$208,R149,'ABT Credit Balances'!$E$9:$E$208,$R$148,'ABT Credit Balances'!$C$9:$C$208,$B$151)","v":0},{"$f":"SUMIFS('ABT Credit Balances'!$D$9:$D$208,'ABT Credit Balances'!$B$9:$B$208,$C$147,'ABT Credit Balances'!$F$9:$F$208,S149,'ABT Credit Balances'!$E$9:$E$208,$R$148,'ABT Credit Balances'!$C$9:$C$208,$B$151)","v":0},{"$f":"SUMIFS('ABT Credit Balances'!$D$9:$D$208,'ABT Credit Balances'!$B$9:$B$208,$C$147,'ABT Credit Balances'!$F$9:$F$208,T149,'ABT Credit Balances'!$E$9:$E$208,$R$148,'ABT Credit Balances'!$C$9:$C$208,$B$151)","v":0},{"$f":"SUMIFS('ABT Credit Balances'!$D$9:$D$208,'ABT Credit Balances'!$B$9:$B$208,$C$147,'ABT Credit Balances'!$F$9:$F$208,U149,'ABT Credit Balances'!$E$9:$E$208,$U$148,'ABT Credit Balances'!$C$9:$C$208,$B$151)","v":0},{"$f":"SUMIFS('ABT Credit Balances'!$D$9:$D$208,'ABT Credit Balances'!$B$9:$B$208,$C$147,'ABT Credit Balances'!$F$9:$F$208,V149,'ABT Credit Balances'!$E$9:$E$208,$U$148,'ABT Credit Balances'!$C$9:$C$208,$B$151)","v":0},{"$f":"SUMIFS('ABT Credit Balances'!$D$9:$D$208,'ABT Credit Balances'!$B$9:$B$208,$C$147,'ABT Credit Balances'!$F$9:$F$208,W149,'ABT Credit Balances'!$E$9:$E$208,U$148,'ABT Credit Balances'!$C$9:$C$208,$B$151)","v":0},{"$f":"SUMIFS('ABT Credit Balances'!$D$9:$D$208,'ABT Credit Balances'!$B$9:$B$208,$C$147,'ABT Credit Balances'!$F$9:$F$208,X149,'ABT Credit Balances'!$E$9:$E$208,$X$148,'ABT Credit Balances'!$C$9:$C$208,$B$151)","v":0},{"$f":"SUMIFS('ABT Credit Balances'!$D$9:$D$208,'ABT Credit Balances'!$B$9:$B$208,$C$147,'ABT Credit Balances'!$F$9:$F$208,Y149,'ABT Credit Balances'!$E$9:$E$208,$X$148,'ABT Credit Balances'!$C$9:$C$208,$B$151)","v":0},{"$f":"SUMIFS('ABT Credit Balances'!$D$9:$D$208,'ABT Credit Balances'!$B$9:$B$208,$C$147,'ABT Credit Balances'!$F$9:$F$208,Z149,'ABT Credit Balances'!$E$9:$E$208,$X$148,'ABT Credit Balances'!$C$9:$C$208,$B$151)","v":0},{"$f":"SUMIFS('ABT Credit Balances'!$D$9:$D$208,'ABT Credit Balances'!$B$9:$B$208,$C$147,'ABT Credit Balances'!$F$9:$F$208,AA149,'ABT Credit Balances'!$E$9:$E$208,$AA$148,'ABT Credit Balances'!$C$9:$C$208,$B$151)","v":0},{"$f":"SUMIFS('ABT Credit Balances'!$D$9:$D$208,'ABT Credit Balances'!$B$9:$B$208,$C$147,'ABT Credit Balances'!$F$9:$F$208,AB149,'ABT Credit Balances'!$E$9:$E$208,$AA$148,'ABT Credit Balances'!$C$9:$C$208,$B$151)","v":0},{"$f":"SUMIFS('ABT Credit Balances'!$D$9:$D$208,'ABT Credit Balances'!$B$9:$B$208,$C$147,'ABT Credit Balances'!$F$9:$F$208,AC149,'ABT Credit Balances'!$E$9:$E$208,$AA$148,'ABT Credit Balances'!$C$9:$C$208,$B$151)","v":0},{"$f":"SUMIFS('ABT Credit Balances'!$D$9:$D$208,'ABT Credit Balances'!$B$9:$B$208,$C$147,'ABT Credit Balances'!$F$9:$F$208,AD149,'ABT Credit Balances'!$E$9:$E$208,$AD$148,'ABT Credit Balances'!$C$9:$C$208,$B$151)","v":0},{"$f":"SUMIFS('ABT Credit Balances'!$D$9:$D$208,'ABT Credit Balances'!$B$9:$B$208,$C$147,'ABT Credit Balances'!$F$9:$F$208,AE149,'ABT Credit Balances'!$E$9:$E$208,$AD$148,'ABT Credit Balances'!$C$9:$C$208,$B$151)","v":0},{"$f":"SUMIFS('ABT Credit Balances'!$D$9:$D$208,'ABT Credit Balances'!$B$9:$B$208,$C$147,'ABT Credit Balances'!$F$9:$F$208,AF149,'ABT Credit Balances'!$E$9:$E$208,$AD$148,'ABT Credit Balances'!$C$9:$C$208,$B$151)","v":0},{"$f":"SUMIFS('ABT Credit Balances'!$D$9:$D$208,'ABT Credit Balances'!$B$9:$B$208,$C$147,'ABT Credit Balances'!$F$9:$F$208,AG149,'ABT Credit Balances'!$E$9:$E$208,$AG$148,'ABT Credit Balances'!$C$9:$C$208,$B$151)","v":0},{"$f":"SUMIFS('ABT Credit Balances'!$D$9:$D$208,'ABT Credit Balances'!$B$9:$B$208,$C$147,'ABT Credit Balances'!$F$9:$F$208,AH149,'ABT Credit Balances'!$E$9:$E$208,$AG$148,'ABT Credit Balances'!$C$9:$C$208,$B$151)","v":0},{"$f":"SUMIFS('ABT Credit Balances'!$D$9:$D$208,'ABT Credit Balances'!$B$9:$B$208,$C$147,'ABT Credit Balances'!$F$9:$F$208,AI149,'ABT Credit Balances'!$E$9:$E$208,$AG$148,'ABT Credit Balances'!$C$9:$C$208,$B$151)","v":0},{"$f":"SUMIFS('ABT Credit Balances'!$D$9:$D$208,'ABT Credit Balances'!$B$9:$B$208,$C$147,'ABT Credit Balances'!$F$9:$F$208,AJ149,'ABT Credit Balances'!$E$9:$E$208,$AJ$148,'ABT Credit Balances'!$C$9:$C$208,$B$151)","v":0},{"$f":"SUMIFS('ABT Credit Balances'!$D$9:$D$208,'ABT Credit Balances'!$B$9:$B$208,$C$147,'ABT Credit Balances'!$F$9:$F$208,AK149,'ABT Credit Balances'!$E$9:$E$208,$AJ$148,'ABT Credit Balances'!$C$9:$C$208,$B$151)","v":0},{"$f":"SUMIFS('ABT Credit Balances'!$D$9:$D$208,'ABT Credit Balances'!$B$9:$B$208,$C$147,'ABT Credit Balances'!$F$9:$F$208,AL149,'ABT Credit Balances'!$E$9:$E$208,$AJ$148,'ABT Credit Balances'!$C$9:$C$208,$B$151)","v":0},{"$f":"SUMIFS('ABT Credit Balances'!$D$9:$D$208,'ABT Credit Balances'!$B$9:$B$208,$C$147,'ABT Credit Balances'!$F$9:$F$208,AM149,'ABT Credit Balances'!$E$9:$E$208,$AM$148,'ABT Credit Balances'!$C$9:$C$208,$B$151)","v":0},{"$f":"SUMIFS('ABT Credit Balances'!$D$9:$D$208,'ABT Credit Balances'!$B$9:$B$208,$C$147,'ABT Credit Balances'!$F$9:$F$208,AN149,'ABT Credit Balances'!$E$9:$E$208,$AM$148,'ABT Credit Balances'!$C$9:$C$208,$B$151)","v":0},{"$f":"SUMIFS('ABT Credit Balances'!$D$9:$D$208,'ABT Credit Balances'!$B$9:$B$208,$C$147,'ABT Credit Balances'!$F$9:$F$208,AO149,'ABT Credit Balances'!$E$9:$E$208,$AM$148,'ABT Credit Balances'!$C$9:$C$208,$B$151)","v":0},{"$f":"SUMIFS('ABT Credit Balances'!$D$9:$D$208,'ABT Credit Balances'!$B$9:$B$208,$C$147,'ABT Credit Balances'!$F$9:$F$208,AP149,'ABT Credit Balances'!$E$9:$E$208,$AP$148,'ABT Credit Balances'!$C$9:$C$208,$B$151)","v":0},{"$f":"SUMIFS('ABT Credit Balances'!$D$9:$D$208,'ABT Credit Balances'!$B$9:$B$208,$C$147,'ABT Credit Balances'!$F$9:$F$208,AQ149,'ABT Credit Balances'!$E$9:$E$208,$AP$148,'ABT Credit Balances'!$C$9:$C$208,$B$151)","v":0},{"$f":"SUMIFS('ABT Credit Balances'!$D$9:$D$208,'ABT Credit Balances'!$B$9:$B$208,$C$147,'ABT Credit Balances'!$F$9:$F$208,AR149,'ABT Credit Balances'!$E$9:$E$208,$AP$148,'ABT Credit Balances'!$C$9:$C$208,$B$151)","v":0},{"$f":"SUMIFS('ABT Credit Balances'!$D$9:$D$208,'ABT Credit Balances'!$B$9:$B$208,$C$147,'ABT Credit Balances'!$F$9:$F$208,AS149,'ABT Credit Balances'!$E$9:$E$208,$AS$148,'ABT Credit Balances'!$C$9:$C$208,$B$151)","v":0},{"$f":"SUMIFS('ABT Credit Balances'!$D$9:$D$208,'ABT Credit Balances'!$B$9:$B$208,$C$147,'ABT Credit Balances'!$F$9:$F$208,AT149,'ABT Credit Balances'!$E$9:$E$208,$AS$148,'ABT Credit Balances'!$C$9:$C$208,$B$151)","v":0},{"$f":"SUMIFS('ABT Credit Balances'!$D$9:$D$208,'ABT Credit Balances'!$B$9:$B$208,$C$147,'ABT Credit Balances'!$F$9:$F$208,AU149,'ABT Credit Balances'!$E$9:$E$208,$AS$148,'ABT Credit Balances'!$C$9:$C$208,$B$151)","v":0}]
[null,"Applied Banked Credits (out)",{"$f":"SUMIFS('ABT Transactions'!$B$9:$B$40,'ABT Transactions'!$G$9:$G$40,$C$147,'ABT Transactions'!$F$9:$F$40,$C$148,'ABT Transactions'!$C$9:$C$40,C149,'ABT Transactions'!$D$9:$D$40,$B$152)","v":0},{"$f":"SUMIFS('ABT Transactions'!$B$9:$B$40,'ABT Transactions'!$G$9:$G$40,$C$147,'ABT Transactions'!$F$9:$F$40,$C$148,'ABT Transactions'!$C$9:$C$40,D149,'ABT Transactions'!$D$9:$D$40,$B$152)","v":0},{"$f":"SUMIFS('ABT Transactions'!$B$9:$B$40,'ABT Transactions'!$G$9:$G$40,$C$147,'ABT Transactions'!$F$9:$F$40,$C$148,'ABT Transactions'!$C$9:$C$40,E149,'ABT Transactions'!$D$9:$D$40,$B$152)","v":0},{"$f":"SUMIFS('ABT Transactions'!$B$9:$B$40,'ABT Transactions'!$G$9:$G$40,$C$147,'ABT Transactions'!$F$9:$F$40,$F$148,'ABT Transactions'!$C$9:$C$40,F149,'ABT Transactions'!$D$9:$D$40,$B$152)","v":0},{"$f":"SUMIFS('ABT Transactions'!$B$9:$B$40,'ABT Transactions'!$G$9:$G$40,$C$147,'ABT Transactions'!$F$9:$F$40,$F$148,'ABT Transactions'!$C$9:$C$40,G149,'ABT Transactions'!$D$9:$D$40,$B$152)","v":0},{"$f":"SUMIFS('ABT Transactions'!$B$9:$B$40,'ABT Transactions'!$G$9:$G$40,$C$147,'ABT Transactions'!$F$9:$F$40,$F$148,'ABT Transactions'!$C$9:$C$40,H149,'ABT Transactions'!$D$9:$D$40,$B$152)","v":0},{"$f":"SUMIFS('ABT Transactions'!$B$9:$B$40,'ABT Transactions'!$G$9:$G$40,$C$147,'ABT Transactions'!$F$9:$F$40,$I$148,'ABT Transactions'!$C$9:$C$40,I149,'ABT Transactions'!$D$9:$D$40,$B$152)","v":0},{"$f":"SUMIFS('ABT Transactions'!$B$9:$B$40,'ABT Transactions'!$G$9:$G$40,$C$147,'ABT Transactions'!$F$9:$F$40,$I$148,'ABT Transactions'!$C$9:$C$40,J149,'ABT Transactions'!$D$9:$D$40,$B$152)","v":0},{"$f":"SUMIFS('ABT Transactions'!$B$9:$B$40,'ABT Transactions'!$G$9:$G$40,$C$147,'ABT Transactions'!$F$9:$F$40,$I$148,'ABT Transactions'!$C$9:$C$40,K149,'ABT Transactions'!$D$9:$D$40,$B$152)","v":0},{"$f":"SUMIFS('ABT Transactions'!$B$9:$B$40,'ABT Transactions'!$G$9:$G$40,$C$147,'ABT Transactions'!$F$9:$F$40,$L$148,'ABT Transactions'!$C$9:$C$40,L149,'ABT Transactions'!$D$9:$D$40,$B$152)","v":0},{"$f":"SUMIFS('ABT Transactions'!$B$9:$B$40,'ABT Transactions'!$G$9:$G$40,$C$147,'ABT Transactions'!$F$9:$F$40,$L$148,'ABT Transactions'!$C$9:$C$40,M149,'ABT Transactions'!$D$9:$D$40,$B$152)","v":0},{"$f":"SUMIFS('ABT Transactions'!$B$9:$B$40,'ABT Transactions'!$G$9:$G$40,$C$147,'ABT Transactions'!$F$9:$F$40,$L$148,'ABT Transactions'!$C$9:$C$40,N149,'ABT Transactions'!$D$9:$D$40,$B$152)","v":0},{"$f":"SUMIFS('ABT Transactions'!$B$9:$B$40,'ABT Transactions'!$G$9:$G$40,$C$147,'ABT Transactions'!$F$9:$F$40,$O$148,'ABT Transactions'!$C$9:$C$40,O149,'ABT Transactions'!$D$9:$D$40,$B$152)","v":0},{"$f":"SUMIFS('ABT Transactions'!$B$9:$B$40,'ABT Transactions'!$G$9:$G$40,$C$147,'ABT Transactions'!$F$9:$F$40,$O$148,'ABT Transactions'!$C$9:$C$40,P149,'ABT Transactions'!$D$9:$D$40,$B$152)","v":0},{"$f":"SUMIFS('ABT Transactions'!$B$9:$B$40,'ABT Transactions'!$G$9:$G$40,$C$147,'ABT Transactions'!$F$9:$F$40,$O$148,'ABT Transactions'!$C$9:$C$40,Q149,'ABT Transactions'!$D$9:$D$40,$B$152)","v":0},{"$f":"SUMIFS('ABT Transactions'!$B$9:$B$40,'ABT Transactions'!$G$9:$G$40,$C$147,'ABT Transactions'!$F$9:$F$40,$R$148,'ABT Transactions'!$C$9:$C$40,R149,'ABT Transactions'!$D$9:$D$40,$B$152)","v":0},{"$f":"SUMIFS('ABT Transactions'!$B$9:$B$40,'ABT Transactions'!$G$9:$G$40,$C$147,'ABT Transactions'!$F$9:$F$40,$R$148,'ABT Transactions'!$C$9:$C$40,S149,'ABT Transactions'!$D$9:$D$40,$B$152)","v":0},{"$f":"SUMIFS('ABT Transactions'!$B$9:$B$40,'ABT Transactions'!$G$9:$G$40,$C$147,'ABT Transactions'!$F$9:$F$40,$R$148,'ABT Transactions'!$C$9:$C$40,T149,'ABT Transactions'!$D$9:$D$40,$B$152)","v":0},{"$f":"SUMIFS('ABT Transactions'!$B$9:$B$40,'ABT Transactions'!$G$9:$G$40,$C$147,'ABT Transactions'!$F$9:$F$40,$U$148,'ABT Transactions'!$C$9:$C$40,U149,'ABT Transactions'!$D$9:$D$40,$B$152)","v":0},{"$f":"SUMIFS('ABT Transactions'!$B$9:$B$40,'ABT Transactions'!$G$9:$G$40,$C$147,'ABT Transactions'!$F$9:$F$40,$U$148,'ABT Transactions'!$C$9:$C$40,V149,'ABT Transactions'!$D$9:$D$40,$B$152)","v":0},{"$f":"SUMIFS('ABT Transactions'!$B$9:$B$40,'ABT Transactions'!$G$9:$G$40,$C$147,'ABT Transactions'!$F$9:$F$40,U$148,'ABT Transactions'!$C$9:$C$40,W149,'ABT Transactions'!$D$9:$D$40,$B$152)","v":0},{"$f":"SUMIFS('ABT Transactions'!$B$9:$B$40,'ABT Transactions'!$G$9:$G$40,$C$147,'ABT Transactions'!$F$9:$F$40,$X$148,'ABT Transactions'!$C$9:$C$40,X149,'ABT Transactions'!$D$9:$D$40,$B$152)","v":0},{"$f":"SUMIFS('ABT Transactions'!$B$9:$B$40,'ABT Transactions'!$G$9:$G$40,$C$147,'ABT Transactions'!$F$9:$F$40,$X$148,'ABT Transactions'!$C$9:$C$40,Y149,'ABT Transactions'!$D$9:$D$40,$B$152)","v":0},{"$f":"SUMIFS('ABT Transactions'!$B$9:$B$40,'ABT Transactions'!$G$9:$G$40,$C$147,'ABT Transactions'!$F$9:$F$40,$X$148,'ABT Transactions'!$C$9:$C$40,Z149,'ABT Transactions'!$D$9:$D$40,$B$152)","v":0},{"$f":"SUMIFS('ABT Transactions'!$B$9:$B$40,'ABT Transactions'!$G$9:$G$40,$C$147,'ABT Transactions'!$F$9:$F$40,$AA$148,'ABT Transactions'!$C$9:$C$40,AA149,'ABT Transactions'!$D$9:$D$40,$B$152)","v":0},{"$f":"SUMIFS('ABT Transactions'!$B$9:$B$40,'ABT Transactions'!$G$9:$G$40,$C$147,'ABT Transactions'!$F$9:$F$40,$AA$148,'ABT Transactions'!$C$9:$C$40,AB149,'ABT Transactions'!$D$9:$D$40,$B$152)","v":0},{"$f":"SUMIFS('ABT Transactions'!$B$9:$B$40,'ABT Transactions'!$G$9:$G$40,$C$147,'ABT Transactions'!$F$9:$F$40,$AA$148,'ABT Transactions'!$C$9:$C$40,AC149,'ABT Transactions'!$D$9:$D$40,$B$152)","v":0},{"$f":"SUMIFS('ABT Transactions'!$B$9:$B$40,'ABT Transactions'!$G$9:$G$40,$C$147,'ABT Transactions'!$F$9:$F$40,$AD$148,'ABT Transactions'!$C$9:$C$40,AD149,'ABT Transactions'!$D$9:$D$40,$B$152)","v":0},{"$f":"SUMIFS('ABT Transactions'!$B$9:$B$40,'ABT Transactions'!$G$9:$G$40,$C$147,'ABT Transactions'!$F$9:$F$40,$AD$148,'ABT Transactions'!$C$9:$C$40,AE149,'ABT Transactions'!$D$9:$D$40,$B$152)","v":0},{"$f":"SUMIFS('ABT Transactions'!$B$9:$B$40,'ABT Transactions'!$G$9:$G$40,$C$147,'ABT Transactions'!$F$9:$F$40,$AD$148,'ABT Transactions'!$C$9:$C$40,AF149,'ABT Transactions'!$D$9:$D$40,$B$152)","v":0},{"$f":"SUMIFS('ABT Transactions'!$B$9:$B$40,'ABT Transactions'!$G$9:$G$40,$C$147,'ABT Transactions'!$F$9:$F$40,$AG$148,'ABT Transactions'!$C$9:$C$40,AG149,'ABT Transactions'!$D$9:$D$40,$B$152)","v":0},{"$f":"SUMIFS('ABT Transactions'!$B$9:$B$40,'ABT Transactions'!$G$9:$G$40,$C$147,'ABT Transactions'!$F$9:$F$40,$AG$148,'ABT Transactions'!$C$9:$C$40,AH149,'ABT Transactions'!$D$9:$D$40,$B$152)","v":0},{"$f":"SUMIFS('ABT Transactions'!$B$9:$B$40,'ABT Transactions'!$G$9:$G$40,$C$147,'ABT Transactions'!$F$9:$F$40,$AG$148,'ABT Transactions'!$C$9:$C$40,AI149,'ABT Transactions'!$D$9:$D$40,$B$152)","v":0},{"$f":"SUMIFS('ABT Transactions'!$B$9:$B$40,'ABT Transactions'!$G$9:$G$40,$C$147,'ABT Transactions'!$F$9:$F$40,$AJ$148,'ABT Transactions'!$C$9:$C$40,AJ149,'ABT Transactions'!$D$9:$D$40,$B$152)","v":0},{"$f":"SUMIFS('ABT Transactions'!$B$9:$B$40,'ABT Transactions'!$G$9:$G$40,$C$147,'ABT Transactions'!$F$9:$F$40,$AJ$148,'ABT Transactions'!$C$9:$C$40,AK149,'ABT Transactions'!$D$9:$D$40,$B$152)","v":0},{"$f":"SUMIFS('ABT Transactions'!$B$9:$B$40,'ABT Transactions'!$G$9:$G$40,$C$147,'ABT Transactions'!$F$9:$F$40,$AJ$148,'ABT Transactions'!$C$9:$C$40,AL149,'ABT Transactions'!$D$9:$D$40,$B$152)","v":0},{"$f":"SUMIFS('ABT Transactions'!$B$9:$B$40,'ABT Transactions'!$G$9:$G$40,$C$147,'ABT Transactions'!$F$9:$F$40,$AM$148,'ABT Transactions'!$C$9:$C$40,AM149,'ABT Transactions'!$D$9:$D$40,$B$152)","v":0},{"$f":"SUMIFS('ABT Transactions'!$B$9:$B$40,'ABT Transactions'!$G$9:$G$40,$C$147,'ABT Transactions'!$F$9:$F$40,$AM$148,'ABT Transactions'!$C$9:$C$40,AN149,'ABT Transactions'!$D$9:$D$40,$B$152)","v":0},{"$f":"SUMIFS('ABT Transactions'!$B$9:$B$40,'ABT Transactions'!$G$9:$G$40,$C$147,'ABT Transactions'!$F$9:$F$40,$AM$148,'ABT Transactions'!$C$9:$C$40,AO149,'ABT Transactions'!$D$9:$D$40,$B$152)","v":0},{"$f":"SUMIFS('ABT Transactions'!$B$9:$B$40,'ABT Transactions'!$G$9:$G$40,$C$147,'ABT Transactions'!$F$9:$F$40,$AP$148,'ABT Transactions'!$C$9:$C$40,AP149,'ABT Transactions'!$D$9:$D$40,$B$152)","v":0},{"$f":"SUMIFS('ABT Transactions'!$B$9:$B$40,'ABT Transactions'!$G$9:$G$40,$C$147,'ABT Transactions'!$F$9:$F$40,$AP$148,'ABT Transactions'!$C$9:$C$40,AQ149,'ABT Transactions'!$D$9:$D$40,$B$152)","v":0},{"$f":"SUMIFS('ABT Transactions'!$B$9:$B$40,'ABT Transactions'!$G$9:$G$40,$C$147,'ABT Transactions'!$F$9:$F$40,$AP$148,'ABT Transactions'!$C$9:$C$40,AR149,'ABT Transactions'!$D$9:$D$40,$B$152)","v":0},{"$f":"SUMIFS('ABT Transactions'!$B$9:$B$40,'ABT Transactions'!$G$9:$G$40,$C$147,'ABT Transactions'!$F$9:$F$40,$AS$148,'ABT Transactions'!$C$9:$C$40,AS149,'ABT Transactions'!$D$9:$D$40,$B$152)","v":0},{"$f":"SUMIFS('ABT Transactions'!$B$9:$B$40,'ABT Transactions'!$G$9:$G$40,$C$147,'ABT Transactions'!$F$9:$F$40,$AS$148,'ABT Transactions'!$C$9:$C$40,AT149,'ABT Transactions'!$D$9:$D$40,$B$152)","v":0},{"$f":"SUMIFS('ABT Transactions'!$B$9:$B$40,'ABT Transactions'!$G$9:$G$40,$C$147,'ABT Transactions'!$F$9:$F$40,$AS$148,'ABT Transactions'!$C$9:$C$40,AU149,'ABT Transactions'!$D$9:$D$40,$B$152)","v":0}]
[null,"Applied Banked Credits (in)",{"$f":"SUMIFS('ABT Transactions'!$B$9:$B$40,'ABT Transactions'!$J$9:$J$40,$C$147,'ABT Transactions'!$I$9:$I$40,$C$148,'ABT Transactions'!$C$9:$C$40,C149,'ABT Transactions'!$D$9:$D$40,$B$153)","v":0},{"$f":"SUMIFS('ABT Transactions'!$B$9:$B$40,'ABT Transactions'!$J$9:$J$40,$C$147,'ABT Transactions'!$I$9:$I$40,$C$148,'ABT Transactions'!$C$9:$C$40,D149,'ABT Transactions'!$D$9:$D$40,$B$153)","v":0},{"$f":"SUMIFS('ABT Transactions'!$B$9:$B$40,'ABT Transactions'!$J$9:$J$40,$C$147,'ABT Transactions'!$I$9:$I$40,$C$148,'ABT Transactions'!$C$9:$C$40,E149,'ABT Transactions'!$D$9:$D$40,$B$153)","v":0},{"$f":"SUMIFS('ABT Transactions'!$B$9:$B$40,'ABT Transactions'!$J$9:$J$40,$C$147,'ABT Transactions'!$I$9:$I$40,$F$148,'ABT Transactions'!$C$9:$C$40,F149,'ABT Transactions'!$D$9:$D$40,$B$153)","v":0},{"$f":"SUMIFS('ABT Transactions'!$B$9:$B$40,'ABT Transactions'!$J$9:$J$40,$C$147,'ABT Transactions'!$I$9:$I$40,$F$148,'ABT Transactions'!$C$9:$C$40,G149,'ABT Transactions'!$D$9:$D$40,$B$153)","v":0},{"$f":"SUMIFS('ABT Transactions'!$B$9:$B$40,'ABT Transactions'!$J$9:$J$40,$C$147,'ABT Transactions'!$I$9:$I$40,$F$148,'ABT Transactions'!$C$9:$C$40,H149,'ABT Transactions'!$D$9:$D$40,$B$153)","v":0},{"$f":"SUMIFS('ABT Transactions'!$B$9:$B$40,'ABT Transactions'!$J$9:$J$40,$C$147,'ABT Transactions'!$I$9:$I$40,$I$148,'ABT Transactions'!$C$9:$C$40,I149,'ABT Transactions'!$D$9:$D$40,$B$153)","v":0},{"$f":"SUMIFS('ABT Transactions'!$B$9:$B$40,'ABT Transactions'!$J$9:$J$40,$C$147,'ABT Transactions'!$I$9:$I$40,$I$148,'ABT Transactions'!$C$9:$C$40,J149,'ABT Transactions'!$D$9:$D$40,$B$153)","v":0},{"$f":"SUMIFS('ABT Transactions'!$B$9:$B$40,'ABT Transactions'!$J$9:$J$40,$C$147,'ABT Transactions'!$I$9:$I$40,$I$148,'ABT Transactions'!$C$9:$C$40,K149,'ABT Transactions'!$D$9:$D$40,$B$153)","v":0},{"$f":"SUMIFS('ABT Transactions'!$B$9:$B$40,'ABT Transactions'!$J$9:$J$40,$C$147,'ABT Transactions'!$I$9:$I$40,$L$148,'ABT Transactions'!$C$9:$C$40,L149,'ABT Transactions'!$D$9:$D$40,$B$153)","v":0},{"$f":"SUMIFS('ABT Transactions'!$B$9:$B$40,'ABT Transactions'!$J$9:$J$40,$C$147,'ABT Transactions'!$I$9:$I$40,$L$148,'ABT Transactions'!$C$9:$C$40,M149,'ABT Transactions'!$D$9:$D$40,$B$153)","v":0},{"$f":"SUMIFS('ABT Transactions'!$B$9:$B$40,'ABT Transactions'!$J$9:$J$40,$C$147,'ABT Transactions'!$I$9:$I$40,$L$148,'ABT Transactions'!$C$9:$C$40,N149,'ABT Transactions'!$D$9:$D$40,$B$153)","v":0},{"$f":"SUMIFS('ABT Transactions'!$B$9:$B$40,'ABT Transactions'!$J$9:$J$40,$C$147,'ABT Transactions'!$I$9:$I$40,$O$148,'ABT Transactions'!$C$9:$C$40,O149,'ABT Transactions'!$D$9:$D$40,$B$153)","v":0},{"$f":"SUMIFS('ABT Transactions'!$B$9:$B$40,'ABT Transactions'!$J$9:$J$40,$C$147,'ABT Transactions'!$I$9:$I$40,$O$148,'ABT Transactions'!$C$9:$C$40,P149,'ABT Transactions'!$D$9:$D$40,$B$153)","v":0},{"$f":"SUMIFS('ABT Transactions'!$B$9:$B$40,'ABT Transactions'!$J$9:$J$40,$C$147,'ABT Transactions'!$I$9:$I$40,$O$148,'ABT Transactions'!$C$9:$C$40,Q149,'ABT Transactions'!$D$9:$D$40,$B$153)","v":0},{"$f":"SUMIFS('ABT Transactions'!$B$9:$B$40,'ABT Transactions'!$J$9:$J$40,$C$147,'ABT Transactions'!$I$9:$I$40,$R$148,'ABT Transactions'!$C$9:$C$40,R149,'ABT Transactions'!$D$9:$D$40,$B$153)","v":0},{"$f":"SUMIFS('ABT Transactions'!$B$9:$B$40,'ABT Transactions'!$J$9:$J$40,$C$147,'ABT Transactions'!$I$9:$I$40,$R$148,'ABT Transactions'!$C$9:$C$40,S149,'ABT Transactions'!$D$9:$D$40,$B$153)","v":0},{"$f":"SUMIFS('ABT Transactions'!$B$9:$B$40,'ABT Transactions'!$J$9:$J$40,$C$147,'ABT Transactions'!$I$9:$I$40,$R$148,'ABT Transactions'!$C$9:$C$40,T149,'ABT Transactions'!$D$9:$D$40,$B$153)","v":0},{"$f":"SUMIFS('ABT Transactions'!$B$9:$B$40,'ABT Transactions'!$J$9:$J$40,$C$147,'ABT Transactions'!$I$9:$I$40,$U$148,'ABT Transactions'!$C$9:$C$40,U149,'ABT Transactions'!$D$9:$D$40,$B$153)","v":0},{"$f":"SUMIFS('ABT Transactions'!$B$9:$B$40,'ABT Transactions'!$J$9:$J$40,$C$147,'ABT Transactions'!$I$9:$I$40,$U$148,'ABT Transactions'!$C$9:$C$40,V149,'ABT Transactions'!$D$9:$D$40,$B$153)","v":0},{"$f":"SUMIFS('ABT Transactions'!$B$9:$B$40,'ABT Transactions'!$J$9:$J$40,$C$147,'ABT Transactions'!$I$9:$I$40,U$148,'ABT Transactions'!$C$9:$C$40,W149,'ABT Transactions'!$D$9:$D$40,$B$153)","v":0},{"$f":"SUMIFS('ABT Transactions'!$B$9:$B$40,'ABT Transactions'!$J$9:$J$40,$C$147,'ABT Transactions'!$I$9:$I$40,$X$148,'ABT Transactions'!$C$9:$C$40,X149,'ABT Transactions'!$D$9:$D$40,$B$153)","v":0},{"$f":"SUMIFS('ABT Transactions'!$B$9:$B$40,'ABT Transactions'!$J$9:$J$40,$C$147,'ABT Transactions'!$I$9:$I$40,$X$148,'ABT Transactions'!$C$9:$C$40,Y149,'ABT Transactions'!$D$9:$D$40,$B$153)","v":0},{"$f":"SUMIFS('ABT Transactions'!$B$9:$B$40,'ABT Transactions'!$J$9:$J$40,$C$147,'ABT Transactions'!$I$9:$I$40,$X$148,'ABT Transactions'!$C$9:$C$40,Z149,'ABT Transactions'!$D$9:$D$40,$B$153)","v":0},{"$f":"SUMIFS('ABT Transactions'!$B$9:$B$40,'ABT Transactions'!$J$9:$J$40,$C$147,'ABT Transactions'!$I$9:$I$40,$AA$148,'ABT Transactions'!$C$9:$C$40,AA149,'ABT Transactions'!$D$9:$D$40,$B$153)","v":0},{"$f":"SUMIFS('ABT Transactions'!$B$9:$B$40,'ABT Transactions'!$J$9:$J$40,$C$147,'ABT Transactions'!$I$9:$I$40,$AA$148,'ABT Transactions'!$C$9:$C$40,AB149,'ABT Transactions'!$D$9:$D$40,$B$153)","v":0},{"$f":"SUMIFS('ABT Transactions'!$B$9:$B$40,'ABT Transactions'!$J$9:$J$40,$C$147,'ABT Transactions'!$I$9:$I$40,$AA$148,'ABT Transactions'!$C$9:$C$40,AC149,'ABT Transactions'!$D$9:$D$40,$B$153)","v":0},{"$f":"SUMIFS('ABT Transactions'!$B$9:$B$40,'ABT Transactions'!$J$9:$J$40,$C$147,'ABT Transactions'!$I$9:$I$40,$AD$148,'ABT Transactions'!$C$9:$C$40,AD149,'ABT Transactions'!$D$9:$D$40,$B$153)","v":0},{"$f":"SUMIFS('ABT Transactions'!$B$9:$B$40,'ABT Transactions'!$J$9:$J$40,$C$147,'ABT Transactions'!$I$9:$I$40,$AD$148,'ABT Transactions'!$C$9:$C$40,AE149,'ABT Transactions'!$D$9:$D$40,$B$153)","v":0},{"$f":"SUMIFS('ABT Transactions'!$B$9:$B$40,'ABT Transactions'!$J$9:$J$40,$C$147,'ABT Transactions'!$I$9:$I$40,$AD$148,'ABT Transactions'!$C$9:$C$40,AF149,'ABT Transactions'!$D$9:$D$40,$B$153)","v":0},{"$f":"SUMIFS('ABT Transactions'!$B$9:$B$40,'ABT Transactions'!$J$9:$J$40,$C$147,'ABT Transactions'!$I$9:$I$40,$AG$148,'ABT Transactions'!$C$9:$C$40,AG149,'ABT Transactions'!$D$9:$D$40,$B$153)","v":0},{"$f":"SUMIFS('ABT Transactions'!$B$9:$B$40,'ABT Transactions'!$J$9:$J$40,$C$147,'ABT Transactions'!$I$9:$I$40,$AG$148,'ABT Transactions'!$C$9:$C$40,AH149,'ABT Transactions'!$D$9:$D$40,$B$153)","v":0},{"$f":"SUMIFS('ABT Transactions'!$B$9:$B$40,'ABT Transactions'!$J$9:$J$40,$C$147,'ABT Transactions'!$I$9:$I$40,$AG$148,'ABT Transactions'!$C$9:$C$40,AI149,'ABT Transactions'!$D$9:$D$40,$B$153)","v":0},{"$f":"SUMIFS('ABT Transactions'!$B$9:$B$40,'ABT Transactions'!$J$9:$J$40,$C$147,'ABT Transactions'!$I$9:$I$40,$AJ$148,'ABT Transactions'!$C$9:$C$40,AJ149,'ABT Transactions'!$D$9:$D$40,$B$153)","v":0},{"$f":"SUMIFS('ABT Transactions'!$B$9:$B$40,'ABT Transactions'!$J$9:$J$40,$C$147,'ABT Transactions'!$I$9:$I$40,$AJ$148,'ABT Transactions'!$C$9:$C$40,AK149,'ABT Transactions'!$D$9:$D$40,$B$153)","v":0},{"$f":"SUMIFS('ABT Transactions'!$B$9:$B$40,'ABT Transactions'!$J$9:$J$40,$C$147,'ABT Transactions'!$I$9:$I$40,$AJ$148,'ABT Transactions'!$C$9:$C$40,AL149,'ABT Transactions'!$D$9:$D$40,$B$153)","v":0},{"$f":"SUMIFS('ABT Transactions'!$B$9:$B$40,'ABT Transactions'!$J$9:$J$40,$C$147,'ABT Transactions'!$I$9:$I$40,$AM$148,'ABT Transactions'!$C$9:$C$40,AM149,'ABT Transactions'!$D$9:$D$40,$B$153)","v":0},{"$f":"SUMIFS('ABT Transactions'!$B$9:$B$40,'ABT Transactions'!$J$9:$J$40,$C$147,'ABT Transactions'!$I$9:$I$40,$AM$148,'ABT Transactions'!$C$9:$C$40,AN149,'ABT Transactions'!$D$9:$D$40,$B$153)","v":0},{"$f":"SUMIFS('ABT Transactions'!$B$9:$B$40,'ABT Transactions'!$J$9:$J$40,$C$147,'ABT Transactions'!$I$9:$I$40,$AM$148,'ABT Transactions'!$C$9:$C$40,AO149,'ABT Transactions'!$D$9:$D$40,$B$153)","v":0},{"$f":"SUMIFS('ABT Transactions'!$B$9:$B$40,'ABT Transactions'!$J$9:$J$40,$C$147,'ABT Transactions'!$I$9:$I$40,$AP$148,'ABT Transactions'!$C$9:$C$40,AP149,'ABT Transactions'!$D$9:$D$40,$B$153)","v":0},{"$f":"SUMIFS('ABT Transactions'!$B$9:$B$40,'ABT Transactions'!$J$9:$J$40,$C$147,'ABT Transactions'!$I$9:$I$40,$AP$148,'ABT Transactions'!$C$9:$C$40,AQ149,'ABT Transactions'!$D$9:$D$40,$B$153)","v":0},{"$f":"SUMIFS('ABT Transactions'!$B$9:$B$40,'ABT Transactions'!$J$9:$J$40,$C$147,'ABT Transactions'!$I$9:$I$40,$AP$148,'ABT Transactions'!$C$9:$C$40,AR149,'ABT Transactions'!$D$9:$D$40,$B$153)","v":0},{"$f":"SUMIFS('ABT Transactions'!$B$9:$B$40,'ABT Transactions'!$J$9:$J$40,$C$147,'ABT Transactions'!$I$9:$I$40,$AS$148,'ABT Transactions'!$C$9:$C$40,AS149,'ABT Transactions'!$D$9:$D$40,$B$153)","v":0},{"$f":"SUMIFS('ABT Transactions'!$B$9:$B$40,'ABT Transactions'!$J$9:$J$40,$C$147,'ABT Transactions'!$I$9:$I$40,$AS$148,'ABT Transactions'!$C$9:$C$40,AT149,'ABT Transactions'!$D$9:$D$40,$B$153)","v":0},{"$f":"SUMIFS('ABT Transactions'!$B$9:$B$40,'ABT Transactions'!$J$9:$J$40,$C$147,'ABT Transactions'!$I$9:$I$40,$AS$148,'ABT Transactions'!$C$9:$C$40,AU149,'ABT Transactions'!$D$9:$D$40,$B$153)","v":0}]
[null,"Trade Out",{"$f":"SUMIFS('ABT Transactions'!$B$9:$B$40,'ABT Transactions'!$G$9:$G$40,$C$147,'ABT Transactions'!$F$9:$F$40,$C$148,'ABT Transactions'!$C$9:$C$40,C149,'ABT Transactions'!$D$9:$D$40,$B$154)","v":0},{"$f":"SUMIFS('ABT Transactions'!$B$9:$B$40,'ABT Transactions'!$G$9:$G$40,$C$147,'ABT Transactions'!$F$9:$F$40,$C$148,'ABT Transactions'!$C$9:$C$40,D149,'ABT Transactions'!$D$9:$D$40,$B$154)","v":0},{"$f":"SUMIFS('ABT Transactions'!$B$9:$B$40,'ABT Transactions'!$G$9:$G$40,$C$147,'ABT Transactions'!$F$9:$F$40,$C$148,'ABT Transactions'!$C$9:$C$40,E149,'ABT Transactions'!$D$9:$D$40,$B$154)","v":0},{"$f":"SUMIFS('ABT Transactions'!$B$9:$B$40,'ABT Transactions'!$G$9:$G$40,$C$147,'ABT Transactions'!$F$9:$F$40,$F$148,'ABT Transactions'!$C$9:$C$40,F149,'ABT Transactions'!$D$9:$D$40,$B$154)","v":0},{"$f":"SUMIFS('ABT Transactions'!$B$9:$B$40,'ABT Transactions'!$G$9:$G$40,$C$147,'ABT Transactions'!$F$9:$F$40,$F$148,'ABT Transactions'!$C$9:$C$40,G149,'ABT Transactions'!$D$9:$D$40,$B$154)","v":0},{"$f":"SUMIFS('ABT Transactions'!$B$9:$B$40,'ABT Transactions'!$G$9:$G$40,$C$147,'ABT Transactions'!$F$9:$F$40,$F$148,'ABT Transactions'!$C$9:$C$40,H149,'ABT Transactions'!$D$9:$D$40,$B$154)","v":0},{"$f":"SUMIFS('ABT Transactions'!$B$9:$B$40,'ABT Transactions'!$G$9:$G$40,$C$147,'ABT Transactions'!$F$9:$F$40,$I$148,'ABT Transactions'!$C$9:$C$40,I149,'ABT Transactions'!$D$9:$D$40,$B$154)","v":0},{"$f":"SUMIFS('ABT Transactions'!$B$9:$B$40,'ABT Transactions'!$G$9:$G$40,$C$147,'ABT Transactions'!$F$9:$F$40,$I$148,'ABT Transactions'!$C$9:$C$40,J149,'ABT Transactions'!$D$9:$D$40,$B$154)","v":0},{"$f":"SUMIFS('ABT Transactions'!$B$9:$B$40,'ABT Transactions'!$G$9:$G$40,$C$147,'ABT Transactions'!$F$9:$F$40,$I$148,'ABT Transactions'!$C$9:$C$40,K149,'ABT Transactions'!$D$9:$D$40,$B$154)","v":0},{"$f":"SUMIFS('ABT Transactions'!$B$9:$B$40,'ABT Transactions'!$G$9:$G$40,$C$147,'ABT Transactions'!$F$9:$F$40,$L$148,'ABT Transactions'!$C$9:$C$40,L149,'ABT Transactions'!$D$9:$D$40,$B$154)","v":0},{"$f":"SUMIFS('ABT Transactions'!$B$9:$B$40,'ABT Transactions'!$G$9:$G$40,$C$147,'ABT Transactions'!$F$9:$F$40,$L$148,'ABT Transactions'!$C$9:$C$40,M149,'ABT Transactions'!$D$9:$D$40,$B$154)","v":0},{"$f":"SUMIFS('ABT Transactions'!$B$9:$B$40,'ABT Transactions'!$G$9:$G$40,$C$147,'ABT Transactions'!$F$9:$F$40,$L$148,'ABT Transactions'!$C$9:$C$40,N149,'ABT Transactions'!$D$9:$D$40,$B$154)","v":0},{"$f":"SUMIFS('ABT Transactions'!$B$9:$B$40,'ABT Transactions'!$G$9:$G$40,$C$147,'ABT Transactions'!$F$9:$F$40,$O$148,'ABT Transactions'!$C$9:$C$40,O149,'ABT Transactions'!$D$9:$D$40,$B$154)","v":0},{"$f":"SUMIFS('ABT Transactions'!$B$9:$B$40,'ABT Transactions'!$G$9:$G$40,$C$147,'ABT Transactions'!$F$9:$F$40,$O$148,'ABT Transactions'!$C$9:$C$40,P149,'ABT Transactions'!$D$9:$D$40,$B$154)","v":0},{"$f":"SUMIFS('ABT Transactions'!$B$9:$B$40,'ABT Transactions'!$G$9:$G$40,$C$147,'ABT Transactions'!$F$9:$F$40,$O$148,'ABT Transactions'!$C$9:$C$40,Q149,'ABT Transactions'!$D$9:$D$40,$B$154)","v":0},{"$f":"SUMIFS('ABT Transactions'!$B$9:$B$40,'ABT Transactions'!$G$9:$G$40,$C$147,'ABT Transactions'!$F$9:$F$40,$R$148,'ABT Transactions'!$C$9:$C$40,R149,'ABT Transactions'!$D$9:$D$40,$B$154)","v":0},{"$f":"SUMIFS('ABT Transactions'!$B$9:$B$40,'ABT Transactions'!$G$9:$G$40,$C$147,'ABT Transactions'!$F$9:$F$40,$R$148,'ABT Transactions'!$C$9:$C$40,S149,'ABT Transactions'!$D$9:$D$40,$B$154)","v":0},{"$f":"SUMIFS('ABT Transactions'!$B$9:$B$40,'ABT Transactions'!$G$9:$G$40,$C$147,'ABT Transactions'!$F$9:$F$40,$R$148,'ABT Transactions'!$C$9:$C$40,T149,'ABT Transactions'!$D$9:$D$40,$B$154)","v":0},{"$f":"SUMIFS('ABT Transactions'!$B$9:$B$40,'ABT Transactions'!$G$9:$G$40,$C$147,'ABT Transactions'!$F$9:$F$40,$U$148,'ABT Transactions'!$C$9:$C$40,U149,'ABT Transactions'!$D$9:$D$40,$B$154)","v":0},{"$f":"SUMIFS('ABT Transactions'!$B$9:$B$40,'ABT Transactions'!$G$9:$G$40,$C$147,'ABT Transactions'!$F$9:$F$40,$U$148,'ABT Transactions'!$C$9:$C$40,V149,'ABT Transactions'!$D$9:$D$40,$B$154)","v":0},{"$f":"SUMIFS('ABT Transactions'!$B$9:$B$40,'ABT Transactions'!$G$9:$G$40,$C$147,'ABT Transactions'!$F$9:$F$40,U$148,'ABT Transactions'!$C$9:$C$40,W149,'ABT Transactions'!$D$9:$D$40,$B$154)","v":0},{"$f":"SUMIFS('ABT Transactions'!$B$9:$B$40,'ABT Transactions'!$G$9:$G$40,$C$147,'ABT Transactions'!$F$9:$F$40,$X$148,'ABT Transactions'!$C$9:$C$40,X149,'ABT Transactions'!$D$9:$D$40,$B$154)","v":0},{"$f":"SUMIFS('ABT Transactions'!$B$9:$B$40,'ABT Transactions'!$G$9:$G$40,$C$147,'ABT Transactions'!$F$9:$F$40,$X$148,'ABT Transactions'!$C$9:$C$40,Y149,'ABT Transactions'!$D$9:$D$40,$B$154)","v":0},{"$f":"SUMIFS('ABT Transactions'!$B$9:$B$40,'ABT Transactions'!$G$9:$G$40,$C$147,'ABT Transactions'!$F$9:$F$40,$X$148,'ABT Transactions'!$C$9:$C$40,Z149,'ABT Transactions'!$D$9:$D$40,$B$154)","v":0},{"$f":"SUMIFS('ABT Transactions'!$B$9:$B$40,'ABT Transactions'!$G$9:$G$40,$C$147,'ABT Transactions'!$F$9:$F$40,$AA$148,'ABT Transactions'!$C$9:$C$40,AA149,'ABT Transactions'!$D$9:$D$40,$B$154)","v":0},{"$f":"SUMIFS('ABT Transactions'!$B$9:$B$40,'ABT Transactions'!$G$9:$G$40,$C$147,'ABT Transactions'!$F$9:$F$40,$AA$148,'ABT Transactions'!$C$9:$C$40,AB149,'ABT Transactions'!$D$9:$D$40,$B$154)","v":0},{"$f":"SUMIFS('ABT Transactions'!$B$9:$B$40,'ABT Transactions'!$G$9:$G$40,$C$147,'ABT Transactions'!$F$9:$F$40,$AA$148,'ABT Transactions'!$C$9:$C$40,AC149,'ABT Transactions'!$D$9:$D$40,$B$154)","v":0},{"$f":"SUMIFS('ABT Transactions'!$B$9:$B$40,'ABT Transactions'!$G$9:$G$40,$C$147,'ABT Transactions'!$F$9:$F$40,$AD$148,'ABT Transactions'!$C$9:$C$40,AD149,'ABT Transactions'!$D$9:$D$40,$B$154)","v":0},{"$f":"SUMIFS('ABT Transactions'!$B$9:$B$40,'ABT Transactions'!$G$9:$G$40,$C$147,'ABT Transactions'!$F$9:$F$40,$AD$148,'ABT Transactions'!$C$9:$C$40,AE149,'ABT Transactions'!$D$9:$D$40,$B$154)","v":0},{"$f":"SUMIFS('ABT Transactions'!$B$9:$B$40,'ABT Transactions'!$G$9:$G$40,$C$147,'ABT Transactions'!$F$9:$F$40,$AD$148,'ABT Transactions'!$C$9:$C$40,AF149,'ABT Transactions'!$D$9:$D$40,$B$154)","v":0},{"$f":"SUMIFS('ABT Transactions'!$B$9:$B$40,'ABT Transactions'!$G$9:$G$40,$C$147,'ABT Transactions'!$F$9:$F$40,$AG$148,'ABT Transactions'!$C$9:$C$40,AG149,'ABT Transactions'!$D$9:$D$40,$B$154)","v":0},{"$f":"SUMIFS('ABT Transactions'!$B$9:$B$40,'ABT Transactions'!$G$9:$G$40,$C$147,'ABT Transactions'!$F$9:$F$40,$AG$148,'ABT Transactions'!$C$9:$C$40,AH149,'ABT Transactions'!$D$9:$D$40,$B$154)","v":0},{"$f":"SUMIFS('ABT Transactions'!$B$9:$B$40,'ABT Transactions'!$G$9:$G$40,$C$147,'ABT Transactions'!$F$9:$F$40,$AG$148,'ABT Transactions'!$C$9:$C$40,AI149,'ABT Transactions'!$D$9:$D$40,$B$154)","v":0},{"$f":"SUMIFS('ABT Transactions'!$B$9:$B$40,'ABT Transactions'!$G$9:$G$40,$C$147,'ABT Transactions'!$F$9:$F$40,$AJ$148,'ABT Transactions'!$C$9:$C$40,AJ149,'ABT Transactions'!$D$9:$D$40,$B$154)","v":0},{"$f":"SUMIFS('ABT Transactions'!$B$9:$B$40,'ABT Transactions'!$G$9:$G$40,$C$147,'ABT Transactions'!$F$9:$F$40,$AJ$148,'ABT Transactions'!$C$9:$C$40,AK149,'ABT Transactions'!$D$9:$D$40,$B$154)","v":0},{"$f":"SUMIFS('ABT Transactions'!$B$9:$B$40,'ABT Transactions'!$G$9:$G$40,$C$147,'ABT Transactions'!$F$9:$F$40,$AJ$148,'ABT Transactions'!$C$9:$C$40,AL149,'ABT Transactions'!$D$9:$D$40,$B$154)","v":0},{"$f":"SUMIFS('ABT Transactions'!$B$9:$B$40,'ABT Transactions'!$G$9:$G$40,$C$147,'ABT Transactions'!$F$9:$F$40,$AM$148,'ABT Transactions'!$C$9:$C$40,AM149,'ABT Transactions'!$D$9:$D$40,$B$154)","v":0},{"$f":"SUMIFS('ABT Transactions'!$B$9:$B$40,'ABT Transactions'!$G$9:$G$40,$C$147,'ABT Transactions'!$F$9:$F$40,$AM$148,'ABT Transactions'!$C$9:$C$40,AN149,'ABT Transactions'!$D$9:$D$40,$B$154)","v":0},{"$f":"SUMIFS('ABT Transactions'!$B$9:$B$40,'ABT Transactions'!$G$9:$G$40,$C$147,'ABT Transactions'!$F$9:$F$40,$AM$148,'ABT Transactions'!$C$9:$C$40,AO149,'ABT Transactions'!$D$9:$D$40,$B$154)","v":0},{"$f":"SUMIFS('ABT Transactions'!$B$9:$B$40,'ABT Transactions'!$G$9:$G$40,$C$147,'ABT Transactions'!$F$9:$F$40,$AP$148,'ABT Transactions'!$C$9:$C$40,AP149,'ABT Transactions'!$D$9:$D$40,$B$154)","v":0},{"$f":"SUMIFS('ABT Transactions'!$B$9:$B$40,'ABT Transactions'!$G$9:$G$40,$C$147,'ABT Transactions'!$F$9:$F$40,$AP$148,'ABT Transactions'!$C$9:$C$40,AQ149,'ABT Transactions'!$D$9:$D$40,$B$154)","v":0},{"$f":"SUMIFS('ABT Transactions'!$B$9:$B$40,'ABT Transactions'!$G$9:$G$40,$C$147,'ABT Transactions'!$F$9:$F$40,$AP$148,'ABT Transactions'!$C$9:$C$40,AR149,'ABT Transactions'!$D$9:$D$40,$B$154)","v":0},{"$f":"SUMIFS('ABT Transactions'!$B$9:$B$40,'ABT Transactions'!$G$9:$G$40,$C$147,'ABT Transactions'!$F$9:$F$40,$AS$148,'ABT Transactions'!$C$9:$C$40,AS149,'ABT Transactions'!$D$9:$D$40,$B$154)","v":0},{"$f":"SUMIFS('ABT Transactions'!$B$9:$B$40,'ABT Transactions'!$G$9:$G$40,$C$147,'ABT Transactions'!$F$9:$F$40,$AS$148,'ABT Transactions'!$C$9:$C$40,AT149,'ABT Transactions'!$D$9:$D$40,$B$154)","v":0},{"$f":"SUMIFS('ABT Transactions'!$B$9:$B$40,'ABT Transactions'!$G$9:$G$40,$C$147,'ABT Transactions'!$F$9:$F$40,$AS$148,'ABT Transactions'!$C$9:$C$40,AU149,'ABT Transactions'!$D$9:$D$40,$B$154)","v":0}]
[null,"Trade In",{"$f":"SUMIFS('ABT Transactions'!$B$9:$B$40,'ABT Transactions'!$J$9:$J$40,$C$147,'ABT Transactions'!$I$9:$I$40,$C$148,'ABT Transactions'!$C$9:$C$40,C149,'ABT Transactions'!$D$9:$D$40,$B$155)","v":0},{"$f":"SUMIFS('ABT Transactions'!$B$9:$B$40,'ABT Transactions'!$J$9:$J$40,$C$147,'ABT Transactions'!$I$9:$I$40,$C$148,'ABT Transactions'!$C$9:$C$40,D149,'ABT Transactions'!$D$9:$D$40,$B$155)","v":0},{"$f":"SUMIFS('ABT Transactions'!$B$9:$B$40,'ABT Transactions'!$J$9:$J$40,$C$147,'ABT Transactions'!$I$9:$I$40,$C$148,'ABT Transactions'!$C$9:$C$40,E149,'ABT Transactions'!$D$9:$D$40,$B$155)","v":0},{"$f":"SUMIFS('ABT Transactions'!$B$9:$B$40,'ABT Transactions'!$J$9:$J$40,$C$147,'ABT Transactions'!$I$9:$I$40,$F$148,'ABT Transactions'!$C$9:$C$40,F149,'ABT Transactions'!$D$9:$D$40,$B$155)","v":0},{"$f":"SUMIFS('ABT Transactions'!$B$9:$B$40,'ABT Transactions'!$J$9:$J$40,$C$147,'ABT Transactions'!$I$9:$I$40,$F$148,'ABT Transactions'!$C$9:$C$40,G149,'ABT Transactions'!$D$9:$D$40,$B$155)","v":0},{"$f":"SUMIFS('ABT Transactions'!$B$9:$B$40,'ABT Transactions'!$J$9:$J$40,$C$147,'ABT Transactions'!$I$9:$I$40,$F$148,'ABT Transactions'!$C$9:$C$40,H149,'ABT Transactions'!$D$9:$D$40,$B$155)","v":0},{"$f":"SUMIFS('ABT Transactions'!$B$9:$B$40,'ABT Transactions'!$J$9:$J$40,$C$147,'ABT Transactions'!$I$9:$I$40,$I$148,'ABT Transactions'!$C$9:$C$40,I149,'ABT Transactions'!$D$9:$D$40,$B$155)","v":0},{"$f":"SUMIFS('ABT Transactions'!$B$9:$B$40,'ABT Transactions'!$J$9:$J$40,$C$147,'ABT Transactions'!$I$9:$I$40,$I$148,'ABT Transactions'!$C$9:$C$40,J149,'ABT Transactions'!$D$9:$D$40,$B$155)","v":0},{"$f":"SUMIFS('ABT Transactions'!$B$9:$B$40,'ABT Transactions'!$J$9:$J$40,$C$147,'ABT Transactions'!$I$9:$I$40,$I$148,'ABT Transactions'!$C$9:$C$40,K149,'ABT Transactions'!$D$9:$D$40,$B$155)","v":0},{"$f":"SUMIFS('ABT Transactions'!$B$9:$B$40,'ABT Transactions'!$J$9:$J$40,$C$147,'ABT Transactions'!$I$9:$I$40,$L$148,'ABT Transactions'!$C$9:$C$40,L149,'ABT Transactions'!$D$9:$D$40,$B$155)","v":0},{"$f":"SUMIFS('ABT Transactions'!$B$9:$B$40,'ABT Transactions'!$J$9:$J$40,$C$147,'ABT Transactions'!$I$9:$I$40,$L$148,'ABT Transactions'!$C$9:$C$40,M149,'ABT Transactions'!$D$9:$D$40,$B$155)","v":0},{"$f":"SUMIFS('ABT Transactions'!$B$9:$B$40,'ABT Transactions'!$J$9:$J$40,$C$147,'ABT Transactions'!$I$9:$I$40,$L$148,'ABT Transactions'!$C$9:$C$40,N149,'ABT Transactions'!$D$9:$D$40,$B$155)","v":0},{"$f":"SUMIFS('ABT Transactions'!$B$9:$B$40,'ABT Transactions'!$J$9:$J$40,$C$147,'ABT Transactions'!$I$9:$I$40,$O$148,'ABT Transactions'!$C$9:$C$40,O149,'ABT Transactions'!$D$9:$D$40,$B$155)","v":0},{"$f":"SUMIFS('ABT Transactions'!$B$9:$B$40,'ABT Transactions'!$J$9:$J$40,$C$147,'ABT Transactions'!$I$9:$I$40,$O$148,'ABT Transactions'!$C$9:$C$40,P149,'ABT Transactions'!$D$9:$D$40,$B$155)","v":0},{"$f":"SUMIFS('ABT Transactions'!$B$9:$B$40,'ABT Transactions'!$J$9:$J$40,$C$147,'ABT Transactions'!$I$9:$I$40,$O$148,'ABT Transactions'!$C$9:$C$40,Q149,'ABT Transactions'!$D$9:$D$40,$B$155)","v":0},{"$f":"SUMIFS('ABT Transactions'!$B$9:$B$40,'ABT Transactions'!$J$9:$J$40,$C$147,'ABT Transactions'!$I$9:$I$40,$R$148,'ABT Transactions'!$C$9:$C$40,R149,'ABT Transactions'!$D$9:$D$40,$B$155)","v":0},{"$f":"SUMIFS('ABT Transactions'!$B$9:$B$40,'ABT Transactions'!$J$9:$J$40,$C$147,'ABT Transactions'!$I$9:$I$40,$R$148,'ABT Transactions'!$C$9:$C$40,S149,'ABT Transactions'!$D$9:$D$40,$B$155)","v":0},{"$f":"SUMIFS('ABT Transactions'!$B$9:$B$40,'ABT Transactions'!$J$9:$J$40,$C$147,'ABT Transactions'!$I$9:$I$40,$R$148,'ABT Transactions'!$C$9:$C$40,T149,'ABT Transactions'!$D$9:$D$40,$B$155)","v":0},{"$f":"SUMIFS('ABT Transactions'!$B$9:$B$40,'ABT Transactions'!$J$9:$J$40,$C$147,'ABT Transactions'!$I$9:$I$40,$U$148,'ABT Transactions'!$C$9:$C$40,U149,'ABT Transactions'!$D$9:$D$40,$B$155)","v":0},{"$f":"SUMIFS('ABT Transactions'!$B$9:$B$40,'ABT Transactions'!$J$9:$J$40,$C$147,'ABT Transactions'!$I$9:$I$40,$U$148,'ABT Transactions'!$C$9:$C$40,V149,'ABT Transactions'!$D$9:$D$40,$B$155)","v":0},{"$f":"SUMIFS('ABT Transactions'!$B$9:$B$40,'ABT Transactions'!$J$9:$J$40,$C$147,'ABT Transactions'!$I$9:$I$40,U$148,'ABT Transactions'!$C$9:$C$40,W149,'ABT Transactions'!$D$9:$D$40,$B$155)","v":0},{"$f":"SUMIFS('ABT Transactions'!$B$9:$B$40,'ABT Transactions'!$J$9:$J$40,$C$147,'ABT Transactions'!$I$9:$I$40,$X$148,'ABT Transactions'!$C$9:$C$40,X149,'ABT Transactions'!$D$9:$D$40,$B$155)","v":0},{"$f":"SUMIFS('ABT Transactions'!$B$9:$B$40,'ABT Transactions'!$J$9:$J$40,$C$147,'ABT Transactions'!$I$9:$I$40,$X$148,'ABT Transactions'!$C$9:$C$40,Y149,'ABT Transactions'!$D$9:$D$40,$B$155)","v":0},{"$f":"SUMIFS('ABT Transactions'!$B$9:$B$40,'ABT Transactions'!$J$9:$J$40,$C$147,'ABT Transactions'!$I$9:$I$40,$X$148,'ABT Transactions'!$C$9:$C$40,Z149,'ABT Transactions'!$D$9:$D$40,$B$155)","v":0},{"$f":"SUMIFS('ABT Transactions'!$B$9:$B$40,'ABT Transactions'!$J$9:$J$40,$C$147,'ABT Transactions'!$I$9:$I$40,$AA$148,'ABT Transactions'!$C$9:$C$40,AA149,'ABT Transactions'!$D$9:$D$40,$B$155)","v":0},{"$f":"SUMIFS('ABT Transactions'!$B$9:$B$40,'ABT Transactions'!$J$9:$J$40,$C$147,'ABT Transactions'!$I$9:$I$40,$AA$148,'ABT Transactions'!$C$9:$C$40,AB149,'ABT Transactions'!$D$9:$D$40,$B$155)","v":0},{"$f":"SUMIFS('ABT Transactions'!$B$9:$B$40,'ABT Transactions'!$J$9:$J$40,$C$147,'ABT Transactions'!$I$9:$I$40,$AA$148,'ABT Transactions'!$C$9:$C$40,AC149,'ABT Transactions'!$D$9:$D$40,$B$155)","v":0},{"$f":"SUMIFS('ABT Transactions'!$B$9:$B$40,'ABT Transactions'!$J$9:$J$40,$C$147,'ABT Transactions'!$I$9:$I$40,$AD$148,'ABT Transactions'!$C$9:$C$40,AD149,'ABT Transactions'!$D$9:$D$40,$B$155)","v":0},{"$f":"SUMIFS('ABT Transactions'!$B$9:$B$40,'ABT Transactions'!$J$9:$J$40,$C$147,'ABT Transactions'!$I$9:$I$40,$AD$148,'ABT Transactions'!$C$9:$C$40,AE149,'ABT Transactions'!$D$9:$D$40,$B$155)","v":0},{"$f":"SUMIFS('ABT Transactions'!$B$9:$B$40,'ABT Transactions'!$J$9:$J$40,$C$147,'ABT Transactions'!$I$9:$I$40,$AD$148,'ABT Transactions'!$C$9:$C$40,AF149,'ABT Transactions'!$D$9:$D$40,$B$155)","v":0},{"$f":"SUMIFS('ABT Transactions'!$B$9:$B$40,'ABT Transactions'!$J$9:$J$40,$C$147,'ABT Transactions'!$I$9:$I$40,$AG$148,'ABT Transactions'!$C$9:$C$40,AG149,'ABT Transactions'!$D$9:$D$40,$B$155)","v":0},{"$f":"SUMIFS('ABT Transactions'!$B$9:$B$40,'ABT Transactions'!$J$9:$J$40,$C$147,'ABT Transactions'!$I$9:$I$40,$AG$148,'ABT Transactions'!$C$9:$C$40,AH149,'ABT Transactions'!$D$9:$D$40,$B$155)","v":0},{"$f":"SUMIFS('ABT Transactions'!$B$9:$B$40,'ABT Transactions'!$J$9:$J$40,$C$147,'ABT Transactions'!$I$9:$I$40,$AG$148,'ABT Transactions'!$C$9:$C$40,AI149,'ABT Transactions'!$D$9:$D$40,$B$155)","v":0},{"$f":"SUMIFS('ABT Transactions'!$B$9:$B$40,'ABT Transactions'!$J$9:$J$40,$C$147,'ABT Transactions'!$I$9:$I$40,$AJ$148,'ABT Transactions'!$C$9:$C$40,AJ149,'ABT Transactions'!$D$9:$D$40,$B$155)","v":0},{"$f":"SUMIFS('ABT Transactions'!$B$9:$B$40,'ABT Transactions'!$J$9:$J$40,$C$147,'ABT Transactions'!$I$9:$I$40,$AJ$148,'ABT Transactions'!$C$9:$C$40,AK149,'ABT Transactions'!$D$9:$D$40,$B$155)","v":0},{"$f":"SUMIFS('ABT Transactions'!$B$9:$B$40,'ABT Transactions'!$J$9:$J$40,$C$147,'ABT Transactions'!$I$9:$I$40,$AJ$148,'ABT Transactions'!$C$9:$C$40,AL149,'ABT Transactions'!$D$9:$D$40,$B$155)","v":0},{"$f":"SUMIFS('ABT Transactions'!$B$9:$B$40,'ABT Transactions'!$J$9:$J$40,$C$147,'ABT Transactions'!$I$9:$I$40,$AM$148,'ABT Transactions'!$C$9:$C$40,AM149,'ABT Transactions'!$D$9:$D$40,$B$155)","v":0},{"$f":"SUMIFS('ABT Transactions'!$B$9:$B$40,'ABT Transactions'!$J$9:$J$40,$C$147,'ABT Transactions'!$I$9:$I$40,$AM$148,'ABT Transactions'!$C$9:$C$40,AN149,'ABT Transactions'!$D$9:$D$40,$B$155)","v":0},{"$f":"SUMIFS('ABT Transactions'!$B$9:$B$40,'ABT Transactions'!$J$9:$J$40,$C$147,'ABT Transactions'!$I$9:$I$40,$AM$148,'ABT Transactions'!$C$9:$C$40,AO149,'ABT Transactions'!$D$9:$D$40,$B$155)","v":0},{"$f":"SUMIFS('ABT Transactions'!$B$9:$B$40,'ABT Transactions'!$J$9:$J$40,$C$147,'ABT Transactions'!$I$9:$I$40,$AP$148,'ABT Transactions'!$C$9:$C$40,AP149,'ABT Transactions'!$D$9:$D$40,$B$155)","v":0},{"$f":"SUMIFS('ABT Transactions'!$B$9:$B$40,'ABT Transactions'!$J$9:$J$40,$C$147,'ABT Transactions'!$I$9:$I$40,$AP$148,'ABT Transactions'!$C$9:$C$40,AQ149,'ABT Transactions'!$D$9:$D$40,$B$155)","v":0},{"$f":"SUMIFS('ABT Transactions'!$B$9:$B$40,'ABT Transactions'!$J$9:$J$40,$C$147,'ABT Transactions'!$I$9:$I$40,$AP$148,'ABT Transactions'!$C$9:$C$40,AR149,'ABT Transactions'!$D$9:$D$40,$B$155)","v":0},{"$f":"SUMIFS('ABT Transactions'!$B$9:$B$40,'ABT Transactions'!$J$9:$J$40,$C$147,'ABT Transactions'!$I$9:$I$40,$AS$148,'ABT Transactions'!$C$9:$C$40,AS149,'ABT Transactions'!$D$9:$D$40,$B$155)","v":0},{"$f":"SUMIFS('ABT Transactions'!$B$9:$B$40,'ABT Transactions'!$J$9:$J$40,$C$147,'ABT Transactions'!$I$9:$I$40,$AS$148,'ABT Transactions'!$C$9:$C$40,AT149,'ABT Transactions'!$D$9:$D$40,$B$155)","v":0},{"$f":"SUMIFS('ABT Transactions'!$B$9:$B$40,'ABT Transactions'!$J$9:$J$40,$C$147,'ABT Transactions'!$I$9:$I$40,$AS$148,'ABT Transactions'!$C$9:$C$40,AU149,'ABT Transactions'!$D$9:$D$40,$B$155)","v":0}]
[null,"Transfer ADV Credits (out)",{"$f":"SUMIFS('ABT Transactions'!$B$9:$B$40,'ABT Transactions'!$G$9:$G$40,$C$147,'ABT Transactions'!$F$9:$F$40,$C$148,'ABT Transactions'!$C$9:$C$40,C149,'ABT Transactions'!$D$9:$D$40,$B$156)","v":0},{"$f":"SUMIFS('ABT Transactions'!$B$9:$B$40,'ABT Transactions'!$G$9:$G$40,$C$147,'ABT Transactions'!$F$9:$F$40,$C$148,'ABT Transactions'!$C$9:$C$40,D149,'ABT Transactions'!$D$9:$D$40,$B$156)","v":0},{"$f":"SUMIFS('ABT Transactions'!$B$9:$B$40,'ABT Transactions'!$G$9:$G$40,$C$147,'ABT Transactions'!$F$9:$F$40,$C$148,'ABT Transactions'!$C$9:$C$40,E149,'ABT Transactions'!$D$9:$D$40,$B$156)","v":0},{"$f":"SUMIFS('ABT Transactions'!$B$9:$B$40,'ABT Transactions'!$G$9:$G$40,$C$147,'ABT Transactions'!$F$9:$F$40,$F$148,'ABT Transactions'!$C$9:$C$40,F149,'ABT Transactions'!$D$9:$D$40,$B$156)","v":0},{"$f":"SUMIFS('ABT Transactions'!$B$9:$B$40,'ABT Transactions'!$G$9:$G$40,$C$147,'ABT Transactions'!$F$9:$F$40,$F$148,'ABT Transactions'!$C$9:$C$40,G149,'ABT Transactions'!$D$9:$D$40,$B$156)","v":0},{"$f":"SUMIFS('ABT Transactions'!$B$9:$B$40,'ABT Transactions'!$G$9:$G$40,$C$147,'ABT Transactions'!$F$9:$F$40,$F$148,'ABT Transactions'!$C$9:$C$40,H149,'ABT Transactions'!$D$9:$D$40,$B$156)","v":0},{"$f":"SUMIFS('ABT Transactions'!$B$9:$B$40,'ABT Transactions'!$G$9:$G$40,$C$147,'ABT Transactions'!$F$9:$F$40,$I$148,'ABT Transactions'!$C$9:$C$40,I149,'ABT Transactions'!$D$9:$D$40,$B$156)","v":0},{"$f":"SUMIFS('ABT Transactions'!$B$9:$B$40,'ABT Transactions'!$G$9:$G$40,$C$147,'ABT Transactions'!$F$9:$F$40,$I$148,'ABT Transactions'!$C$9:$C$40,J149,'ABT Transactions'!$D$9:$D$40,$B$156)","v":0},{"$f":"SUMIFS('ABT Transactions'!$B$9:$B$40,'ABT Transactions'!$G$9:$G$40,$C$147,'ABT Transactions'!$F$9:$F$40,$I$148,'ABT Transactions'!$C$9:$C$40,K149,'ABT Transactions'!$D$9:$D$40,$B$156)","v":0},{"$f":"SUMIFS('ABT Transactions'!$B$9:$B$40,'ABT Transactions'!$G$9:$G$40,$C$147,'ABT Transactions'!$F$9:$F$40,$L$148,'ABT Transactions'!$C$9:$C$40,L149,'ABT Transactions'!$D$9:$D$40,$B$156)","v":0},{"$f":"SUMIFS('ABT Transactions'!$B$9:$B$40,'ABT Transactions'!$G$9:$G$40,$C$147,'ABT Transactions'!$F$9:$F$40,$L$148,'ABT Transactions'!$C$9:$C$40,M149,'ABT Transactions'!$D$9:$D$40,$B$156)","v":0},{"$f":"SUMIFS('ABT Transactions'!$B$9:$B$40,'ABT Transactions'!$G$9:$G$40,$C$147,'ABT Transactions'!$F$9:$F$40,$L$148,'ABT Transactions'!$C$9:$C$40,N149,'ABT Transactions'!$D$9:$D$40,$B$156)","v":0},{"$f":"SUMIFS('ABT Transactions'!$B$9:$B$40,'ABT Transactions'!$G$9:$G$40,$C$147,'ABT Transactions'!$F$9:$F$40,$O$148,'ABT Transactions'!$C$9:$C$40,O149,'ABT Transactions'!$D$9:$D$40,$B$156)","v":0},{"$f":"SUMIFS('ABT Transactions'!$B$9:$B$40,'ABT Transactions'!$G$9:$G$40,$C$147,'ABT Transactions'!$F$9:$F$40,$O$148,'ABT Transactions'!$C$9:$C$40,P149,'ABT Transactions'!$D$9:$D$40,$B$156)","v":0},{"$f":"SUMIFS('ABT Transactions'!$B$9:$B$40,'ABT Transactions'!$G$9:$G$40,$C$147,'ABT Transactions'!$F$9:$F$40,$O$148,'ABT Transactions'!$C$9:$C$40,Q149,'ABT Transactions'!$D$9:$D$40,$B$156)","v":0},{"$f":"SUMIFS('ABT Transactions'!$B$9:$B$40,'ABT Transactions'!$G$9:$G$40,$C$147,'ABT Transactions'!$F$9:$F$40,$R$148,'ABT Transactions'!$C$9:$C$40,R149,'ABT Transactions'!$D$9:$D$40,$B$156)","v":0},{"$f":"SUMIFS('ABT Transactions'!$B$9:$B$40,'ABT Transactions'!$G$9:$G$40,$C$147,'ABT Transactions'!$F$9:$F$40,$R$148,'ABT Transactions'!$C$9:$C$40,S149,'ABT Transactions'!$D$9:$D$40,$B$156)","v":0},{"$f":"SUMIFS('ABT Transactions'!$B$9:$B$40,'ABT Transactions'!$G$9:$G$40,$C$147,'ABT Transactions'!$F$9:$F$40,$R$148,'ABT Transactions'!$C$9:$C$40,T149,'ABT Transactions'!$D$9:$D$40,$B$156)","v":0},{"$f":"SUMIFS('ABT Transactions'!$B$9:$B$40,'ABT Transactions'!$G$9:$G$40,$C$147,'ABT Transactions'!$F$9:$F$40,$U$148,'ABT Transactions'!$C$9:$C$40,U149,'ABT Transactions'!$D$9:$D$40,$B$156)","v":0},{"$f":"SUMIFS('ABT Transactions'!$B$9:$B$40,'ABT Transactions'!$G$9:$G$40,$C$147,'ABT Transactions'!$F$9:$F$40,$U$148,'ABT Transactions'!$C$9:$C$40,V149,'ABT Transactions'!$D$9:$D$40,$B$156)","v":0},{"$f":"SUMIFS('ABT Transactions'!$B$9:$B$40,'ABT Transactions'!$G$9:$G$40,$C$147,'ABT Transactions'!$F$9:$F$40,U$148,'ABT Transactions'!$C$9:$C$40,W149,'ABT Transactions'!$D$9:$D$40,$B$156)","v":0},{"$f":"SUMIFS('ABT Transactions'!$B$9:$B$40,'ABT Transactions'!$G$9:$G$40,$C$147,'ABT Transactions'!$F$9:$F$40,$X$148,'ABT Transactions'!$C$9:$C$40,X149,'ABT Transactions'!$D$9:$D$40,$B$156)","v":0},{"$f":"SUMIFS('ABT Transactions'!$B$9:$B$40,'ABT Transactions'!$G$9:$G$40,$C$147,'ABT Transactions'!$F$9:$F$40,$X$148,'ABT Transactions'!$C$9:$C$40,Y149,'ABT Transactions'!$D$9:$D$40,$B$156)","v":0},{"$f":"SUMIFS('ABT Transactions'!$B$9:$B$40,'ABT Transactions'!$G$9:$G$40,$C$147,'ABT Transactions'!$F$9:$F$40,$X$148,'ABT Transactions'!$C$9:$C$40,Z149,'ABT Transactions'!$D$9:$D$40,$B$156)","v":0},{"$f":"SUMIFS('ABT Transactions'!$B$9:$B$40,'ABT Transactions'!$G$9:$G$40,$C$147,'ABT Transactions'!$F$9:$F$40,$AA$148,'ABT Transactions'!$C$9:$C$40,AA149,'ABT Transactions'!$D$9:$D$40,$B$156)","v":0},{"$f":"SUMIFS('ABT Transactions'!$B$9:$B$40,'ABT Transactions'!$G$9:$G$40,$C$147,'ABT Transactions'!$F$9:$F$40,$AA$148,'ABT Transactions'!$C$9:$C$40,AB149,'ABT Transactions'!$D$9:$D$40,$B$156)","v":0},{"$f":"SUMIFS('ABT Transactions'!$B$9:$B$40,'ABT Transactions'!$G$9:$G$40,$C$147,'ABT Transactions'!$F$9:$F$40,$AA$148,'ABT Transactions'!$C$9:$C$40,AC149,'ABT Transactions'!$D$9:$D$40,$B$156)","v":0},{"$f":"SUMIFS('ABT Transactions'!$B$9:$B$40,'ABT Transactions'!$G$9:$G$40,$C$147,'ABT Transactions'!$F$9:$F$40,$AD$148,'ABT Transactions'!$C$9:$C$40,AD149,'ABT Transactions'!$D$9:$D$40,$B$156)","v":0},{"$f":"SUMIFS('ABT Transactions'!$B$9:$B$40,'ABT Transactions'!$G$9:$G$40,$C$147,'ABT Transactions'!$F$9:$F$40,$AD$148,'ABT Transactions'!$C$9:$C$40,AE149,'ABT Transactions'!$D$9:$D$40,$B$156)","v":0},{"$f":"SUMIFS('ABT Transactions'!$B$9:$B$40,'ABT Transactions'!$G$9:$G$40,$C$147,'ABT Transactions'!$F$9:$F$40,$AD$148,'ABT Transactions'!$C$9:$C$40,AF149,'ABT Transactions'!$D$9:$D$40,$B$156)","v":0},{"$f":"SUMIFS('ABT Transactions'!$B$9:$B$40,'ABT Transactions'!$G$9:$G$40,$C$147,'ABT Transactions'!$F$9:$F$40,$AG$148,'ABT Transactions'!$C$9:$C$40,AG149,'ABT Transactions'!$D$9:$D$40,$B$156)","v":0},{"$f":"SUMIFS('ABT Transactions'!$B$9:$B$40,'ABT Transactions'!$G$9:$G$40,$C$147,'ABT Transactions'!$F$9:$F$40,$AG$148,'ABT Transactions'!$C$9:$C$40,AH149,'ABT Transactions'!$D$9:$D$40,$B$156)","v":0},{"$f":"SUMIFS('ABT Transactions'!$B$9:$B$40,'ABT Transactions'!$G$9:$G$40,$C$147,'ABT Transactions'!$F$9:$F$40,$AG$148,'ABT Transactions'!$C$9:$C$40,AI149,'ABT Transactions'!$D$9:$D$40,$B$156)","v":0},{"$f":"SUMIFS('ABT Transactions'!$B$9:$B$40,'ABT Transactions'!$G$9:$G$40,$C$147,'ABT Transactions'!$F$9:$F$40,$AJ$148,'ABT Transactions'!$C$9:$C$40,AJ149,'ABT Transactions'!$D$9:$D$40,$B$156)","v":0},{"$f":"SUMIFS('ABT Transactions'!$B$9:$B$40,'ABT Transactions'!$G$9:$G$40,$C$147,'ABT Transactions'!$F$9:$F$40,$AJ$148,'ABT Transactions'!$C$9:$C$40,AK149,'ABT Transactions'!$D$9:$D$40,$B$156)","v":0},{"$f":"SUMIFS('ABT Transactions'!$B$9:$B$40,'ABT Transactions'!$G$9:$G$40,$C$147,'ABT Transactions'!$F$9:$F$40,$AJ$148,'ABT Transactions'!$C$9:$C$40,AL149,'ABT Transactions'!$D$9:$D$40,$B$156)","v":0},{"$f":"SUMIFS('ABT Transactions'!$B$9:$B$40,'ABT Transactions'!$G$9:$G$40,$C$147,'ABT Transactions'!$F$9:$F$40,$AM$148,'ABT Transactions'!$C$9:$C$40,AM149,'ABT Transactions'!$D$9:$D$40,$B$156)","v":0},{"$f":"SUMIFS('ABT Transactions'!$B$9:$B$40,'ABT Transactions'!$G$9:$G$40,$C$147,'ABT Transactions'!$F$9:$F$40,$AM$148,'ABT Transactions'!$C$9:$C$40,AN149,'ABT Transactions'!$D$9:$D$40,$B$156)","v":0},{"$f":"SUMIFS('ABT Transactions'!$B$9:$B$40,'ABT Transactions'!$G$9:$G$40,$C$147,'ABT Transactions'!$F$9:$F$40,$AM$148,'ABT Transactions'!$C$9:$C$40,AO149,'ABT Transactions'!$D$9:$D$40,$B$156)","v":0},{"$f":"SUMIFS('ABT Transactions'!$B$9:$B$40,'ABT Transactions'!$G$9:$G$40,$C$147,'ABT Transactions'!$F$9:$F$40,$AP$148,'ABT Transactions'!$C$9:$C$40,AP149,'ABT Transactions'!$D$9:$D$40,$B$156)","v":0},{"$f":"SUMIFS('ABT Transactions'!$B$9:$B$40,'ABT Transactions'!$G$9:$G$40,$C$147,'ABT Transactions'!$F$9:$F$40,$AP$148,'ABT Transactions'!$C$9:$C$40,AQ149,'ABT Transactions'!$D$9:$D$40,$B$156)","v":0},{"$f":"SUMIFS('ABT Transactions'!$B$9:$B$40,'ABT Transactions'!$G$9:$G$40,$C$147,'ABT Transactions'!$F$9:$F$40,$AP$148,'ABT Transactions'!$C$9:$C$40,AR149,'ABT Transactions'!$D$9:$D$40,$B$156)","v":0},{"$f":"SUMIFS('ABT Transactions'!$B$9:$B$40,'ABT Transactions'!$G$9:$G$40,$C$147,'ABT Transactions'!$F$9:$F$40,$AS$148,'ABT Transactions'!$C$9:$C$40,AS149,'ABT Transactions'!$D$9:$D$40,$B$156)","v":0},{"$f":"SUMIFS('ABT Transactions'!$B$9:$B$40,'ABT Transactions'!$G$9:$G$40,$C$147,'ABT Transactions'!$F$9:$F$40,$AS$148,'ABT Transactions'!$C$9:$C$40,AT149,'ABT Transactions'!$D$9:$D$40,$B$156)","v":0},{"$f":"SUMIFS('ABT Transactions'!$B$9:$B$40,'ABT Transactions'!$G$9:$G$40,$C$147,'ABT Transactions'!$F$9:$F$40,$AS$148,'ABT Transactions'!$C$9:$C$40,AU149,'ABT Transactions'!$D$9:$D$40,$B$156)","v":0}]
[null,"Transfer ADV Credits (in)",{"$f":"SUMIFS('ABT Transactions'!$B$9:$B$40,'ABT Transactions'!$J$9:$J$40,$C$147,'ABT Transactions'!$I$9:$I$40,$C$148,'ABT Transactions'!$C$9:$C$40,C149,'ABT Transactions'!$D$9:$D$40,$B$157)","v":0},{"$f":"SUMIFS('ABT Transactions'!$B$9:$B$40,'ABT Transactions'!$J$9:$J$40,$C$147,'ABT Transactions'!$I$9:$I$40,$C$148,'ABT Transactions'!$C$9:$C$40,D149,'ABT Transactions'!$D$9:$D$40,$B$157)","v":0},{"$f":"SUMIFS('ABT Transactions'!$B$9:$B$40,'ABT Transactions'!$J$9:$J$40,$C$147,'ABT Transactions'!$I$9:$I$40,$C$148,'ABT Transactions'!$C$9:$C$40,E149,'ABT Transactions'!$D$9:$D$40,$B$157)","v":0},{"$f":"SUMIFS('ABT Transactions'!$B$9:$B$40,'ABT Transactions'!$J$9:$J$40,$C$147,'ABT Transactions'!$I$9:$I$40,$F$148,'ABT Transactions'!$C$9:$C$40,F149,'ABT Transactions'!$D$9:$D$40,$B$157)","v":0},{"$f":"SUMIFS('ABT Transactions'!$B$9:$B$40,'ABT Transactions'!$J$9:$J$40,$C$147,'ABT Transactions'!$I$9:$I$40,$F$148,'ABT Transactions'!$C$9:$C$40,G149,'ABT Transactions'!$D$9:$D$40,$B$157)","v":0},{"$f":"SUMIFS('ABT Transactions'!$B$9:$B$40,'ABT Transactions'!$J$9:$J$40,$C$147,'ABT Transactions'!$I$9:$I$40,$F$148,'ABT Transactions'!$C$9:$C$40,H149,'ABT Transactions'!$D$9:$D$40,$B$157)","v":0},{"$f":"SUMIFS('ABT Transactions'!$B$9:$B$40,'ABT Transactions'!$J$9:$J$40,$C$147,'ABT Transactions'!$I$9:$I$40,$I$148,'ABT Transactions'!$C$9:$C$40,I149,'ABT Transactions'!$D$9:$D$40,$B$157)","v":0},{"$f":"SUMIFS('ABT Transactions'!$B$9:$B$40,'ABT Transactions'!$J$9:$J$40,$C$147,'ABT Transactions'!$I$9:$I$40,$I$148,'ABT Transactions'!$C$9:$C$40,J149,'ABT Transactions'!$D$9:$D$40,$B$157)","v":0},{"$f":"SUMIFS('ABT Transactions'!$B$9:$B$40,'ABT Transactions'!$J$9:$J$40,$C$147,'ABT Transactions'!$I$9:$I$40,$I$148,'ABT Transactions'!$C$9:$C$40,K149,'ABT Transactions'!$D$9:$D$40,$B$157)","v":0},{"$f":"SUMIFS('ABT Transactions'!$B$9:$B$40,'ABT Transactions'!$J$9:$J$40,$C$147,'ABT Transactions'!$I$9:$I$40,$L$148,'ABT Transactions'!$C$9:$C$40,L149,'ABT Transactions'!$D$9:$D$40,$B$157)","v":0},{"$f":"SUMIFS('ABT Transactions'!$B$9:$B$40,'ABT Transactions'!$J$9:$J$40,$C$147,'ABT Transactions'!$I$9:$I$40,$L$148,'ABT Transactions'!$C$9:$C$40,M149,'ABT Transactions'!$D$9:$D$40,$B$157)","v":0},{"$f":"SUMIFS('ABT Transactions'!$B$9:$B$40,'ABT Transactions'!$J$9:$J$40,$C$147,'ABT Transactions'!$I$9:$I$40,$L$148,'ABT Transactions'!$C$9:$C$40,N149,'ABT Transactions'!$D$9:$D$40,$B$157)","v":0},{"$f":"SUMIFS('ABT Transactions'!$B$9:$B$40,'ABT Transactions'!$J$9:$J$40,$C$147,'ABT Transactions'!$I$9:$I$40,$O$148,'ABT Transactions'!$C$9:$C$40,O149,'ABT Transactions'!$D$9:$D$40,$B$157)","v":0},{"$f":"SUMIFS('ABT Transactions'!$B$9:$B$40,'ABT Transactions'!$J$9:$J$40,$C$147,'ABT Transactions'!$I$9:$I$40,$O$148,'ABT Transactions'!$C$9:$C$40,P149,'ABT Transactions'!$D$9:$D$40,$B$157)","v":0},{"$f":"SUMIFS('ABT Transactions'!$B$9:$B$40,'ABT Transactions'!$J$9:$J$40,$C$147,'ABT Transactions'!$I$9:$I$40,$O$148,'ABT Transactions'!$C$9:$C$40,Q149,'ABT Transactions'!$D$9:$D$40,$B$157)","v":0},{"$f":"SUMIFS('ABT Transactions'!$B$9:$B$40,'ABT Transactions'!$J$9:$J$40,$C$147,'ABT Transactions'!$I$9:$I$40,$R$148,'ABT Transactions'!$C$9:$C$40,R149,'ABT Transactions'!$D$9:$D$40,$B$157)","v":0},{"$f":"SUMIFS('ABT Transactions'!$B$9:$B$40,'ABT Transactions'!$J$9:$J$40,$C$147,'ABT Transactions'!$I$9:$I$40,$R$148,'ABT Transactions'!$C$9:$C$40,S149,'ABT Transactions'!$D$9:$D$40,$B$157)","v":0},{"$f":"SUMIFS('ABT Transactions'!$B$9:$B$40,'ABT Transactions'!$J$9:$J$40,$C$147,'ABT Transactions'!$I$9:$I$40,$R$148,'ABT Transactions'!$C$9:$C$40,T149,'ABT Transactions'!$D$9:$D$40,$B$157)","v":0},{"$f":"SUMIFS('ABT Transactions'!$B$9:$B$40,'ABT Transactions'!$J$9:$J$40,$C$147,'ABT Transactions'!$I$9:$I$40,$U$148,'ABT Transactions'!$C$9:$C$40,U149,'ABT Transactions'!$D$9:$D$40,$B$157)","v":0},{"$f":"SUMIFS('ABT Transactions'!$B$9:$B$40,'ABT Transactions'!$J$9:$J$40,$C$147,'ABT Transactions'!$I$9:$I$40,$U$148,'ABT Transactions'!$C$9:$C$40,V149,'ABT Transactions'!$D$9:$D$40,$B$157)","v":0},{"$f":"SUMIFS('ABT Transactions'!$B$9:$B$40,'ABT Transactions'!$J$9:$J$40,$C$147,'ABT Transactions'!$I$9:$I$40,U$148,'ABT Transactions'!$C$9:$C$40,W149,'ABT Transactions'!$D$9:$D$40,$B$157)","v":0},{"$f":"SUMIFS('ABT Transactions'!$B$9:$B$40,'ABT Transactions'!$J$9:$J$40,$C$147,'ABT Transactions'!$I$9:$I$40,$X$148,'ABT Transactions'!$C$9:$C$40,X149,'ABT Transactions'!$D$9:$D$40,$B$157)","v":0},{"$f":"SUMIFS('ABT Transactions'!$B$9:$B$40,'ABT Transactions'!$J$9:$J$40,$C$147,'ABT Transactions'!$I$9:$I$40,$X$148,'ABT Transactions'!$C$9:$C$40,Y149,'ABT Transactions'!$D$9:$D$40,$B$157)","v":0},{"$f":"SUMIFS('ABT Transactions'!$B$9:$B$40,'ABT Transactions'!$J$9:$J$40,$C$147,'ABT Transactions'!$I$9:$I$40,$X$148,'ABT Transactions'!$C$9:$C$40,Z149,'ABT Transactions'!$D$9:$D$40,$B$157)","v":0},{"$f":"SUMIFS('ABT Transactions'!$B$9:$B$40,'ABT Transactions'!$J$9:$J$40,$C$147,'ABT Transactions'!$I$9:$I$40,$AA$148,'ABT Transactions'!$C$9:$C$40,AA149,'ABT Transactions'!$D$9:$D$40,$B$157)","v":0},{"$f":"SUMIFS('ABT Transactions'!$B$9:$B$40,'ABT Transactions'!$J$9:$J$40,$C$147,'ABT Transactions'!$I$9:$I$40,$AA$148,'ABT Transactions'!$C$9:$C$40,AB149,'ABT Transactions'!$D$9:$D$40,$B$157)","v":0},{"$f":"SUMIFS('ABT Transactions'!$B$9:$B$40,'ABT Transactions'!$J$9:$J$40,$C$147,'ABT Transactions'!$I$9:$I$40,$AA$148,'ABT Transactions'!$C$9:$C$40,AC149,'ABT Transactions'!$D$9:$D$40,$B$157)","v":0},{"$f":"SUMIFS('ABT Transactions'!$B$9:$B$40,'ABT Transactions'!$J$9:$J$40,$C$147,'ABT Transactions'!$I$9:$I$40,$AD$148,'ABT Transactions'!$C$9:$C$40,AD149,'ABT Transactions'!$D$9:$D$40,$B$157)","v":0},{"$f":"SUMIFS('ABT Transactions'!$B$9:$B$40,'ABT Transactions'!$J$9:$J$40,$C$147,'ABT Transactions'!$I$9:$I$40,$AD$148,'ABT Transactions'!$C$9:$C$40,AE149,'ABT Transactions'!$D$9:$D$40,$B$157)","v":0},{"$f":"SUMIFS('ABT Transactions'!$B$9:$B$40,'ABT Transactions'!$J$9:$J$40,$C$147,'ABT Transactions'!$I$9:$I$40,$AD$148,'ABT Transactions'!$C$9:$C$40,AF149,'ABT Transactions'!$D$9:$D$40,$B$157)","v":0},{"$f":"SUMIFS('ABT Transactions'!$B$9:$B$40,'ABT Transactions'!$J$9:$J$40,$C$147,'ABT Transactions'!$I$9:$I$40,$AG$148,'ABT Transactions'!$C$9:$C$40,AG149,'ABT Transactions'!$D$9:$D$40,$B$157)","v":0},{"$f":"SUMIFS('ABT Transactions'!$B$9:$B$40,'ABT Transactions'!$J$9:$J$40,$C$147,'ABT Transactions'!$I$9:$I$40,$AG$148,'ABT Transactions'!$C$9:$C$40,AH149,'ABT Transactions'!$D$9:$D$40,$B$157)","v":0},{"$f":"SUMIFS('ABT Transactions'!$B$9:$B$40,'ABT Transactions'!$J$9:$J$40,$C$147,'ABT Transactions'!$I$9:$I$40,$AG$148,'ABT Transactions'!$C$9:$C$40,AI149,'ABT Transactions'!$D$9:$D$40,$B$157)","v":0},{"$f":"SUMIFS('ABT Transactions'!$B$9:$B$40,'ABT Transactions'!$J$9:$J$40,$C$147,'ABT Transactions'!$I$9:$I$40,$AJ$148,'ABT Transactions'!$C$9:$C$40,AJ149,'ABT Transactions'!$D$9:$D$40,$B$157)","v":0},{"$f":"SUMIFS('ABT Transactions'!$B$9:$B$40,'ABT Transactions'!$J$9:$J$40,$C$147,'ABT Transactions'!$I$9:$I$40,$AJ$148,'ABT Transactions'!$C$9:$C$40,AK149,'ABT Transactions'!$D$9:$D$40,$B$157)","v":0},{"$f":"SUMIFS('ABT Transactions'!$B$9:$B$40,'ABT Transactions'!$J$9:$J$40,$C$147,'ABT Transactions'!$I$9:$I$40,$AJ$148,'ABT Transactions'!$C$9:$C$40,AL149,'ABT Transactions'!$D$9:$D$40,$B$157)","v":0},{"$f":"SUMIFS('ABT Transactions'!$B$9:$B$40,'ABT Transactions'!$J$9:$J$40,$C$147,'ABT Transactions'!$I$9:$I$40,$AM$148,'ABT Transactions'!$C$9:$C$40,AM149,'ABT Transactions'!$D$9:$D$40,$B$157)","v":0},{"$f":"SUMIFS('ABT Transactions'!$B$9:$B$40,'ABT Transactions'!$J$9:$J$40,$C$147,'ABT Transactions'!$I$9:$I$40,$AM$148,'ABT Transactions'!$C$9:$C$40,AN149,'ABT Transactions'!$D$9:$D$40,$B$157)","v":0},{"$f":"SUMIFS('ABT Transactions'!$B$9:$B$40,'ABT Transactions'!$J$9:$J$40,$C$147,'ABT Transactions'!$I$9:$I$40,$AM$148,'ABT Transactions'!$C$9:$C$40,AO149,'ABT Transactions'!$D$9:$D$40,$B$157)","v":0},{"$f":"SUMIFS('ABT Transactions'!$B$9:$B$40,'ABT Transactions'!$J$9:$J$40,$C$147,'ABT Transactions'!$I$9:$I$40,$AP$148,'ABT Transactions'!$C$9:$C$40,AP149,'ABT Transactions'!$D$9:$D$40,$B$157)","v":0},{"$f":"SUMIFS('ABT Transactions'!$B$9:$B$40,'ABT Transactions'!$J$9:$J$40,$C$147,'ABT Transactions'!$I$9:$I$40,$AP$148,'ABT Transactions'!$C$9:$C$40,AQ149,'ABT Transactions'!$D$9:$D$40,$B$157)","v":0},{"$f":"SUMIFS('ABT Transactions'!$B$9:$B$40,'ABT Transactions'!$J$9:$J$40,$C$147,'ABT Transactions'!$I$9:$I$40,$AP$148,'ABT Transactions'!$C$9:$C$40,AR149,'ABT Transactions'!$D$9:$D$40,$B$157)","v":0},{"$f":"SUMIFS('ABT Transactions'!$B$9:$B$40,'ABT Transactions'!$J$9:$J$40,$C$147,'ABT Transactions'!$I$9:$I$40,$AS$148,'ABT Transactions'!$C$9:$C$40,AS149,'ABT Transactions'!$D$9:$D$40,$B$157)","v":0},{"$f":"SUMIFS('ABT Transactions'!$B$9:$B$40,'ABT Transactions'!$J$9:$J$40,$C$147,'ABT Transactions'!$I$9:$I$40,$AS$148,'ABT Transactions'!$C$9:$C$40,AT149,'ABT Transactions'!$D$9:$D$40,$B$157)","v":0},{"$f":"SUMIFS('ABT Transactions'!$B$9:$B$40,'ABT Transactions'!$J$9:$J$40,$C$147,'ABT Transactions'!$I$9:$I$40,$AS$148,'ABT Transactions'!$C$9:$C$40,AU149,'ABT Transactions'!$D$9:$D$40,$B$157)","v":0}]
[null,"Retired Credits",{"$f":"SUMIFS('ABT Transactions'!$B$9:$B$40,'ABT Transactions'!$G$9:$G$40,$C$147,'ABT Transactions'!$F$9:$F$40,$C$148,'ABT Transactions'!$C$9:$C$40,C149,'ABT Transactions'!$D$9:$D$40,$B$158)","v":0},{"$f":"SUMIFS('ABT Transactions'!$B$9:$B$40,'ABT Transactions'!$G$9:$G$40,$C$147,'ABT Transactions'!$F$9:$F$40,$C$148,'ABT Transactions'!$C$9:$C$40,D149,'ABT Transactions'!$D$9:$D$40,$B$158)","v":0},{"$f":"SUMIFS('ABT Transactions'!$B$9:$B$40,'ABT Transactions'!$G$9:$G$40,$C$147,'ABT Transactions'!$F$9:$F$40,$C$148,'ABT Transactions'!$C$9:$C$40,E149,'ABT Transactions'!$D$9:$D$40,$B$158)","v":0},{"$f":"SUMIFS('ABT Transactions'!$B$9:$B$40,'ABT Transactions'!$G$9:$G$40,$C$147,'ABT Transactions'!$F$9:$F$40,$F$148,'ABT Transactions'!$C$9:$C$40,F149,'ABT Transactions'!$D$9:$D$40,$B$158)","v":0},{"$f":"SUMIFS('ABT Transactions'!$B$9:$B$40,'ABT Transactions'!$G$9:$G$40,$C$147,'ABT Transactions'!$F$9:$F$40,$F$148,'ABT Transactions'!$C$9:$C$40,G149,'ABT Transactions'!$D$9:$D$40,$B$158)","v":0},{"$f":"SUMIFS('ABT Transactions'!$B$9:$B$40,'ABT Transactions'!$G$9:$G$40,$C$147,'ABT Transactions'!$F$9:$F$40,$F$148,'ABT Transactions'!$C$9:$C$40,H149,'ABT Transactions'!$D$9:$D$40,$B$158)","v":0},{"$f":"SUMIFS('ABT Transactions'!$B$9:$B$40,'ABT Transactions'!$G$9:$G$40,$C$147,'ABT Transactions'!$F$9:$F$40,$I$148,'ABT Transactions'!$C$9:$C$40,I149,'ABT Transactions'!$D$9:$D$40,$B$158)","v":0},{"$f":"SUMIFS('ABT Transactions'!$B$9:$B$40,'ABT Transactions'!$G$9:$G$40,$C$147,'ABT Transactions'!$F$9:$F$40,$I$148,'ABT Transactions'!$C$9:$C$40,J149,'ABT Transactions'!$D$9:$D$40,$B$158)","v":0},{"$f":"SUMIFS('ABT Transactions'!$B$9:$B$40,'ABT Transactions'!$G$9:$G$40,$C$147,'ABT Transactions'!$F$9:$F$40,$I$148,'ABT Transactions'!$C$9:$C$40,K149,'ABT Transactions'!$D$9:$D$40,$B$158)","v":0},{"$f":"SUMIFS('ABT Transactions'!$B$9:$B$40,'ABT Transactions'!$G$9:$G$40,$C$147,'ABT Transactions'!$F$9:$F$40,$L$148,'ABT Transactions'!$C$9:$C$40,L149,'ABT Transactions'!$D$9:$D$40,$B$158)","v":0},{"$f":"SUMIFS('ABT Transactions'!$B$9:$B$40,'ABT Transactions'!$G$9:$G$40,$C$147,'ABT Transactions'!$F$9:$F$40,$L$148,'ABT Transactions'!$C$9:$C$40,M149,'ABT Transactions'!$D$9:$D$40,$B$158)","v":0},{"$f":"SUMIFS('ABT Transactions'!$B$9:$B$40,'ABT Transactions'!$G$9:$G$40,$C$147,'ABT Transactions'!$F$9:$F$40,$L$148,'ABT Transactions'!$C$9:$C$40,N149,'ABT Transactions'!$D$9:$D$40,$B$158)","v":0},{"$f":"SUMIFS('ABT Transactions'!$B$9:$B$40,'ABT Transactions'!$G$9:$G$40,$C$147,'ABT Transactions'!$F$9:$F$40,$O$148,'ABT Transactions'!$C$9:$C$40,O149,'ABT Transactions'!$D$9:$D$40,$B$158)","v":0},{"$f":"SUMIFS('ABT Transactions'!$B$9:$B$40,'ABT Transactions'!$G$9:$G$40,$C$147,'ABT Transactions'!$F$9:$F$40,$O$148,'ABT Transactions'!$C$9:$C$40,P149,'ABT Transactions'!$D$9:$D$40,$B$158)","v":0},{"$f":"SUMIFS('ABT Transactions'!$B$9:$B$40,'ABT Transactions'!$G$9:$G$40,$C$147,'ABT Transactions'!$F$9:$F$40,$O$148,'ABT Transactions'!$C$9:$C$40,Q149,'ABT Transactions'!$D$9:$D$40,$B$158)","v":0},{"$f":"SUMIFS('ABT Transactions'!$B$9:$B$40,'ABT Transactions'!$G$9:$G$40,$C$147,'ABT Transactions'!$F$9:$F$40,$R$148,'ABT Transactions'!$C$9:$C$40,R149,'ABT Transactions'!$D$9:$D$40,$B$158)","v":0},{"$f":"SUMIFS('ABT Transactions'!$B$9:$B$40,'ABT Transactions'!$G$9:$G$40,$C$147,'ABT Transactions'!$F$9:$F$40,$R$148,'ABT Transactions'!$C$9:$C$40,S149,'ABT Transactions'!$D$9:$D$40,$B$158)","v":0},{"$f":"SUMIFS('ABT Transactions'!$B$9:$B$40,'ABT Transactions'!$G$9:$G$40,$C$147,'ABT Transactions'!$F$9:$F$40,$R$148,'ABT Transactions'!$C$9:$C$40,T149,'ABT Transactions'!$D$9:$D$40,$B$158)","v":0},{"$f":"SUMIFS('ABT Transactions'!$B$9:$B$40,'ABT Transactions'!$G$9:$G$40,$C$147,'ABT Transactions'!$F$9:$F$40,$U$148,'ABT Transactions'!$C$9:$C$40,U149,'ABT Transactions'!$D$9:$D$40,$B$158)","v":0},{"$f":"SUMIFS('ABT Transactions'!$B$9:$B$40,'ABT Transactions'!$G$9:$G$40,$C$147,'ABT Transactions'!$F$9:$F$40,$U$148,'ABT Transactions'!$C$9:$C$40,V149,'ABT Transactions'!$D$9:$D$40,$B$158)","v":0},{"$f":"SUMIFS('ABT Transactions'!$B$9:$B$40,'ABT Transactions'!$G$9:$G$40,$C$147,'ABT Transactions'!$F$9:$F$40,U$148,'ABT Transactions'!$C$9:$C$40,W149,'ABT Transactions'!$D$9:$D$40,$B$158)","v":0},{"$f":"SUMIFS('ABT Transactions'!$B$9:$B$40,'ABT Transactions'!$G$9:$G$40,$C$147,'ABT Transactions'!$F$9:$F$40,$X$148,'ABT Transactions'!$C$9:$C$40,X149,'ABT Transactions'!$D$9:$D$40,$B$158)","v":0},{"$f":"SUMIFS('ABT Transactions'!$B$9:$B$40,'ABT Transactions'!$G$9:$G$40,$C$147,'ABT Transactions'!$F$9:$F$40,$X$148,'ABT Transactions'!$C$9:$C$40,Y149,'ABT Transactions'!$D$9:$D$40,$B$158)","v":0},{"$f":"SUMIFS('ABT Transactions'!$B$9:$B$40,'ABT Transactions'!$G$9:$G$40,$C$147,'ABT Transactions'!$F$9:$F$40,$X$148,'ABT Transactions'!$C$9:$C$40,Z149,'ABT Transactions'!$D$9:$D$40,$B$158)","v":0},{"$f":"SUMIFS('ABT Transactions'!$B$9:$B$40,'ABT Transactions'!$G$9:$G$40,$C$147,'ABT Transactions'!$F$9:$F$40,$AA$148,'ABT Transactions'!$C$9:$C$40,AA149,'ABT Transactions'!$D$9:$D$40,$B$158)","v":0},{"$f":"SUMIFS('ABT Transactions'!$B$9:$B$40,'ABT Transactions'!$G$9:$G$40,$C$147,'ABT Transactions'!$F$9:$F$40,$AA$148,'ABT Transactions'!$C$9:$C$40,AB149,'ABT Transactions'!$D$9:$D$40,$B$158)","v":0},{"$f":"SUMIFS('ABT Transactions'!$B$9:$B$40,'ABT Transactions'!$G$9:$G$40,$C$147,'ABT Transactions'!$F$9:$F$40,$AA$148,'ABT Transactions'!$C$9:$C$40,AC149,'ABT Transactions'!$D$9:$D$40,$B$158)","v":0},{"$f":"SUMIFS('ABT Transactions'!$B$9:$B$40,'ABT Transactions'!$G$9:$G$40,$C$147,'ABT Transactions'!$F$9:$F$40,$AD$148,'ABT Transactions'!$C$9:$C$40,AD149,'ABT Transactions'!$D$9:$D$40,$B$158)","v":0},{"$f":"SUMIFS('ABT Transactions'!$B$9:$B$40,'ABT Transactions'!$G$9:$G$40,$C$147,'ABT Transactions'!$F$9:$F$40,$AD$148,'ABT Transactions'!$C$9:$C$40,AE149,'ABT Transactions'!$D$9:$D$40,$B$158)","v":0},{"$f":"SUMIFS('ABT Transactions'!$B$9:$B$40,'ABT Transactions'!$G$9:$G$40,$C$147,'ABT Transactions'!$F$9:$F$40,$AD$148,'ABT Transactions'!$C$9:$C$40,AF149,'ABT Transactions'!$D$9:$D$40,$B$158)","v":0},{"$f":"SUMIFS('ABT Transactions'!$B$9:$B$40,'ABT Transactions'!$G$9:$G$40,$C$147,'ABT Transactions'!$F$9:$F$40,$AG$148,'ABT Transactions'!$C$9:$C$40,AG149,'ABT Transactions'!$D$9:$D$40,$B$158)","v":0},{"$f":"SUMIFS('ABT Transactions'!$B$9:$B$40,'ABT Transactions'!$G$9:$G$40,$C$147,'ABT Transactions'!$F$9:$F$40,$AG$148,'ABT Transactions'!$C$9:$C$40,AH149,'ABT Transactions'!$D$9:$D$40,$B$158)","v":0},{"$f":"SUMIFS('ABT Transactions'!$B$9:$B$40,'ABT Transactions'!$G$9:$G$40,$C$147,'ABT Transactions'!$F$9:$F$40,$AG$148,'ABT Transactions'!$C$9:$C$40,AI149,'ABT Transactions'!$D$9:$D$40,$B$158)","v":0},{"$f":"SUMIFS('ABT Transactions'!$B$9:$B$40,'ABT Transactions'!$G$9:$G$40,$C$147,'ABT Transactions'!$F$9:$F$40,$AJ$148,'ABT Transactions'!$C$9:$C$40,AJ149,'ABT Transactions'!$D$9:$D$40,$B$158)","v":0},{"$f":"SUMIFS('ABT Transactions'!$B$9:$B$40,'ABT Transactions'!$G$9:$G$40,$C$147,'ABT Transactions'!$F$9:$F$40,$AJ$148,'ABT Transactions'!$C$9:$C$40,AK149,'ABT Transactions'!$D$9:$D$40,$B$158)","v":0},{"$f":"SUMIFS('ABT Transactions'!$B$9:$B$40,'ABT Transactions'!$G$9:$G$40,$C$147,'ABT Transactions'!$F$9:$F$40,$AJ$148,'ABT Transactions'!$C$9:$C$40,AL149,'ABT Transactions'!$D$9:$D$40,$B$158)","v":0},{"$f":"SUMIFS('ABT Transactions'!$B$9:$B$40,'ABT Transactions'!$G$9:$G$40,$C$147,'ABT Transactions'!$F$9:$F$40,$AM$148,'ABT Transactions'!$C$9:$C$40,AM149,'ABT Transactions'!$D$9:$D$40,$B$158)","v":0},{"$f":"SUMIFS('ABT Transactions'!$B$9:$B$40,'ABT Transactions'!$G$9:$G$40,$C$147,'ABT Transactions'!$F$9:$F$40,$AM$148,'ABT Transactions'!$C$9:$C$40,AN149,'ABT Transactions'!$D$9:$D$40,$B$158)","v":0},{"$f":"SUMIFS('ABT Transactions'!$B$9:$B$40,'ABT Transactions'!$G$9:$G$40,$C$147,'ABT Transactions'!$F$9:$F$40,$AM$148,'ABT Transactions'!$C$9:$C$40,AO149,'ABT Transactions'!$D$9:$D$40,$B$158)","v":0},{"$f":"SUMIFS('ABT Transactions'!$B$9:$B$40,'ABT Transactions'!$G$9:$G$40,$C$147,'ABT Transactions'!$F$9:$F$40,$AP$148,'ABT Transactions'!$C$9:$C$40,AP149,'ABT Transactions'!$D$9:$D$40,$B$158)","v":0},{"$f":"SUMIFS('ABT Transactions'!$B$9:$B$40,'ABT Transactions'!$G$9:$G$40,$C$147,'ABT Transactions'!$F$9:$F$40,$AP$148,'ABT Transactions'!$C$9:$C$40,AQ149,'ABT Transactions'!$D$9:$D$40,$B$158)","v":0},{"$f":"SUMIFS('ABT Transactions'!$B$9:$B$40,'ABT Transactions'!$G$9:$G$40,$C$147,'ABT Transactions'!$F$9:$F$40,$AP$148,'ABT Transactions'!$C$9:$C$40,AR149,'ABT Transactions'!$D$9:$D$40,$B$158)","v":0},{"$f":"SUMIFS('ABT Transactions'!$B$9:$B$40,'ABT Transactions'!$G$9:$G$40,$C$147,'ABT Transactions'!$F$9:$F$40,$AS$148,'ABT Transactions'!$C$9:$C$40,AS149,'ABT Transactions'!$D$9:$D$40,$B$158)","v":0},{"$f":"SUMIFS('ABT Transactions'!$B$9:$B$40,'ABT Transactions'!$G$9:$G$40,$C$147,'ABT Transactions'!$F$9:$F$40,$AS$148,'ABT Transactions'!$C$9:$C$40,AT149,'ABT Transactions'!$D$9:$D$40,$B$158)","v":0},{"$f":"SUMIFS('ABT Transactions'!$B$9:$B$40,'ABT Transactions'!$G$9:$G$40,$C$147,'ABT Transactions'!$F$9:$F$40,$AS$148,'ABT Transactions'!$C$9:$C$40,AU149,'ABT Transactions'!$D$9:$D$40,$B$158)","v":0}]
[null,"Expired Credits",{"$f":"SUMIFS('ABT Transactions'!$B$9:$B$40,'ABT Transactions'!$G$9:$G$40,$C$147,'ABT Transactions'!$F$9:$F$40,$C$148,'ABT Transactions'!$C$9:$C$40,C149,'ABT Transactions'!$D$9:$D$40,$B$159)","v":0},{"$f":"SUMIFS('ABT Transactions'!$B$9:$B$40,'ABT Transactions'!$G$9:$G$40,$C$147,'ABT Transactions'!$F$9:$F$40,$C$148,'ABT Transactions'!$C$9:$C$40,D149,'ABT Transactions'!$D$9:$D$40,$B$159)","v":0},{"$f":"SUMIFS('ABT Transactions'!$B$9:$B$40,'ABT Transactions'!$G$9:$G$40,$C$147,'ABT Transactions'!$F$9:$F$40,$C$148,'ABT Transactions'!$C$9:$C$40,E149,'ABT Transactions'!$D$9:$D$40,$B$159)","v":0},{"$f":"SUMIFS('ABT Transactions'!$B$9:$B$40,'ABT Transactions'!$G$9:$G$40,$C$147,'ABT Transactions'!$F$9:$F$40,$F$148,'ABT Transactions'!$C$9:$C$40,F149,'ABT Transactions'!$D$9:$D$40,$B$159)","v":0},{"$f":"SUMIFS('ABT Transactions'!$B$9:$B$40,'ABT Transactions'!$G$9:$G$40,$C$147,'ABT Transactions'!$F$9:$F$40,$F$148,'ABT Transactions'!$C$9:$C$40,G149,'ABT Transactions'!$D$9:$D$40,$B$159)","v":0},{"$f":"SUMIFS('ABT Transactions'!$B$9:$B$40,'ABT Transactions'!$G$9:$G$40,$C$147,'ABT Transactions'!$F$9:$F$40,$F$148,'ABT Transactions'!$C$9:$C$40,H149,'ABT Transactions'!$D$9:$D$40,$B$159)","v":0},{"$f":"SUMIFS('ABT Transactions'!$B$9:$B$40,'ABT Transactions'!$G$9:$G$40,$C$147,'ABT Transactions'!$F$9:$F$40,$I$148,'ABT Transactions'!$C$9:$C$40,I149,'ABT Transactions'!$D$9:$D$40,$B$159)","v":0},{"$f":"SUMIFS('ABT Transactions'!$B$9:$B$40,'ABT Transactions'!$G$9:$G$40,$C$147,'ABT Transactions'!$F$9:$F$40,$I$148,'ABT Transactions'!$C$9:$C$40,J149,'ABT Transactions'!$D$9:$D$40,$B$159)","v":0},{"$f":"SUMIFS('ABT Transactions'!$B$9:$B$40,'ABT Transactions'!$G$9:$G$40,$C$147,'ABT Transactions'!$F$9:$F$40,$I$148,'ABT Transactions'!$C$9:$C$40,K149,'ABT Transactions'!$D$9:$D$40,$B$159)","v":0},{"$f":"SUMIFS('ABT Transactions'!$B$9:$B$40,'ABT Transactions'!$G$9:$G$40,$C$147,'ABT Transactions'!$F$9:$F$40,$L$148,'ABT Transactions'!$C$9:$C$40,L149,'ABT Transactions'!$D$9:$D$40,$B$159)","v":0},{"$f":"SUMIFS('ABT Transactions'!$B$9:$B$40,'ABT Transactions'!$G$9:$G$40,$C$147,'ABT Transactions'!$F$9:$F$40,$L$148,'ABT Transactions'!$C$9:$C$40,M149,'ABT Transactions'!$D$9:$D$40,$B$159)","v":0},{"$f":"SUMIFS('ABT Transactions'!$B$9:$B$40,'ABT Transactions'!$G$9:$G$40,$C$147,'ABT Transactions'!$F$9:$F$40,$L$148,'ABT Transactions'!$C$9:$C$40,N149,'ABT Transactions'!$D$9:$D$40,$B$159)","v":0},{"$f":"SUMIFS('ABT Transactions'!$B$9:$B$40,'ABT Transactions'!$G$9:$G$40,$C$147,'ABT Transactions'!$F$9:$F$40,$O$148,'ABT Transactions'!$C$9:$C$40,O149,'ABT Transactions'!$D$9:$D$40,$B$159)","v":0},{"$f":"SUMIFS('ABT Transactions'!$B$9:$B$40,'ABT Transactions'!$G$9:$G$40,$C$147,'ABT Transactions'!$F$9:$F$40,$O$148,'ABT Transactions'!$C$9:$C$40,P149,'ABT Transactions'!$D$9:$D$40,$B$159)","v":0},{"$f":"SUMIFS('ABT Transactions'!$B$9:$B$40,'ABT Transactions'!$G$9:$G$40,$C$147,'ABT Transactions'!$F$9:$F$40,$O$148,'ABT Transactions'!$C$9:$C$40,Q149,'ABT Transactions'!$D$9:$D$40,$B$159)","v":0},{"$f":"SUMIFS('ABT Transactions'!$B$9:$B$40,'ABT Transactions'!$G$9:$G$40,$C$147,'ABT Transactions'!$F$9:$F$40,$R$148,'ABT Transactions'!$C$9:$C$40,R149,'ABT Transactions'!$D$9:$D$40,$B$159)","v":0},{"$f":"SUMIFS('ABT Transactions'!$B$9:$B$40,'ABT Transactions'!$G$9:$G$40,$C$147,'ABT Transactions'!$F$9:$F$40,$R$148,'ABT Transactions'!$C$9:$C$40,S149,'ABT Transactions'!$D$9:$D$40,$B$159)","v":0},{"$f":"SUMIFS('ABT Transactions'!$B$9:$B$40,'ABT Transactions'!$G$9:$G$40,$C$147,'ABT Transactions'!$F$9:$F$40,$R$148,'ABT Transactions'!$C$9:$C$40,T149,'ABT Transactions'!$D$9:$D$40,$B$159)","v":0},{"$f":"SUMIFS('ABT Transactions'!$B$9:$B$40,'ABT Transactions'!$G$9:$G$40,$C$147,'ABT Transactions'!$F$9:$F$40,$U$148,'ABT Transactions'!$C$9:$C$40,U149,'ABT Transactions'!$D$9:$D$40,$B$159)","v":0},{"$f":"SUMIFS('ABT Transactions'!$B$9:$B$40,'ABT Transactions'!$G$9:$G$40,$C$147,'ABT Transactions'!$F$9:$F$40,$U$148,'ABT Transactions'!$C$9:$C$40,V149,'ABT Transactions'!$D$9:$D$40,$B$159)","v":0},{"$f":"SUMIFS('ABT Transactions'!$B$9:$B$40,'ABT Transactions'!$G$9:$G$40,$C$147,'ABT Transactions'!$F$9:$F$40,U$148,'ABT Transactions'!$C$9:$C$40,W149,'ABT Transactions'!$D$9:$D$40,$B$159)","v":0},{"$f":"SUMIFS('ABT Transactions'!$B$9:$B$40,'ABT Transactions'!$G$9:$G$40,$C$147,'ABT Transactions'!$F$9:$F$40,$X$148,'ABT Transactions'!$C$9:$C$40,X149,'ABT Transactions'!$D$9:$D$40,$B$159)","v":0},{"$f":"SUMIFS('ABT Transactions'!$B$9:$B$40,'ABT Transactions'!$G$9:$G$40,$C$147,'ABT Transactions'!$F$9:$F$40,$X$148,'ABT Transactions'!$C$9:$C$40,Y149,'ABT Transactions'!$D$9:$D$40,$B$159)","v":0},{"$f":"SUMIFS('ABT Transactions'!$B$9:$B$40,'ABT Transactions'!$G$9:$G$40,$C$147,'ABT Transactions'!$F$9:$F$40,$X$148,'ABT Transactions'!$C$9:$C$40,Z149,'ABT Transactions'!$D$9:$D$40,$B$159)","v":0},{"$f":"SUMIFS('ABT Transactions'!$B$9:$B$40,'ABT Transactions'!$G$9:$G$40,$C$147,'ABT Transactions'!$F$9:$F$40,$AA$148,'ABT Transactions'!$C$9:$C$40,AA149,'ABT Transactions'!$D$9:$D$40,$B$159)","v":0},{"$f":"SUMIFS('ABT Transactions'!$B$9:$B$40,'ABT Transactions'!$G$9:$G$40,$C$147,'ABT Transactions'!$F$9:$F$40,$AA$148,'ABT Transactions'!$C$9:$C$40,AB149,'ABT Transactions'!$D$9:$D$40,$B$159)","v":0},{"$f":"SUMIFS('ABT Transactions'!$B$9:$B$40,'ABT Transactions'!$G$9:$G$40,$C$147,'ABT Transactions'!$F$9:$F$40,$AA$148,'ABT Transactions'!$C$9:$C$40,AC149,'ABT Transactions'!$D$9:$D$40,$B$159)","v":0},{"$f":"SUMIFS('ABT Transactions'!$B$9:$B$40,'ABT Transactions'!$G$9:$G$40,$C$147,'ABT Transactions'!$F$9:$F$40,$AD$148,'ABT Transactions'!$C$9:$C$40,AD149,'ABT Transactions'!$D$9:$D$40,$B$159)","v":0},{"$f":"SUMIFS('ABT Transactions'!$B$9:$B$40,'ABT Transactions'!$G$9:$G$40,$C$147,'ABT Transactions'!$F$9:$F$40,$AD$148,'ABT Transactions'!$C$9:$C$40,AE149,'ABT Transactions'!$D$9:$D$40,$B$159)","v":0},{"$f":"SUMIFS('ABT Transactions'!$B$9:$B$40,'ABT Transactions'!$G$9:$G$40,$C$147,'ABT Transactions'!$F$9:$F$40,$AD$148,'ABT Transactions'!$C$9:$C$40,AF149,'ABT Transactions'!$D$9:$D$40,$B$159)","v":0},{"$f":"SUMIFS('ABT Transactions'!$B$9:$B$40,'ABT Transactions'!$G$9:$G$40,$C$147,'ABT Transactions'!$F$9:$F$40,$AG$148,'ABT Transactions'!$C$9:$C$40,AG149,'ABT Transactions'!$D$9:$D$40,$B$159)","v":0},{"$f":"SUMIFS('ABT Transactions'!$B$9:$B$40,'ABT Transactions'!$G$9:$G$40,$C$147,'ABT Transactions'!$F$9:$F$40,$AG$148,'ABT Transactions'!$C$9:$C$40,AH149,'ABT Transactions'!$D$9:$D$40,$B$159)","v":0},{"$f":"SUMIFS('ABT Transactions'!$B$9:$B$40,'ABT Transactions'!$G$9:$G$40,$C$147,'ABT Transactions'!$F$9:$F$40,$AG$148,'ABT Transactions'!$C$9:$C$40,AI149,'ABT Transactions'!$D$9:$D$40,$B$159)","v":0},{"$f":"SUMIFS('ABT Transactions'!$B$9:$B$40,'ABT Transactions'!$G$9:$G$40,$C$147,'ABT Transactions'!$F$9:$F$40,$AJ$148,'ABT Transactions'!$C$9:$C$40,AJ149,'ABT Transactions'!$D$9:$D$40,$B$159)","v":0},{"$f":"SUMIFS('ABT Transactions'!$B$9:$B$40,'ABT Transactions'!$G$9:$G$40,$C$147,'ABT Transactions'!$F$9:$F$40,$AJ$148,'ABT Transactions'!$C$9:$C$40,AK149,'ABT Transactions'!$D$9:$D$40,$B$159)","v":0},{"$f":"SUMIFS('ABT Transactions'!$B$9:$B$40,'ABT Transactions'!$G$9:$G$40,$C$147,'ABT Transactions'!$F$9:$F$40,$AJ$148,'ABT Transactions'!$C$9:$C$40,AL149,'ABT Transactions'!$D$9:$D$40,$B$159)","v":0},{"$f":"SUMIFS('ABT Transactions'!$B$9:$B$40,'ABT Transactions'!$G$9:$G$40,$C$147,'ABT Transactions'!$F$9:$F$40,$AM$148,'ABT Transactions'!$C$9:$C$40,AM149,'ABT Transactions'!$D$9:$D$40,$B$159)","v":0},{"$f":"SUMIFS('ABT Transactions'!$B$9:$B$40,'ABT Transactions'!$G$9:$G$40,$C$147,'ABT Transactions'!$F$9:$F$40,$AM$148,'ABT Transactions'!$C$9:$C$40,AN149,'ABT Transactions'!$D$9:$D$40,$B$159)","v":0},{"$f":"SUMIFS('ABT Transactions'!$B$9:$B$40,'ABT Transactions'!$G$9:$G$40,$C$147,'ABT Transactions'!$F$9:$F$40,$AM$148,'ABT Transactions'!$C$9:$C$40,AO149,'ABT Transactions'!$D$9:$D$40,$B$159)","v":0},{"$f":"SUMIFS('ABT Transactions'!$B$9:$B$40,'ABT Transactions'!$G$9:$G$40,$C$147,'ABT Transactions'!$F$9:$F$40,$AP$148,'ABT Transactions'!$C$9:$C$40,AP149,'ABT Transactions'!$D$9:$D$40,$B$159)","v":0},{"$f":"SUMIFS('ABT Transactions'!$B$9:$B$40,'ABT Transactions'!$G$9:$G$40,$C$147,'ABT Transactions'!$F$9:$F$40,$AP$148,'ABT Transactions'!$C$9:$C$40,AQ149,'ABT Transactions'!$D$9:$D$40,$B$159)","v":0},{"$f":"SUMIFS('ABT Transactions'!$B$9:$B$40,'ABT Transactions'!$G$9:$G$40,$C$147,'ABT Transactions'!$F$9:$F$40,$AP$148,'ABT Transactions'!$C$9:$C$40,AR149,'ABT Transactions'!$D$9:$D$40,$B$159)","v":0},{"$f":"SUMIFS('ABT Transactions'!$B$9:$B$40,'ABT Transactions'!$G$9:$G$40,$C$147,'ABT Transactions'!$F$9:$F$40,$AS$148,'ABT Transactions'!$C$9:$C$40,AS149,'ABT Transactions'!$D$9:$D$40,$B$159)","v":0},{"$f":"SUMIFS('ABT Transactions'!$B$9:$B$40,'ABT Transactions'!$G$9:$G$40,$C$147,'ABT Transactions'!$F$9:$F$40,$AS$148,'ABT Transactions'!$C$9:$C$40,AT149,'ABT Transactions'!$D$9:$D$40,$B$159)","v":0},{"$f":"SUMIFS('ABT Transactions'!$B$9:$B$40,'ABT Transactions'!$G$9:$G$40,$C$147,'ABT Transactions'!$F$9:$F$40,$AS$148,'ABT Transactions'!$C$9:$C$40,AU149,'ABT Transactions'!$D$9:$D$40,$B$159)","v":0}]
[null,"Final Credit Balance",{"$f":"(C150+C151+C153+C155+C157+C158+C159)-(C152+C154+C156)","v":0},{"$f":"(D150+D151+D153+D155+D157+D158+D159)-(D152+D154+D156)","v":0},{"$f":"(E150+E151+E153+E155+E157+E158+E159)-(E152+E154+E156)","v":0},{"$f":"(F150+F151+F153+F155+F157+F158+F159)-(F152+F154+F156)","v":0},0,0,0,{"$f":"(J150+J151+J153+J155+J157+J158+J159)-(J152+J154+J156)","v":0},{"$f":"(K150+K151+K153+K155+K157+K158+K159)-(K152+K154+K156)","v":0},0,{"$f":"(M150+M151+M153+M155+M157+M158+M159)-(M152+M154+M156)","v":0},{"$f":"(N150+N151+N153+N155+N157+N158+N159)-(N152+N154+N156)","v":0},0,0,0,0,0,0,{"$f":"(U150+U151+U153+U155+U157+U158+U159)-(U152+U154+U156)","v":0},{"$f":"(V150+V151+V153+V155+V157+V158+V159)-(V152+V154+V156)","v":0},0,0,0,0,{"$f":"(AA150+AA151+AA153+AA155+AA157+AA158+AA159)-(AA152+AA154+AA156)","v":0},{"$f":"(AB150+AB151+AB153+AB155+AB157+AB158+AB159)-(AB152+AB154+AB156)","v":0},{"$f":"(AC150+AC151+AC153+AC155+AC157+AC158+AC159)-(AC152+AC154+AC156)","v":0},{"$f":"(AD150+AD151+AD153+AD155+AD157+AD158+AD159)-(AD152+AD154+AD156)","v":0},{"$f":"(AE150+AE151+AE153+AE155+AE157+AE158+AE159)-(AE152+AE154+AE156)","v":0},{"$f":"(AF150+AF151+AF153+AF155+AF157+AF158+AF159)-(AF152+AF154+AF156)","v":0},{"$f":"(AG150+AG151+AG153+AG155+AG157+AG158+AG159)-(AG152+AG154+AG156)","v":0},{"$f":"(AH150+AH151+AH153+AH155+AH157+AH158+AH159)-(AH152+AH154+AH156)","v":0},{"$f":"(AI150+AI151+AI153+AI155+AI157+AI158+AI159)-(AI152+AI154+AI156)","v":0},{"$f":"(AJ150+AJ151+AJ153+AJ155+AJ157+AJ158+AJ159)-(AJ152+AJ154+AJ156)","v":0},{"$f":"(AK150+AK151+AK153+AK155+AK157+AK158+AK159)-(AK152+AK154+AK156)","v":0},{"$f":"(AL150+AL151+AL153+AL155+AL157+AL158+AL159)-(AL152+AL154+AL156)","v":0},{"$f":"(AM150+AM151+AM153+AM155+AM157+AM158+AM159)-(AM152+AM154+AM156)","v":0},{"$f":"(AN150+AN151+AN153+AN155+AN157+AN158+AN159)-(AN152+AN154+AN156)","v":0},{"$f":"(AO150+AO151+AO153+AO155+AO157+AO158+AO159)-(AO152+AO154+AO156)","v":0},{"$f":"(AP150+AP151+AP153+AP155+AP157+AP158+AP159)-(AP152+AP154+AP156)","v":0},{"$f":"(AQ150+AQ151+AQ153+AQ155+AQ157+AQ158+AQ159)-(AQ152+AQ154+AQ156)","v":0},{"$f":"(AR150+AR151+AR153+AR155+AR157+AR158+AR159)-(AR152+AR154+AR156)","v":0},{"$f":"(AS150+AS151+AS153+AS155+AS157+AS158+AS159)-(AS152+AS154+AS156)","v":0},{"$f":"(AT150+AT151+AT153+AT155+AT157+AT158+AT159)-(AT152+AT154+AT156)","v":0},{"$f":"(AU150+AU151+AU153+AU155+AU157+AU158+AU159)-(AU152+AU154+AU156)","v":0}]
[null,"Averaging Set Credit Balance",{"$f":"SUM(C160:E160)","v":0},null,null,{"$f":"SUM(F160:H160)","v":0},null,null,{"$f":"SUM(I160:K160)","v":0},null,null,{"$f":"SUM(L160:N160)","v":0},null,null,{"$f":"SUM(O160:Q160)","v":0},null,null,{"$f":"SUM(R160:T160)","v":0},null,null,{"$f":"SUM(U160:W160)","v":0},null,null,{"$f":"SUM(X160:Z160)","v":0},null,null,{"$f":"SUM(AA160:AC160)","v":0},null,null,{"$f":"SUM(AD160:AF160)","v":0},null,null,{"$f":"SUM(AG160:AI160)","v":0},null,null,{"$f":"SUM(AJ160:AL160)","v":0},null,null,{"$f":"SUM(AM160:AO160)","v":0},null,null,{"$f":"SUM(AP160:AR160)","v":0},null,null,{"$f":"SUM(AS160:AU160)","v":0}]
[]
[]
[null,null,"Motor Home"]
[null,null,2013,null,null,2014,null,null,2015,null,null,2016,null,null,2017,null,null,2018,null,null,2019,null,null,2020,null,null,2021,null,null,2022,null,null,2023,null,null,2024,null,null,2025,null,null,2026,null,null,2027]
[null,"Credit Type","Conventional Credit","Innovative Technology Credit","Advanced Technology Credit","Conventional Credit","Innovative Technology Credit","Advanced Technology Credit","Conventional Credit","Innovative Technology Credit","Advanced Technology Credit","Conventional Credit","Innovative Technology Credit","Advanced Technology Credit","Conventional Credit","Innovative Technology Credit","Advanced Technology Credit","Conventional Credit","Innovative Technology Credit","Advanced Technology Credit","Conventional Credit","Innovative Technology Credit","Advanced Technology Credit","Conventional Credit","Innovative Technology Credit","Advanced Technology Credit","Conventional Credit","Innovative Technology Credit","Advanced Technology Credit","Conventional Credit","Innovative Technology Credit","Advanced Technology Credit","Conventional Credit","Innovative Technology Credit","Advanced Technology Credit","Conventional Credit","Innovative Technology Credit","Advanced Technology Credit","Conventional Credit","Innovative Technology Credit","Advanced Technology Credit","Conventional Credit","Innovative Technology Credit","Advanced Technology Credit","Conventional Credit","Innovative Technology Credit","Advanced Technology Credit"]
[null,"Earned Credits",{"$f":"SUMIFS('ABT Credit Balances'!$D$9:$D$208,'ABT Credit Balances'!$B$9:$B$208,$C$164,'ABT Credit Balances'!$F$9:$F$208,C166,'ABT Credit Balances'!$E$9:$E$208,$C$148,'ABT Credit Balances'!$C$9:$C$208,$B$150)","v":0},{"$f":"SUMIFS('ABT Credit Balances'!$D$9:$D$208,'ABT Credit Balances'!$B$9:$B$208,$C$164,'ABT Credit Balances'!$F$9:$F$208,D166,'ABT Credit Balances'!$E$9:$E$208,$C$148,'ABT Credit Balances'!$C$9:$C$208,$B$150)","v":0},{"$f":"SUMIFS('ABT Credit Balances'!$D$9:$D$208,'ABT Credit Balances'!$B$9:$B$208,$C$164,'ABT Credit Balances'!$F$9:$F$208,E166,'ABT Credit Balances'!$E$9:$E$208,$C$148,'ABT Credit Balances'!$C$9:$C$208,$B$150)","v":0},{"$f":"SUMIFS('ABT Credit Balances'!$D$9:$D$208,'ABT Credit Balances'!$B$9:$B$208,$C$164,'ABT Credit Balances'!$F$9:$F$208,F166,'ABT Credit Balances'!$E$9:$E$208,$F$148,'ABT Credit Balances'!$C$9:$C$208,$B$150)","v":0},{"$f":"SUMIFS('ABT Credit Balances'!$D$9:$D$208,'ABT Credit Balances'!$B$9:$B$208,$C$164,'ABT Credit Balances'!$F$9:$F$208,G166,'ABT Credit Balances'!$E$9:$E$208,$F$148,'ABT Credit Balances'!$C$9:$C$208,$B$150)","v":0},{"$f":"SUMIFS('ABT Credit Balances'!$D$9:$D$208,'ABT Credit Balances'!$B$9:$B$208,$C$164,'ABT Credit Balances'!$F$9:$F$208,H166,'ABT Credit Balances'!$E$9:$E$208,$F$148,'ABT Credit Balances'!$C$9:$C$208,$B$150)","v":0},{"$f":"SUMIFS('ABT Credit Balances'!$D$9:$D$208,'ABT Credit Balances'!$B$9:$B$208,$C$164,'ABT Credit Balances'!$F$9:$F$208,I166,'ABT Credit Balances'!$E$9:$E$208,$I$148,'ABT Credit Balances'!$C$9:$C$208,$B$150)","v":0},{"$f":"SUMIFS('ABT Credit Balances'!$D$9:$D$208,'ABT Credit Balances'!$B$9:$B$208,$C$164,'ABT Credit Balances'!$F$9:$F$208,J166,'ABT Credit Balances'!$E$9:$E$208,$I$148,'ABT Credit Balances'!$C$9:$C$208,$B$150)","v":0},{"$f":"SUMIFS('ABT Credit Balances'!$D$9:$D$208,'ABT Credit Balances'!$B$9:$B$208,$C$164,'ABT Credit Balances'!$F$9:$F$208,K166,'ABT Credit Balances'!$E$9:$E$208,$I$148,'ABT Credit Balances'!$C$9:$C$208,$B$150)","v":0},{"$f":"SUMIFS('ABT Credit Balances'!$D$9:$D$208,'ABT Credit Balances'!$B$9:$B$208,$C$164,'ABT Credit Balances'!$F$9:$F$208,L166,'ABT Credit Balances'!$E$9:$E$208,$L$148,'ABT Credit Balances'!$C$9:$C$208,$B$150)","v":0},{"$f":"SUMIFS('ABT Credit Balances'!$D$9:$D$208,'ABT Credit Balances'!$B$9:$B$208,$C$164,'ABT Credit Balances'!$F$9:$F$208,M166,'ABT Credit Balances'!$E$9:$E$208,$L$148,'ABT Credit Balances'!$C$9:$C$208,$B$150)","v":0},{"$f":"SUMIFS('ABT Credit Balances'!$D$9:$D$208,'ABT Credit Balances'!$B$9:$B$208,$C$164,'ABT Credit Balances'!$F$9:$F$208,N166,'ABT Credit Balances'!$E$9:$E$208,$L$148,'ABT Credit Balances'!$C$9:$C$208,$B$150)","v":0},{"$f":"SUMIFS('ABT Credit Balances'!$D$9:$D$208,'ABT Credit Balances'!$B$9:$B$208,$C$164,'ABT Credit Balances'!$F$9:$F$208,O166,'ABT Credit Balances'!$E$9:$E$208,$O$148,'ABT Credit Balances'!$C$9:$C$208,$B$150)","v":0},{"$f":"SUMIFS('ABT Credit Balances'!$D$9:$D$208,'ABT Credit Balances'!$B$9:$B$208,$C$164,'ABT Credit Balances'!$F$9:$F$208,P166,'ABT Credit Balances'!$E$9:$E$208,$O$148,'ABT Credit Balances'!$C$9:$C$208,$B$150)","v":0},{"$f":"SUMIFS('ABT Credit Balances'!$D$9:$D$208,'ABT Credit Balances'!$B$9:$B$208,$C$164,'ABT Credit Balances'!$F$9:$F$208,Q166,'ABT Credit Balances'!$E$9:$E$208,$O$148,'ABT Credit Balances'!$C$9:$C$208,$B$150)","v":0},{"$f":"SUMIFS('ABT Credit Balances'!$D$9:$D$208,'ABT Credit Balances'!$B$9:$B$208,$C$164,'ABT Credit Balances'!$F$9:$F$208,R166,'ABT Credit Balances'!$E$9:$E$208,$R$148,'ABT Credit Balances'!$C$9:$C$208,$B$150)","v":0},{"$f":"SUMIFS('ABT Credit Balances'!$D$9:$D$208,'ABT Credit Balances'!$B$9:$B$208,$C$164,'ABT Credit Balances'!$F$9:$F$208,S166,'ABT Credit Balances'!$E$9:$E$208,$R$148,'ABT Credit Balances'!$C$9:$C$208,$B$150)","v":0},{"$f":"SUMIFS('ABT Credit Balances'!$D$9:$D$208,'ABT Credit Balances'!$B$9:$B$208,$C$164,'ABT Credit Balances'!$F$9:$F$208,T166,'ABT Credit Balances'!$E$9:$E$208,$R$148,'ABT Credit Balances'!$C$9:$C$208,$B$150)","v":0},{"$f":"SUMIFS('ABT Credit Balances'!$D$9:$D$208,'ABT Credit Balances'!$B$9:$B$208,$C$164,'ABT Credit Balances'!$F$9:$F$208,U166,'ABT Credit Balances'!$E$9:$E$208,$U$148,'ABT Credit Balances'!$C$9:$C$208,$B$150)","v":0},{"$f":"SUMIFS('ABT Credit Balances'!$D$9:$D$208,'ABT Credit Balances'!$B$9:$B$208,$C$164,'ABT Credit Balances'!$F$9:$F$208,V166,'ABT Credit Balances'!$E$9:$E$208,$U$148,'ABT Credit Balances'!$C$9:$C$208,$B$150)","v":0},{"$f":"SUMIFS('ABT Credit Balances'!$D$9:$D$208,'ABT Credit Balances'!$B$9:$B$208,$C$164,'ABT Credit Balances'!$F$9:$F$208,W166,'ABT Credit Balances'!$E$9:$E$208,U$148,'ABT Credit Balances'!$C$9:$C$208,$B$150)","v":0},{"$f":"SUMIFS('ABT Credit Balances'!$D$9:$D$208,'ABT Credit Balances'!$B$9:$B$208,$C$164,'ABT Credit Balances'!$F$9:$F$208,X166,'ABT Credit Balances'!$E$9:$E$208,$X$148,'ABT Credit Balances'!$C$9:$C$208,$B$150)","v":0},{"$f":"SUMIFS('ABT Credit Balances'!$D$9:$D$208,'ABT Credit Balances'!$B$9:$B$208,$C$164,'ABT Credit Balances'!$F$9:$F$208,Y166,'ABT Credit Balances'!$E$9:$E$208,$X$148,'ABT Credit Balances'!$C$9:$C$208,$B$150)","v":0},{"$f":"SUMIFS('ABT Credit Balances'!$D$9:$D$208,'ABT Credit Balances'!$B$9:$B$208,$C$164,'ABT Credit Balances'!$F$9:$F$208,Z166,'ABT Credit Balances'!$E$9:$E$208,$X$148,'ABT Credit Balances'!$C$9:$C$208,$B$150)","v":0},{"$f":"SUMIFS('ABT Credit Balances'!$D$9:$D$208,'ABT Credit Balances'!$B$9:$B$208,$C$164,'ABT Credit Balances'!$F$9:$F$208,AA166,'ABT Credit Balances'!$E$9:$E$208,$AA$148,'ABT Credit Balances'!$C$9:$C$208,$B$150)","v":0},{"$f":"SUMIFS('ABT Credit Balances'!$D$9:$D$208,'ABT Credit Balances'!$B$9:$B$208,$C$164,'ABT Credit Balances'!$F$9:$F$208,AB166,'ABT Credit Balances'!$E$9:$E$208,$AA$148,'ABT Credit Balances'!$C$9:$C$208,$B$150)","v":0},{"$f":"SUMIFS('ABT Credit Balances'!$D$9:$D$208,'ABT Credit Balances'!$B$9:$B$208,$C$164,'ABT Credit Balances'!$F$9:$F$208,AC166,'ABT Credit Balances'!$E$9:$E$208,$AA$148,'ABT Credit Balances'!$C$9:$C$208,$B$150)","v":0},{"$f":"SUMIFS('ABT Credit Balances'!$D$9:$D$208,'ABT Credit Balances'!$B$9:$B$208,$C$164,'ABT Credit Balances'!$F$9:$F$208,AD166,'ABT Credit Balances'!$E$9:$E$208,$AD$148,'ABT Credit Balances'!$C$9:$C$208,$B$150)","v":0},{"$f":"SUMIFS('ABT Credit Balances'!$D$9:$D$208,'ABT Credit Balances'!$B$9:$B$208,$C$164,'ABT Credit Balances'!$F$9:$F$208,AE166,'ABT Credit Balances'!$E$9:$E$208,$AD$148,'ABT Credit Balances'!$C$9:$C$208,$B$150)","v":0},{"$f":"SUMIFS('ABT Credit Balances'!$D$9:$D$208,'ABT Credit Balances'!$B$9:$B$208,$C$164,'ABT Credit Balances'!$F$9:$F$208,AF166,'ABT Credit Balances'!$E$9:$E$208,$AD$148,'ABT Credit Balances'!$C$9:$C$208,$B$150)","v":0},{"$f":"SUMIFS('ABT Credit Balances'!$D$9:$D$208,'ABT Credit Balances'!$B$9:$B$208,$C$164,'ABT Credit Balances'!$F$9:$F$208,AG166,'ABT Credit Balances'!$E$9:$E$208,$AG$148,'ABT Credit Balances'!$C$9:$C$208,$B$150)","v":0},{"$f":"SUMIFS('ABT Credit Balances'!$D$9:$D$208,'ABT Credit Balances'!$B$9:$B$208,$C$164,'ABT Credit Balances'!$F$9:$F$208,AH166,'ABT Credit Balances'!$E$9:$E$208,$AG$148,'ABT Credit Balances'!$C$9:$C$208,$B$150)","v":0},{"$f":"SUMIFS('ABT Credit Balances'!$D$9:$D$208,'ABT Credit Balances'!$B$9:$B$208,$C$164,'ABT Credit Balances'!$F$9:$F$208,AI166,'ABT Credit Balances'!$E$9:$E$208,$AG$148,'ABT Credit Balances'!$C$9:$C$208,$B$150)","v":0},{"$f":"SUMIFS('ABT Credit Balances'!$D$9:$D$208,'ABT Credit Balances'!$B$9:$B$208,$C$164,'ABT Credit Balances'!$F$9:$F$208,AJ166,'ABT Credit Balances'!$E$9:$E$208,$AJ$148,'ABT Credit Balances'!$C$9:$C$208,$B$150)","v":0},{"$f":"SUMIFS('ABT Credit Balances'!$D$9:$D$208,'ABT Credit Balances'!$B$9:$B$208,$C$164,'ABT Credit Balances'!$F$9:$F$208,AK166,'ABT Credit Balances'!$E$9:$E$208,$AJ$148,'ABT Credit Balances'!$C$9:$C$208,$B$150)","v":0},{"$f":"SUMIFS('ABT Credit Balances'!$D$9:$D$208,'ABT Credit Balances'!$B$9:$B$208,$C$164,'ABT Credit Balances'!$F$9:$F$208,AL166,'ABT Credit Balances'!$E$9:$E$208,$AJ$148,'ABT Credit Balances'!$C$9:$C$208,$B$150)","v":0},{"$f":"SUMIFS('ABT Credit Balances'!$D$9:$D$208,'ABT Credit Balances'!$B$9:$B$208,$C$164,'ABT Credit Balances'!$F$9:$F$208,AM166,'ABT Credit Balances'!$E$9:$E$208,$AM$148,'ABT Credit Balances'!$C$9:$C$208,$B$150)","v":0},{"$f":"SUMIFS('ABT Credit Balances'!$D$9:$D$208,'ABT Credit Balances'!$B$9:$B$208,$C$164,'ABT Credit Balances'!$F$9:$F$208,AN166,'ABT Credit Balances'!$E$9:$E$208,$AM$148,'ABT Credit Balances'!$C$9:$C$208,$B$150)","v":0},{"$f":"SUMIFS('ABT Credit Balances'!$D$9:$D$208,'ABT Credit Balances'!$B$9:$B$208,$C$164,'ABT Credit Balances'!$F$9:$F$208,AO166,'ABT Credit Balances'!$E$9:$E$208,$AM$148,'ABT Credit Balances'!$C$9:$C$208,$B$150)","v":0},{"$f":"SUMIFS('ABT Credit Balances'!$D$9:$D$208,'ABT Credit Balances'!$B$9:$B$208,$C$164,'ABT Credit Balances'!$F$9:$F$208,AP166,'ABT Credit Balances'!$E$9:$E$208,$AP$148,'ABT Credit Balances'!$C$9:$C$208,$B$150)","v":0},{"$f":"SUMIFS('ABT Credit Balances'!$D$9:$D$208,'ABT Credit Balances'!$B$9:$B$208,$C$164,'ABT Credit Balances'!$F$9:$F$208,AQ166,'ABT Credit Balances'!$E$9:$E$208,$AP$148,'ABT Credit Balances'!$C$9:$C$208,$B$150)","v":0},{"$f":"SUMIFS('ABT Credit Balances'!$D$9:$D$208,'ABT Credit Balances'!$B$9:$B$208,$C$164,'ABT Credit Balances'!$F$9:$F$208,AR166,'ABT Credit Balances'!$E$9:$E$208,$AP$148,'ABT Credit Balances'!$C$9:$C$208,$B$150)","v":0},{"$f":"SUMIFS('ABT Credit Balances'!$D$9:$D$208,'ABT Credit Balances'!$B$9:$B$208,$C$164,'ABT Credit Balances'!$F$9:$F$208,AS166,'ABT Credit Balances'!$E$9:$E$208,$AS$148,'ABT Credit Balances'!$C$9:$C$208,$B$150)","v":0},{"$f":"SUMIFS('ABT Credit Balances'!$D$9:$D$208,'ABT Credit Balances'!$B$9:$B$208,$C$164,'ABT Credit Balances'!$F$9:$F$208,AT166,'ABT Credit Balances'!$E$9:$E$208,$AS$148,'ABT Credit Balances'!$C$9:$C$208,$B$150)","v":0},{"$f":"SUMIFS('ABT Credit Balances'!$D$9:$D$208,'ABT Credit Balances'!$B$9:$B$208,$C$164,'ABT Credit Balances'!$F$9:$F$208,AU166,'ABT Credit Balances'!$E$9:$E$208,$AS$148,'ABT Credit Balances'!$C$9:$C$208,$B$150)","v":0}]
[null,"Projected Credits",{"$f":"SUMIFS('ABT Credit Balances'!$D$9:$D$208,'ABT Credit Balances'!$B$9:$B$208,$C$164,'ABT Credit Balances'!$F$9:$F$208,C166,'ABT Credit Balances'!$E$9:$E$208,$C$148,'ABT Credit Balances'!$C$9:$C$208,$B$151)","v":0},{"$f":"SUMIFS('ABT Credit Balances'!$D$9:$D$208,'ABT Credit Balances'!$B$9:$B$208,$C$164,'ABT Credit Balances'!$F$9:$F$208,D166,'ABT Credit Balances'!$E$9:$E$208,$C$148,'ABT Credit Balances'!$C$9:$C$208,$B$151)","v":0},{"$f":"SUMIFS('ABT Credit Balances'!$D$9:$D$208,'ABT Credit Balances'!$B$9:$B$208,$C$164,'ABT Credit Balances'!$F$9:$F$208,E166,'ABT Credit Balances'!$E$9:$E$208,$C$148,'ABT Credit Balances'!$C$9:$C$208,$B$151)","v":0},{"$f":"SUMIFS('ABT Credit Balances'!$D$9:$D$208,'ABT Credit Balances'!$B$9:$B$208,$C$164,'ABT Credit Balances'!$F$9:$F$208,F166,'ABT Credit Balances'!$E$9:$E$208,$F$148,'ABT Credit Balances'!$C$9:$C$208,$B$151)","v":0},{"$f":"SUMIFS('ABT Credit Balances'!$D$9:$D$208,'ABT Credit Balances'!$B$9:$B$208,$C$164,'ABT Credit Balances'!$F$9:$F$208,G166,'ABT Credit Balances'!$E$9:$E$208,$F$148,'ABT Credit Balances'!$C$9:$C$208,$B$151)","v":0},{"$f":"SUMIFS('ABT Credit Balances'!$D$9:$D$208,'ABT Credit Balances'!$B$9:$B$208,$C$164,'ABT Credit Balances'!$F$9:$F$208,H166,'ABT Credit Balances'!$E$9:$E$208,$F$148,'ABT Credit Balances'!$C$9:$C$208,$B$151)","v":0},{"$f":"SUMIFS('ABT Credit Balances'!$D$9:$D$208,'ABT Credit Balances'!$B$9:$B$208,$C$164,'ABT Credit Balances'!$F$9:$F$208,I166,'ABT Credit Balances'!$E$9:$E$208,$I$148,'ABT Credit Balances'!$C$9:$C$208,$B$151)","v":0},{"$f":"SUMIFS('ABT Credit Balances'!$D$9:$D$208,'ABT Credit Balances'!$B$9:$B$208,$C$164,'ABT Credit Balances'!$F$9:$F$208,J166,'ABT Credit Balances'!$E$9:$E$208,$I$148,'ABT Credit Balances'!$C$9:$C$208,$B$151)","v":0},{"$f":"SUMIFS('ABT Credit Balances'!$D$9:$D$208,'ABT Credit Balances'!$B$9:$B$208,$C$164,'ABT Credit Balances'!$F$9:$F$208,K166,'ABT Credit Balances'!$E$9:$E$208,$I$148,'ABT Credit Balances'!$C$9:$C$208,$B$151)","v":0},{"$f":"SUMIFS('ABT Credit Balances'!$D$9:$D$208,'ABT Credit Balances'!$B$9:$B$208,$C$164,'ABT Credit Balances'!$F$9:$F$208,L166,'ABT Credit Balances'!$E$9:$E$208,$L$148,'ABT Credit Balances'!$C$9:$C$208,$B$151)","v":0},{"$f":"SUMIFS('ABT Credit Balances'!$D$9:$D$208,'ABT Credit Balances'!$B$9:$B$208,$C$164,'ABT Credit Balances'!$F$9:$F$208,M166,'ABT Credit Balances'!$E$9:$E$208,$L$148,'ABT Credit Balances'!$C$9:$C$208,$B$151)","v":0},{"$f":"SUMIFS('ABT Credit Balances'!$D$9:$D$208,'ABT Credit Balances'!$B$9:$B$208,$C$164,'ABT Credit Balances'!$F$9:$F$208,N166,'ABT Credit Balances'!$E$9:$E$208,$L$148,'ABT Credit Balances'!$C$9:$C$208,$B$151)","v":0},{"$f":"SUMIFS('ABT Credit Balances'!$D$9:$D$208,'ABT Credit Balances'!$B$9:$B$208,$C$164,'ABT Credit Balances'!$F$9:$F$208,O166,'ABT Credit Balances'!$E$9:$E$208,$O$148,'ABT Credit Balances'!$C$9:$C$208,$B$151)","v":0},{"$f":"SUMIFS('ABT Credit Balances'!$D$9:$D$208,'ABT Credit Balances'!$B$9:$B$208,$C$164,'ABT Credit Balances'!$F$9:$F$208,P166,'ABT Credit Balances'!$E$9:$E$208,$O$148,'ABT Credit Balances'!$C$9:$C$208,$B$151)","v":0},{"$f":"SUMIFS('ABT Credit Balances'!$D$9:$D$208,'ABT Credit Balances'!$B$9:$B$208,$C$164,'ABT Credit Balances'!$F$9:$F$208,Q166,'ABT Credit Balances'!$E$9:$E$208,$O$148,'ABT Credit Balances'!$C$9:$C$208,$B$151)","v":0},{"$f":"SUMIFS('ABT Credit Balances'!$D$9:$D$208,'ABT Credit Balances'!$B$9:$B$208,$C$164,'ABT Credit Balances'!$F$9:$F$208,R166,'ABT Credit Balances'!$E$9:$E$208,$R$148,'ABT Credit Balances'!$C$9:$C$208,$B$151)","v":0},{"$f":"SUMIFS('ABT Credit Balances'!$D$9:$D$208,'ABT Credit Balances'!$B$9:$B$208,$C$164,'ABT Credit Balances'!$F$9:$F$208,S166,'ABT Credit Balances'!$E$9:$E$208,$R$148,'ABT Credit Balances'!$C$9:$C$208,$B$151)","v":0},{"$f":"SUMIFS('ABT Credit Balances'!$D$9:$D$208,'ABT Credit Balances'!$B$9:$B$208,$C$164,'ABT Credit Balances'!$F$9:$F$208,T166,'ABT Credit Balances'!$E$9:$E$208,$R$148,'ABT Credit Balances'!$C$9:$C$208,$B$151)","v":0},{"$f":"SUMIFS('ABT Credit Balances'!$D$9:$D$208,'ABT Credit Balances'!$B$9:$B$208,$C$164,'ABT Credit Balances'!$F$9:$F$208,U166,'ABT Credit Balances'!$E$9:$E$208,$U$148,'ABT Credit Balances'!$C$9:$C$208,$B$151)","v":0},{"$f":"SUMIFS('ABT Credit Balances'!$D$9:$D$208,'ABT Credit Balances'!$B$9:$B$208,$C$164,'ABT Credit Balances'!$F$9:$F$208,V166,'ABT Credit Balances'!$E$9:$E$208,$U$148,'ABT Credit Balances'!$C$9:$C$208,$B$151)","v":0},{"$f":"SUMIFS('ABT Credit Balances'!$D$9:$D$208,'ABT Credit Balances'!$B$9:$B$208,$C$164,'ABT Credit Balances'!$F$9:$F$208,W166,'ABT Credit Balances'!$E$9:$E$208,U$148,'ABT Credit Balances'!$C$9:$C$208,$B$151)","v":0},{"$f":"SUMIFS('ABT Credit Balances'!$D$9:$D$208,'ABT Credit Balances'!$B$9:$B$208,$C$164,'ABT Credit Balances'!$F$9:$F$208,X166,'ABT Credit Balances'!$E$9:$E$208,$X$148,'ABT Credit Balances'!$C$9:$C$208,$B$151)","v":0},{"$f":"SUMIFS('ABT Credit Balances'!$D$9:$D$208,'ABT Credit Balances'!$B$9:$B$208,$C$164,'ABT Credit Balances'!$F$9:$F$208,Y166,'ABT Credit Balances'!$E$9:$E$208,$X$148,'ABT Credit Balances'!$C$9:$C$208,$B$151)","v":0},{"$f":"SUMIFS('ABT Credit Balances'!$D$9:$D$208,'ABT Credit Balances'!$B$9:$B$208,$C$164,'ABT Credit Balances'!$F$9:$F$208,Z166,'ABT Credit Balances'!$E$9:$E$208,$X$148,'ABT Credit Balances'!$C$9:$C$208,$B$151)","v":0},{"$f":"SUMIFS('ABT Credit Balances'!$D$9:$D$208,'ABT Credit Balances'!$B$9:$B$208,$C$164,'ABT Credit Balances'!$F$9:$F$208,AA166,'ABT Credit Balances'!$E$9:$E$208,$AA$148,'ABT Credit Balances'!$C$9:$C$208,$B$151)","v":0},{"$f":"SUMIFS('ABT Credit Balances'!$D$9:$D$208,'ABT Credit Balances'!$B$9:$B$208,$C$164,'ABT Credit Balances'!$F$9:$F$208,AB166,'ABT Credit Balances'!$E$9:$E$208,$AA$148,'ABT Credit Balances'!$C$9:$C$208,$B$151)","v":0},{"$f":"SUMIFS('ABT Credit Balances'!$D$9:$D$208,'ABT Credit Balances'!$B$9:$B$208,$C$164,'ABT Credit Balances'!$F$9:$F$208,AC166,'ABT Credit Balances'!$E$9:$E$208,$AA$148,'ABT Credit Balances'!$C$9:$C$208,$B$151)","v":0},{"$f":"SUMIFS('ABT Credit Balances'!$D$9:$D$208,'ABT Credit Balances'!$B$9:$B$208,$C$164,'ABT Credit Balances'!$F$9:$F$208,AD166,'ABT Credit Balances'!$E$9:$E$208,$AD$148,'ABT Credit Balances'!$C$9:$C$208,$B$151)","v":0},{"$f":"SUMIFS('ABT Credit Balances'!$D$9:$D$208,'ABT Credit Balances'!$B$9:$B$208,$C$164,'ABT Credit Balances'!$F$9:$F$208,AE166,'ABT Credit Balances'!$E$9:$E$208,$AD$148,'ABT Credit Balances'!$C$9:$C$208,$B$151)","v":0},{"$f":"SUMIFS('ABT Credit Balances'!$D$9:$D$208,'ABT Credit Balances'!$B$9:$B$208,$C$164,'ABT Credit Balances'!$F$9:$F$208,AF166,'ABT Credit Balances'!$E$9:$E$208,$AD$148,'ABT Credit Balances'!$C$9:$C$208,$B$151)","v":0},{"$f":"SUMIFS('ABT Credit Balances'!$D$9:$D$208,'ABT Credit Balances'!$B$9:$B$208,$C$164,'ABT Credit Balances'!$F$9:$F$208,AG166,'ABT Credit Balances'!$E$9:$E$208,$AG$148,'ABT Credit Balances'!$C$9:$C$208,$B$151)","v":0},{"$f":"SUMIFS('ABT Credit Balances'!$D$9:$D$208,'ABT Credit Balances'!$B$9:$B$208,$C$164,'ABT Credit Balances'!$F$9:$F$208,AH166,'ABT Credit Balances'!$E$9:$E$208,$AG$148,'ABT Credit Balances'!$C$9:$C$208,$B$151)","v":0},{"$f":"SUMIFS('ABT Credit Balances'!$D$9:$D$208,'ABT Credit Balances'!$B$9:$B$208,$C$164,'ABT Credit Balances'!$F$9:$F$208,AI166,'ABT Credit Balances'!$E$9:$E$208,$AG$148,'ABT Credit Balances'!$C$9:$C$208,$B$151)","v":0},{"$f":"SUMIFS('ABT Credit Balances'!$D$9:$D$208,'ABT Credit Balances'!$B$9:$B$208,$C$164,'ABT Credit Balances'!$F$9:$F$208,AJ166,'ABT Credit Balances'!$E$9:$E$208,$AJ$148,'ABT Credit Balances'!$C$9:$C$208,$B$151)","v":0},{"$f":"SUMIFS('ABT Credit Balances'!$D$9:$D$208,'ABT Credit Balances'!$B$9:$B$208,$C$164,'ABT Credit Balances'!$F$9:$F$208,AK166,'ABT Credit Balances'!$E$9:$E$208,$AJ$148,'ABT Credit Balances'!$C$9:$C$208,$B$151)","v":0},{"$f":"SUMIFS('ABT Credit Balances'!$D$9:$D$208,'ABT Credit Balances'!$B$9:$B$208,$C$164,'ABT Credit Balances'!$F$9:$F$208,AL166,'ABT Credit Balances'!$E$9:$E$208,$AJ$148,'ABT Credit Balances'!$C$9:$C$208,$B$151)","v":0},{"$f":"SUMIFS('ABT Credit Balances'!$D$9:$D$208,'ABT Credit Balances'!$B$9:$B$208,$C$164,'ABT Credit Balances'!$F$9:$F$208,AM166,'ABT Credit Balances'!$E$9:$E$208,$AM$148,'ABT Credit Balances'!$C$9:$C$208,$B$151)","v":0},{"$f":"SUMIFS('ABT Credit Balances'!$D$9:$D$208,'ABT Credit Balances'!$B$9:$B$208,$C$164,'ABT Credit Balances'!$F$9:$F$208,AN166,'ABT Credit Balances'!$E$9:$E$208,$AM$148,'ABT Credit Balances'!$C$9:$C$208,$B$151)","v":0},{"$f":"SUMIFS('ABT Credit Balances'!$D$9:$D$208,'ABT Credit Balances'!$B$9:$B$208,$C$164,'ABT Credit Balances'!$F$9:$F$208,AO166,'ABT Credit Balances'!$E$9:$E$208,$AM$148,'ABT Credit Balances'!$C$9:$C$208,$B$151)","v":0},{"$f":"SUMIFS('ABT Credit Balances'!$D$9:$D$208,'ABT Credit Balances'!$B$9:$B$208,$C$164,'ABT Credit Balances'!$F$9:$F$208,AP166,'ABT Credit Balances'!$E$9:$E$208,$AP$148,'ABT Credit Balances'!$C$9:$C$208,$B$151)","v":0},{"$f":"SUMIFS('ABT Credit Balances'!$D$9:$D$208,'ABT Credit Balances'!$B$9:$B$208,$C$164,'ABT Credit Balances'!$F$9:$F$208,AQ166,'ABT Credit Balances'!$E$9:$E$208,$AP$148,'ABT Credit Balances'!$C$9:$C$208,$B$151)","v":0},{"$f":"SUMIFS('ABT Credit Balances'!$D$9:$D$208,'ABT Credit Balances'!$B$9:$B$208,$C$164,'ABT Credit Balances'!$F$9:$F$208,AR166,'ABT Credit Balances'!$E$9:$E$208,$AP$148,'ABT Credit Balances'!$C$9:$C$208,$B$151)","v":0},{"$f":"SUMIFS('ABT Credit Balances'!$D$9:$D$208,'ABT Credit Balances'!$B$9:$B$208,$C$164,'ABT Credit Balances'!$F$9:$F$208,AS166,'ABT Credit Balances'!$E$9:$E$208,$AS$148,'ABT Credit Balances'!$C$9:$C$208,$B$151)","v":0},{"$f":"SUMIFS('ABT Credit Balances'!$D$9:$D$208,'ABT Credit Balances'!$B$9:$B$208,$C$164,'ABT Credit Balances'!$F$9:$F$208,AT166,'ABT Credit Balances'!$E$9:$E$208,$AS$148,'ABT Credit Balances'!$C$9:$C$208,$B$151)","v":0},{"$f":"SUMIFS('ABT Credit Balances'!$D$9:$D$208,'ABT Credit Balances'!$B$9:$B$208,$C$164,'ABT Credit Balances'!$F$9:$F$208,AU166,'ABT Credit Balances'!$E$9:$E$208,$AS$148,'ABT Credit Balances'!$C$9:$C$208,$B$151)","v":0}]
[null,"Applied Banked Credits (out)",{"$f":"SUMIFS('ABT Transactions'!$B$9:$B$40,'ABT Transactions'!$G$9:$G$40,$C$164,'ABT Transactions'!$F$9:$F$40,$C$148,'ABT Transactions'!$C$9:$C$40,C166,'ABT Transactions'!$D$9:$D$40,$B$152)","v":0},{"$f":"SUMIFS('ABT Transactions'!$B$9:$B$40,'ABT Transactions'!$G$9:$G$40,$C$164,'ABT Transactions'!$F$9:$F$40,$C$148,'ABT Transactions'!$C$9:$C$40,D166,'ABT Transactions'!$D$9:$D$40,$B$152)","v":0},{"$f":"SUMIFS('ABT Transactions'!$B$9:$B$40,'ABT Transactions'!$G$9:$G$40,$C$164,'ABT Transactions'!$F$9:$F$40,$C$148,'ABT Transactions'!$C$9:$C$40,E166,'ABT Transactions'!$D$9:$D$40,$B$152)","v":0},{"$f":"SUMIFS('ABT Transactions'!$B$9:$B$40,'ABT Transactions'!$G$9:$G$40,$C$164,'ABT Transactions'!$F$9:$F$40,$F$148,'ABT Transactions'!$C$9:$C$40,F166,'ABT Transactions'!$D$9:$D$40,$B$152)","v":0},{"$f":"SUMIFS('ABT Transactions'!$B$9:$B$40,'ABT Transactions'!$G$9:$G$40,$C$164,'ABT Transactions'!$F$9:$F$40,$F$148,'ABT Transactions'!$C$9:$C$40,G166,'ABT Transactions'!$D$9:$D$40,$B$152)","v":0},{"$f":"SUMIFS('ABT Transactions'!$B$9:$B$40,'ABT Transactions'!$G$9:$G$40,$C$164,'ABT Transactions'!$F$9:$F$40,$F$148,'ABT Transactions'!$C$9:$C$40,H166,'ABT Transactions'!$D$9:$D$40,$B$152)","v":0},{"$f":"SUMIFS('ABT Transactions'!$B$9:$B$40,'ABT Transactions'!$G$9:$G$40,$C$164,'ABT Transactions'!$F$9:$F$40,$I$148,'ABT Transactions'!$C$9:$C$40,I166,'ABT Transactions'!$D$9:$D$40,$B$152)","v":0},{"$f":"SUMIFS('ABT Transactions'!$B$9:$B$40,'ABT Transactions'!$G$9:$G$40,$C$164,'ABT Transactions'!$F$9:$F$40,$I$148,'ABT Transactions'!$C$9:$C$40,J166,'ABT Transactions'!$D$9:$D$40,$B$152)","v":0},{"$f":"SUMIFS('ABT Transactions'!$B$9:$B$40,'ABT Transactions'!$G$9:$G$40,$C$164,'ABT Transactions'!$F$9:$F$40,$I$148,'ABT Transactions'!$C$9:$C$40,K166,'ABT Transactions'!$D$9:$D$40,$B$152)","v":0},{"$f":"SUMIFS('ABT Transactions'!$B$9:$B$40,'ABT Transactions'!$G$9:$G$40,$C$164,'ABT Transactions'!$F$9:$F$40,$L$148,'ABT Transactions'!$C$9:$C$40,L166,'ABT Transactions'!$D$9:$D$40,$B$152)","v":0},{"$f":"SUMIFS('ABT Transactions'!$B$9:$B$40,'ABT Transactions'!$G$9:$G$40,$C$164,'ABT Transactions'!$F$9:$F$40,$L$148,'ABT Transactions'!$C$9:$C$40,M166,'ABT Transactions'!$D$9:$D$40,$B$152)","v":0},{"$f":"SUMIFS('ABT Transactions'!$B$9:$B$40,'ABT Transactions'!$G$9:$G$40,$C$164,'ABT Transactions'!$F$9:$F$40,$L$148,'ABT Transactions'!$C$9:$C$40,N166,'ABT Transactions'!$D$9:$D$40,$B$152)","v":0},{"$f":"SUMIFS('ABT Transactions'!$B$9:$B$40,'ABT Transactions'!$G$9:$G$40,$C$164,'ABT Transactions'!$F$9:$F$40,$O$148,'ABT Transactions'!$C$9:$C$40,O166,'ABT Transactions'!$D$9:$D$40,$B$152)","v":0},{"$f":"SUMIFS('ABT Transactions'!$B$9:$B$40,'ABT Transactions'!$G$9:$G$40,$C$164,'ABT Transactions'!$F$9:$F$40,$O$148,'ABT Transactions'!$C$9:$C$40,P166,'ABT Transactions'!$D$9:$D$40,$B$152)","v":0},{"$f":"SUMIFS('ABT Transactions'!$B$9:$B$40,'ABT Transactions'!$G$9:$G$40,$C$164,'ABT Transactions'!$F$9:$F$40,$O$148,'ABT Transactions'!$C$9:$C$40,Q166,'ABT Transactions'!$D$9:$D$40,$B$152)","v":0},{"$f":"SUMIFS('ABT Transactions'!$B$9:$B$40,'ABT Transactions'!$G$9:$G$40,$C$164,'ABT Transactions'!$F$9:$F$40,$R$148,'ABT Transactions'!$C$9:$C$40,R166,'ABT Transactions'!$D$9:$D$40,$B$152)","v":0},{"$f":"SUMIFS('ABT Transactions'!$B$9:$B$40,'ABT Transactions'!$G$9:$G$40,$C$164,'ABT Transactions'!$F$9:$F$40,$R$148,'ABT Transactions'!$C$9:$C$40,S166,'ABT Transactions'!$D$9:$D$40,$B$152)","v":0},{"$f":"SUMIFS('ABT Transactions'!$B$9:$B$40,'ABT Transactions'!$G$9:$G$40,$C$164,'ABT Transactions'!$F$9:$F$40,$R$148,'ABT Transactions'!$C$9:$C$40,T166,'ABT Transactions'!$D$9:$D$40,$B$152)","v":0},{"$f":"SUMIFS('ABT Transactions'!$B$9:$B$40,'ABT Transactions'!$G$9:$G$40,$C$164,'ABT Transactions'!$F$9:$F$40,$U$148,'ABT Transactions'!$C$9:$C$40,U166,'ABT Transactions'!$D$9:$D$40,$B$152)","v":0},{"$f":"SUMIFS('ABT Transactions'!$B$9:$B$40,'ABT Transactions'!$G$9:$G$40,$C$164,'ABT Transactions'!$F$9:$F$40,$U$148,'ABT Transactions'!$C$9:$C$40,V166,'ABT Transactions'!$D$9:$D$40,$B$152)","v":0},{"$f":"SUMIFS('ABT Transactions'!$B$9:$B$40,'ABT Transactions'!$G$9:$G$40,$C$164,'ABT Transactions'!$F$9:$F$40,U$148,'ABT Transactions'!$C$9:$C$40,W166,'ABT Transactions'!$D$9:$D$40,$B$152)","v":0},{"$f":"SUMIFS('ABT Transactions'!$B$9:$B$40,'ABT Transactions'!$G$9:$G$40,$C$164,'ABT Transactions'!$F$9:$F$40,$X$148,'ABT Transactions'!$C$9:$C$40,X166,'ABT Transactions'!$D$9:$D$40,$B$152)","v":0},{"$f":"SUMIFS('ABT Transactions'!$B$9:$B$40,'ABT Transactions'!$G$9:$G$40,$C$164,'ABT Transactions'!$F$9:$F$40,$X$148,'ABT Transactions'!$C$9:$C$40,Y166,'ABT Transactions'!$D$9:$D$40,$B$152)","v":0},{"$f":"SUMIFS('ABT Transactions'!$B$9:$B$40,'ABT Transactions'!$G$9:$G$40,$C$164,'ABT Transactions'!$F$9:$F$40,$X$148,'ABT Transactions'!$C$9:$C$40,Z166,'ABT Transactions'!$D$9:$D$40,$B$152)","v":0},{"$f":"SUMIFS('ABT Transactions'!$B$9:$B$40,'ABT Transactions'!$G$9:$G$40,$C$164,'ABT Transactions'!$F$9:$F$40,$AA$148,'ABT Transactions'!$C$9:$C$40,AA166,'ABT Transactions'!$D$9:$D$40,$B$152)","v":0},{"$f":"SUMIFS('ABT Transactions'!$B$9:$B$40,'ABT Transactions'!$G$9:$G$40,$C$164,'ABT Transactions'!$F$9:$F$40,$AA$148,'ABT Transactions'!$C$9:$C$40,AB166,'ABT Transactions'!$D$9:$D$40,$B$152)","v":0},{"$f":"SUMIFS('ABT Transactions'!$B$9:$B$40,'ABT Transactions'!$G$9:$G$40,$C$164,'ABT Transactions'!$F$9:$F$40,$AA$148,'ABT Transactions'!$C$9:$C$40,AC166,'ABT Transactions'!$D$9:$D$40,$B$152)","v":0},{"$f":"SUMIFS('ABT Transactions'!$B$9:$B$40,'ABT Transactions'!$G$9:$G$40,$C$164,'ABT Transactions'!$F$9:$F$40,$AD$148,'ABT Transactions'!$C$9:$C$40,AD166,'ABT Transactions'!$D$9:$D$40,$B$152)","v":0},{"$f":"SUMIFS('ABT Transactions'!$B$9:$B$40,'ABT Transactions'!$G$9:$G$40,$C$164,'ABT Transactions'!$F$9:$F$40,$AD$148,'ABT Transactions'!$C$9:$C$40,AE166,'ABT Transactions'!$D$9:$D$40,$B$152)","v":0},{"$f":"SUMIFS('ABT Transactions'!$B$9:$B$40,'ABT Transactions'!$G$9:$G$40,$C$164,'ABT Transactions'!$F$9:$F$40,$AD$148,'ABT Transactions'!$C$9:$C$40,AF166,'ABT Transactions'!$D$9:$D$40,$B$152)","v":0},{"$f":"SUMIFS('ABT Transactions'!$B$9:$B$40,'ABT Transactions'!$G$9:$G$40,$C$164,'ABT Transactions'!$F$9:$F$40,$AG$148,'ABT Transactions'!$C$9:$C$40,AG166,'ABT Transactions'!$D$9:$D$40,$B$152)","v":0},{"$f":"SUMIFS('ABT Transactions'!$B$9:$B$40,'ABT Transactions'!$G$9:$G$40,$C$164,'ABT Transactions'!$F$9:$F$40,$AG$148,'ABT Transactions'!$C$9:$C$40,AH166,'ABT Transactions'!$D$9:$D$40,$B$152)","v":0},{"$f":"SUMIFS('ABT Transactions'!$B$9:$B$40,'ABT Transactions'!$G$9:$G$40,$C$164,'ABT Transactions'!$F$9:$F$40,$AG$148,'ABT Transactions'!$C$9:$C$40,AI166,'ABT Transactions'!$D$9:$D$40,$B$152)","v":0},{"$f":"SUMIFS('ABT Transactions'!$B$9:$B$40,'ABT Transactions'!$G$9:$G$40,$C$164,'ABT Transactions'!$F$9:$F$40,$AJ$148,'ABT Transactions'!$C$9:$C$40,AJ166,'ABT Transactions'!$D$9:$D$40,$B$152)","v":0},{"$f":"SUMIFS('ABT Transactions'!$B$9:$B$40,'ABT Transactions'!$G$9:$G$40,$C$164,'ABT Transactions'!$F$9:$F$40,$AJ$148,'ABT Transactions'!$C$9:$C$40,AK166,'ABT Transactions'!$D$9:$D$40,$B$152)","v":0},{"$f":"SUMIFS('ABT Transactions'!$B$9:$B$40,'ABT Transactions'!$G$9:$G$40,$C$164,'ABT Transactions'!$F$9:$F$40,$AJ$148,'ABT Transactions'!$C$9:$C$40,AL166,'ABT Transactions'!$D$9:$D$40,$B$152)","v":0},{"$f":"SUMIFS('ABT Transactions'!$B$9:$B$40,'ABT Transactions'!$G$9:$G$40,$C$164,'ABT Transactions'!$F$9:$F$40,$AM$148,'ABT Transactions'!$C$9:$C$40,AM166,'ABT Transactions'!$D$9:$D$40,$B$152)","v":0},{"$f":"SUMIFS('ABT Transactions'!$B$9:$B$40,'ABT Transactions'!$G$9:$G$40,$C$164,'ABT Transactions'!$F$9:$F$40,$AM$148,'ABT Transactions'!$C$9:$C$40,AN166,'ABT Transactions'!$D$9:$D$40,$B$152)","v":0},{"$f":"SUMIFS('ABT Transactions'!$B$9:$B$40,'ABT Transactions'!$G$9:$G$40,$C$164,'ABT Transactions'!$F$9:$F$40,$AM$148,'ABT Transactions'!$C$9:$C$40,AO166,'ABT Transactions'!$D$9:$D$40,$B$152)","v":0},{"$f":"SUMIFS('ABT Transactions'!$B$9:$B$40,'ABT Transactions'!$G$9:$G$40,$C$164,'ABT Transactions'!$F$9:$F$40,$AP$148,'ABT Transactions'!$C$9:$C$40,AP166,'ABT Transactions'!$D$9:$D$40,$B$152)","v":0},{"$f":"SUMIFS('ABT Transactions'!$B$9:$B$40,'ABT Transactions'!$G$9:$G$40,$C$164,'ABT Transactions'!$F$9:$F$40,$AP$148,'ABT Transactions'!$C$9:$C$40,AQ166,'ABT Transactions'!$D$9:$D$40,$B$152)","v":0},{"$f":"SUMIFS('ABT Transactions'!$B$9:$B$40,'ABT Transactions'!$G$9:$G$40,$C$164,'ABT Transactions'!$F$9:$F$40,$AP$148,'ABT Transactions'!$C$9:$C$40,AR166,'ABT Transactions'!$D$9:$D$40,$B$152)","v":0},{"$f":"SUMIFS('ABT Transactions'!$B$9:$B$40,'ABT Transactions'!$G$9:$G$40,$C$164,'ABT Transactions'!$F$9:$F$40,$AS$148,'ABT Transactions'!$C$9:$C$40,AS166,'ABT Transactions'!$D$9:$D$40,$B$152)","v":0},{"$f":"SUMIFS('ABT Transactions'!$B$9:$B$40,'ABT Transactions'!$G$9:$G$40,$C$164,'ABT Transactions'!$F$9:$F$40,$AS$148,'ABT Transactions'!$C$9:$C$40,AT166,'ABT Transactions'!$D$9:$D$40,$B$152)","v":0},{"$f":"SUMIFS('ABT Transactions'!$B$9:$B$40,'ABT Transactions'!$G$9:$G$40,$C$164,'ABT Transactions'!$F$9:$F$40,$AS$148,'ABT Transactions'!$C$9:$C$40,AU166,'ABT Transactions'!$D$9:$D$40,$B$152)","v":0}]
[null,"Applied Banked Credits (in)",{"$f":"SUMIFS('ABT Transactions'!$B$9:$B$40,'ABT Transactions'!$J$9:$J$40,$C$164,'ABT Transactions'!$I$9:$I$40,$C$148,'ABT Transactions'!$C$9:$C$40,C166,'ABT Transactions'!$D$9:$D$40,$B$153)","v":0},{"$f":"SUMIFS('ABT Transactions'!$B$9:$B$40,'ABT Transactions'!$J$9:$J$40,$C$164,'ABT Transactions'!$I$9:$I$40,$C$148,'ABT Transactions'!$C$9:$C$40,D166,'ABT Transactions'!$D$9:$D$40,$B$153)","v":0},{"$f":"SUMIFS('ABT Transactions'!$B$9:$B$40,'ABT Transactions'!$J$9:$J$40,$C$164,'ABT Transactions'!$I$9:$I$40,$C$148,'ABT Transactions'!$C$9:$C$40,E166,'ABT Transactions'!$D$9:$D$40,$B$153)","v":0},{"$f":"SUMIFS('ABT Transactions'!$B$9:$B$40,'ABT Transactions'!$J$9:$J$40,$C$164,'ABT Transactions'!$I$9:$I$40,$F$148,'ABT Transactions'!$C$9:$C$40,F166,'ABT Transactions'!$D$9:$D$40,$B$153)","v":0},{"$f":"SUMIFS('ABT Transactions'!$B$9:$B$40,'ABT Transactions'!$J$9:$J$40,$C$164,'ABT Transactions'!$I$9:$I$40,$F$148,'ABT Transactions'!$C$9:$C$40,G166,'ABT Transactions'!$D$9:$D$40,$B$153)","v":0},{"$f":"SUMIFS('ABT Transactions'!$B$9:$B$40,'ABT Transactions'!$J$9:$J$40,$C$164,'ABT Transactions'!$I$9:$I$40,$F$148,'ABT Transactions'!$C$9:$C$40,H166,'ABT Transactions'!$D$9:$D$40,$B$153)","v":0},{"$f":"SUMIFS('ABT Transactions'!$B$9:$B$40,'ABT Transactions'!$J$9:$J$40,$C$164,'ABT Transactions'!$I$9:$I$40,$I$148,'ABT Transactions'!$C$9:$C$40,I166,'ABT Transactions'!$D$9:$D$40,$B$153)","v":0},{"$f":"SUMIFS('ABT Transactions'!$B$9:$B$40,'ABT Transactions'!$J$9:$J$40,$C$164,'ABT Transactions'!$I$9:$I$40,$I$148,'ABT Transactions'!$C$9:$C$40,J166,'ABT Transactions'!$D$9:$D$40,$B$153)","v":0},{"$f":"SUMIFS('ABT Transactions'!$B$9:$B$40,'ABT Transactions'!$J$9:$J$40,$C$164,'ABT Transactions'!$I$9:$I$40,$I$148,'ABT Transactions'!$C$9:$C$40,K166,'ABT Transactions'!$D$9:$D$40,$B$153)","v":0},{"$f":"SUMIFS('ABT Transactions'!$B$9:$B$40,'ABT Transactions'!$J$9:$J$40,$C$164,'ABT Transactions'!$I$9:$I$40,$L$148,'ABT Transactions'!$C$9:$C$40,L166,'ABT Transactions'!$D$9:$D$40,$B$153)","v":0},{"$f":"SUMIFS('ABT Transactions'!$B$9:$B$40,'ABT Transactions'!$J$9:$J$40,$C$164,'ABT Transactions'!$I$9:$I$40,$L$148,'ABT Transactions'!$C$9:$C$40,M166,'ABT Transactions'!$D$9:$D$40,$B$153)","v":0},{"$f":"SUMIFS('ABT Transactions'!$B$9:$B$40,'ABT Transactions'!$J$9:$J$40,$C$164,'ABT Transactions'!$I$9:$I$40,$L$148,'ABT Transactions'!$C$9:$C$40,N166,'ABT Transactions'!$D$9:$D$40,$B$153)","v":0},{"$f":"SUMIFS('ABT Transactions'!$B$9:$B$40,'ABT Transactions'!$J$9:$J$40,$C$164,'ABT Transactions'!$I$9:$I$40,$O$148,'ABT Transactions'!$C$9:$C$40,O166,'ABT Transactions'!$D$9:$D$40,$B$153)","v":0},{"$f":"SUMIFS('ABT Transactions'!$B$9:$B$40,'ABT Transactions'!$J$9:$J$40,$C$164,'ABT Transactions'!$I$9:$I$40,$O$148,'ABT Transactions'!$C$9:$C$40,P166,'ABT Transactions'!$D$9:$D$40,$B$153)","v":0},{"$f":"SUMIFS('ABT Transactions'!$B$9:$B$40,'ABT Transactions'!$J$9:$J$40,$C$164,'ABT Transactions'!$I$9:$I$40,$O$148,'ABT Transactions'!$C$9:$C$40,Q166,'ABT Transactions'!$D$9:$D$40,$B$153)","v":0},{"$f":"SUMIFS('ABT Transactions'!$B$9:$B$40,'ABT Transactions'!$J$9:$J$40,$C$164,'ABT Transactions'!$I$9:$I$40,$R$148,'ABT Transactions'!$C$9:$C$40,R166,'ABT Transactions'!$D$9:$D$40,$B$153)","v":0},{"$f":"SUMIFS('ABT Transactions'!$B$9:$B$40,'ABT Transactions'!$J$9:$J$40,$C$164,'ABT Transactions'!$I$9:$I$40,$R$148,'ABT Transactions'!$C$9:$C$40,S166,'ABT Transactions'!$D$9:$D$40,$B$153)","v":0},{"$f":"SUMIFS('ABT Transactions'!$B$9:$B$40,'ABT Transactions'!$J$9:$J$40,$C$164,'ABT Transactions'!$I$9:$I$40,$R$148,'ABT Transactions'!$C$9:$C$40,T166,'ABT Transactions'!$D$9:$D$40,$B$153)","v":0},{"$f":"SUMIFS('ABT Transactions'!$B$9:$B$40,'ABT Transactions'!$J$9:$J$40,$C$164,'ABT Transactions'!$I$9:$I$40,$U$148,'ABT Transactions'!$C$9:$C$40,U166,'ABT Transactions'!$D$9:$D$40,$B$153)","v":0},{"$f":"SUMIFS('ABT Transactions'!$B$9:$B$40,'ABT Transactions'!$J$9:$J$40,$C$164,'ABT Transactions'!$I$9:$I$40,$U$148,'ABT Transactions'!$C$9:$C$40,V166,'ABT Transactions'!$D$9:$D$40,$B$153)","v":0},{"$f":"SUMIFS('ABT Transactions'!$B$9:$B$40,'ABT Transactions'!$J$9:$J$40,$C$164,'ABT Transactions'!$I$9:$I$40,U$148,'ABT Transactions'!$C$9:$C$40,W166,'ABT Transactions'!$D$9:$D$40,$B$153)","v":0},{"$f":"SUMIFS('ABT Transactions'!$B$9:$B$40,'ABT Transactions'!$J$9:$J$40,$C$164,'ABT Transactions'!$I$9:$I$40,$X$148,'ABT Transactions'!$C$9:$C$40,X166,'ABT Transactions'!$D$9:$D$40,$B$153)","v":0},{"$f":"SUMIFS('ABT Transactions'!$B$9:$B$40,'ABT Transactions'!$J$9:$J$40,$C$164,'ABT Transactions'!$I$9:$I$40,$X$148,'ABT Transactions'!$C$9:$C$40,Y166,'ABT Transactions'!$D$9:$D$40,$B$153)","v":0},{"$f":"SUMIFS('ABT Transactions'!$B$9:$B$40,'ABT Transactions'!$J$9:$J$40,$C$164,'ABT Transactions'!$I$9:$I$40,$X$148,'ABT Transactions'!$C$9:$C$40,Z166,'ABT Transactions'!$D$9:$D$40,$B$153)","v":0},{"$f":"SUMIFS('ABT Transactions'!$B$9:$B$40,'ABT Transactions'!$J$9:$J$40,$C$164,'ABT Transactions'!$I$9:$I$40,$AA$148,'ABT Transactions'!$C$9:$C$40,AA166,'ABT Transactions'!$D$9:$D$40,$B$153)","v":0},{"$f":"SUMIFS('ABT Transactions'!$B$9:$B$40,'ABT Transactions'!$J$9:$J$40,$C$164,'ABT Transactions'!$I$9:$I$40,$AA$148,'ABT Transactions'!$C$9:$C$40,AB166,'ABT Transactions'!$D$9:$D$40,$B$153)","v":0},{"$f":"SUMIFS('ABT Transactions'!$B$9:$B$40,'ABT Transactions'!$J$9:$J$40,$C$164,'ABT Transactions'!$I$9:$I$40,$AA$148,'ABT Transactions'!$C$9:$C$40,AC166,'ABT Transactions'!$D$9:$D$40,$B$153)","v":0},{"$f":"SUMIFS('ABT Transactions'!$B$9:$B$40,'ABT Transactions'!$J$9:$J$40,$C$164,'ABT Transactions'!$I$9:$I$40,$AD$148,'ABT Transactions'!$C$9:$C$40,AD166,'ABT Transactions'!$D$9:$D$40,$B$153)","v":0},{"$f":"SUMIFS('ABT Transactions'!$B$9:$B$40,'ABT Transactions'!$J$9:$J$40,$C$164,'ABT Transactions'!$I$9:$I$40,$AD$148,'ABT Transactions'!$C$9:$C$40,AE166,'ABT Transactions'!$D$9:$D$40,$B$153)","v":0},{"$f":"SUMIFS('ABT Transactions'!$B$9:$B$40,'ABT Transactions'!$J$9:$J$40,$C$164,'ABT Transactions'!$I$9:$I$40,$AD$148,'ABT Transactions'!$C$9:$C$40,AF166,'ABT Transactions'!$D$9:$D$40,$B$153)","v":0},{"$f":"SUMIFS('ABT Transactions'!$B$9:$B$40,'ABT Transactions'!$J$9:$J$40,$C$164,'ABT Transactions'!$I$9:$I$40,$AG$148,'ABT Transactions'!$C$9:$C$40,AG166,'ABT Transactions'!$D$9:$D$40,$B$153)","v":0},{"$f":"SUMIFS('ABT Transactions'!$B$9:$B$40,'ABT Transactions'!$J$9:$J$40,$C$164,'ABT Transactions'!$I$9:$I$40,$AG$148,'ABT Transactions'!$C$9:$C$40,AH166,'ABT Transactions'!$D$9:$D$40,$B$153)","v":0},{"$f":"SUMIFS('ABT Transactions'!$B$9:$B$40,'ABT Transactions'!$J$9:$J$40,$C$164,'ABT Transactions'!$I$9:$I$40,$AG$148,'ABT Transactions'!$C$9:$C$40,AI166,'ABT Transactions'!$D$9:$D$40,$B$153)","v":0},{"$f":"SUMIFS('ABT Transactions'!$B$9:$B$40,'ABT Transactions'!$J$9:$J$40,$C$164,'ABT Transactions'!$I$9:$I$40,$AJ$148,'ABT Transactions'!$C$9:$C$40,AJ166,'ABT Transactions'!$D$9:$D$40,$B$153)","v":0},{"$f":"SUMIFS('ABT Transactions'!$B$9:$B$40,'ABT Transactions'!$J$9:$J$40,$C$164,'ABT Transactions'!$I$9:$I$40,$AJ$148,'ABT Transactions'!$C$9:$C$40,AK166,'ABT Transactions'!$D$9:$D$40,$B$153)","v":0},{"$f":"SUMIFS('ABT Transactions'!$B$9:$B$40,'ABT Transactions'!$J$9:$J$40,$C$164,'ABT Transactions'!$I$9:$I$40,$AJ$148,'ABT Transactions'!$C$9:$C$40,AL166,'ABT Transactions'!$D$9:$D$40,$B$153)","v":0},{"$f":"SUMIFS('ABT Transactions'!$B$9:$B$40,'ABT Transactions'!$J$9:$J$40,$C$164,'ABT Transactions'!$I$9:$I$40,$AM$148,'ABT Transactions'!$C$9:$C$40,AM166,'ABT Transactions'!$D$9:$D$40,$B$153)","v":0},{"$f":"SUMIFS('ABT Transactions'!$B$9:$B$40,'ABT Transactions'!$J$9:$J$40,$C$164,'ABT Transactions'!$I$9:$I$40,$AM$148,'ABT Transactions'!$C$9:$C$40,AN166,'ABT Transactions'!$D$9:$D$40,$B$153)","v":0},{"$f":"SUMIFS('ABT Transactions'!$B$9:$B$40,'ABT Transactions'!$J$9:$J$40,$C$164,'ABT Transactions'!$I$9:$I$40,$AM$148,'ABT Transactions'!$C$9:$C$40,AO166,'ABT Transactions'!$D$9:$D$40,$B$153)","v":0},{"$f":"SUMIFS('ABT Transactions'!$B$9:$B$40,'ABT Transactions'!$J$9:$J$40,$C$164,'ABT Transactions'!$I$9:$I$40,$AP$148,'ABT Transactions'!$C$9:$C$40,AP166,'ABT Transactions'!$D$9:$D$40,$B$153)","v":0},{"$f":"SUMIFS('ABT Transactions'!$B$9:$B$40,'ABT Transactions'!$J$9:$J$40,$C$164,'ABT Transactions'!$I$9:$I$40,$AP$148,'ABT Transactions'!$C$9:$C$40,AQ166,'ABT Transactions'!$D$9:$D$40,$B$153)","v":0},{"$f":"SUMIFS('ABT Transactions'!$B$9:$B$40,'ABT Transactions'!$J$9:$J$40,$C$164,'ABT Transactions'!$I$9:$I$40,$AP$148,'ABT Transactions'!$C$9:$C$40,AR166,'ABT Transactions'!$D$9:$D$40,$B$153)","v":0},{"$f":"SUMIFS('ABT Transactions'!$B$9:$B$40,'ABT Transactions'!$J$9:$J$40,$C$164,'ABT Transactions'!$I$9:$I$40,$AS$148,'ABT Transactions'!$C$9:$C$40,AS166,'ABT Transactions'!$D$9:$D$40,$B$153)","v":0},{"$f":"SUMIFS('ABT Transactions'!$B$9:$B$40,'ABT Transactions'!$J$9:$J$40,$C$164,'ABT Transactions'!$I$9:$I$40,$AS$148,'ABT Transactions'!$C$9:$C$40,AT166,'ABT Transactions'!$D$9:$D$40,$B$153)","v":0},{"$f":"SUMIFS('ABT Transactions'!$B$9:$B$40,'ABT Transactions'!$J$9:$J$40,$C$164,'ABT Transactions'!$I$9:$I$40,$AS$148,'ABT Transactions'!$C$9:$C$40,AU166,'ABT Transactions'!$D$9:$D$40,$B$153)","v":0}]
[null,"Trade Out",{"$f":"SUMIFS('ABT Transactions'!$B$9:$B$40,'ABT Transactions'!$G$9:$G$40,$C$164,'ABT Transactions'!$F$9:$F$40,$C$148,'ABT Transactions'!$C$9:$C$40,C166,'ABT Transactions'!$D$9:$D$40,$B$154)","v":0},{"$f":"SUMIFS('ABT Transactions'!$B$9:$B$40,'ABT Transactions'!$G$9:$G$40,$C$164,'ABT Transactions'!$F$9:$F$40,$C$148,'ABT Transactions'!$C$9:$C$40,D166,'ABT Transactions'!$D$9:$D$40,$B$154)","v":0},{"$f":"SUMIFS('ABT Transactions'!$B$9:$B$40,'ABT Transactions'!$G$9:$G$40,$C$164,'ABT Transactions'!$F$9:$F$40,$C$148,'ABT Transactions'!$C$9:$C$40,E166,'ABT Transactions'!$D$9:$D$40,$B$154)","v":0},{"$f":"SUMIFS('ABT Transactions'!$B$9:$B$40,'ABT Transactions'!$G$9:$G$40,$C$164,'ABT Transactions'!$F$9:$F$40,$F$148,'ABT Transactions'!$C$9:$C$40,F166,'ABT Transactions'!$D$9:$D$40,$B$154)","v":0},{"$f":"SUMIFS('ABT Transactions'!$B$9:$B$40,'ABT Transactions'!$G$9:$G$40,$C$164,'ABT Transactions'!$F$9:$F$40,$F$148,'ABT Transactions'!$C$9:$C$40,G166,'ABT Transactions'!$D$9:$D$40,$B$154)","v":0},{"$f":"SUMIFS('ABT Transactions'!$B$9:$B$40,'ABT Transactions'!$G$9:$G$40,$C$164,'ABT Transactions'!$F$9:$F$40,$F$148,'ABT Transactions'!$C$9:$C$40,H166,'ABT Transactions'!$D$9:$D$40,$B$154)","v":0},{"$f":"SUMIFS('ABT Transactions'!$B$9:$B$40,'ABT Transactions'!$G$9:$G$40,$C$164,'ABT Transactions'!$F$9:$F$40,$I$148,'ABT Transactions'!$C$9:$C$40,I166,'ABT Transactions'!$D$9:$D$40,$B$154)","v":0},{"$f":"SUMIFS('ABT Transactions'!$B$9:$B$40,'ABT Transactions'!$G$9:$G$40,$C$164,'ABT Transactions'!$F$9:$F$40,$I$148,'ABT Transactions'!$C$9:$C$40,J166,'ABT Transactions'!$D$9:$D$40,$B$154)","v":0},{"$f":"SUMIFS('ABT Transactions'!$B$9:$B$40,'ABT Transactions'!$G$9:$G$40,$C$164,'ABT Transactions'!$F$9:$F$40,$I$148,'ABT Transactions'!$C$9:$C$40,K166,'ABT Transactions'!$D$9:$D$40,$B$154)","v":0},{"$f":"SUMIFS('ABT Transactions'!$B$9:$B$40,'ABT Transactions'!$G$9:$G$40,$C$164,'ABT Transactions'!$F$9:$F$40,$L$148,'ABT Transactions'!$C$9:$C$40,L166,'ABT Transactions'!$D$9:$D$40,$B$154)","v":0},{"$f":"SUMIFS('ABT Transactions'!$B$9:$B$40,'ABT Transactions'!$G$9:$G$40,$C$164,'ABT Transactions'!$F$9:$F$40,$L$148,'ABT Transactions'!$C$9:$C$40,M166,'ABT Transactions'!$D$9:$D$40,$B$154)","v":0},{"$f":"SUMIFS('ABT Transactions'!$B$9:$B$40,'ABT Transactions'!$G$9:$G$40,$C$164,'ABT Transactions'!$F$9:$F$40,$L$148,'ABT Transactions'!$C$9:$C$40,N166,'ABT Transactions'!$D$9:$D$40,$B$154)","v":0},{"$f":"SUMIFS('ABT Transactions'!$B$9:$B$40,'ABT Transactions'!$G$9:$G$40,$C$164,'ABT Transactions'!$F$9:$F$40,$O$148,'ABT Transactions'!$C$9:$C$40,O166,'ABT Transactions'!$D$9:$D$40,$B$154)","v":0},{"$f":"SUMIFS('ABT Transactions'!$B$9:$B$40,'ABT Transactions'!$G$9:$G$40,$C$164,'ABT Transactions'!$F$9:$F$40,$O$148,'ABT Transactions'!$C$9:$C$40,P166,'ABT Transactions'!$D$9:$D$40,$B$154)","v":0},{"$f":"SUMIFS('ABT Transactions'!$B$9:$B$40,'ABT Transactions'!$G$9:$G$40,$C$164,'ABT Transactions'!$F$9:$F$40,$O$148,'ABT Transactions'!$C$9:$C$40,Q166,'ABT Transactions'!$D$9:$D$40,$B$154)","v":0},{"$f":"SUMIFS('ABT Transactions'!$B$9:$B$40,'ABT Transactions'!$G$9:$G$40,$C$164,'ABT Transactions'!$F$9:$F$40,$R$148,'ABT Transactions'!$C$9:$C$40,R166,'ABT Transactions'!$D$9:$D$40,$B$154)","v":0},{"$f":"SUMIFS('ABT Transactions'!$B$9:$B$40,'ABT Transactions'!$G$9:$G$40,$C$164,'ABT Transactions'!$F$9:$F$40,$R$148,'ABT Transactions'!$C$9:$C$40,S166,'ABT Transactions'!$D$9:$D$40,$B$154)","v":0},{"$f":"SUMIFS('ABT Transactions'!$B$9:$B$40,'ABT Transactions'!$G$9:$G$40,$C$164,'ABT Transactions'!$F$9:$F$40,$R$148,'ABT Transactions'!$C$9:$C$40,T166,'ABT Transactions'!$D$9:$D$40,$B$154)","v":0},{"$f":"SUMIFS('ABT Transactions'!$B$9:$B$40,'ABT Transactions'!$G$9:$G$40,$C$164,'ABT Transactions'!$F$9:$F$40,$U$148,'ABT Transactions'!$C$9:$C$40,U166,'ABT Transactions'!$D$9:$D$40,$B$154)","v":0},{"$f":"SUMIFS('ABT Transactions'!$B$9:$B$40,'ABT Transactions'!$G$9:$G$40,$C$164,'ABT Transactions'!$F$9:$F$40,$U$148,'ABT Transactions'!$C$9:$C$40,V166,'ABT Transactions'!$D$9:$D$40,$B$154)","v":0},{"$f":"SUMIFS('ABT Transactions'!$B$9:$B$40,'ABT Transactions'!$G$9:$G$40,$C$164,'ABT Transactions'!$F$9:$F$40,U$148,'ABT Transactions'!$C$9:$C$40,W166,'ABT Transactions'!$D$9:$D$40,$B$154)","v":0},{"$f":"SUMIFS('ABT Transactions'!$B$9:$B$40,'ABT Transactions'!$G$9:$G$40,$C$164,'ABT Transactions'!$F$9:$F$40,$X$148,'ABT Transactions'!$C$9:$C$40,X166,'ABT Transactions'!$D$9:$D$40,$B$154)","v":0},{"$f":"SUMIFS('ABT Transactions'!$B$9:$B$40,'ABT Transactions'!$G$9:$G$40,$C$164,'ABT Transactions'!$F$9:$F$40,$X$148,'ABT Transactions'!$C$9:$C$40,Y166,'ABT Transactions'!$D$9:$D$40,$B$154)","v":0},{"$f":"SUMIFS('ABT Transactions'!$B$9:$B$40,'ABT Transactions'!$G$9:$G$40,$C$164,'ABT Transactions'!$F$9:$F$40,$X$148,'ABT Transactions'!$C$9:$C$40,Z166,'ABT Transactions'!$D$9:$D$40,$B$154)","v":0},{"$f":"SUMIFS('ABT Transactions'!$B$9:$B$40,'ABT Transactions'!$G$9:$G$40,$C$164,'ABT Transactions'!$F$9:$F$40,$AA$148,'ABT Transactions'!$C$9:$C$40,AA166,'ABT Transactions'!$D$9:$D$40,$B$154)","v":0},{"$f":"SUMIFS('ABT Transactions'!$B$9:$B$40,'ABT Transactions'!$G$9:$G$40,$C$164,'ABT Transactions'!$F$9:$F$40,$AA$148,'ABT Transactions'!$C$9:$C$40,AB166,'ABT Transactions'!$D$9:$D$40,$B$154)","v":0},{"$f":"SUMIFS('ABT Transactions'!$B$9:$B$40,'ABT Transactions'!$G$9:$G$40,$C$164,'ABT Transactions'!$F$9:$F$40,$AA$148,'ABT Transactions'!$C$9:$C$40,AC166,'ABT Transactions'!$D$9:$D$40,$B$154)","v":0},{"$f":"SUMIFS('ABT Transactions'!$B$9:$B$40,'ABT Transactions'!$G$9:$G$40,$C$164,'ABT Transactions'!$F$9:$F$40,$AD$148,'ABT Transactions'!$C$9:$C$40,AD166,'ABT Transactions'!$D$9:$D$40,$B$154)","v":0},{"$f":"SUMIFS('ABT Transactions'!$B$9:$B$40,'ABT Transactions'!$G$9:$G$40,$C$164,'ABT Transactions'!$F$9:$F$40,$AD$148,'ABT Transactions'!$C$9:$C$40,AE166,'ABT Transactions'!$D$9:$D$40,$B$154)","v":0},{"$f":"SUMIFS('ABT Transactions'!$B$9:$B$40,'ABT Transactions'!$G$9:$G$40,$C$164,'ABT Transactions'!$F$9:$F$40,$AD$148,'ABT Transactions'!$C$9:$C$40,AF166,'ABT Transactions'!$D$9:$D$40,$B$154)","v":0},{"$f":"SUMIFS('ABT Transactions'!$B$9:$B$40,'ABT Transactions'!$G$9:$G$40,$C$164,'ABT Transactions'!$F$9:$F$40,$AG$148,'ABT Transactions'!$C$9:$C$40,AG166,'ABT Transactions'!$D$9:$D$40,$B$154)","v":0},{"$f":"SUMIFS('ABT Transactions'!$B$9:$B$40,'ABT Transactions'!$G$9:$G$40,$C$164,'ABT Transactions'!$F$9:$F$40,$AG$148,'ABT Transactions'!$C$9:$C$40,AH166,'ABT Transactions'!$D$9:$D$40,$B$154)","v":0},{"$f":"SUMIFS('ABT Transactions'!$B$9:$B$40,'ABT Transactions'!$G$9:$G$40,$C$164,'ABT Transactions'!$F$9:$F$40,$AG$148,'ABT Transactions'!$C$9:$C$40,AI166,'ABT Transactions'!$D$9:$D$40,$B$154)","v":0},{"$f":"SUMIFS('ABT Transactions'!$B$9:$B$40,'ABT Transactions'!$G$9:$G$40,$C$164,'ABT Transactions'!$F$9:$F$40,$AJ$148,'ABT Transactions'!$C$9:$C$40,AJ166,'ABT Transactions'!$D$9:$D$40,$B$154)","v":0},{"$f":"SUMIFS('ABT Transactions'!$B$9:$B$40,'ABT Transactions'!$G$9:$G$40,$C$164,'ABT Transactions'!$F$9:$F$40,$AJ$148,'ABT Transactions'!$C$9:$C$40,AK166,'ABT Transactions'!$D$9:$D$40,$B$154)","v":0},{"$f":"SUMIFS('ABT Transactions'!$B$9:$B$40,'ABT Transactions'!$G$9:$G$40,$C$164,'ABT Transactions'!$F$9:$F$40,$AJ$148,'ABT Transactions'!$C$9:$C$40,AL166,'ABT Transactions'!$D$9:$D$40,$B$154)","v":0},{"$f":"SUMIFS('ABT Transactions'!$B$9:$B$40,'ABT Transactions'!$G$9:$G$40,$C$164,'ABT Transactions'!$F$9:$F$40,$AM$148,'ABT Transactions'!$C$9:$C$40,AM166,'ABT Transactions'!$D$9:$D$40,$B$154)","v":0},{"$f":"SUMIFS('ABT Transactions'!$B$9:$B$40,'ABT Transactions'!$G$9:$G$40,$C$164,'ABT Transactions'!$F$9:$F$40,$AM$148,'ABT Transactions'!$C$9:$C$40,AN166,'ABT Transactions'!$D$9:$D$40,$B$154)","v":0},{"$f":"SUMIFS('ABT Transactions'!$B$9:$B$40,'ABT Transactions'!$G$9:$G$40,$C$164,'ABT Transactions'!$F$9:$F$40,$AM$148,'ABT Transactions'!$C$9:$C$40,AO166,'ABT Transactions'!$D$9:$D$40,$B$154)","v":0},{"$f":"SUMIFS('ABT Transactions'!$B$9:$B$40,'ABT Transactions'!$G$9:$G$40,$C$164,'ABT Transactions'!$F$9:$F$40,$AP$148,'ABT Transactions'!$C$9:$C$40,AP166,'ABT Transactions'!$D$9:$D$40,$B$154)","v":0},{"$f":"SUMIFS('ABT Transactions'!$B$9:$B$40,'ABT Transactions'!$G$9:$G$40,$C$164,'ABT Transactions'!$F$9:$F$40,$AP$148,'ABT Transactions'!$C$9:$C$40,AQ166,'ABT Transactions'!$D$9:$D$40,$B$154)","v":0},{"$f":"SUMIFS('ABT Transactions'!$B$9:$B$40,'ABT Transactions'!$G$9:$G$40,$C$164,'ABT Transactions'!$F$9:$F$40,$AP$148,'ABT Transactions'!$C$9:$C$40,AR166,'ABT Transactions'!$D$9:$D$40,$B$154)","v":0},{"$f":"SUMIFS('ABT Transactions'!$B$9:$B$40,'ABT Transactions'!$G$9:$G$40,$C$164,'ABT Transactions'!$F$9:$F$40,$AS$148,'ABT Transactions'!$C$9:$C$40,AS166,'ABT Transactions'!$D$9:$D$40,$B$154)","v":0},{"$f":"SUMIFS('ABT Transactions'!$B$9:$B$40,'ABT Transactions'!$G$9:$G$40,$C$164,'ABT Transactions'!$F$9:$F$40,$AS$148,'ABT Transactions'!$C$9:$C$40,AT166,'ABT Transactions'!$D$9:$D$40,$B$154)","v":0},{"$f":"SUMIFS('ABT Transactions'!$B$9:$B$40,'ABT Transactions'!$G$9:$G$40,$C$164,'ABT Transactions'!$F$9:$F$40,$AS$148,'ABT Transactions'!$C$9:$C$40,AU166,'ABT Transactions'!$D$9:$D$40,$B$154)","v":0}]
[null,"Trade In",{"$f":"SUMIFS('ABT Transactions'!$B$9:$B$40,'ABT Transactions'!$J$9:$J$40,$C$164,'ABT Transactions'!$I$9:$I$40,$C$148,'ABT Transactions'!$C$9:$C$40,C166,'ABT Transactions'!$D$9:$D$40,$B$155)","v":0},{"$f":"SUMIFS('ABT Transactions'!$B$9:$B$40,'ABT Transactions'!$J$9:$J$40,$C$164,'ABT Transactions'!$I$9:$I$40,$C$148,'ABT Transactions'!$C$9:$C$40,D166,'ABT Transactions'!$D$9:$D$40,$B$155)","v":0},{"$f":"SUMIFS('ABT Transactions'!$B$9:$B$40,'ABT Transactions'!$J$9:$J$40,$C$164,'ABT Transactions'!$I$9:$I$40,$C$148,'ABT Transactions'!$C$9:$C$40,E166,'ABT Transactions'!$D$9:$D$40,$B$155)","v":0},{"$f":"SUMIFS('ABT Transactions'!$B$9:$B$40,'ABT Transactions'!$J$9:$J$40,$C$164,'ABT Transactions'!$I$9:$I$40,$F$148,'ABT Transactions'!$C$9:$C$40,F166,'ABT Transactions'!$D$9:$D$40,$B$155)","v":0},{"$f":"SUMIFS('ABT Transactions'!$B$9:$B$40,'ABT Transactions'!$J$9:$J$40,$C$164,'ABT Transactions'!$I$9:$I$40,$F$148,'ABT Transactions'!$C$9:$C$40,G166,'ABT Transactions'!$D$9:$D$40,$B$155)","v":0},{"$f":"SUMIFS('ABT Transactions'!$B$9:$B$40,'ABT Transactions'!$J$9:$J$40,$C$164,'ABT Transactions'!$I$9:$I$40,$F$148,'ABT Transactions'!$C$9:$C$40,H166,'ABT Transactions'!$D$9:$D$40,$B$155)","v":0},{"$f":"SUMIFS('ABT Transactions'!$B$9:$B$40,'ABT Transactions'!$J$9:$J$40,$C$164,'ABT Transactions'!$I$9:$I$40,$I$148,'ABT Transactions'!$C$9:$C$40,I166,'ABT Transactions'!$D$9:$D$40,$B$155)","v":0},{"$f":"SUMIFS('ABT Transactions'!$B$9:$B$40,'ABT Transactions'!$J$9:$J$40,$C$164,'ABT Transactions'!$I$9:$I$40,$I$148,'ABT Transactions'!$C$9:$C$40,J166,'ABT Transactions'!$D$9:$D$40,$B$155)","v":0},{"$f":"SUMIFS('ABT Transactions'!$B$9:$B$40,'ABT Transactions'!$J$9:$J$40,$C$164,'ABT Transactions'!$I$9:$I$40,$I$148,'ABT Transactions'!$C$9:$C$40,K166,'ABT Transactions'!$D$9:$D$40,$B$155)","v":0},{"$f":"SUMIFS('ABT Transactions'!$B$9:$B$40,'ABT Transactions'!$J$9:$J$40,$C$164,'ABT Transactions'!$I$9:$I$40,$L$148,'ABT Transactions'!$C$9:$C$40,L166,'ABT Transactions'!$D$9:$D$40,$B$155)","v":0},{"$f":"SUMIFS('ABT Transactions'!$B$9:$B$40,'ABT Transactions'!$J$9:$J$40,$C$164,'ABT Transactions'!$I$9:$I$40,$L$148,'ABT Transactions'!$C$9:$C$40,M166,'ABT Transactions'!$D$9:$D$40,$B$155)","v":0},{"$f":"SUMIFS('ABT Transactions'!$B$9:$B$40,'ABT Transactions'!$J$9:$J$40,$C$164,'ABT Transactions'!$I$9:$I$40,$L$148,'ABT Transactions'!$C$9:$C$40,N166,'ABT Transactions'!$D$9:$D$40,$B$155)","v":0},{"$f":"SUMIFS('ABT Transactions'!$B$9:$B$40,'ABT Transactions'!$J$9:$J$40,$C$164,'ABT Transactions'!$I$9:$I$40,$O$148,'ABT Transactions'!$C$9:$C$40,O166,'ABT Transactions'!$D$9:$D$40,$B$155)","v":0},{"$f":"SUMIFS('ABT Transactions'!$B$9:$B$40,'ABT Transactions'!$J$9:$J$40,$C$164,'ABT Transactions'!$I$9:$I$40,$O$148,'ABT Transactions'!$C$9:$C$40,P166,'ABT Transactions'!$D$9:$D$40,$B$155)","v":0},{"$f":"SUMIFS('ABT Transactions'!$B$9:$B$40,'ABT Transactions'!$J$9:$J$40,$C$164,'ABT Transactions'!$I$9:$I$40,$O$148,'ABT Transactions'!$C$9:$C$40,Q166,'ABT Transactions'!$D$9:$D$40,$B$155)","v":0},{"$f":"SUMIFS('ABT Transactions'!$B$9:$B$40,'ABT Transactions'!$J$9:$J$40,$C$164,'ABT Transactions'!$I$9:$I$40,$R$148,'ABT Transactions'!$C$9:$C$40,R166,'ABT Transactions'!$D$9:$D$40,$B$155)","v":0},{"$f":"SUMIFS('ABT Transactions'!$B$9:$B$40,'ABT Transactions'!$J$9:$J$40,$C$164,'ABT Transactions'!$I$9:$I$40,$R$148,'ABT Transactions'!$C$9:$C$40,S166,'ABT Transactions'!$D$9:$D$40,$B$155)","v":0},{"$f":"SUMIFS('ABT Transactions'!$B$9:$B$40,'ABT Transactions'!$J$9:$J$40,$C$164,'ABT Transactions'!$I$9:$I$40,$R$148,'ABT Transactions'!$C$9:$C$40,T166,'ABT Transactions'!$D$9:$D$40,$B$155)","v":0},{"$f":"SUMIFS('ABT Transactions'!$B$9:$B$40,'ABT Transactions'!$J$9:$J$40,$C$164,'ABT Transactions'!$I$9:$I$40,$U$148,'ABT Transactions'!$C$9:$C$40,U166,'ABT Transactions'!$D$9:$D$40,$B$155)","v":0},{"$f":"SUMIFS('ABT Transactions'!$B$9:$B$40,'ABT Transactions'!$J$9:$J$40,$C$164,'ABT Transactions'!$I$9:$I$40,$U$148,'ABT Transactions'!$C$9:$C$40,V166,'ABT Transactions'!$D$9:$D$40,$B$155)","v":0},{"$f":"SUMIFS('ABT Transactions'!$B$9:$B$40,'ABT Transactions'!$J$9:$J$40,$C$164,'ABT Transactions'!$I$9:$I$40,U$148,'ABT Transactions'!$C$9:$C$40,W166,'ABT Transactions'!$D$9:$D$40,$B$155)","v":0},{"$f":"SUMIFS('ABT Transactions'!$B$9:$B$40,'ABT Transactions'!$J$9:$J$40,$C$164,'ABT Transactions'!$I$9:$I$40,$X$148,'ABT Transactions'!$C$9:$C$40,X166,'ABT Transactions'!$D$9:$D$40,$B$155)","v":0},{"$f":"SUMIFS('ABT Transactions'!$B$9:$B$40,'ABT Transactions'!$J$9:$J$40,$C$164,'ABT Transactions'!$I$9:$I$40,$X$148,'ABT Transactions'!$C$9:$C$40,Y166,'ABT Transactions'!$D$9:$D$40,$B$155)","v":0},{"$f":"SUMIFS('ABT Transactions'!$B$9:$B$40,'ABT Transactions'!$J$9:$J$40,$C$164,'ABT Transactions'!$I$9:$I$40,$X$148,'ABT Transactions'!$C$9:$C$40,Z166,'ABT Transactions'!$D$9:$D$40,$B$155)","v":0},{"$f":"SUMIFS('ABT Transactions'!$B$9:$B$40,'ABT Transactions'!$J$9:$J$40,$C$164,'ABT Transactions'!$I$9:$I$40,$AA$148,'ABT Transactions'!$C$9:$C$40,AA166,'ABT Transactions'!$D$9:$D$40,$B$155)","v":0},{"$f":"SUMIFS('ABT Transactions'!$B$9:$B$40,'ABT Transactions'!$J$9:$J$40,$C$164,'ABT Transactions'!$I$9:$I$40,$AA$148,'ABT Transactions'!$C$9:$C$40,AB166,'ABT Transactions'!$D$9:$D$40,$B$155)","v":0},{"$f":"SUMIFS('ABT Transactions'!$B$9:$B$40,'ABT Transactions'!$J$9:$J$40,$C$164,'ABT Transactions'!$I$9:$I$40,$AA$148,'ABT Transactions'!$C$9:$C$40,AC166,'ABT Transactions'!$D$9:$D$40,$B$155)","v":0},{"$f":"SUMIFS('ABT Transactions'!$B$9:$B$40,'ABT Transactions'!$J$9:$J$40,$C$164,'ABT Transactions'!$I$9:$I$40,$AD$148,'ABT Transactions'!$C$9:$C$40,AD166,'ABT Transactions'!$D$9:$D$40,$B$155)","v":0},{"$f":"SUMIFS('ABT Transactions'!$B$9:$B$40,'ABT Transactions'!$J$9:$J$40,$C$164,'ABT Transactions'!$I$9:$I$40,$AD$148,'ABT Transactions'!$C$9:$C$40,AE166,'ABT Transactions'!$D$9:$D$40,$B$155)","v":0},{"$f":"SUMIFS('ABT Transactions'!$B$9:$B$40,'ABT Transactions'!$J$9:$J$40,$C$164,'ABT Transactions'!$I$9:$I$40,$AD$148,'ABT Transactions'!$C$9:$C$40,AF166,'ABT Transactions'!$D$9:$D$40,$B$155)","v":0},{"$f":"SUMIFS('ABT Transactions'!$B$9:$B$40,'ABT Transactions'!$J$9:$J$40,$C$164,'ABT Transactions'!$I$9:$I$40,$AG$148,'ABT Transactions'!$C$9:$C$40,AG166,'ABT Transactions'!$D$9:$D$40,$B$155)","v":0},{"$f":"SUMIFS('ABT Transactions'!$B$9:$B$40,'ABT Transactions'!$J$9:$J$40,$C$164,'ABT Transactions'!$I$9:$I$40,$AG$148,'ABT Transactions'!$C$9:$C$40,AH166,'ABT Transactions'!$D$9:$D$40,$B$155)","v":0},{"$f":"SUMIFS('ABT Transactions'!$B$9:$B$40,'ABT Transactions'!$J$9:$J$40,$C$164,'ABT Transactions'!$I$9:$I$40,$AG$148,'ABT Transactions'!$C$9:$C$40,AI166,'ABT Transactions'!$D$9:$D$40,$B$155)","v":0},{"$f":"SUMIFS('ABT Transactions'!$B$9:$B$40,'ABT Transactions'!$J$9:$J$40,$C$164,'ABT Transactions'!$I$9:$I$40,$AJ$148,'ABT Transactions'!$C$9:$C$40,AJ166,'ABT Transactions'!$D$9:$D$40,$B$155)","v":0},{"$f":"SUMIFS('ABT Transactions'!$B$9:$B$40,'ABT Transactions'!$J$9:$J$40,$C$164,'ABT Transactions'!$I$9:$I$40,$AJ$148,'ABT Transactions'!$C$9:$C$40,AK166,'ABT Transactions'!$D$9:$D$40,$B$155)","v":0},{"$f":"SUMIFS('ABT Transactions'!$B$9:$B$40,'ABT Transactions'!$J$9:$J$40,$C$164,'ABT Transactions'!$I$9:$I$40,$AJ$148,'ABT Transactions'!$C$9:$C$40,AL166,'ABT Transactions'!$D$9:$D$40,$B$155)","v":0},{"$f":"SUMIFS('ABT Transactions'!$B$9:$B$40,'ABT Transactions'!$J$9:$J$40,$C$164,'ABT Transactions'!$I$9:$I$40,$AM$148,'ABT Transactions'!$C$9:$C$40,AM166,'ABT Transactions'!$D$9:$D$40,$B$155)","v":0},{"$f":"SUMIFS('ABT Transactions'!$B$9:$B$40,'ABT Transactions'!$J$9:$J$40,$C$164,'ABT Transactions'!$I$9:$I$40,$AM$148,'ABT Transactions'!$C$9:$C$40,AN166,'ABT Transactions'!$D$9:$D$40,$B$155)","v":0},{"$f":"SUMIFS('ABT Transactions'!$B$9:$B$40,'ABT Transactions'!$J$9:$J$40,$C$164,'ABT Transactions'!$I$9:$I$40,$AM$148,'ABT Transactions'!$C$9:$C$40,AO166,'ABT Transactions'!$D$9:$D$40,$B$155)","v":0},{"$f":"SUMIFS('ABT Transactions'!$B$9:$B$40,'ABT Transactions'!$J$9:$J$40,$C$164,'ABT Transactions'!$I$9:$I$40,$AP$148,'ABT Transactions'!$C$9:$C$40,AP166,'ABT Transactions'!$D$9:$D$40,$B$155)","v":0},{"$f":"SUMIFS('ABT Transactions'!$B$9:$B$40,'ABT Transactions'!$J$9:$J$40,$C$164,'ABT Transactions'!$I$9:$I$40,$AP$148,'ABT Transactions'!$C$9:$C$40,AQ166,'ABT Transactions'!$D$9:$D$40,$B$155)","v":0},{"$f":"SUMIFS('ABT Transactions'!$B$9:$B$40,'ABT Transactions'!$J$9:$J$40,$C$164,'ABT Transactions'!$I$9:$I$40,$AP$148,'ABT Transactions'!$C$9:$C$40,AR166,'ABT Transactions'!$D$9:$D$40,$B$155)","v":0},{"$f":"SUMIFS('ABT Transactions'!$B$9:$B$40,'ABT Transactions'!$J$9:$J$40,$C$164,'ABT Transactions'!$I$9:$I$40,$AS$148,'ABT Transactions'!$C$9:$C$40,AS166,'ABT Transactions'!$D$9:$D$40,$B$155)","v":0},{"$f":"SUMIFS('ABT Transactions'!$B$9:$B$40,'ABT Transactions'!$J$9:$J$40,$C$164,'ABT Transactions'!$I$9:$I$40,$AS$148,'ABT Transactions'!$C$9:$C$40,AT166,'ABT Transactions'!$D$9:$D$40,$B$155)","v":0},{"$f":"SUMIFS('ABT Transactions'!$B$9:$B$40,'ABT Transactions'!$J$9:$J$40,$C$164,'ABT Transactions'!$I$9:$I$40,$AS$148,'ABT Transactions'!$C$9:$C$40,AU166,'ABT Transactions'!$D$9:$D$40,$B$155)","v":0}]
[null,"Transfer ADV Credits (out)",{"$f":"SUMIFS('ABT Transactions'!$B$9:$B$40,'ABT Transactions'!$G$9:$G$40,$C$164,'ABT Transactions'!$F$9:$F$40,$C$148,'ABT Transactions'!$C$9:$C$40,C166,'ABT Transactions'!$D$9:$D$40,$B$156)","v":0},{"$f":"SUMIFS('ABT Transactions'!$B$9:$B$40,'ABT Transactions'!$G$9:$G$40,$C$164,'ABT Transactions'!$F$9:$F$40,$C$148,'ABT Transactions'!$C$9:$C$40,D166,'ABT Transactions'!$D$9:$D$40,$B$156)","v":0},{"$f":"SUMIFS('ABT Transactions'!$B$9:$B$40,'ABT Transactions'!$G$9:$G$40,$C$164,'ABT Transactions'!$F$9:$F$40,$C$148,'ABT Transactions'!$C$9:$C$40,E166,'ABT Transactions'!$D$9:$D$40,$B$156)","v":0},{"$f":"SUMIFS('ABT Transactions'!$B$9:$B$40,'ABT Transactions'!$G$9:$G$40,$C$164,'ABT Transactions'!$F$9:$F$40,$F$148,'ABT Transactions'!$C$9:$C$40,F166,'ABT Transactions'!$D$9:$D$40,$B$156)","v":0},{"$f":"SUMIFS('ABT Transactions'!$B$9:$B$40,'ABT Transactions'!$G$9:$G$40,$C$164,'ABT Transactions'!$F$9:$F$40,$F$148,'ABT Transactions'!$C$9:$C$40,G166,'ABT Transactions'!$D$9:$D$40,$B$156)","v":0},{"$f":"SUMIFS('ABT Transactions'!$B$9:$B$40,'ABT Transactions'!$G$9:$G$40,$C$164,'ABT Transactions'!$F$9:$F$40,$F$148,'ABT Transactions'!$C$9:$C$40,H166,'ABT Transactions'!$D$9:$D$40,$B$156)","v":0},{"$f":"SUMIFS('ABT Transactions'!$B$9:$B$40,'ABT Transactions'!$G$9:$G$40,$C$164,'ABT Transactions'!$F$9:$F$40,$I$148,'ABT Transactions'!$C$9:$C$40,I166,'ABT Transactions'!$D$9:$D$40,$B$156)","v":0},{"$f":"SUMIFS('ABT Transactions'!$B$9:$B$40,'ABT Transactions'!$G$9:$G$40,$C$164,'ABT Transactions'!$F$9:$F$40,$I$148,'ABT Transactions'!$C$9:$C$40,J166,'ABT Transactions'!$D$9:$D$40,$B$156)","v":0},{"$f":"SUMIFS('ABT Transactions'!$B$9:$B$40,'ABT Transactions'!$G$9:$G$40,$C$164,'ABT Transactions'!$F$9:$F$40,$I$148,'ABT Transactions'!$C$9:$C$40,K166,'ABT Transactions'!$D$9:$D$40,$B$156)","v":0},{"$f":"SUMIFS('ABT Transactions'!$B$9:$B$40,'ABT Transactions'!$G$9:$G$40,$C$164,'ABT Transactions'!$F$9:$F$40,$L$148,'ABT Transactions'!$C$9:$C$40,L166,'ABT Transactions'!$D$9:$D$40,$B$156)","v":0},{"$f":"SUMIFS('ABT Transactions'!$B$9:$B$40,'ABT Transactions'!$G$9:$G$40,$C$164,'ABT Transactions'!$F$9:$F$40,$L$148,'ABT Transactions'!$C$9:$C$40,M166,'ABT Transactions'!$D$9:$D$40,$B$156)","v":0},{"$f":"SUMIFS('ABT Transactions'!$B$9:$B$40,'ABT Transactions'!$G$9:$G$40,$C$164,'ABT Transactions'!$F$9:$F$40,$L$148,'ABT Transactions'!$C$9:$C$40,N166,'ABT Transactions'!$D$9:$D$40,$B$156)","v":0},{"$f":"SUMIFS('ABT Transactions'!$B$9:$B$40,'ABT Transactions'!$G$9:$G$40,$C$164,'ABT Transactions'!$F$9:$F$40,$O$148,'ABT Transactions'!$C$9:$C$40,O166,'ABT Transactions'!$D$9:$D$40,$B$156)","v":0},{"$f":"SUMIFS('ABT Transactions'!$B$9:$B$40,'ABT Transactions'!$G$9:$G$40,$C$164,'ABT Transactions'!$F$9:$F$40,$O$148,'ABT Transactions'!$C$9:$C$40,P166,'ABT Transactions'!$D$9:$D$40,$B$156)","v":0},{"$f":"SUMIFS('ABT Transactions'!$B$9:$B$40,'ABT Transactions'!$G$9:$G$40,$C$164,'ABT Transactions'!$F$9:$F$40,$O$148,'ABT Transactions'!$C$9:$C$40,Q166,'ABT Transactions'!$D$9:$D$40,$B$156)","v":0},{"$f":"SUMIFS('ABT Transactions'!$B$9:$B$40,'ABT Transactions'!$G$9:$G$40,$C$164,'ABT Transactions'!$F$9:$F$40,$R$148,'ABT Transactions'!$C$9:$C$40,R166,'ABT Transactions'!$D$9:$D$40,$B$156)","v":0},{"$f":"SUMIFS('ABT Transactions'!$B$9:$B$40,'ABT Transactions'!$G$9:$G$40,$C$164,'ABT Transactions'!$F$9:$F$40,$R$148,'ABT Transactions'!$C$9:$C$40,S166,'ABT Transactions'!$D$9:$D$40,$B$156)","v":0},{"$f":"SUMIFS('ABT Transactions'!$B$9:$B$40,'ABT Transactions'!$G$9:$G$40,$C$164,'ABT Transactions'!$F$9:$F$40,$R$148,'ABT Transactions'!$C$9:$C$40,T166,'ABT Transactions'!$D$9:$D$40,$B$156)","v":0},{"$f":"SUMIFS('ABT Transactions'!$B$9:$B$40,'ABT Transactions'!$G$9:$G$40,$C$164,'ABT Transactions'!$F$9:$F$40,$U$148,'ABT Transactions'!$C$9:$C$40,U166,'ABT Transactions'!$D$9:$D$40,$B$156)","v":0},{"$f":"SUMIFS('ABT Transactions'!$B$9:$B$40,'ABT Transactions'!$G$9:$G$40,$C$164,'ABT Transactions'!$F$9:$F$40,$U$148,'ABT Transactions'!$C$9:$C$40,V166,'ABT Transactions'!$D$9:$D$40,$B$156)","v":0},{"$f":"SUMIFS('ABT Transactions'!$B$9:$B$40,'ABT Transactions'!$G$9:$G$40,$C$164,'ABT Transactions'!$F$9:$F$40,U$148,'ABT Transactions'!$C$9:$C$40,W166,'ABT Transactions'!$D$9:$D$40,$B$156)","v":0},{"$f":"SUMIFS('ABT Transactions'!$B$9:$B$40,'ABT Transactions'!$G$9:$G$40,$C$164,'ABT Transactions'!$F$9:$F$40,$X$148,'ABT Transactions'!$C$9:$C$40,X166,'ABT Transactions'!$D$9:$D$40,$B$156)","v":0},{"$f":"SUMIFS('ABT Transactions'!$B$9:$B$40,'ABT Transactions'!$G$9:$G$40,$C$164,'ABT Transactions'!$F$9:$F$40,$X$148,'ABT Transactions'!$C$9:$C$40,Y166,'ABT Transactions'!$D$9:$D$40,$B$156)","v":0},{"$f":"SUMIFS('ABT Transactions'!$B$9:$B$40,'ABT Transactions'!$G$9:$G$40,$C$164,'ABT Transactions'!$F$9:$F$40,$X$148,'ABT Transactions'!$C$9:$C$40,Z166,'ABT Transactions'!$D$9:$D$40,$B$156)","v":0},{"$f":"SUMIFS('ABT Transactions'!$B$9:$B$40,'ABT Transactions'!$G$9:$G$40,$C$164,'ABT Transactions'!$F$9:$F$40,$AA$148,'ABT Transactions'!$C$9:$C$40,AA166,'ABT Transactions'!$D$9:$D$40,$B$156)","v":0},{"$f":"SUMIFS('ABT Transactions'!$B$9:$B$40,'ABT Transactions'!$G$9:$G$40,$C$164,'ABT Transactions'!$F$9:$F$40,$AA$148,'ABT Transactions'!$C$9:$C$40,AB166,'ABT Transactions'!$D$9:$D$40,$B$156)","v":0},{"$f":"SUMIFS('ABT Transactions'!$B$9:$B$40,'ABT Transactions'!$G$9:$G$40,$C$164,'ABT Transactions'!$F$9:$F$40,$AA$148,'ABT Transactions'!$C$9:$C$40,AC166,'ABT Transactions'!$D$9:$D$40,$B$156)","v":0},{"$f":"SUMIFS('ABT Transactions'!$B$9:$B$40,'ABT Transactions'!$G$9:$G$40,$C$164,'ABT Transactions'!$F$9:$F$40,$AD$148,'ABT Transactions'!$C$9:$C$40,AD166,'ABT Transactions'!$D$9:$D$40,$B$156)","v":0},{"$f":"SUMIFS('ABT Transactions'!$B$9:$B$40,'ABT Transactions'!$G$9:$G$40,$C$164,'ABT Transactions'!$F$9:$F$40,$AD$148,'ABT Transactions'!$C$9:$C$40,AE166,'ABT Transactions'!$D$9:$D$40,$B$156)","v":0},{"$f":"SUMIFS('ABT Transactions'!$B$9:$B$40,'ABT Transactions'!$G$9:$G$40,$C$164,'ABT Transactions'!$F$9:$F$40,$AD$148,'ABT Transactions'!$C$9:$C$40,AF166,'ABT Transactions'!$D$9:$D$40,$B$156)","v":0},{"$f":"SUMIFS('ABT Transactions'!$B$9:$B$40,'ABT Transactions'!$G$9:$G$40,$C$164,'ABT Transactions'!$F$9:$F$40,$AG$148,'ABT Transactions'!$C$9:$C$40,AG166,'ABT Transactions'!$D$9:$D$40,$B$156)","v":0},{"$f":"SUMIFS('ABT Transactions'!$B$9:$B$40,'ABT Transactions'!$G$9:$G$40,$C$164,'ABT Transactions'!$F$9:$F$40,$AG$148,'ABT Transactions'!$C$9:$C$40,AH166,'ABT Transactions'!$D$9:$D$40,$B$156)","v":0},{"$f":"SUMIFS('ABT Transactions'!$B$9:$B$40,'ABT Transactions'!$G$9:$G$40,$C$164,'ABT Transactions'!$F$9:$F$40,$AG$148,'ABT Transactions'!$C$9:$C$40,AI166,'ABT Transactions'!$D$9:$D$40,$B$156)","v":0},{"$f":"SUMIFS('ABT Transactions'!$B$9:$B$40,'ABT Transactions'!$G$9:$G$40,$C$164,'ABT Transactions'!$F$9:$F$40,$AJ$148,'ABT Transactions'!$C$9:$C$40,AJ166,'ABT Transactions'!$D$9:$D$40,$B$156)","v":0},{"$f":"SUMIFS('ABT Transactions'!$B$9:$B$40,'ABT Transactions'!$G$9:$G$40,$C$164,'ABT Transactions'!$F$9:$F$40,$AJ$148,'ABT Transactions'!$C$9:$C$40,AK166,'ABT Transactions'!$D$9:$D$40,$B$156)","v":0},{"$f":"SUMIFS('ABT Transactions'!$B$9:$B$40,'ABT Transactions'!$G$9:$G$40,$C$164,'ABT Transactions'!$F$9:$F$40,$AJ$148,'ABT Transactions'!$C$9:$C$40,AL166,'ABT Transactions'!$D$9:$D$40,$B$156)","v":0},{"$f":"SUMIFS('ABT Transactions'!$B$9:$B$40,'ABT Transactions'!$G$9:$G$40,$C$164,'ABT Transactions'!$F$9:$F$40,$AM$148,'ABT Transactions'!$C$9:$C$40,AM166,'ABT Transactions'!$D$9:$D$40,$B$156)","v":0},{"$f":"SUMIFS('ABT Transactions'!$B$9:$B$40,'ABT Transactions'!$G$9:$G$40,$C$164,'ABT Transactions'!$F$9:$F$40,$AM$148,'ABT Transactions'!$C$9:$C$40,AN166,'ABT Transactions'!$D$9:$D$40,$B$156)","v":0},{"$f":"SUMIFS('ABT Transactions'!$B$9:$B$40,'ABT Transactions'!$G$9:$G$40,$C$164,'ABT Transactions'!$F$9:$F$40,$AM$148,'ABT Transactions'!$C$9:$C$40,AO166,'ABT Transactions'!$D$9:$D$40,$B$156)","v":0},{"$f":"SUMIFS('ABT Transactions'!$B$9:$B$40,'ABT Transactions'!$G$9:$G$40,$C$164,'ABT Transactions'!$F$9:$F$40,$AP$148,'ABT Transactions'!$C$9:$C$40,AP166,'ABT Transactions'!$D$9:$D$40,$B$156)","v":0},{"$f":"SUMIFS('ABT Transactions'!$B$9:$B$40,'ABT Transactions'!$G$9:$G$40,$C$164,'ABT Transactions'!$F$9:$F$40,$AP$148,'ABT Transactions'!$C$9:$C$40,AQ166,'ABT Transactions'!$D$9:$D$40,$B$156)","v":0},{"$f":"SUMIFS('ABT Transactions'!$B$9:$B$40,'ABT Transactions'!$G$9:$G$40,$C$164,'ABT Transactions'!$F$9:$F$40,$AP$148,'ABT Transactions'!$C$9:$C$40,AR166,'ABT Transactions'!$D$9:$D$40,$B$156)","v":0},{"$f":"SUMIFS('ABT Transactions'!$B$9:$B$40,'ABT Transactions'!$G$9:$G$40,$C$164,'ABT Transactions'!$F$9:$F$40,$AS$148,'ABT Transactions'!$C$9:$C$40,AS166,'ABT Transactions'!$D$9:$D$40,$B$156)","v":0},{"$f":"SUMIFS('ABT Transactions'!$B$9:$B$40,'ABT Transactions'!$G$9:$G$40,$C$164,'ABT Transactions'!$F$9:$F$40,$AS$148,'ABT Transactions'!$C$9:$C$40,AT166,'ABT Transactions'!$D$9:$D$40,$B$156)","v":0},{"$f":"SUMIFS('ABT Transactions'!$B$9:$B$40,'ABT Transactions'!$G$9:$G$40,$C$164,'ABT Transactions'!$F$9:$F$40,$AS$148,'ABT Transactions'!$C$9:$C$40,AU166,'ABT Transactions'!$D$9:$D$40,$B$156)","v":0}]
[null,"Transfer ADV Credits (in)",{"$f":"SUMIFS('ABT Transactions'!$B$9:$B$40,'ABT Transactions'!$J$9:$J$40,$C$164,'ABT Transactions'!$I$9:$I$40,$C$148,'ABT Transactions'!$C$9:$C$40,C166,'ABT Transactions'!$D$9:$D$40,$B$157)","v":0},{"$f":"SUMIFS('ABT Transactions'!$B$9:$B$40,'ABT Transactions'!$J$9:$J$40,$C$164,'ABT Transactions'!$I$9:$I$40,$C$148,'ABT Transactions'!$C$9:$C$40,D166,'ABT Transactions'!$D$9:$D$40,$B$157)","v":0},{"$f":"SUMIFS('ABT Transactions'!$B$9:$B$40,'ABT Transactions'!$J$9:$J$40,$C$164,'ABT Transactions'!$I$9:$I$40,$C$148,'ABT Transactions'!$C$9:$C$40,E166,'ABT Transactions'!$D$9:$D$40,$B$157)","v":0},{"$f":"SUMIFS('ABT Transactions'!$B$9:$B$40,'ABT Transactions'!$J$9:$J$40,$C$164,'ABT Transactions'!$I$9:$I$40,$F$148,'ABT Transactions'!$C$9:$C$40,F166,'ABT Transactions'!$D$9:$D$40,$B$157)","v":0},{"$f":"SUMIFS('ABT Transactions'!$B$9:$B$40,'ABT Transactions'!$J$9:$J$40,$C$164,'ABT Transactions'!$I$9:$I$40,$F$148,'ABT Transactions'!$C$9:$C$40,G166,'ABT Transactions'!$D$9:$D$40,$B$157)","v":0},{"$f":"SUMIFS('ABT Transactions'!$B$9:$B$40,'ABT Transactions'!$J$9:$J$40,$C$164,'ABT Transactions'!$I$9:$I$40,$F$148,'ABT Transactions'!$C$9:$C$40,H166,'ABT Transactions'!$D$9:$D$40,$B$157)","v":0},{"$f":"SUMIFS('ABT Transactions'!$B$9:$B$40,'ABT Transactions'!$J$9:$J$40,$C$164,'ABT Transactions'!$I$9:$I$40,$I$148,'ABT Transactions'!$C$9:$C$40,I166,'ABT Transactions'!$D$9:$D$40,$B$157)","v":0},{"$f":"SUMIFS('ABT Transactions'!$B$9:$B$40,'ABT Transactions'!$J$9:$J$40,$C$164,'ABT Transactions'!$I$9:$I$40,$I$148,'ABT Transactions'!$C$9:$C$40,J166,'ABT Transactions'!$D$9:$D$40,$B$157)","v":0},{"$f":"SUMIFS('ABT Transactions'!$B$9:$B$40,'ABT Transactions'!$J$9:$J$40,$C$164,'ABT Transactions'!$I$9:$I$40,$I$148,'ABT Transactions'!$C$9:$C$40,K166,'ABT Transactions'!$D$9:$D$40,$B$157)","v":0},{"$f":"SUMIFS('ABT Transactions'!$B$9:$B$40,'ABT Transactions'!$J$9:$J$40,$C$164,'ABT Transactions'!$I$9:$I$40,$L$148,'ABT Transactions'!$C$9:$C$40,L166,'ABT Transactions'!$D$9:$D$40,$B$157)","v":0},{"$f":"SUMIFS('ABT Transactions'!$B$9:$B$40,'ABT Transactions'!$J$9:$J$40,$C$164,'ABT Transactions'!$I$9:$I$40,$L$148,'ABT Transactions'!$C$9:$C$40,M166,'ABT Transactions'!$D$9:$D$40,$B$157)","v":0},{"$f":"SUMIFS('ABT Transactions'!$B$9:$B$40,'ABT Transactions'!$J$9:$J$40,$C$164,'ABT Transactions'!$I$9:$I$40,$L$148,'ABT Transactions'!$C$9:$C$40,N166,'ABT Transactions'!$D$9:$D$40,$B$157)","v":0},{"$f":"SUMIFS('ABT Transactions'!$B$9:$B$40,'ABT Transactions'!$J$9:$J$40,$C$164,'ABT Transactions'!$I$9:$I$40,$O$148,'ABT Transactions'!$C$9:$C$40,O166,'ABT Transactions'!$D$9:$D$40,$B$157)","v":0},{"$f":"SUMIFS('ABT Transactions'!$B$9:$B$40,'ABT Transactions'!$J$9:$J$40,$C$164,'ABT Transactions'!$I$9:$I$40,$O$148,'ABT Transactions'!$C$9:$C$40,P166,'ABT Transactions'!$D$9:$D$40,$B$157)","v":0},{"$f":"SUMIFS('ABT Transactions'!$B$9:$B$40,'ABT Transactions'!$J$9:$J$40,$C$164,'ABT Transactions'!$I$9:$I$40,$O$148,'ABT Transactions'!$C$9:$C$40,Q166,'ABT Transactions'!$D$9:$D$40,$B$157)","v":0},{"$f":"SUMIFS('ABT Transactions'!$B$9:$B$40,'ABT Transactions'!$J$9:$J$40,$C$164,'ABT Transactions'!$I$9:$I$40,$R$148,'ABT Transactions'!$C$9:$C$40,R166,'ABT Transactions'!$D$9:$D$40,$B$157)","v":0},{"$f":"SUMIFS('ABT Transactions'!$B$9:$B$40,'ABT Transactions'!$J$9:$J$40,$C$164,'ABT Transactions'!$I$9:$I$40,$R$148,'ABT Transactions'!$C$9:$C$40,S166,'ABT Transactions'!$D$9:$D$40,$B$157)","v":0},{"$f":"SUMIFS('ABT Transactions'!$B$9:$B$40,'ABT Transactions'!$J$9:$J$40,$C$164,'ABT Transactions'!$I$9:$I$40,$R$148,'ABT Transactions'!$C$9:$C$40,T166,'ABT Transactions'!$D$9:$D$40,$B$157)","v":0},{"$f":"SUMIFS('ABT Transactions'!$B$9:$B$40,'ABT Transactions'!$J$9:$J$40,$C$164,'ABT Transactions'!$I$9:$I$40,$U$148,'ABT Transactions'!$C$9:$C$40,U166,'ABT Transactions'!$D$9:$D$40,$B$157)","v":0},{"$f":"SUMIFS('ABT Transactions'!$B$9:$B$40,'ABT Transactions'!$J$9:$J$40,$C$164,'ABT Transactions'!$I$9:$I$40,$U$148,'ABT Transactions'!$C$9:$C$40,V166,'ABT Transactions'!$D$9:$D$40,$B$157)","v":0},{"$f":"SUMIFS('ABT Transactions'!$B$9:$B$40,'ABT Transactions'!$J$9:$J$40,$C$164,'ABT Transactions'!$I$9:$I$40,U$148,'ABT Transactions'!$C$9:$C$40,W166,'ABT Transactions'!$D$9:$D$40,$B$157)","v":0},{"$f":"SUMIFS('ABT Transactions'!$B$9:$B$40,'ABT Transactions'!$J$9:$J$40,$C$164,'ABT Transactions'!$I$9:$I$40,$X$148,'ABT Transactions'!$C$9:$C$40,X166,'ABT Transactions'!$D$9:$D$40,$B$157)","v":0},{"$f":"SUMIFS('ABT Transactions'!$B$9:$B$40,'ABT Transactions'!$J$9:$J$40,$C$164,'ABT Transactions'!$I$9:$I$40,$X$148,'ABT Transactions'!$C$9:$C$40,Y166,'ABT Transactions'!$D$9:$D$40,$B$157)","v":0},{"$f":"SUMIFS('ABT Transactions'!$B$9:$B$40,'ABT Transactions'!$J$9:$J$40,$C$164,'ABT Transactions'!$I$9:$I$40,$X$148,'ABT Transactions'!$C$9:$C$40,Z166,'ABT Transactions'!$D$9:$D$40,$B$157)","v":0},{"$f":"SUMIFS('ABT Transactions'!$B$9:$B$40,'ABT Transactions'!$J$9:$J$40,$C$164,'ABT Transactions'!$I$9:$I$40,$AA$148,'ABT Transactions'!$C$9:$C$40,AA166,'ABT Transactions'!$D$9:$D$40,$B$157)","v":0},{"$f":"SUMIFS('ABT Transactions'!$B$9:$B$40,'ABT Transactions'!$J$9:$J$40,$C$164,'ABT Transactions'!$I$9:$I$40,$AA$148,'ABT Transactions'!$C$9:$C$40,AB166,'ABT Transactions'!$D$9:$D$40,$B$157)","v":0},{"$f":"SUMIFS('ABT Transactions'!$B$9:$B$40,'ABT Transactions'!$J$9:$J$40,$C$164,'ABT Transactions'!$I$9:$I$40,$AA$148,'ABT Transactions'!$C$9:$C$40,AC166,'ABT Transactions'!$D$9:$D$40,$B$157)","v":0},{"$f":"SUMIFS('ABT Transactions'!$B$9:$B$40,'ABT Transactions'!$J$9:$J$40,$C$164,'ABT Transactions'!$I$9:$I$40,$AD$148,'ABT Transactions'!$C$9:$C$40,AD166,'ABT Transactions'!$D$9:$D$40,$B$157)","v":0},{"$f":"SUMIFS('ABT Transactions'!$B$9:$B$40,'ABT Transactions'!$J$9:$J$40,$C$164,'ABT Transactions'!$I$9:$I$40,$AD$148,'ABT Transactions'!$C$9:$C$40,AE166,'ABT Transactions'!$D$9:$D$40,$B$157)","v":0},{"$f":"SUMIFS('ABT Transactions'!$B$9:$B$40,'ABT Transactions'!$J$9:$J$40,$C$164,'ABT Transactions'!$I$9:$I$40,$AD$148,'ABT Transactions'!$C$9:$C$40,AF166,'ABT Transactions'!$D$9:$D$40,$B$157)","v":0},{"$f":"SUMIFS('ABT Transactions'!$B$9:$B$40,'ABT Transactions'!$J$9:$J$40,$C$164,'ABT Transactions'!$I$9:$I$40,$AG$148,'ABT Transactions'!$C$9:$C$40,AG166,'ABT Transactions'!$D$9:$D$40,$B$157)","v":0},{"$f":"SUMIFS('ABT Transactions'!$B$9:$B$40,'ABT Transactions'!$J$9:$J$40,$C$164,'ABT Transactions'!$I$9:$I$40,$AG$148,'ABT Transactions'!$C$9:$C$40,AH166,'ABT Transactions'!$D$9:$D$40,$B$157)","v":0},{"$f":"SUMIFS('ABT Transactions'!$B$9:$B$40,'ABT Transactions'!$J$9:$J$40,$C$164,'ABT Transactions'!$I$9:$I$40,$AG$148,'ABT Transactions'!$C$9:$C$40,AI166,'ABT Transactions'!$D$9:$D$40,$B$157)","v":0},{"$f":"SUMIFS('ABT Transactions'!$B$9:$B$40,'ABT Transactions'!$J$9:$J$40,$C$164,'ABT Transactions'!$I$9:$I$40,$AJ$148,'ABT Transactions'!$C$9:$C$40,AJ166,'ABT Transactions'!$D$9:$D$40,$B$157)","v":0},{"$f":"SUMIFS('ABT Transactions'!$B$9:$B$40,'ABT Transactions'!$J$9:$J$40,$C$164,'ABT Transactions'!$I$9:$I$40,$AJ$148,'ABT Transactions'!$C$9:$C$40,AK166,'ABT Transactions'!$D$9:$D$40,$B$157)","v":0},{"$f":"SUMIFS('ABT Transactions'!$B$9:$B$40,'ABT Transactions'!$J$9:$J$40,$C$164,'ABT Transactions'!$I$9:$I$40,$AJ$148,'ABT Transactions'!$C$9:$C$40,AL166,'ABT Transactions'!$D$9:$D$40,$B$157)","v":0},{"$f":"SUMIFS('ABT Transactions'!$B$9:$B$40,'ABT Transactions'!$J$9:$J$40,$C$164,'ABT Transactions'!$I$9:$I$40,$AM$148,'ABT Transactions'!$C$9:$C$40,AM166,'ABT Transactions'!$D$9:$D$40,$B$157)","v":0},{"$f":"SUMIFS('ABT Transactions'!$B$9:$B$40,'ABT Transactions'!$J$9:$J$40,$C$164,'ABT Transactions'!$I$9:$I$40,$AM$148,'ABT Transactions'!$C$9:$C$40,AN166,'ABT Transactions'!$D$9:$D$40,$B$157)","v":0},{"$f":"SUMIFS('ABT Transactions'!$B$9:$B$40,'ABT Transactions'!$J$9:$J$40,$C$164,'ABT Transactions'!$I$9:$I$40,$AM$148,'ABT Transactions'!$C$9:$C$40,AO166,'ABT Transactions'!$D$9:$D$40,$B$157)","v":0},{"$f":"SUMIFS('ABT Transactions'!$B$9:$B$40,'ABT Transactions'!$J$9:$J$40,$C$164,'ABT Transactions'!$I$9:$I$40,$AP$148,'ABT Transactions'!$C$9:$C$40,AP166,'ABT Transactions'!$D$9:$D$40,$B$157)","v":0},{"$f":"SUMIFS('ABT Transactions'!$B$9:$B$40,'ABT Transactions'!$J$9:$J$40,$C$164,'ABT Transactions'!$I$9:$I$40,$AP$148,'ABT Transactions'!$C$9:$C$40,AQ166,'ABT Transactions'!$D$9:$D$40,$B$157)","v":0},{"$f":"SUMIFS('ABT Transactions'!$B$9:$B$40,'ABT Transactions'!$J$9:$J$40,$C$164,'ABT Transactions'!$I$9:$I$40,$AP$148,'ABT Transactions'!$C$9:$C$40,AR166,'ABT Transactions'!$D$9:$D$40,$B$157)","v":0},{"$f":"SUMIFS('ABT Transactions'!$B$9:$B$40,'ABT Transactions'!$J$9:$J$40,$C$164,'ABT Transactions'!$I$9:$I$40,$AS$148,'ABT Transactions'!$C$9:$C$40,AS166,'ABT Transactions'!$D$9:$D$40,$B$157)","v":0},{"$f":"SUMIFS('ABT Transactions'!$B$9:$B$40,'ABT Transactions'!$J$9:$J$40,$C$164,'ABT Transactions'!$I$9:$I$40,$AS$148,'ABT Transactions'!$C$9:$C$40,AT166,'ABT Transactions'!$D$9:$D$40,$B$157)","v":0},{"$f":"SUMIFS('ABT Transactions'!$B$9:$B$40,'ABT Transactions'!$J$9:$J$40,$C$164,'ABT Transactions'!$I$9:$I$40,$AS$148,'ABT Transactions'!$C$9:$C$40,AU166,'ABT Transactions'!$D$9:$D$40,$B$157)","v":0}]
[null,"Retired Credits",{"$f":"SUMIFS('ABT Transactions'!$B$9:$B$40,'ABT Transactions'!$G$9:$G$40,$C$164,'ABT Transactions'!$F$9:$F$40,$C$148,'ABT Transactions'!$C$9:$C$40,C166,'ABT Transactions'!$D$9:$D$40,$B$158)","v":0},{"$f":"SUMIFS('ABT Transactions'!$B$9:$B$40,'ABT Transactions'!$G$9:$G$40,$C$164,'ABT Transactions'!$F$9:$F$40,$C$148,'ABT Transactions'!$C$9:$C$40,D166,'ABT Transactions'!$D$9:$D$40,$B$158)","v":0},{"$f":"SUMIFS('ABT Transactions'!$B$9:$B$40,'ABT Transactions'!$G$9:$G$40,$C$164,'ABT Transactions'!$F$9:$F$40,$C$148,'ABT Transactions'!$C$9:$C$40,E166,'ABT Transactions'!$D$9:$D$40,$B$158)","v":0},{"$f":"SUMIFS('ABT Transactions'!$B$9:$B$40,'ABT Transactions'!$G$9:$G$40,$C$164,'ABT Transactions'!$F$9:$F$40,$F$148,'ABT Transactions'!$C$9:$C$40,F166,'ABT Transactions'!$D$9:$D$40,$B$158)","v":0},{"$f":"SUMIFS('ABT Transactions'!$B$9:$B$40,'ABT Transactions'!$G$9:$G$40,$C$164,'ABT Transactions'!$F$9:$F$40,$F$148,'ABT Transactions'!$C$9:$C$40,G166,'ABT Transactions'!$D$9:$D$40,$B$158)","v":0},{"$f":"SUMIFS('ABT Transactions'!$B$9:$B$40,'ABT Transactions'!$G$9:$G$40,$C$164,'ABT Transactions'!$F$9:$F$40,$F$148,'ABT Transactions'!$C$9:$C$40,H166,'ABT Transactions'!$D$9:$D$40,$B$158)","v":0},{"$f":"SUMIFS('ABT Transactions'!$B$9:$B$40,'ABT Transactions'!$G$9:$G$40,$C$164,'ABT Transactions'!$F$9:$F$40,$I$148,'ABT Transactions'!$C$9:$C$40,I166,'ABT Transactions'!$D$9:$D$40,$B$158)","v":0},{"$f":"SUMIFS('ABT Transactions'!$B$9:$B$40,'ABT Transactions'!$G$9:$G$40,$C$164,'ABT Transactions'!$F$9:$F$40,$I$148,'ABT Transactions'!$C$9:$C$40,J166,'ABT Transactions'!$D$9:$D$40,$B$158)","v":0},{"$f":"SUMIFS('ABT Transactions'!$B$9:$B$40,'ABT Transactions'!$G$9:$G$40,$C$164,'ABT Transactions'!$F$9:$F$40,$I$148,'ABT Transactions'!$C$9:$C$40,K166,'ABT Transactions'!$D$9:$D$40,$B$158)","v":0},{"$f":"SUMIFS('ABT Transactions'!$B$9:$B$40,'ABT Transactions'!$G$9:$G$40,$C$164,'ABT Transactions'!$F$9:$F$40,$L$148,'ABT Transactions'!$C$9:$C$40,L166,'ABT Transactions'!$D$9:$D$40,$B$158)","v":0},{"$f":"SUMIFS('ABT Transactions'!$B$9:$B$40,'ABT Transactions'!$G$9:$G$40,$C$164,'ABT Transactions'!$F$9:$F$40,$L$148,'ABT Transactions'!$C$9:$C$40,M166,'ABT Transactions'!$D$9:$D$40,$B$158)","v":0},{"$f":"SUMIFS('ABT Transactions'!$B$9:$B$40,'ABT Transactions'!$G$9:$G$40,$C$164,'ABT Transactions'!$F$9:$F$40,$L$148,'ABT Transactions'!$C$9:$C$40,N166,'ABT Transactions'!$D$9:$D$40,$B$158)","v":0},{"$f":"SUMIFS('ABT Transactions'!$B$9:$B$40,'ABT Transactions'!$G$9:$G$40,$C$164,'ABT Transactions'!$F$9:$F$40,$O$148,'ABT Transactions'!$C$9:$C$40,O166,'ABT Transactions'!$D$9:$D$40,$B$158)","v":0},{"$f":"SUMIFS('ABT Transactions'!$B$9:$B$40,'ABT Transactions'!$G$9:$G$40,$C$164,'ABT Transactions'!$F$9:$F$40,$O$148,'ABT Transactions'!$C$9:$C$40,P166,'ABT Transactions'!$D$9:$D$40,$B$158)","v":0},{"$f":"SUMIFS('ABT Transactions'!$B$9:$B$40,'ABT Transactions'!$G$9:$G$40,$C$164,'ABT Transactions'!$F$9:$F$40,$O$148,'ABT Transactions'!$C$9:$C$40,Q166,'ABT Transactions'!$D$9:$D$40,$B$158)","v":0},{"$f":"SUMIFS('ABT Transactions'!$B$9:$B$40,'ABT Transactions'!$G$9:$G$40,$C$164,'ABT Transactions'!$F$9:$F$40,$R$148,'ABT Transactions'!$C$9:$C$40,R166,'ABT Transactions'!$D$9:$D$40,$B$158)","v":0},{"$f":"SUMIFS('ABT Transactions'!$B$9:$B$40,'ABT Transactions'!$G$9:$G$40,$C$164,'ABT Transactions'!$F$9:$F$40,$R$148,'ABT Transactions'!$C$9:$C$40,S166,'ABT Transactions'!$D$9:$D$40,$B$158)","v":0},{"$f":"SUMIFS('ABT Transactions'!$B$9:$B$40,'ABT Transactions'!$G$9:$G$40,$C$164,'ABT Transactions'!$F$9:$F$40,$R$148,'ABT Transactions'!$C$9:$C$40,T166,'ABT Transactions'!$D$9:$D$40,$B$158)","v":0},{"$f":"SUMIFS('ABT Transactions'!$B$9:$B$40,'ABT Transactions'!$G$9:$G$40,$C$164,'ABT Transactions'!$F$9:$F$40,$U$148,'ABT Transactions'!$C$9:$C$40,U166,'ABT Transactions'!$D$9:$D$40,$B$158)","v":0},{"$f":"SUMIFS('ABT Transactions'!$B$9:$B$40,'ABT Transactions'!$G$9:$G$40,$C$164,'ABT Transactions'!$F$9:$F$40,$U$148,'ABT Transactions'!$C$9:$C$40,V166,'ABT Transactions'!$D$9:$D$40,$B$158)","v":0},{"$f":"SUMIFS('ABT Transactions'!$B$9:$B$40,'ABT Transactions'!$G$9:$G$40,$C$164,'ABT Transactions'!$F$9:$F$40,U$148,'ABT Transactions'!$C$9:$C$40,W166,'ABT Transactions'!$D$9:$D$40,$B$158)","v":0},{"$f":"SUMIFS('ABT Transactions'!$B$9:$B$40,'ABT Transactions'!$G$9:$G$40,$C$164,'ABT Transactions'!$F$9:$F$40,$X$148,'ABT Transactions'!$C$9:$C$40,X166,'ABT Transactions'!$D$9:$D$40,$B$158)","v":0},{"$f":"SUMIFS('ABT Transactions'!$B$9:$B$40,'ABT Transactions'!$G$9:$G$40,$C$164,'ABT Transactions'!$F$9:$F$40,$X$148,'ABT Transactions'!$C$9:$C$40,Y166,'ABT Transactions'!$D$9:$D$40,$B$158)","v":0},{"$f":"SUMIFS('ABT Transactions'!$B$9:$B$40,'ABT Transactions'!$G$9:$G$40,$C$164,'ABT Transactions'!$F$9:$F$40,$X$148,'ABT Transactions'!$C$9:$C$40,Z166,'ABT Transactions'!$D$9:$D$40,$B$158)","v":0},{"$f":"SUMIFS('ABT Transactions'!$B$9:$B$40,'ABT Transactions'!$G$9:$G$40,$C$164,'ABT Transactions'!$F$9:$F$40,$AA$148,'ABT Transactions'!$C$9:$C$40,AA166,'ABT Transactions'!$D$9:$D$40,$B$158)","v":0},{"$f":"SUMIFS('ABT Transactions'!$B$9:$B$40,'ABT Transactions'!$G$9:$G$40,$C$164,'ABT Transactions'!$F$9:$F$40,$AA$148,'ABT Transactions'!$C$9:$C$40,AB166,'ABT Transactions'!$D$9:$D$40,$B$158)","v":0},{"$f":"SUMIFS('ABT Transactions'!$B$9:$B$40,'ABT Transactions'!$G$9:$G$40,$C$164,'ABT Transactions'!$F$9:$F$40,$AA$148,'ABT Transactions'!$C$9:$C$40,AC166,'ABT Transactions'!$D$9:$D$40,$B$158)","v":0},{"$f":"SUMIFS('ABT Transactions'!$B$9:$B$40,'ABT Transactions'!$G$9:$G$40,$C$164,'ABT Transactions'!$F$9:$F$40,$AD$148,'ABT Transactions'!$C$9:$C$40,AD166,'ABT Transactions'!$D$9:$D$40,$B$158)","v":0},{"$f":"SUMIFS('ABT Transactions'!$B$9:$B$40,'ABT Transactions'!$G$9:$G$40,$C$164,'ABT Transactions'!$F$9:$F$40,$AD$148,'ABT Transactions'!$C$9:$C$40,AE166,'ABT Transactions'!$D$9:$D$40,$B$158)","v":0},{"$f":"SUMIFS('ABT Transactions'!$B$9:$B$40,'ABT Transactions'!$G$9:$G$40,$C$164,'ABT Transactions'!$F$9:$F$40,$AD$148,'ABT Transactions'!$C$9:$C$40,AF166,'ABT Transactions'!$D$9:$D$40,$B$158)","v":0},{"$f":"SUMIFS('ABT Transactions'!$B$9:$B$40,'ABT Transactions'!$G$9:$G$40,$C$164,'ABT Transactions'!$F$9:$F$40,$AG$148,'ABT Transactions'!$C$9:$C$40,AG166,'ABT Transactions'!$D$9:$D$40,$B$158)","v":0},{"$f":"SUMIFS('ABT Transactions'!$B$9:$B$40,'ABT Transactions'!$G$9:$G$40,$C$164,'ABT Transactions'!$F$9:$F$40,$AG$148,'ABT Transactions'!$C$9:$C$40,AH166,'ABT Transactions'!$D$9:$D$40,$B$158)","v":0},{"$f":"SUMIFS('ABT Transactions'!$B$9:$B$40,'ABT Transactions'!$G$9:$G$40,$C$164,'ABT Transactions'!$F$9:$F$40,$AG$148,'ABT Transactions'!$C$9:$C$40,AI166,'ABT Transactions'!$D$9:$D$40,$B$158)","v":0},{"$f":"SUMIFS('ABT Transactions'!$B$9:$B$40,'ABT Transactions'!$G$9:$G$40,$C$164,'ABT Transactions'!$F$9:$F$40,$AJ$148,'ABT Transactions'!$C$9:$C$40,AJ166,'ABT Transactions'!$D$9:$D$40,$B$158)","v":0},{"$f":"SUMIFS('ABT Transactions'!$B$9:$B$40,'ABT Transactions'!$G$9:$G$40,$C$164,'ABT Transactions'!$F$9:$F$40,$AJ$148,'ABT Transactions'!$C$9:$C$40,AK166,'ABT Transactions'!$D$9:$D$40,$B$158)","v":0},{"$f":"SUMIFS('ABT Transactions'!$B$9:$B$40,'ABT Transactions'!$G$9:$G$40,$C$164,'ABT Transactions'!$F$9:$F$40,$AJ$148,'ABT Transactions'!$C$9:$C$40,AL166,'ABT Transactions'!$D$9:$D$40,$B$158)","v":0},{"$f":"SUMIFS('ABT Transactions'!$B$9:$B$40,'ABT Transactions'!$G$9:$G$40,$C$164,'ABT Transactions'!$F$9:$F$40,$AM$148,'ABT Transactions'!$C$9:$C$40,AM166,'ABT Transactions'!$D$9:$D$40,$B$158)","v":0},{"$f":"SUMIFS('ABT Transactions'!$B$9:$B$40,'ABT Transactions'!$G$9:$G$40,$C$164,'ABT Transactions'!$F$9:$F$40,$AM$148,'ABT Transactions'!$C$9:$C$40,AN166,'ABT Transactions'!$D$9:$D$40,$B$158)","v":0},{"$f":"SUMIFS('ABT Transactions'!$B$9:$B$40,'ABT Transactions'!$G$9:$G$40,$C$164,'ABT Transactions'!$F$9:$F$40,$AM$148,'ABT Transactions'!$C$9:$C$40,AO166,'ABT Transactions'!$D$9:$D$40,$B$158)","v":0},{"$f":"SUMIFS('ABT Transactions'!$B$9:$B$40,'ABT Transactions'!$G$9:$G$40,$C$164,'ABT Transactions'!$F$9:$F$40,$AP$148,'ABT Transactions'!$C$9:$C$40,AP166,'ABT Transactions'!$D$9:$D$40,$B$158)","v":0},{"$f":"SUMIFS('ABT Transactions'!$B$9:$B$40,'ABT Transactions'!$G$9:$G$40,$C$164,'ABT Transactions'!$F$9:$F$40,$AP$148,'ABT Transactions'!$C$9:$C$40,AQ166,'ABT Transactions'!$D$9:$D$40,$B$158)","v":0},{"$f":"SUMIFS('ABT Transactions'!$B$9:$B$40,'ABT Transactions'!$G$9:$G$40,$C$164,'ABT Transactions'!$F$9:$F$40,$AP$148,'ABT Transactions'!$C$9:$C$40,AR166,'ABT Transactions'!$D$9:$D$40,$B$158)","v":0},{"$f":"SUMIFS('ABT Transactions'!$B$9:$B$40,'ABT Transactions'!$G$9:$G$40,$C$164,'ABT Transactions'!$F$9:$F$40,$AS$148,'ABT Transactions'!$C$9:$C$40,AS166,'ABT Transactions'!$D$9:$D$40,$B$158)","v":0},{"$f":"SUMIFS('ABT Transactions'!$B$9:$B$40,'ABT Transactions'!$G$9:$G$40,$C$164,'ABT Transactions'!$F$9:$F$40,$AS$148,'ABT Transactions'!$C$9:$C$40,AT166,'ABT Transactions'!$D$9:$D$40,$B$158)","v":0},{"$f":"SUMIFS('ABT Transactions'!$B$9:$B$40,'ABT Transactions'!$G$9:$G$40,$C$164,'ABT Transactions'!$F$9:$F$40,$AS$148,'ABT Transactions'!$C$9:$C$40,AU166,'ABT Transactions'!$D$9:$D$40,$B$158)","v":0}]
[null,"Expired Credits",{"$f":"SUMIFS('ABT Transactions'!$B$9:$B$40,'ABT Transactions'!$G$9:$G$40,$C$164,'ABT Transactions'!$F$9:$F$40,$C$148,'ABT Transactions'!$C$9:$C$40,C166,'ABT Transactions'!$D$9:$D$40,$B$159)","v":0},{"$f":"SUMIFS('ABT Transactions'!$B$9:$B$40,'ABT Transactions'!$G$9:$G$40,$C$164,'ABT Transactions'!$F$9:$F$40,$C$148,'ABT Transactions'!$C$9:$C$40,D166,'ABT Transactions'!$D$9:$D$40,$B$159)","v":0},{"$f":"SUMIFS('ABT Transactions'!$B$9:$B$40,'ABT Transactions'!$G$9:$G$40,$C$164,'ABT Transactions'!$F$9:$F$40,$C$148,'ABT Transactions'!$C$9:$C$40,E166,'ABT Transactions'!$D$9:$D$40,$B$159)","v":0},{"$f":"SUMIFS('ABT Transactions'!$B$9:$B$40,'ABT Transactions'!$G$9:$G$40,$C$164,'ABT Transactions'!$F$9:$F$40,$F$148,'ABT Transactions'!$C$9:$C$40,F166,'ABT Transactions'!$D$9:$D$40,$B$159)","v":0},{"$f":"SUMIFS('ABT Transactions'!$B$9:$B$40,'ABT Transactions'!$G$9:$G$40,$C$164,'ABT Transactions'!$F$9:$F$40,$F$148,'ABT Transactions'!$C$9:$C$40,G166,'ABT Transactions'!$D$9:$D$40,$B$159)","v":0},{"$f":"SUMIFS('ABT Transactions'!$B$9:$B$40,'ABT Transactions'!$G$9:$G$40,$C$164,'ABT Transactions'!$F$9:$F$40,$F$148,'ABT Transactions'!$C$9:$C$40,H166,'ABT Transactions'!$D$9:$D$40,$B$159)","v":0},{"$f":"SUMIFS('ABT Transactions'!$B$9:$B$40,'ABT Transactions'!$G$9:$G$40,$C$164,'ABT Transactions'!$F$9:$F$40,$I$148,'ABT Transactions'!$C$9:$C$40,I166,'ABT Transactions'!$D$9:$D$40,$B$159)","v":0},{"$f":"SUMIFS('ABT Transactions'!$B$9:$B$40,'ABT Transactions'!$G$9:$G$40,$C$164,'ABT Transactions'!$F$9:$F$40,$I$148,'ABT Transactions'!$C$9:$C$40,J166,'ABT Transactions'!$D$9:$D$40,$B$159)","v":0},{"$f":"SUMIFS('ABT Transactions'!$B$9:$B$40,'ABT Transactions'!$G$9:$G$40,$C$164,'ABT Transactions'!$F$9:$F$40,$I$148,'ABT Transactions'!$C$9:$C$40,K166,'ABT Transactions'!$D$9:$D$40,$B$159)","v":0},{"$f":"SUMIFS('ABT Transactions'!$B$9:$B$40,'ABT Transactions'!$G$9:$G$40,$C$164,'ABT Transactions'!$F$9:$F$40,$L$148,'ABT Transactions'!$C$9:$C$40,L166,'ABT Transactions'!$D$9:$D$40,$B$159)","v":0},{"$f":"SUMIFS('ABT Transactions'!$B$9:$B$40,'ABT Transactions'!$G$9:$G$40,$C$164,'ABT Transactions'!$F$9:$F$40,$L$148,'ABT Transactions'!$C$9:$C$40,M166,'ABT Transactions'!$D$9:$D$40,$B$159)","v":0},{"$f":"SUMIFS('ABT Transactions'!$B$9:$B$40,'ABT Transactions'!$G$9:$G$40,$C$164,'ABT Transactions'!$F$9:$F$40,$L$148,'ABT Transactions'!$C$9:$C$40,N166,'ABT Transactions'!$D$9:$D$40,$B$159)","v":0},{"$f":"SUMIFS('ABT Transactions'!$B$9:$B$40,'ABT Transactions'!$G$9:$G$40,$C$164,'ABT Transactions'!$F$9:$F$40,$O$148,'ABT Transactions'!$C$9:$C$40,O166,'ABT Transactions'!$D$9:$D$40,$B$159)","v":0},{"$f":"SUMIFS('ABT Transactions'!$B$9:$B$40,'ABT Transactions'!$G$9:$G$40,$C$164,'ABT Transactions'!$F$9:$F$40,$O$148,'ABT Transactions'!$C$9:$C$40,P166,'ABT Transactions'!$D$9:$D$40,$B$159)","v":0},{"$f":"SUMIFS('ABT Transactions'!$B$9:$B$40,'ABT Transactions'!$G$9:$G$40,$C$164,'ABT Transactions'!$F$9:$F$40,$O$148,'ABT Transactions'!$C$9:$C$40,Q166,'ABT Transactions'!$D$9:$D$40,$B$159)","v":0},{"$f":"SUMIFS('ABT Transactions'!$B$9:$B$40,'ABT Transactions'!$G$9:$G$40,$C$164,'ABT Transactions'!$F$9:$F$40,$R$148,'ABT Transactions'!$C$9:$C$40,R166,'ABT Transactions'!$D$9:$D$40,$B$159)","v":0},{"$f":"SUMIFS('ABT Transactions'!$B$9:$B$40,'ABT Transactions'!$G$9:$G$40,$C$164,'ABT Transactions'!$F$9:$F$40,$R$148,'ABT Transactions'!$C$9:$C$40,S166,'ABT Transactions'!$D$9:$D$40,$B$159)","v":0},{"$f":"SUMIFS('ABT Transactions'!$B$9:$B$40,'ABT Transactions'!$G$9:$G$40,$C$164,'ABT Transactions'!$F$9:$F$40,$R$148,'ABT Transactions'!$C$9:$C$40,T166,'ABT Transactions'!$D$9:$D$40,$B$159)","v":0},{"$f":"SUMIFS('ABT Transactions'!$B$9:$B$40,'ABT Transactions'!$G$9:$G$40,$C$164,'ABT Transactions'!$F$9:$F$40,$U$148,'ABT Transactions'!$C$9:$C$40,U166,'ABT Transactions'!$D$9:$D$40,$B$159)","v":0},{"$f":"SUMIFS('ABT Transactions'!$B$9:$B$40,'ABT Transactions'!$G$9:$G$40,$C$164,'ABT Transactions'!$F$9:$F$40,$U$148,'ABT Transactions'!$C$9:$C$40,V166,'ABT Transactions'!$D$9:$D$40,$B$159)","v":0},{"$f":"SUMIFS('ABT Transactions'!$B$9:$B$40,'ABT Transactions'!$G$9:$G$40,$C$164,'ABT Transactions'!$F$9:$F$40,U$148,'ABT Transactions'!$C$9:$C$40,W166,'ABT Transactions'!$D$9:$D$40,$B$159)","v":0},{"$f":"SUMIFS('ABT Transactions'!$B$9:$B$40,'ABT Transactions'!$G$9:$G$40,$C$164,'ABT Transactions'!$F$9:$F$40,$X$148,'ABT Transactions'!$C$9:$C$40,X166,'ABT Transactions'!$D$9:$D$40,$B$159)","v":0},{"$f":"SUMIFS('ABT Transactions'!$B$9:$B$40,'ABT Transactions'!$G$9:$G$40,$C$164,'ABT Transactions'!$F$9:$F$40,$X$148,'ABT Transactions'!$C$9:$C$40,Y166,'ABT Transactions'!$D$9:$D$40,$B$159)","v":0},{"$f":"SUMIFS('ABT Transactions'!$B$9:$B$40,'ABT Transactions'!$G$9:$G$40,$C$164,'ABT Transactions'!$F$9:$F$40,$X$148,'ABT Transactions'!$C$9:$C$40,Z166,'ABT Transactions'!$D$9:$D$40,$B$159)","v":0},{"$f":"SUMIFS('ABT Transactions'!$B$9:$B$40,'ABT Transactions'!$G$9:$G$40,$C$164,'ABT Transactions'!$F$9:$F$40,$AA$148,'ABT Transactions'!$C$9:$C$40,AA166,'ABT Transactions'!$D$9:$D$40,$B$159)","v":0},{"$f":"SUMIFS('ABT Transactions'!$B$9:$B$40,'ABT Transactions'!$G$9:$G$40,$C$164,'ABT Transactions'!$F$9:$F$40,$AA$148,'ABT Transactions'!$C$9:$C$40,AB166,'ABT Transactions'!$D$9:$D$40,$B$159)","v":0},{"$f":"SUMIFS('ABT Transactions'!$B$9:$B$40,'ABT Transactions'!$G$9:$G$40,$C$164,'ABT Transactions'!$F$9:$F$40,$AA$148,'ABT Transactions'!$C$9:$C$40,AC166,'ABT Transactions'!$D$9:$D$40,$B$159)","v":0},{"$f":"SUMIFS('ABT Transactions'!$B$9:$B$40,'ABT Transactions'!$G$9:$G$40,$C$164,'ABT Transactions'!$F$9:$F$40,$AD$148,'ABT Transactions'!$C$9:$C$40,AD166,'ABT Transactions'!$D$9:$D$40,$B$159)","v":0},{"$f":"SUMIFS('ABT Transactions'!$B$9:$B$40,'ABT Transactions'!$G$9:$G$40,$C$164,'ABT Transactions'!$F$9:$F$40,$AD$148,'ABT Transactions'!$C$9:$C$40,AE166,'ABT Transactions'!$D$9:$D$40,$B$159)","v":0},{"$f":"SUMIFS('ABT Transactions'!$B$9:$B$40,'ABT Transactions'!$G$9:$G$40,$C$164,'ABT Transactions'!$F$9:$F$40,$AD$148,'ABT Transactions'!$C$9:$C$40,AF166,'ABT Transactions'!$D$9:$D$40,$B$159)","v":0},{"$f":"SUMIFS('ABT Transactions'!$B$9:$B$40,'ABT Transactions'!$G$9:$G$40,$C$164,'ABT Transactions'!$F$9:$F$40,$AG$148,'ABT Transactions'!$C$9:$C$40,AG166,'ABT Transactions'!$D$9:$D$40,$B$159)","v":0},{"$f":"SUMIFS('ABT Transactions'!$B$9:$B$40,'ABT Transactions'!$G$9:$G$40,$C$164,'ABT Transactions'!$F$9:$F$40,$AG$148,'ABT Transactions'!$C$9:$C$40,AH166,'ABT Transactions'!$D$9:$D$40,$B$159)","v":0},{"$f":"SUMIFS('ABT Transactions'!$B$9:$B$40,'ABT Transactions'!$G$9:$G$40,$C$164,'ABT Transactions'!$F$9:$F$40,$AG$148,'ABT Transactions'!$C$9:$C$40,AI166,'ABT Transactions'!$D$9:$D$40,$B$159)","v":0},{"$f":"SUMIFS('ABT Transactions'!$B$9:$B$40,'ABT Transactions'!$G$9:$G$40,$C$164,'ABT Transactions'!$F$9:$F$40,$AJ$148,'ABT Transactions'!$C$9:$C$40,AJ166,'ABT Transactions'!$D$9:$D$40,$B$159)","v":0},{"$f":"SUMIFS('ABT Transactions'!$B$9:$B$40,'ABT Transactions'!$G$9:$G$40,$C$164,'ABT Transactions'!$F$9:$F$40,$AJ$148,'ABT Transactions'!$C$9:$C$40,AK166,'ABT Transactions'!$D$9:$D$40,$B$159)","v":0},{"$f":"SUMIFS('ABT Transactions'!$B$9:$B$40,'ABT Transactions'!$G$9:$G$40,$C$164,'ABT Transactions'!$F$9:$F$40,$AJ$148,'ABT Transactions'!$C$9:$C$40,AL166,'ABT Transactions'!$D$9:$D$40,$B$159)","v":0},{"$f":"SUMIFS('ABT Transactions'!$B$9:$B$40,'ABT Transactions'!$G$9:$G$40,$C$164,'ABT Transactions'!$F$9:$F$40,$AM$148,'ABT Transactions'!$C$9:$C$40,AM166,'ABT Transactions'!$D$9:$D$40,$B$159)","v":0},{"$f":"SUMIFS('ABT Transactions'!$B$9:$B$40,'ABT Transactions'!$G$9:$G$40,$C$164,'ABT Transactions'!$F$9:$F$40,$AM$148,'ABT Transactions'!$C$9:$C$40,AN166,'ABT Transactions'!$D$9:$D$40,$B$159)","v":0},{"$f":"SUMIFS('ABT Transactions'!$B$9:$B$40,'ABT Transactions'!$G$9:$G$40,$C$164,'ABT Transactions'!$F$9:$F$40,$AM$148,'ABT Transactions'!$C$9:$C$40,AO166,'ABT Transactions'!$D$9:$D$40,$B$159)","v":0},{"$f":"SUMIFS('ABT Transactions'!$B$9:$B$40,'ABT Transactions'!$G$9:$G$40,$C$164,'ABT Transactions'!$F$9:$F$40,$AP$148,'ABT Transactions'!$C$9:$C$40,AP166,'ABT Transactions'!$D$9:$D$40,$B$159)","v":0},{"$f":"SUMIFS('ABT Transactions'!$B$9:$B$40,'ABT Transactions'!$G$9:$G$40,$C$164,'ABT Transactions'!$F$9:$F$40,$AP$148,'ABT Transactions'!$C$9:$C$40,AQ166,'ABT Transactions'!$D$9:$D$40,$B$159)","v":0},{"$f":"SUMIFS('ABT Transactions'!$B$9:$B$40,'ABT Transactions'!$G$9:$G$40,$C$164,'ABT Transactions'!$F$9:$F$40,$AP$148,'ABT Transactions'!$C$9:$C$40,AR166,'ABT Transactions'!$D$9:$D$40,$B$159)","v":0},{"$f":"SUMIFS('ABT Transactions'!$B$9:$B$40,'ABT Transactions'!$G$9:$G$40,$C$164,'ABT Transactions'!$F$9:$F$40,$AS$148,'ABT Transactions'!$C$9:$C$40,AS166,'ABT Transactions'!$D$9:$D$40,$B$159)","v":0},{"$f":"SUMIFS('ABT Transactions'!$B$9:$B$40,'ABT Transactions'!$G$9:$G$40,$C$164,'ABT Transactions'!$F$9:$F$40,$AS$148,'ABT Transactions'!$C$9:$C$40,AT166,'ABT Transactions'!$D$9:$D$40,$B$159)","v":0},{"$f":"SUMIFS('ABT Transactions'!$B$9:$B$40,'ABT Transactions'!$G$9:$G$40,$C$164,'ABT Transactions'!$F$9:$F$40,$AS$148,'ABT Transactions'!$C$9:$C$40,AU166,'ABT Transactions'!$D$9:$D$40,$B$159)","v":0}]
[null,"Final Credit Balance",{"$f":"(C167+C168+C170+C172+C174+C175+C176)-(C169+C171+C173)","v":0},{"$f":"(D167+D168+D170+D172+D174+D175+D176)-(D169+D171+D173)","v":0},{"$f":"(E167+E168+E170+E172+E174+E175+E176)-(E169+E171+E173)","v":0},{"$f":"(F167+F168+F170+F172+F174+F175+F176)-(F169+F171+F173)","v":0},{"$f":"(G167+G168+G170+G172+G174+G175+G176)-(G169+G171+G173)","v":0},{"$f":"(H167+H168+H170+H172+H174+H175+H176)-(H169+H171+H173)","v":0},{"$f":"(I167+I168+I170+I172+I174+I175+I176)-(I169+I171+I173)","v":0},{"$f":"(J167+J168+J170+J172+J174+J175+J176)-(J169+J171+J173)","v":0},{"$f":"(K167+K168+K170+K172+K174+K175+K176)-(K169+K171+K173)","v":0},{"$f":"(L167+L168+L170+L172+L174+L175+L176)-(L169+L171+L173)","v":0},{"$f":"(M167+M168+M170+M172+M174+M175+M176)-(M169+M171+M173)","v":0},{"$f":"(N167+N168+N170+N172+N174+N175+N176)-(N169+N171+N173)","v":0},{"$f":"(O167+O168+O170+O172+O174+O175+O176)-(O169+O171+O173)","v":0},{"$f":"(P167+P168+P170+P172+P174+P175+P176)-(P169+P171+P173)","v":0},{"$f":"(Q167+Q168+Q170+Q172+Q174+Q175+Q176)-(Q169+Q171+Q173)","v":0},{"$f":"(R167+R168+R170+R172+R174+R175+R176)-(R169+R171+R173)","v":0},{"$f":"(S167+S168+S170+S172+S174+S175+S176)-(S169+S171+S173)","v":0},{"$f":"(T167+T168+T170+T172+T174+T175+T176)-(T169+T171+T173)","v":0},{"$f":"(U167+U168+U170+U172+U174+U175+U176)-(U169+U171+U173)","v":0},{"$f":"(V167+V168+V170+V172+V174+V175+V176)-(V169+V171+V173)","v":0},{"$f":"(W167+W168+W170+W172+W174+W175+W176)-(W169+W171+W173)","v":0},{"$f":"(X167+X168+X170+X172+X174+X175+X176)-(X169+X171+X173)","v":0},{"$f":"(Y167+Y168+Y170+Y172+Y174+Y175+Y176)-(Y169+Y171+Y173)","v":0},{"$f":"(Z167+Z168+Z170+Z172+Z174+Z175+Z176)-(Z169+Z171+Z173)","v":0},{"$f":"(AA167+AA168+AA170+AA172+AA174+AA175+AA176)-(AA169+AA171+AA173)","v":0},{"$f":"(AB167+AB168+AB170+AB172+AB174+AB175+AB176)-(AB169+AB171+AB173)","v":0},{"$f":"(AC167+AC168+AC170+AC172+AC174+AC175+AC176)-(AC169+AC171+AC173)","v":0},{"$f":"(AD167+AD168+AD170+AD172+AD174+AD175+AD176)-(AD169+AD171+AD173)","v":0},{"$f":"(AE167+AE168+AE170+AE172+AE174+AE175+AE176)-(AE169+AE171+AE173)","v":0},{"$f":"(AF167+AF168+AF170+AF172+AF174+AF175+AF176)-(AF169+AF171+AF173)","v":0},{"$f":"(AG167+AG168+AG170+AG172+AG174+AG175+AG176)-(AG169+AG171+AG173)","v":0},{"$f":"(AH167+AH168+AH170+AH172+AH174+AH175+AH176)-(AH169+AH171+AH173)","v":0},{"$f":"(AI167+AI168+AI170+AI172+AI174+AI175+AI176)-(AI169+AI171+AI173)","v":0},{"$f":"(AJ167+AJ168+AJ170+AJ172+AJ174+AJ175+AJ176)-(AJ169+AJ171+AJ173)","v":0},{"$f":"(AK167+AK168+AK170+AK172+AK174+AK175+AK176)-(AK169+AK171+AK173)","v":0},{"$f":"(AL167+AL168+AL170+AL172+AL174+AL175+AL176)-(AL169+AL171+AL173)","v":0},{"$f":"(AM167+AM168+AM170+AM172+AM174+AM175+AM176)-(AM169+AM171+AM173)","v":0},{"$f":"(AN167+AN168+AN170+AN172+AN174+AN175+AN176)-(AN169+AN171+AN173)","v":0},{"$f":"(AO167+AO168+AO170+AO172+AO174+AO175+AO176)-(AO169+AO171+AO173)","v":0},{"$f":"(AP167+AP168+AP170+AP172+AP174+AP175+AP176)-(AP169+AP171+AP173)","v":0},{"$f":"(AQ167+AQ168+AQ170+AQ172+AQ174+AQ175+AQ176)-(AQ169+AQ171+AQ173)","v":0},{"$f":"(AR167+AR168+AR170+AR172+AR174+AR175+AR176)-(AR169+AR171+AR173)","v":0},{"$f":"(AS167+AS168+AS170+AS172+AS174+AS175+AS176)-(AS169+AS171+AS173)","v":0},{"$f":"(AT167+AT168+AT170+AT172+AT174+AT175+AT176)-(AT169+AT171+AT173)","v":0},{"$f":"(AU167+AU168+AU170+AU172+AU174+AU175+AU176)-(AU169+AU171+AU173)","v":0}]
[null,"Averaging Set Credit Balance",{"$f":"SUM(C177:E177)","v":0},null,null,{"$f":"SUM(F177:H177)","v":0},null,null,{"$f":"SUM(I177:K177)","v":0},null,null,{"$f":"SUM(L177:N177)","v":0},null,null,{"$f":"SUM(O177:Q177)","v":0},null,null,{"$f":"SUM(R177:T177)","v":0},null,null,{"$f":"SUM(U177:W177)","v":0},null,null,{"$f":"SUM(X177:Z177)","v":0},null,null,{"$f":"SUM(AA177:AC177)","v":0},null,null,{"$f":"SUM(AD177:AF177)","v":0},null,null,{"$f":"SUM(AG177:AI177)","v":0},null,null,{"$f":"SUM(AJ177:AL177)","v":0},null,null,{"$f":"SUM(AM177:AO177)","v":0},null,null,{"$f":"SUM(AP177:AR177)","v":0},null,null,{"$f":"SUM(AS177:AU177)","v":0}]
[]
[]
[null,null,"School Bus"]
[null,null,2013,null,null,2014,null,null,2015,null,null,2016,null,null,2017,null,null,2018,null,null,2019,null,null,2020,null,null,2021,null,null,2022,null,null,2023,null,null,2024,null,null,2025,null,null,2026,null,null,2027]
[null,"Credit Type","Conventional Credit","Innovative Technology Credit","Advanced Technology Credit","Conventional Credit","Innovative Technology Credit","Advanced Technology Credit","Conventional Credit","Innovative Technology Credit","Advanced Technology Credit","Conventional Credit","Innovative Technology Credit","Advanced Technology Credit","Conventional Credit","Innovative Technology Credit","Advanced Technology Credit","Conventional Credit","Innovative Technology Credit","Advanced Technology Credit","Conventional Credit","Innovative Technology Credit","Advanced Technology Credit","Conventional Credit","Innovative Technology Credit","Advanced Technology Credit","Conventional Credit","Innovative Technology Credit","Advanced Technology Credit","Conventional Credit","Innovative Technology Credit","Advanced Technology Credit","Conventional Credit","Innovative Technology Credit","Advanced Technology Credit","Conventional Credit","Innovative Technology Credit","Advanced Technology Credit","Conventional Credit","Innovative Technology Credit","Advanced Technology Credit","Conventional Credit","Innovative Technology Credit","Advanced Technology Credit","Conventional Credit","Innovative Technology Credit","Advanced Technology Credit"]
[null,"Earned Credits",{"$f":"SUMIFS('ABT Credit Balances'!$D$9:$D$208,'ABT Credit Balances'!$B$9:$B$208,$C$181,'ABT Credit Balances'!$F$9:$F$208,C183,'ABT Credit Balances'!$E$9:$E$208,$C$148,'ABT Credit Balances'!$C$9:$C$208,$B$150)","v":0},{"$f":"SUMIFS('ABT Credit Balances'!$D$9:$D$208,'ABT Credit Balances'!$B$9:$B$208,$C$181,'ABT Credit Balances'!$F$9:$F$208,D183,'ABT Credit Balances'!$E$9:$E$208,$C$148,'ABT Credit Balances'!$C$9:$C$208,$B$150)","v":0},{"$f":"SUMIFS('ABT Credit Balances'!$D$9:$D$208,'ABT Credit Balances'!$B$9:$B$208,$C$181,'ABT Credit Balances'!$F$9:$F$208,E183,'ABT Credit Balances'!$E$9:$E$208,$C$148,'ABT Credit Balances'!$C$9:$C$208,$B$150)","v":0},{"$f":"SUMIFS('ABT Credit Balances'!$D$9:$D$208,'ABT Credit Balances'!$B$9:$B$208,$C$181,'ABT Credit Balances'!$F$9:$F$208,F183,'ABT Credit Balances'!$E$9:$E$208,$F$148,'ABT Credit Balances'!$C$9:$C$208,$B$150)","v":0},{"$f":"SUMIFS('ABT Credit Balances'!$D$9:$D$208,'ABT Credit Balances'!$B$9:$B$208,$C$181,'ABT Credit Balances'!$F$9:$F$208,G183,'ABT Credit Balances'!$E$9:$E$208,$F$148,'ABT Credit Balances'!$C$9:$C$208,$B$150)","v":0},{"$f":"SUMIFS('ABT Credit Balances'!$D$9:$D$208,'ABT Credit Balances'!$B$9:$B$208,$C$181,'ABT Credit Balances'!$F$9:$F$208,H183,'ABT Credit Balances'!$E$9:$E$208,$F$148,'ABT Credit Balances'!$C$9:$C$208,$B$150)","v":0},{"$f":"SUMIFS('ABT Credit Balances'!$D$9:$D$208,'ABT Credit Balances'!$B$9:$B$208,$C$181,'ABT Credit Balances'!$F$9:$F$208,I183,'ABT Credit Balances'!$E$9:$E$208,$I$148,'ABT Credit Balances'!$C$9:$C$208,$B$150)","v":0},{"$f":"SUMIFS('ABT Credit Balances'!$D$9:$D$208,'ABT Credit Balances'!$B$9:$B$208,$C$181,'ABT Credit Balances'!$F$9:$F$208,J183,'ABT Credit Balances'!$E$9:$E$208,$I$148,'ABT Credit Balances'!$C$9:$C$208,$B$150)","v":0},{"$f":"SUMIFS('ABT Credit Balances'!$D$9:$D$208,'ABT Credit Balances'!$B$9:$B$208,$C$181,'ABT Credit Balances'!$F$9:$F$208,K183,'ABT Credit Balances'!$E$9:$E$208,$I$148,'ABT Credit Balances'!$C$9:$C$208,$B$150)","v":0},{"$f":"SUMIFS('ABT Credit Balances'!$D$9:$D$208,'ABT Credit Balances'!$B$9:$B$208,$C$181,'ABT Credit Balances'!$F$9:$F$208,L183,'ABT Credit Balances'!$E$9:$E$208,$L$148,'ABT Credit Balances'!$C$9:$C$208,$B$150)","v":0},{"$f":"SUMIFS('ABT Credit Balances'!$D$9:$D$208,'ABT Credit Balances'!$B$9:$B$208,$C$181,'ABT Credit Balances'!$F$9:$F$208,M183,'ABT Credit Balances'!$E$9:$E$208,$L$148,'ABT Credit Balances'!$C$9:$C$208,$B$150)","v":0},{"$f":"SUMIFS('ABT Credit Balances'!$D$9:$D$208,'ABT Credit Balances'!$B$9:$B$208,$C$181,'ABT Credit Balances'!$F$9:$F$208,N183,'ABT Credit Balances'!$E$9:$E$208,$L$148,'ABT Credit Balances'!$C$9:$C$208,$B$150)","v":0},{"$f":"SUMIFS('ABT Credit Balances'!$D$9:$D$208,'ABT Credit Balances'!$B$9:$B$208,$C$181,'ABT Credit Balances'!$F$9:$F$208,O183,'ABT Credit Balances'!$E$9:$E$208,$O$148,'ABT Credit Balances'!$C$9:$C$208,$B$150)","v":0},{"$f":"SUMIFS('ABT Credit Balances'!$D$9:$D$208,'ABT Credit Balances'!$B$9:$B$208,$C$181,'ABT Credit Balances'!$F$9:$F$208,P183,'ABT Credit Balances'!$E$9:$E$208,$O$148,'ABT Credit Balances'!$C$9:$C$208,$B$150)","v":0},{"$f":"SUMIFS('ABT Credit Balances'!$D$9:$D$208,'ABT Credit Balances'!$B$9:$B$208,$C$181,'ABT Credit Balances'!$F$9:$F$208,Q183,'ABT Credit Balances'!$E$9:$E$208,$O$148,'ABT Credit Balances'!$C$9:$C$208,$B$150)","v":0},{"$f":"SUMIFS('ABT Credit Balances'!$D$9:$D$208,'ABT Credit Balances'!$B$9:$B$208,$C$181,'ABT Credit Balances'!$F$9:$F$208,R183,'ABT Credit Balances'!$E$9:$E$208,$R$148,'ABT Credit Balances'!$C$9:$C$208,$B$150)","v":0},{"$f":"SUMIFS('ABT Credit Balances'!$D$9:$D$208,'ABT Credit Balances'!$B$9:$B$208,$C$181,'ABT Credit Balances'!$F$9:$F$208,S183,'ABT Credit Balances'!$E$9:$E$208,$R$148,'ABT Credit Balances'!$C$9:$C$208,$B$150)","v":0},{"$f":"SUMIFS('ABT Credit Balances'!$D$9:$D$208,'ABT Credit Balances'!$B$9:$B$208,$C$181,'ABT Credit Balances'!$F$9:$F$208,T183,'ABT Credit Balances'!$E$9:$E$208,$R$148,'ABT Credit Balances'!$C$9:$C$208,$B$150)","v":0},{"$f":"SUMIFS('ABT Credit Balances'!$D$9:$D$208,'ABT Credit Balances'!$B$9:$B$208,$C$181,'ABT Credit Balances'!$F$9:$F$208,U183,'ABT Credit Balances'!$E$9:$E$208,$U$148,'ABT Credit Balances'!$C$9:$C$208,$B$150)","v":0},{"$f":"SUMIFS('ABT Credit Balances'!$D$9:$D$208,'ABT Credit Balances'!$B$9:$B$208,$C$181,'ABT Credit Balances'!$F$9:$F$208,V183,'ABT Credit Balances'!$E$9:$E$208,$U$148,'ABT Credit Balances'!$C$9:$C$208,$B$150)","v":0},{"$f":"SUMIFS('ABT Credit Balances'!$D$9:$D$208,'ABT Credit Balances'!$B$9:$B$208,$C$181,'ABT Credit Balances'!$F$9:$F$208,W183,'ABT Credit Balances'!$E$9:$E$208,U$148,'ABT Credit Balances'!$C$9:$C$208,$B$150)","v":0},{"$f":"SUMIFS('ABT Credit Balances'!$D$9:$D$208,'ABT Credit Balances'!$B$9:$B$208,$C$181,'ABT Credit Balances'!$F$9:$F$208,X183,'ABT Credit Balances'!$E$9:$E$208,$X$148,'ABT Credit Balances'!$C$9:$C$208,$B$150)","v":0},{"$f":"SUMIFS('ABT Credit Balances'!$D$9:$D$208,'ABT Credit Balances'!$B$9:$B$208,$C$181,'ABT Credit Balances'!$F$9:$F$208,Y183,'ABT Credit Balances'!$E$9:$E$208,$X$148,'ABT Credit Balances'!$C$9:$C$208,$B$150)","v":0},{"$f":"SUMIFS('ABT Credit Balances'!$D$9:$D$208,'ABT Credit Balances'!$B$9:$B$208,$C$181,'ABT Credit Balances'!$F$9:$F$208,Z183,'ABT Credit Balances'!$E$9:$E$208,$X$148,'ABT Credit Balances'!$C$9:$C$208,$B$150)","v":0},{"$f":"SUMIFS('ABT Credit Balances'!$D$9:$D$208,'ABT Credit Balances'!$B$9:$B$208,$C$181,'ABT Credit Balances'!$F$9:$F$208,AA183,'ABT Credit Balances'!$E$9:$E$208,$AA$148,'ABT Credit Balances'!$C$9:$C$208,$B$150)","v":0},{"$f":"SUMIFS('ABT Credit Balances'!$D$9:$D$208,'ABT Credit Balances'!$B$9:$B$208,$C$181,'ABT Credit Balances'!$F$9:$F$208,AB183,'ABT Credit Balances'!$E$9:$E$208,$AA$148,'ABT Credit Balances'!$C$9:$C$208,$B$150)","v":0},{"$f":"SUMIFS('ABT Credit Balances'!$D$9:$D$208,'ABT Credit Balances'!$B$9:$B$208,$C$181,'ABT Credit Balances'!$F$9:$F$208,AC183,'ABT Credit Balances'!$E$9:$E$208,$AA$148,'ABT Credit Balances'!$C$9:$C$208,$B$150)","v":0},{"$f":"SUMIFS('ABT Credit Balances'!$D$9:$D$208,'ABT Credit Balances'!$B$9:$B$208,$C$181,'ABT Credit Balances'!$F$9:$F$208,AD183,'ABT Credit Balances'!$E$9:$E$208,$AD$148,'ABT Credit Balances'!$C$9:$C$208,$B$150)","v":0},{"$f":"SUMIFS('ABT Credit Balances'!$D$9:$D$208,'ABT Credit Balances'!$B$9:$B$208,$C$181,'ABT Credit Balances'!$F$9:$F$208,AE183,'ABT Credit Balances'!$E$9:$E$208,$AD$148,'ABT Credit Balances'!$C$9:$C$208,$B$150)","v":0},{"$f":"SUMIFS('ABT Credit Balances'!$D$9:$D$208,'ABT Credit Balances'!$B$9:$B$208,$C$181,'ABT Credit Balances'!$F$9:$F$208,AF183,'ABT Credit Balances'!$E$9:$E$208,$AD$148,'ABT Credit Balances'!$C$9:$C$208,$B$150)","v":0},{"$f":"SUMIFS('ABT Credit Balances'!$D$9:$D$208,'ABT Credit Balances'!$B$9:$B$208,$C$181,'ABT Credit Balances'!$F$9:$F$208,AG183,'ABT Credit Balances'!$E$9:$E$208,$AG$148,'ABT Credit Balances'!$C$9:$C$208,$B$150)","v":0},{"$f":"SUMIFS('ABT Credit Balances'!$D$9:$D$208,'ABT Credit Balances'!$B$9:$B$208,$C$181,'ABT Credit Balances'!$F$9:$F$208,AH183,'ABT Credit Balances'!$E$9:$E$208,$AG$148,'ABT Credit Balances'!$C$9:$C$208,$B$150)","v":0},{"$f":"SUMIFS('ABT Credit Balances'!$D$9:$D$208,'ABT Credit Balances'!$B$9:$B$208,$C$181,'ABT Credit Balances'!$F$9:$F$208,AI183,'ABT Credit Balances'!$E$9:$E$208,$AG$148,'ABT Credit Balances'!$C$9:$C$208,$B$150)","v":0},{"$f":"SUMIFS('ABT Credit Balances'!$D$9:$D$208,'ABT Credit Balances'!$B$9:$B$208,$C$181,'ABT Credit Balances'!$F$9:$F$208,AJ183,'ABT Credit Balances'!$E$9:$E$208,$AJ$148,'ABT Credit Balances'!$C$9:$C$208,$B$150)","v":0},{"$f":"SUMIFS('ABT Credit Balances'!$D$9:$D$208,'ABT Credit Balances'!$B$9:$B$208,$C$181,'ABT Credit Balances'!$F$9:$F$208,AK183,'ABT Credit Balances'!$E$9:$E$208,$AJ$148,'ABT Credit Balances'!$C$9:$C$208,$B$150)","v":0},{"$f":"SUMIFS('ABT Credit Balances'!$D$9:$D$208,'ABT Credit Balances'!$B$9:$B$208,$C$181,'ABT Credit Balances'!$F$9:$F$208,AL183,'ABT Credit Balances'!$E$9:$E$208,$AJ$148,'ABT Credit Balances'!$C$9:$C$208,$B$150)","v":0},{"$f":"SUMIFS('ABT Credit Balances'!$D$9:$D$208,'ABT Credit Balances'!$B$9:$B$208,$C$181,'ABT Credit Balances'!$F$9:$F$208,AM183,'ABT Credit Balances'!$E$9:$E$208,$AM$148,'ABT Credit Balances'!$C$9:$C$208,$B$150)","v":0},{"$f":"SUMIFS('ABT Credit Balances'!$D$9:$D$208,'ABT Credit Balances'!$B$9:$B$208,$C$181,'ABT Credit Balances'!$F$9:$F$208,AN183,'ABT Credit Balances'!$E$9:$E$208,$AM$148,'ABT Credit Balances'!$C$9:$C$208,$B$150)","v":0},{"$f":"SUMIFS('ABT Credit Balances'!$D$9:$D$208,'ABT Credit Balances'!$B$9:$B$208,$C$181,'ABT Credit Balances'!$F$9:$F$208,AO183,'ABT Credit Balances'!$E$9:$E$208,$AM$148,'ABT Credit Balances'!$C$9:$C$208,$B$150)","v":0},{"$f":"SUMIFS('ABT Credit Balances'!$D$9:$D$208,'ABT Credit Balances'!$B$9:$B$208,$C$181,'ABT Credit Balances'!$F$9:$F$208,AP183,'ABT Credit Balances'!$E$9:$E$208,$AP$148,'ABT Credit Balances'!$C$9:$C$208,$B$150)","v":0},{"$f":"SUMIFS('ABT Credit Balances'!$D$9:$D$208,'ABT Credit Balances'!$B$9:$B$208,$C$181,'ABT Credit Balances'!$F$9:$F$208,AQ183,'ABT Credit Balances'!$E$9:$E$208,$AP$148,'ABT Credit Balances'!$C$9:$C$208,$B$150)","v":0},{"$f":"SUMIFS('ABT Credit Balances'!$D$9:$D$208,'ABT Credit Balances'!$B$9:$B$208,$C$181,'ABT Credit Balances'!$F$9:$F$208,AR183,'ABT Credit Balances'!$E$9:$E$208,$AP$148,'ABT Credit Balances'!$C$9:$C$208,$B$150)","v":0},{"$f":"SUMIFS('ABT Credit Balances'!$D$9:$D$208,'ABT Credit Balances'!$B$9:$B$208,$C$181,'ABT Credit Balances'!$F$9:$F$208,AS183,'ABT Credit Balances'!$E$9:$E$208,$AS$148,'ABT Credit Balances'!$C$9:$C$208,$B$150)","v":0},{"$f":"SUMIFS('ABT Credit Balances'!$D$9:$D$208,'ABT Credit Balances'!$B$9:$B$208,$C$181,'ABT Credit Balances'!$F$9:$F$208,AT183,'ABT Credit Balances'!$E$9:$E$208,$AS$148,'ABT Credit Balances'!$C$9:$C$208,$B$150)","v":0},{"$f":"SUMIFS('ABT Credit Balances'!$D$9:$D$208,'ABT Credit Balances'!$B$9:$B$208,$C$181,'ABT Credit Balances'!$F$9:$F$208,AU183,'ABT Credit Balances'!$E$9:$E$208,$AS$148,'ABT Credit Balances'!$C$9:$C$208,$B$150)","v":0}]
[null,"Projected Credits",{"$f":"SUMIFS('ABT Credit Balances'!$D$9:$D$208,'ABT Credit Balances'!$B$9:$B$208,$C$181,'ABT Credit Balances'!$F$9:$F$208,C183,'ABT Credit Balances'!$E$9:$E$208,$C$148,'ABT Credit Balances'!$C$9:$C$208,$B$151)","v":0},{"$f":"SUMIFS('ABT Credit Balances'!$D$9:$D$208,'ABT Credit Balances'!$B$9:$B$208,$C$181,'ABT Credit Balances'!$F$9:$F$208,D183,'ABT Credit Balances'!$E$9:$E$208,$C$148,'ABT Credit Balances'!$C$9:$C$208,$B$151)","v":0},{"$f":"SUMIFS('ABT Credit Balances'!$D$9:$D$208,'ABT Credit Balances'!$B$9:$B$208,$C$181,'ABT Credit Balances'!$F$9:$F$208,E183,'ABT Credit Balances'!$E$9:$E$208,$C$148,'ABT Credit Balances'!$C$9:$C$208,$B$151)","v":0},{"$f":"SUMIFS('ABT Credit Balances'!$D$9:$D$208,'ABT Credit Balances'!$B$9:$B$208,$C$181,'ABT Credit Balances'!$F$9:$F$208,F183,'ABT Credit Balances'!$E$9:$E$208,$F$148,'ABT Credit Balances'!$C$9:$C$208,$B$151)","v":0},{"$f":"SUMIFS('ABT Credit Balances'!$D$9:$D$208,'ABT Credit Balances'!$B$9:$B$208,$C$181,'ABT Credit Balances'!$F$9:$F$208,G183,'ABT Credit Balances'!$E$9:$E$208,$F$148,'ABT Credit Balances'!$C$9:$C$208,$B$151)","v":0},{"$f":"SUMIFS('ABT Credit Balances'!$D$9:$D$208,'ABT Credit Balances'!$B$9:$B$208,$C$181,'ABT Credit Balances'!$F$9:$F$208,H183,'ABT Credit Balances'!$E$9:$E$208,$F$148,'ABT Credit Balances'!$C$9:$C$208,$B$151)","v":0},{"$f":"SUMIFS('ABT Credit Balances'!$D$9:$D$208,'ABT Credit Balances'!$B$9:$B$208,$C$181,'ABT Credit Balances'!$F$9:$F$208,I183,'ABT Credit Balances'!$E$9:$E$208,$I$148,'ABT Credit Balances'!$C$9:$C$208,$B$151)","v":0},{"$f":"SUMIFS('ABT Credit Balances'!$D$9:$D$208,'ABT Credit Balances'!$B$9:$B$208,$C$181,'ABT Credit Balances'!$F$9:$F$208,J183,'ABT Credit Balances'!$E$9:$E$208,$I$148,'ABT Credit Balances'!$C$9:$C$208,$B$151)","v":0},{"$f":"SUMIFS('ABT Credit Balances'!$D$9:$D$208,'ABT Credit Balances'!$B$9:$B$208,$C$181,'ABT Credit Balances'!$F$9:$F$208,K183,'ABT Credit Balances'!$E$9:$E$208,$I$148,'ABT Credit Balances'!$C$9:$C$208,$B$151)","v":0},{"$f":"SUMIFS('ABT Credit Balances'!$D$9:$D$208,'ABT Credit Balances'!$B$9:$B$208,$C$181,'ABT Credit Balances'!$F$9:$F$208,L183,'ABT Credit Balances'!$E$9:$E$208,$L$148,'ABT Credit Balances'!$C$9:$C$208,$B$151)","v":0},{"$f":"SUMIFS('ABT Credit Balances'!$D$9:$D$208,'ABT Credit Balances'!$B$9:$B$208,$C$181,'ABT Credit Balances'!$F$9:$F$208,M183,'ABT Credit Balances'!$E$9:$E$208,$L$148,'ABT Credit Balances'!$C$9:$C$208,$B$151)","v":0},{"$f":"SUMIFS('ABT Credit Balances'!$D$9:$D$208,'ABT Credit Balances'!$B$9:$B$208,$C$181,'ABT Credit Balances'!$F$9:$F$208,N183,'ABT Credit Balances'!$E$9:$E$208,$L$148,'ABT Credit Balances'!$C$9:$C$208,$B$151)","v":0},{"$f":"SUMIFS('ABT Credit Balances'!$D$9:$D$208,'ABT Credit Balances'!$B$9:$B$208,$C$181,'ABT Credit Balances'!$F$9:$F$208,O183,'ABT Credit Balances'!$E$9:$E$208,$O$148,'ABT Credit Balances'!$C$9:$C$208,$B$151)","v":0},{"$f":"SUMIFS('ABT Credit Balances'!$D$9:$D$208,'ABT Credit Balances'!$B$9:$B$208,$C$181,'ABT Credit Balances'!$F$9:$F$208,P183,'ABT Credit Balances'!$E$9:$E$208,$O$148,'ABT Credit Balances'!$C$9:$C$208,$B$151)","v":0},{"$f":"SUMIFS('ABT Credit Balances'!$D$9:$D$208,'ABT Credit Balances'!$B$9:$B$208,$C$181,'ABT Credit Balances'!$F$9:$F$208,Q183,'ABT Credit Balances'!$E$9:$E$208,$O$148,'ABT Credit Balances'!$C$9:$C$208,$B$151)","v":0},{"$f":"SUMIFS('ABT Credit Balances'!$D$9:$D$208,'ABT Credit Balances'!$B$9:$B$208,$C$181,'ABT Credit Balances'!$F$9:$F$208,R183,'ABT Credit Balances'!$E$9:$E$208,$R$148,'ABT Credit Balances'!$C$9:$C$208,$B$151)","v":0},{"$f":"SUMIFS('ABT Credit Balances'!$D$9:$D$208,'ABT Credit Balances'!$B$9:$B$208,$C$181,'ABT Credit Balances'!$F$9:$F$208,S183,'ABT Credit Balances'!$E$9:$E$208,$R$148,'ABT Credit Balances'!$C$9:$C$208,$B$151)","v":0},{"$f":"SUMIFS('ABT Credit Balances'!$D$9:$D$208,'ABT Credit Balances'!$B$9:$B$208,$C$181,'ABT Credit Balances'!$F$9:$F$208,T183,'ABT Credit Balances'!$E$9:$E$208,$R$148,'ABT Credit Balances'!$C$9:$C$208,$B$151)","v":0},{"$f":"SUMIFS('ABT Credit Balances'!$D$9:$D$208,'ABT Credit Balances'!$B$9:$B$208,$C$181,'ABT Credit Balances'!$F$9:$F$208,U183,'ABT Credit Balances'!$E$9:$E$208,$U$148,'ABT Credit Balances'!$C$9:$C$208,$B$151)","v":0},{"$f":"SUMIFS('ABT Credit Balances'!$D$9:$D$208,'ABT Credit Balances'!$B$9:$B$208,$C$181,'ABT Credit Balances'!$F$9:$F$208,V183,'ABT Credit Balances'!$E$9:$E$208,$U$148,'ABT Credit Balances'!$C$9:$C$208,$B$151)","v":0},{"$f":"SUMIFS('ABT Credit Balances'!$D$9:$D$208,'ABT Credit Balances'!$B$9:$B$208,$C$181,'ABT Credit Balances'!$F$9:$F$208,W183,'ABT Credit Balances'!$E$9:$E$208,U$148,'ABT Credit Balances'!$C$9:$C$208,$B$151)","v":0},{"$f":"SUMIFS('ABT Credit Balances'!$D$9:$D$208,'ABT Credit Balances'!$B$9:$B$208,$C$181,'ABT Credit Balances'!$F$9:$F$208,X183,'ABT Credit Balances'!$E$9:$E$208,$X$148,'ABT Credit Balances'!$C$9:$C$208,$B$151)","v":0},{"$f":"SUMIFS('ABT Credit Balances'!$D$9:$D$208,'ABT Credit Balances'!$B$9:$B$208,$C$181,'ABT Credit Balances'!$F$9:$F$208,Y183,'ABT Credit Balances'!$E$9:$E$208,$X$148,'ABT Credit Balances'!$C$9:$C$208,$B$151)","v":0},{"$f":"SUMIFS('ABT Credit Balances'!$D$9:$D$208,'ABT Credit Balances'!$B$9:$B$208,$C$181,'ABT Credit Balances'!$F$9:$F$208,Z183,'ABT Credit Balances'!$E$9:$E$208,$X$148,'ABT Credit Balances'!$C$9:$C$208,$B$151)","v":0},{"$f":"SUMIFS('ABT Credit Balances'!$D$9:$D$208,'ABT Credit Balances'!$B$9:$B$208,$C$181,'ABT Credit Balances'!$F$9:$F$208,AA183,'ABT Credit Balances'!$E$9:$E$208,$AA$148,'ABT Credit Balances'!$C$9:$C$208,$B$151)","v":0},{"$f":"SUMIFS('ABT Credit Balances'!$D$9:$D$208,'ABT Credit Balances'!$B$9:$B$208,$C$181,'ABT Credit Balances'!$F$9:$F$208,AB183,'ABT Credit Balances'!$E$9:$E$208,$AA$148,'ABT Credit Balances'!$C$9:$C$208,$B$151)","v":0},{"$f":"SUMIFS('ABT Credit Balances'!$D$9:$D$208,'ABT Credit Balances'!$B$9:$B$208,$C$181,'ABT Credit Balances'!$F$9:$F$208,AC183,'ABT Credit Balances'!$E$9:$E$208,$AA$148,'ABT Credit Balances'!$C$9:$C$208,$B$151)","v":0},{"$f":"SUMIFS('ABT Credit Balances'!$D$9:$D$208,'ABT Credit Balances'!$B$9:$B$208,$C$181,'ABT Credit Balances'!$F$9:$F$208,AD183,'ABT Credit Balances'!$E$9:$E$208,$AD$148,'ABT Credit Balances'!$C$9:$C$208,$B$151)","v":0},{"$f":"SUMIFS('ABT Credit Balances'!$D$9:$D$208,'ABT Credit Balances'!$B$9:$B$208,$C$181,'ABT Credit Balances'!$F$9:$F$208,AE183,'ABT Credit Balances'!$E$9:$E$208,$AD$148,'ABT Credit Balances'!$C$9:$C$208,$B$151)","v":0},{"$f":"SUMIFS('ABT Credit Balances'!$D$9:$D$208,'ABT Credit Balances'!$B$9:$B$208,$C$181,'ABT Credit Balances'!$F$9:$F$208,AF183,'ABT Credit Balances'!$E$9:$E$208,$AD$148,'ABT Credit Balances'!$C$9:$C$208,$B$151)","v":0},{"$f":"SUMIFS('ABT Credit Balances'!$D$9:$D$208,'ABT Credit Balances'!$B$9:$B$208,$C$181,'ABT Credit Balances'!$F$9:$F$208,AG183,'ABT Credit Balances'!$E$9:$E$208,$AG$148,'ABT Credit Balances'!$C$9:$C$208,$B$151)","v":0},{"$f":"SUMIFS('ABT Credit Balances'!$D$9:$D$208,'ABT Credit Balances'!$B$9:$B$208,$C$181,'ABT Credit Balances'!$F$9:$F$208,AH183,'ABT Credit Balances'!$E$9:$E$208,$AG$148,'ABT Credit Balances'!$C$9:$C$208,$B$151)","v":0},{"$f":"SUMIFS('ABT Credit Balances'!$D$9:$D$208,'ABT Credit Balances'!$B$9:$B$208,$C$181,'ABT Credit Balances'!$F$9:$F$208,AI183,'ABT Credit Balances'!$E$9:$E$208,$AG$148,'ABT Credit Balances'!$C$9:$C$208,$B$151)","v":0},{"$f":"SUMIFS('ABT Credit Balances'!$D$9:$D$208,'ABT Credit Balances'!$B$9:$B$208,$C$181,'ABT Credit Balances'!$F$9:$F$208,AJ183,'ABT Credit Balances'!$E$9:$E$208,$AJ$148,'ABT Credit Balances'!$C$9:$C$208,$B$151)","v":0},{"$f":"SUMIFS('ABT Credit Balances'!$D$9:$D$208,'ABT Credit Balances'!$B$9:$B$208,$C$181,'ABT Credit Balances'!$F$9:$F$208,AK183,'ABT Credit Balances'!$E$9:$E$208,$AJ$148,'ABT Credit Balances'!$C$9:$C$208,$B$151)","v":0},{"$f":"SUMIFS('ABT Credit Balances'!$D$9:$D$208,'ABT Credit Balances'!$B$9:$B$208,$C$181,'ABT Credit Balances'!$F$9:$F$208,AL183,'ABT Credit Balances'!$E$9:$E$208,$AJ$148,'ABT Credit Balances'!$C$9:$C$208,$B$151)","v":0},{"$f":"SUMIFS('ABT Credit Balances'!$D$9:$D$208,'ABT Credit Balances'!$B$9:$B$208,$C$181,'ABT Credit Balances'!$F$9:$F$208,AM183,'ABT Credit Balances'!$E$9:$E$208,$AM$148,'ABT Credit Balances'!$C$9:$C$208,$B$151)","v":0},{"$f":"SUMIFS('ABT Credit Balances'!$D$9:$D$208,'ABT Credit Balances'!$B$9:$B$208,$C$181,'ABT Credit Balances'!$F$9:$F$208,AN183,'ABT Credit Balances'!$E$9:$E$208,$AM$148,'ABT Credit Balances'!$C$9:$C$208,$B$151)","v":0},{"$f":"SUMIFS('ABT Credit Balances'!$D$9:$D$208,'ABT Credit Balances'!$B$9:$B$208,$C$181,'ABT Credit Balances'!$F$9:$F$208,AO183,'ABT Credit Balances'!$E$9:$E$208,$AM$148,'ABT Credit Balances'!$C$9:$C$208,$B$151)","v":0},{"$f":"SUMIFS('ABT Credit Balances'!$D$9:$D$208,'ABT Credit Balances'!$B$9:$B$208,$C$181,'ABT Credit Balances'!$F$9:$F$208,AP183,'ABT Credit Balances'!$E$9:$E$208,$AP$148,'ABT Credit Balances'!$C$9:$C$208,$B$151)","v":0},{"$f":"SUMIFS('ABT Credit Balances'!$D$9:$D$208,'ABT Credit Balances'!$B$9:$B$208,$C$181,'ABT Credit Balances'!$F$9:$F$208,AQ183,'ABT Credit Balances'!$E$9:$E$208,$AP$148,'ABT Credit Balances'!$C$9:$C$208,$B$151)","v":0},{"$f":"SUMIFS('ABT Credit Balances'!$D$9:$D$208,'ABT Credit Balances'!$B$9:$B$208,$C$181,'ABT Credit Balances'!$F$9:$F$208,AR183,'ABT Credit Balances'!$E$9:$E$208,$AP$148,'ABT Credit Balances'!$C$9:$C$208,$B$151)","v":0},{"$f":"SUMIFS('ABT Credit Balances'!$D$9:$D$208,'ABT Credit Balances'!$B$9:$B$208,$C$181,'ABT Credit Balances'!$F$9:$F$208,AS183,'ABT Credit Balances'!$E$9:$E$208,$AS$148,'ABT Credit Balances'!$C$9:$C$208,$B$151)","v":0},{"$f":"SUMIFS('ABT Credit Balances'!$D$9:$D$208,'ABT Credit Balances'!$B$9:$B$208,$C$181,'ABT Credit Balances'!$F$9:$F$208,AT183,'ABT Credit Balances'!$E$9:$E$208,$AS$148,'ABT Credit Balances'!$C$9:$C$208,$B$151)","v":0},{"$f":"SUMIFS('ABT Credit Balances'!$D$9:$D$208,'ABT Credit Balances'!$B$9:$B$208,$C$181,'ABT Credit Balances'!$F$9:$F$208,AU183,'ABT Credit Balances'!$E$9:$E$208,$AS$148,'ABT Credit Balances'!$C$9:$C$208,$B$151)","v":0}]
[null,"Applied Banked Credits (out)",{"$f":"SUMIFS('ABT Transactions'!$B$9:$B$40,'ABT Transactions'!$G$9:$G$40,$C$181,'ABT Transactions'!$F$9:$F$40,$C$148,'ABT Transactions'!$C$9:$C$40,C183,'ABT Transactions'!$D$9:$D$40,$B$152)","v":0},{"$f":"SUMIFS('ABT Transactions'!$B$9:$B$40,'ABT Transactions'!$G$9:$G$40,$C$181,'ABT Transactions'!$F$9:$F$40,$C$148,'ABT Transactions'!$C$9:$C$40,D183,'ABT Transactions'!$D$9:$D$40,$B$152)","v":0},{"$f":"SUMIFS('ABT Transactions'!$B$9:$B$40,'ABT Transactions'!$G$9:$G$40,$C$181,'ABT Transactions'!$F$9:$F$40,$C$148,'ABT Transactions'!$C$9:$C$40,E183,'ABT Transactions'!$D$9:$D$40,$B$152)","v":0},{"$f":"SUMIFS('ABT Transactions'!$B$9:$B$40,'ABT Transactions'!$G$9:$G$40,$C$181,'ABT Transactions'!$F$9:$F$40,$F$148,'ABT Transactions'!$C$9:$C$40,F183,'ABT Transactions'!$D$9:$D$40,$B$152)","v":0},{"$f":"SUMIFS('ABT Transactions'!$B$9:$B$40,'ABT Transactions'!$G$9:$G$40,$C$181,'ABT Transactions'!$F$9:$F$40,$F$148,'ABT Transactions'!$C$9:$C$40,G183,'ABT Transactions'!$D$9:$D$40,$B$152)","v":0},{"$f":"SUMIFS('ABT Transactions'!$B$9:$B$40,'ABT Transactions'!$G$9:$G$40,$C$181,'ABT Transactions'!$F$9:$F$40,$F$148,'ABT Transactions'!$C$9:$C$40,H183,'ABT Transactions'!$D$9:$D$40,$B$152)","v":0},{"$f":"SUMIFS('ABT Transactions'!$B$9:$B$40,'ABT Transactions'!$G$9:$G$40,$C$181,'ABT Transactions'!$F$9:$F$40,$I$148,'ABT Transactions'!$C$9:$C$40,I183,'ABT Transactions'!$D$9:$D$40,$B$152)","v":0},{"$f":"SUMIFS('ABT Transactions'!$B$9:$B$40,'ABT Transactions'!$G$9:$G$40,$C$181,'ABT Transactions'!$F$9:$F$40,$I$148,'ABT Transactions'!$C$9:$C$40,J183,'ABT Transactions'!$D$9:$D$40,$B$152)","v":0},{"$f":"SUMIFS('ABT Transactions'!$B$9:$B$40,'ABT Transactions'!$G$9:$G$40,$C$181,'ABT Transactions'!$F$9:$F$40,$I$148,'ABT Transactions'!$C$9:$C$40,K183,'ABT Transactions'!$D$9:$D$40,$B$152)","v":0},{"$f":"SUMIFS('ABT Transactions'!$B$9:$B$40,'ABT Transactions'!$G$9:$G$40,$C$181,'ABT Transactions'!$F$9:$F$40,$L$148,'ABT Transactions'!$C$9:$C$40,L183,'ABT Transactions'!$D$9:$D$40,$B$152)","v":0},{"$f":"SUMIFS('ABT Transactions'!$B$9:$B$40,'ABT Transactions'!$G$9:$G$40,$C$181,'ABT Transactions'!$F$9:$F$40,$L$148,'ABT Transactions'!$C$9:$C$40,M183,'ABT Transactions'!$D$9:$D$40,$B$152)","v":0},{"$f":"SUMIFS('ABT Transactions'!$B$9:$B$40,'ABT Transactions'!$G$9:$G$40,$C$181,'ABT Transactions'!$F$9:$F$40,$L$148,'ABT Transactions'!$C$9:$C$40,N183,'ABT Transactions'!$D$9:$D$40,$B$152)","v":0},{"$f":"SUMIFS('ABT Transactions'!$B$9:$B$40,'ABT Transactions'!$G$9:$G$40,$C$181,'ABT Transactions'!$F$9:$F$40,$O$148,'ABT Transactions'!$C$9:$C$40,O183,'ABT Transactions'!$D$9:$D$40,$B$152)","v":0},{"$f":"SUMIFS('ABT Transactions'!$B$9:$B$40,'ABT Transactions'!$G$9:$G$40,$C$181,'ABT Transactions'!$F$9:$F$40,$O$148,'ABT Transactions'!$C$9:$C$40,P183,'ABT Transactions'!$D$9:$D$40,$B$152)","v":0},{"$f":"SUMIFS('ABT Transactions'!$B$9:$B$40,'ABT Transactions'!$G$9:$G$40,$C$181,'ABT Transactions'!$F$9:$F$40,$O$148,'ABT Transactions'!$C$9:$C$40,Q183,'ABT Transactions'!$D$9:$D$40,$B$152)","v":0},{"$f":"SUMIFS('ABT Transactions'!$B$9:$B$40,'ABT Transactions'!$G$9:$G$40,$C$181,'ABT Transactions'!$F$9:$F$40,$R$148,'ABT Transactions'!$C$9:$C$40,R183,'ABT Transactions'!$D$9:$D$40,$B$152)","v":0},{"$f":"SUMIFS('ABT Transactions'!$B$9:$B$40,'ABT Transactions'!$G$9:$G$40,$C$181,'ABT Transactions'!$F$9:$F$40,$R$148,'ABT Transactions'!$C$9:$C$40,S183,'ABT Transactions'!$D$9:$D$40,$B$152)","v":0},{"$f":"SUMIFS('ABT Transactions'!$B$9:$B$40,'ABT Transactions'!$G$9:$G$40,$C$181,'ABT Transactions'!$F$9:$F$40,$R$148,'ABT Transactions'!$C$9:$C$40,T183,'ABT Transactions'!$D$9:$D$40,$B$152)","v":0},{"$f":"SUMIFS('ABT Transactions'!$B$9:$B$40,'ABT Transactions'!$G$9:$G$40,$C$181,'ABT Transactions'!$F$9:$F$40,$U$148,'ABT Transactions'!$C$9:$C$40,U183,'ABT Transactions'!$D$9:$D$40,$B$152)","v":0},{"$f":"SUMIFS('ABT Transactions'!$B$9:$B$40,'ABT Transactions'!$G$9:$G$40,$C$181,'ABT Transactions'!$F$9:$F$40,$U$148,'ABT Transactions'!$C$9:$C$40,V183,'ABT Transactions'!$D$9:$D$40,$B$152)","v":0},{"$f":"SUMIFS('ABT Transactions'!$B$9:$B$40,'ABT Transactions'!$G$9:$G$40,$C$181,'ABT Transactions'!$F$9:$F$40,U$148,'ABT Transactions'!$C$9:$C$40,W183,'ABT Transactions'!$D$9:$D$40,$B$152)","v":0},{"$f":"SUMIFS('ABT Transactions'!$B$9:$B$40,'ABT Transactions'!$G$9:$G$40,$C$181,'ABT Transactions'!$F$9:$F$40,$X$148,'ABT Transactions'!$C$9:$C$40,X183,'ABT Transactions'!$D$9:$D$40,$B$152)","v":0},{"$f":"SUMIFS('ABT Transactions'!$B$9:$B$40,'ABT Transactions'!$G$9:$G$40,$C$181,'ABT Transactions'!$F$9:$F$40,$X$148,'ABT Transactions'!$C$9:$C$40,Y183,'ABT Transactions'!$D$9:$D$40,$B$152)","v":0},{"$f":"SUMIFS('ABT Transactions'!$B$9:$B$40,'ABT Transactions'!$G$9:$G$40,$C$181,'ABT Transactions'!$F$9:$F$40,$X$148,'ABT Transactions'!$C$9:$C$40,Z183,'ABT Transactions'!$D$9:$D$40,$B$152)","v":0},{"$f":"SUMIFS('ABT Transactions'!$B$9:$B$40,'ABT Transactions'!$G$9:$G$40,$C$181,'ABT Transactions'!$F$9:$F$40,$AA$148,'ABT Transactions'!$C$9:$C$40,AA183,'ABT Transactions'!$D$9:$D$40,$B$152)","v":0},{"$f":"SUMIFS('ABT Transactions'!$B$9:$B$40,'ABT Transactions'!$G$9:$G$40,$C$181,'ABT Transactions'!$F$9:$F$40,$AA$148,'ABT Transactions'!$C$9:$C$40,AB183,'ABT Transactions'!$D$9:$D$40,$B$152)","v":0},{"$f":"SUMIFS('ABT Transactions'!$B$9:$B$40,'ABT Transactions'!$G$9:$G$40,$C$181,'ABT Transactions'!$F$9:$F$40,$AA$148,'ABT Transactions'!$C$9:$C$40,AC183,'ABT Transactions'!$D$9:$D$40,$B$152)","v":0},{"$f":"SUMIFS('ABT Transactions'!$B$9:$B$40,'ABT Transactions'!$G$9:$G$40,$C$181,'ABT Transactions'!$F$9:$F$40,$AD$148,'ABT Transactions'!$C$9:$C$40,AD183,'ABT Transactions'!$D$9:$D$40,$B$152)","v":0},{"$f":"SUMIFS('ABT Transactions'!$B$9:$B$40,'ABT Transactions'!$G$9:$G$40,$C$181,'ABT Transactions'!$F$9:$F$40,$AD$148,'ABT Transactions'!$C$9:$C$40,AE183,'ABT Transactions'!$D$9:$D$40,$B$152)","v":0},{"$f":"SUMIFS('ABT Transactions'!$B$9:$B$40,'ABT Transactions'!$G$9:$G$40,$C$181,'ABT Transactions'!$F$9:$F$40,$AD$148,'ABT Transactions'!$C$9:$C$40,AF183,'ABT Transactions'!$D$9:$D$40,$B$152)","v":0},{"$f":"SUMIFS('ABT Transactions'!$B$9:$B$40,'ABT Transactions'!$G$9:$G$40,$C$181,'ABT Transactions'!$F$9:$F$40,$AG$148,'ABT Transactions'!$C$9:$C$40,AG183,'ABT Transactions'!$D$9:$D$40,$B$152)","v":0},{"$f":"SUMIFS('ABT Transactions'!$B$9:$B$40,'ABT Transactions'!$G$9:$G$40,$C$181,'ABT Transactions'!$F$9:$F$40,$AG$148,'ABT Transactions'!$C$9:$C$40,AH183,'ABT Transactions'!$D$9:$D$40,$B$152)","v":0},{"$f":"SUMIFS('ABT Transactions'!$B$9:$B$40,'ABT Transactions'!$G$9:$G$40,$C$181,'ABT Transactions'!$F$9:$F$40,$AG$148,'ABT Transactions'!$C$9:$C$40,AI183,'ABT Transactions'!$D$9:$D$40,$B$152)","v":0},{"$f":"SUMIFS('ABT Transactions'!$B$9:$B$40,'ABT Transactions'!$G$9:$G$40,$C$181,'ABT Transactions'!$F$9:$F$40,$AJ$148,'ABT Transactions'!$C$9:$C$40,AJ183,'ABT Transactions'!$D$9:$D$40,$B$152)","v":0},{"$f":"SUMIFS('ABT Transactions'!$B$9:$B$40,'ABT Transactions'!$G$9:$G$40,$C$181,'ABT Transactions'!$F$9:$F$40,$AJ$148,'ABT Transactions'!$C$9:$C$40,AK183,'ABT Transactions'!$D$9:$D$40,$B$152)","v":0},{"$f":"SUMIFS('ABT Transactions'!$B$9:$B$40,'ABT Transactions'!$G$9:$G$40,$C$181,'ABT Transactions'!$F$9:$F$40,$AJ$148,'ABT Transactions'!$C$9:$C$40,AL183,'ABT Transactions'!$D$9:$D$40,$B$152)","v":0},{"$f":"SUMIFS('ABT Transactions'!$B$9:$B$40,'ABT Transactions'!$G$9:$G$40,$C$181,'ABT Transactions'!$F$9:$F$40,$AM$148,'ABT Transactions'!$C$9:$C$40,AM183,'ABT Transactions'!$D$9:$D$40,$B$152)","v":0},{"$f":"SUMIFS('ABT Transactions'!$B$9:$B$40,'ABT Transactions'!$G$9:$G$40,$C$181,'ABT Transactions'!$F$9:$F$40,$AM$148,'ABT Transactions'!$C$9:$C$40,AN183,'ABT Transactions'!$D$9:$D$40,$B$152)","v":0},{"$f":"SUMIFS('ABT Transactions'!$B$9:$B$40,'ABT Transactions'!$G$9:$G$40,$C$181,'ABT Transactions'!$F$9:$F$40,$AM$148,'ABT Transactions'!$C$9:$C$40,AO183,'ABT Transactions'!$D$9:$D$40,$B$152)","v":0},{"$f":"SUMIFS('ABT Transactions'!$B$9:$B$40,'ABT Transactions'!$G$9:$G$40,$C$181,'ABT Transactions'!$F$9:$F$40,$AP$148,'ABT Transactions'!$C$9:$C$40,AP183,'ABT Transactions'!$D$9:$D$40,$B$152)","v":0},{"$f":"SUMIFS('ABT Transactions'!$B$9:$B$40,'ABT Transactions'!$G$9:$G$40,$C$181,'ABT Transactions'!$F$9:$F$40,$AP$148,'ABT Transactions'!$C$9:$C$40,AQ183,'ABT Transactions'!$D$9:$D$40,$B$152)","v":0},{"$f":"SUMIFS('ABT Transactions'!$B$9:$B$40,'ABT Transactions'!$G$9:$G$40,$C$181,'ABT Transactions'!$F$9:$F$40,$AP$148,'ABT Transactions'!$C$9:$C$40,AR183,'ABT Transactions'!$D$9:$D$40,$B$152)","v":0},{"$f":"SUMIFS('ABT Transactions'!$B$9:$B$40,'ABT Transactions'!$G$9:$G$40,$C$181,'ABT Transactions'!$F$9:$F$40,$AS$148,'ABT Transactions'!$C$9:$C$40,AS183,'ABT Transactions'!$D$9:$D$40,$B$152)","v":0},{"$f":"SUMIFS('ABT Transactions'!$B$9:$B$40,'ABT Transactions'!$G$9:$G$40,$C$181,'ABT Transactions'!$F$9:$F$40,$AS$148,'ABT Transactions'!$C$9:$C$40,AT183,'ABT Transactions'!$D$9:$D$40,$B$152)","v":0},{"$f":"SUMIFS('ABT Transactions'!$B$9:$B$40,'ABT Transactions'!$G$9:$G$40,$C$181,'ABT Transactions'!$F$9:$F$40,$AS$148,'ABT Transactions'!$C$9:$C$40,AU183,'ABT Transactions'!$D$9:$D$40,$B$152)","v":0}]
[null,"Applied Banked Credits (in)",{"$f":"SUMIFS('ABT Transactions'!$B$9:$B$40,'ABT Transactions'!$J$9:$J$40,$C$181,'ABT Transactions'!$I$9:$I$40,$C$148,'ABT Transactions'!$C$9:$C$40,C183,'ABT Transactions'!$D$9:$D$40,$B$153)","v":0},{"$f":"SUMIFS('ABT Transactions'!$B$9:$B$40,'ABT Transactions'!$J$9:$J$40,$C$181,'ABT Transactions'!$I$9:$I$40,$C$148,'ABT Transactions'!$C$9:$C$40,D183,'ABT Transactions'!$D$9:$D$40,$B$153)","v":0},{"$f":"SUMIFS('ABT Transactions'!$B$9:$B$40,'ABT Transactions'!$J$9:$J$40,$C$181,'ABT Transactions'!$I$9:$I$40,$C$148,'ABT Transactions'!$C$9:$C$40,E183,'ABT Transactions'!$D$9:$D$40,$B$153)","v":0},{"$f":"SUMIFS('ABT Transactions'!$B$9:$B$40,'ABT Transactions'!$J$9:$J$40,$C$181,'ABT Transactions'!$I$9:$I$40,$F$148,'ABT Transactions'!$C$9:$C$40,F183,'ABT Transactions'!$D$9:$D$40,$B$153)","v":0},{"$f":"SUMIFS('ABT Transactions'!$B$9:$B$40,'ABT Transactions'!$J$9:$J$40,$C$181,'ABT Transactions'!$I$9:$I$40,$F$148,'ABT Transactions'!$C$9:$C$40,G183,'ABT Transactions'!$D$9:$D$40,$B$153)","v":0},{"$f":"SUMIFS('ABT Transactions'!$B$9:$B$40,'ABT Transactions'!$J$9:$J$40,$C$181,'ABT Transactions'!$I$9:$I$40,$F$148,'ABT Transactions'!$C$9:$C$40,H183,'ABT Transactions'!$D$9:$D$40,$B$153)","v":0},{"$f":"SUMIFS('ABT Transactions'!$B$9:$B$40,'ABT Transactions'!$J$9:$J$40,$C$181,'ABT Transactions'!$I$9:$I$40,$I$148,'ABT Transactions'!$C$9:$C$40,I183,'ABT Transactions'!$D$9:$D$40,$B$153)","v":0},{"$f":"SUMIFS('ABT Transactions'!$B$9:$B$40,'ABT Transactions'!$J$9:$J$40,$C$181,'ABT Transactions'!$I$9:$I$40,$I$148,'ABT Transactions'!$C$9:$C$40,J183,'ABT Transactions'!$D$9:$D$40,$B$153)","v":0},{"$f":"SUMIFS('ABT Transactions'!$B$9:$B$40,'ABT Transactions'!$J$9:$J$40,$C$181,'ABT Transactions'!$I$9:$I$40,$I$148,'ABT Transactions'!$C$9:$C$40,K183,'ABT Transactions'!$D$9:$D$40,$B$153)","v":0},{"$f":"SUMIFS('ABT Transactions'!$B$9:$B$40,'ABT Transactions'!$J$9:$J$40,$C$181,'ABT Transactions'!$I$9:$I$40,$L$148,'ABT Transactions'!$C$9:$C$40,L183,'ABT Transactions'!$D$9:$D$40,$B$153)","v":0},{"$f":"SUMIFS('ABT Transactions'!$B$9:$B$40,'ABT Transactions'!$J$9:$J$40,$C$181,'ABT Transactions'!$I$9:$I$40,$L$148,'ABT Transactions'!$C$9:$C$40,M183,'ABT Transactions'!$D$9:$D$40,$B$153)","v":0},{"$f":"SUMIFS('ABT Transactions'!$B$9:$B$40,'ABT Transactions'!$J$9:$J$40,$C$181,'ABT Transactions'!$I$9:$I$40,$L$148,'ABT Transactions'!$C$9:$C$40,N183,'ABT Transactions'!$D$9:$D$40,$B$153)","v":0},{"$f":"SUMIFS('ABT Transactions'!$B$9:$B$40,'ABT Transactions'!$J$9:$J$40,$C$181,'ABT Transactions'!$I$9:$I$40,$O$148,'ABT Transactions'!$C$9:$C$40,O183,'ABT Transactions'!$D$9:$D$40,$B$153)","v":0},{"$f":"SUMIFS('ABT Transactions'!$B$9:$B$40,'ABT Transactions'!$J$9:$J$40,$C$181,'ABT Transactions'!$I$9:$I$40,$O$148,'ABT Transactions'!$C$9:$C$40,P183,'ABT Transactions'!$D$9:$D$40,$B$153)","v":0},{"$f":"SUMIFS('ABT Transactions'!$B$9:$B$40,'ABT Transactions'!$J$9:$J$40,$C$181,'ABT Transactions'!$I$9:$I$40,$O$148,'ABT Transactions'!$C$9:$C$40,Q183,'ABT Transactions'!$D$9:$D$40,$B$153)","v":0},{"$f":"SUMIFS('ABT Transactions'!$B$9:$B$40,'ABT Transactions'!$J$9:$J$40,$C$181,'ABT Transactions'!$I$9:$I$40,$R$148,'ABT Transactions'!$C$9:$C$40,R183,'ABT Transactions'!$D$9:$D$40,$B$153)","v":0},{"$f":"SUMIFS('ABT Transactions'!$B$9:$B$40,'ABT Transactions'!$J$9:$J$40,$C$181,'ABT Transactions'!$I$9:$I$40,$R$148,'ABT Transactions'!$C$9:$C$40,S183,'ABT Transactions'!$D$9:$D$40,$B$153)","v":0},{"$f":"SUMIFS('ABT Transactions'!$B$9:$B$40,'ABT Transactions'!$J$9:$J$40,$C$181,'ABT Transactions'!$I$9:$I$40,$R$148,'ABT Transactions'!$C$9:$C$40,T183,'ABT Transactions'!$D$9:$D$40,$B$153)","v":0},{"$f":"SUMIFS('ABT Transactions'!$B$9:$B$40,'ABT Transactions'!$J$9:$J$40,$C$181,'ABT Transactions'!$I$9:$I$40,$U$148,'ABT Transactions'!$C$9:$C$40,U183,'ABT Transactions'!$D$9:$D$40,$B$153)","v":0},{"$f":"SUMIFS('ABT Transactions'!$B$9:$B$40,'ABT Transactions'!$J$9:$J$40,$C$181,'ABT Transactions'!$I$9:$I$40,$U$148,'ABT Transactions'!$C$9:$C$40,V183,'ABT Transactions'!$D$9:$D$40,$B$153)","v":0},{"$f":"SUMIFS('ABT Transactions'!$B$9:$B$40,'ABT Transactions'!$J$9:$J$40,$C$181,'ABT Transactions'!$I$9:$I$40,U$148,'ABT Transactions'!$C$9:$C$40,W183,'ABT Transactions'!$D$9:$D$40,$B$153)","v":0},{"$f":"SUMIFS('ABT Transactions'!$B$9:$B$40,'ABT Transactions'!$J$9:$J$40,$C$181,'ABT Transactions'!$I$9:$I$40,$X$148,'ABT Transactions'!$C$9:$C$40,X183,'ABT Transactions'!$D$9:$D$40,$B$153)","v":0},{"$f":"SUMIFS('ABT Transactions'!$B$9:$B$40,'ABT Transactions'!$J$9:$J$40,$C$181,'ABT Transactions'!$I$9:$I$40,$X$148,'ABT Transactions'!$C$9:$C$40,Y183,'ABT Transactions'!$D$9:$D$40,$B$153)","v":0},{"$f":"SUMIFS('ABT Transactions'!$B$9:$B$40,'ABT Transactions'!$J$9:$J$40,$C$181,'ABT Transactions'!$I$9:$I$40,$X$148,'ABT Transactions'!$C$9:$C$40,Z183,'ABT Transactions'!$D$9:$D$40,$B$153)","v":0},{"$f":"SUMIFS('ABT Transactions'!$B$9:$B$40,'ABT Transactions'!$J$9:$J$40,$C$181,'ABT Transactions'!$I$9:$I$40,$AA$148,'ABT Transactions'!$C$9:$C$40,AA183,'ABT Transactions'!$D$9:$D$40,$B$153)","v":0},{"$f":"SUMIFS('ABT Transactions'!$B$9:$B$40,'ABT Transactions'!$J$9:$J$40,$C$181,'ABT Transactions'!$I$9:$I$40,$AA$148,'ABT Transactions'!$C$9:$C$40,AB183,'ABT Transactions'!$D$9:$D$40,$B$153)","v":0},{"$f":"SUMIFS('ABT Transactions'!$B$9:$B$40,'ABT Transactions'!$J$9:$J$40,$C$181,'ABT Transactions'!$I$9:$I$40,$AA$148,'ABT Transactions'!$C$9:$C$40,AC183,'ABT Transactions'!$D$9:$D$40,$B$153)","v":0},{"$f":"SUMIFS('ABT Transactions'!$B$9:$B$40,'ABT Transactions'!$J$9:$J$40,$C$181,'ABT Transactions'!$I$9:$I$40,$AD$148,'ABT Transactions'!$C$9:$C$40,AD183,'ABT Transactions'!$D$9:$D$40,$B$153)","v":0},{"$f":"SUMIFS('ABT Transactions'!$B$9:$B$40,'ABT Transactions'!$J$9:$J$40,$C$181,'ABT Transactions'!$I$9:$I$40,$AD$148,'ABT Transactions'!$C$9:$C$40,AE183,'ABT Transactions'!$D$9:$D$40,$B$153)","v":0},{"$f":"SUMIFS('ABT Transactions'!$B$9:$B$40,'ABT Transactions'!$J$9:$J$40,$C$181,'ABT Transactions'!$I$9:$I$40,$AD$148,'ABT Transactions'!$C$9:$C$40,AF183,'ABT Transactions'!$D$9:$D$40,$B$153)","v":0},{"$f":"SUMIFS('ABT Transactions'!$B$9:$B$40,'ABT Transactions'!$J$9:$J$40,$C$181,'ABT Transactions'!$I$9:$I$40,$AG$148,'ABT Transactions'!$C$9:$C$40,AG183,'ABT Transactions'!$D$9:$D$40,$B$153)","v":0},{"$f":"SUMIFS('ABT Transactions'!$B$9:$B$40,'ABT Transactions'!$J$9:$J$40,$C$181,'ABT Transactions'!$I$9:$I$40,$AG$148,'ABT Transactions'!$C$9:$C$40,AH183,'ABT Transactions'!$D$9:$D$40,$B$153)","v":0},{"$f":"SUMIFS('ABT Transactions'!$B$9:$B$40,'ABT Transactions'!$J$9:$J$40,$C$181,'ABT Transactions'!$I$9:$I$40,$AG$148,'ABT Transactions'!$C$9:$C$40,AI183,'ABT Transactions'!$D$9:$D$40,$B$153)","v":0},{"$f":"SUMIFS('ABT Transactions'!$B$9:$B$40,'ABT Transactions'!$J$9:$J$40,$C$181,'ABT Transactions'!$I$9:$I$40,$AJ$148,'ABT Transactions'!$C$9:$C$40,AJ183,'ABT Transactions'!$D$9:$D$40,$B$153)","v":0},{"$f":"SUMIFS('ABT Transactions'!$B$9:$B$40,'ABT Transactions'!$J$9:$J$40,$C$181,'ABT Transactions'!$I$9:$I$40,$AJ$148,'ABT Transactions'!$C$9:$C$40,AK183,'ABT Transactions'!$D$9:$D$40,$B$153)","v":0},{"$f":"SUMIFS('ABT Transactions'!$B$9:$B$40,'ABT Transactions'!$J$9:$J$40,$C$181,'ABT Transactions'!$I$9:$I$40,$AJ$148,'ABT Transactions'!$C$9:$C$40,AL183,'ABT Transactions'!$D$9:$D$40,$B$153)","v":0},{"$f":"SUMIFS('ABT Transactions'!$B$9:$B$40,'ABT Transactions'!$J$9:$J$40,$C$181,'ABT Transactions'!$I$9:$I$40,$AM$148,'ABT Transactions'!$C$9:$C$40,AM183,'ABT Transactions'!$D$9:$D$40,$B$153)","v":0},{"$f":"SUMIFS('ABT Transactions'!$B$9:$B$40,'ABT Transactions'!$J$9:$J$40,$C$181,'ABT Transactions'!$I$9:$I$40,$AM$148,'ABT Transactions'!$C$9:$C$40,AN183,'ABT Transactions'!$D$9:$D$40,$B$153)","v":0},{"$f":"SUMIFS('ABT Transactions'!$B$9:$B$40,'ABT Transactions'!$J$9:$J$40,$C$181,'ABT Transactions'!$I$9:$I$40,$AM$148,'ABT Transactions'!$C$9:$C$40,AO183,'ABT Transactions'!$D$9:$D$40,$B$153)","v":0},{"$f":"SUMIFS('ABT Transactions'!$B$9:$B$40,'ABT Transactions'!$J$9:$J$40,$C$181,'ABT Transactions'!$I$9:$I$40,$AP$148,'ABT Transactions'!$C$9:$C$40,AP183,'ABT Transactions'!$D$9:$D$40,$B$153)","v":0},{"$f":"SUMIFS('ABT Transactions'!$B$9:$B$40,'ABT Transactions'!$J$9:$J$40,$C$181,'ABT Transactions'!$I$9:$I$40,$AP$148,'ABT Transactions'!$C$9:$C$40,AQ183,'ABT Transactions'!$D$9:$D$40,$B$153)","v":0},{"$f":"SUMIFS('ABT Transactions'!$B$9:$B$40,'ABT Transactions'!$J$9:$J$40,$C$181,'ABT Transactions'!$I$9:$I$40,$AP$148,'ABT Transactions'!$C$9:$C$40,AR183,'ABT Transactions'!$D$9:$D$40,$B$153)","v":0},{"$f":"SUMIFS('ABT Transactions'!$B$9:$B$40,'ABT Transactions'!$J$9:$J$40,$C$181,'ABT Transactions'!$I$9:$I$40,$AS$148,'ABT Transactions'!$C$9:$C$40,AS183,'ABT Transactions'!$D$9:$D$40,$B$153)","v":0},{"$f":"SUMIFS('ABT Transactions'!$B$9:$B$40,'ABT Transactions'!$J$9:$J$40,$C$181,'ABT Transactions'!$I$9:$I$40,$AS$148,'ABT Transactions'!$C$9:$C$40,AT183,'ABT Transactions'!$D$9:$D$40,$B$153)","v":0},{"$f":"SUMIFS('ABT Transactions'!$B$9:$B$40,'ABT Transactions'!$J$9:$J$40,$C$181,'ABT Transactions'!$I$9:$I$40,$AS$148,'ABT Transactions'!$C$9:$C$40,AU183,'ABT Transactions'!$D$9:$D$40,$B$153)","v":0}]
[null,"Trade Out",{"$f":"SUMIFS('ABT Transactions'!$B$9:$B$40,'ABT Transactions'!$G$9:$G$40,$C$181,'ABT Transactions'!$F$9:$F$40,$C$148,'ABT Transactions'!$C$9:$C$40,C183,'ABT Transactions'!$D$9:$D$40,$B$154)","v":0},{"$f":"SUMIFS('ABT Transactions'!$B$9:$B$40,'ABT Transactions'!$G$9:$G$40,$C$181,'ABT Transactions'!$F$9:$F$40,$C$148,'ABT Transactions'!$C$9:$C$40,D183,'ABT Transactions'!$D$9:$D$40,$B$154)","v":0},{"$f":"SUMIFS('ABT Transactions'!$B$9:$B$40,'ABT Transactions'!$G$9:$G$40,$C$181,'ABT Transactions'!$F$9:$F$40,$C$148,'ABT Transactions'!$C$9:$C$40,E183,'ABT Transactions'!$D$9:$D$40,$B$154)","v":0},{"$f":"SUMIFS('ABT Transactions'!$B$9:$B$40,'ABT Transactions'!$G$9:$G$40,$C$181,'ABT Transactions'!$F$9:$F$40,$F$148,'ABT Transactions'!$C$9:$C$40,F183,'ABT Transactions'!$D$9:$D$40,$B$154)","v":0},{"$f":"SUMIFS('ABT Transactions'!$B$9:$B$40,'ABT Transactions'!$G$9:$G$40,$C$181,'ABT Transactions'!$F$9:$F$40,$F$148,'ABT Transactions'!$C$9:$C$40,G183,'ABT Transactions'!$D$9:$D$40,$B$154)","v":0},{"$f":"SUMIFS('ABT Transactions'!$B$9:$B$40,'ABT Transactions'!$G$9:$G$40,$C$181,'ABT Transactions'!$F$9:$F$40,$F$148,'ABT Transactions'!$C$9:$C$40,H183,'ABT Transactions'!$D$9:$D$40,$B$154)","v":0},{"$f":"SUMIFS('ABT Transactions'!$B$9:$B$40,'ABT Transactions'!$G$9:$G$40,$C$181,'ABT Transactions'!$F$9:$F$40,$I$148,'ABT Transactions'!$C$9:$C$40,I183,'ABT Transactions'!$D$9:$D$40,$B$154)","v":0},{"$f":"SUMIFS('ABT Transactions'!$B$9:$B$40,'ABT Transactions'!$G$9:$G$40,$C$181,'ABT Transactions'!$F$9:$F$40,$I$148,'ABT Transactions'!$C$9:$C$40,J183,'ABT Transactions'!$D$9:$D$40,$B$154)","v":0},{"$f":"SUMIFS('ABT Transactions'!$B$9:$B$40,'ABT Transactions'!$G$9:$G$40,$C$181,'ABT Transactions'!$F$9:$F$40,$I$148,'ABT Transactions'!$C$9:$C$40,K183,'ABT Transactions'!$D$9:$D$40,$B$154)","v":0},{"$f":"SUMIFS('ABT Transactions'!$B$9:$B$40,'ABT Transactions'!$G$9:$G$40,$C$181,'ABT Transactions'!$F$9:$F$40,$L$148,'ABT Transactions'!$C$9:$C$40,L183,'ABT Transactions'!$D$9:$D$40,$B$154)","v":0},{"$f":"SUMIFS('ABT Transactions'!$B$9:$B$40,'ABT Transactions'!$G$9:$G$40,$C$181,'ABT Transactions'!$F$9:$F$40,$L$148,'ABT Transactions'!$C$9:$C$40,M183,'ABT Transactions'!$D$9:$D$40,$B$154)","v":0},{"$f":"SUMIFS('ABT Transactions'!$B$9:$B$40,'ABT Transactions'!$G$9:$G$40,$C$181,'ABT Transactions'!$F$9:$F$40,$L$148,'ABT Transactions'!$C$9:$C$40,N183,'ABT Transactions'!$D$9:$D$40,$B$154)","v":0},{"$f":"SUMIFS('ABT Transactions'!$B$9:$B$40,'ABT Transactions'!$G$9:$G$40,$C$181,'ABT Transactions'!$F$9:$F$40,$O$148,'ABT Transactions'!$C$9:$C$40,O183,'ABT Transactions'!$D$9:$D$40,$B$154)","v":0},{"$f":"SUMIFS('ABT Transactions'!$B$9:$B$40,'ABT Transactions'!$G$9:$G$40,$C$181,'ABT Transactions'!$F$9:$F$40,$O$148,'ABT Transactions'!$C$9:$C$40,P183,'ABT Transactions'!$D$9:$D$40,$B$154)","v":0},{"$f":"SUMIFS('ABT Transactions'!$B$9:$B$40,'ABT Transactions'!$G$9:$G$40,$C$181,'ABT Transactions'!$F$9:$F$40,$O$148,'ABT Transactions'!$C$9:$C$40,Q183,'ABT Transactions'!$D$9:$D$40,$B$154)","v":0},{"$f":"SUMIFS('ABT Transactions'!$B$9:$B$40,'ABT Transactions'!$G$9:$G$40,$C$181,'ABT Transactions'!$F$9:$F$40,$R$148,'ABT Transactions'!$C$9:$C$40,R183,'ABT Transactions'!$D$9:$D$40,$B$154)","v":0},{"$f":"SUMIFS('ABT Transactions'!$B$9:$B$40,'ABT Transactions'!$G$9:$G$40,$C$181,'ABT Transactions'!$F$9:$F$40,$R$148,'ABT Transactions'!$C$9:$C$40,S183,'ABT Transactions'!$D$9:$D$40,$B$154)","v":0},{"$f":"SUMIFS('ABT Transactions'!$B$9:$B$40,'ABT Transactions'!$G$9:$G$40,$C$181,'ABT Transactions'!$F$9:$F$40,$R$148,'ABT Transactions'!$C$9:$C$40,T183,'ABT Transactions'!$D$9:$D$40,$B$154)","v":0},{"$f":"SUMIFS('ABT Transactions'!$B$9:$B$40,'ABT Transactions'!$G$9:$G$40,$C$181,'ABT Transactions'!$F$9:$F$40,$U$148,'ABT Transactions'!$C$9:$C$40,U183,'ABT Transactions'!$D$9:$D$40,$B$154)","v":0},{"$f":"SUMIFS('ABT Transactions'!$B$9:$B$40,'ABT Transactions'!$G$9:$G$40,$C$181,'ABT Transactions'!$F$9:$F$40,$U$148,'ABT Transactions'!$C$9:$C$40,V183,'ABT Transactions'!$D$9:$D$40,$B$154)","v":0},{"$f":"SUMIFS('ABT Transactions'!$B$9:$B$40,'ABT Transactions'!$G$9:$G$40,$C$181,'ABT Transactions'!$F$9:$F$40,U$148,'ABT Transactions'!$C$9:$C$40,W183,'ABT Transactions'!$D$9:$D$40,$B$154)","v":0},{"$f":"SUMIFS('ABT Transactions'!$B$9:$B$40,'ABT Transactions'!$G$9:$G$40,$C$181,'ABT Transactions'!$F$9:$F$40,$X$148,'ABT Transactions'!$C$9:$C$40,X183,'ABT Transactions'!$D$9:$D$40,$B$154)","v":0},{"$f":"SUMIFS('ABT Transactions'!$B$9:$B$40,'ABT Transactions'!$G$9:$G$40,$C$181,'ABT Transactions'!$F$9:$F$40,$X$148,'ABT Transactions'!$C$9:$C$40,Y183,'ABT Transactions'!$D$9:$D$40,$B$154)","v":0},{"$f":"SUMIFS('ABT Transactions'!$B$9:$B$40,'ABT Transactions'!$G$9:$G$40,$C$181,'ABT Transactions'!$F$9:$F$40,$X$148,'ABT Transactions'!$C$9:$C$40,Z183,'ABT Transactions'!$D$9:$D$40,$B$154)","v":0},{"$f":"SUMIFS('ABT Transactions'!$B$9:$B$40,'ABT Transactions'!$G$9:$G$40,$C$181,'ABT Transactions'!$F$9:$F$40,$AA$148,'ABT Transactions'!$C$9:$C$40,AA183,'ABT Transactions'!$D$9:$D$40,$B$154)","v":0},{"$f":"SUMIFS('ABT Transactions'!$B$9:$B$40,'ABT Transactions'!$G$9:$G$40,$C$181,'ABT Transactions'!$F$9:$F$40,$AA$148,'ABT Transactions'!$C$9:$C$40,AB183,'ABT Transactions'!$D$9:$D$40,$B$154)","v":0},{"$f":"SUMIFS('ABT Transactions'!$B$9:$B$40,'ABT Transactions'!$G$9:$G$40,$C$181,'ABT Transactions'!$F$9:$F$40,$AA$148,'ABT Transactions'!$C$9:$C$40,AC183,'ABT Transactions'!$D$9:$D$40,$B$154)","v":0},{"$f":"SUMIFS('ABT Transactions'!$B$9:$B$40,'ABT Transactions'!$G$9:$G$40,$C$181,'ABT Transactions'!$F$9:$F$40,$AD$148,'ABT Transactions'!$C$9:$C$40,AD183,'ABT Transactions'!$D$9:$D$40,$B$154)","v":0},{"$f":"SUMIFS('ABT Transactions'!$B$9:$B$40,'ABT Transactions'!$G$9:$G$40,$C$181,'ABT Transactions'!$F$9:$F$40,$AD$148,'ABT Transactions'!$C$9:$C$40,AE183,'ABT Transactions'!$D$9:$D$40,$B$154)","v":0},{"$f":"SUMIFS('ABT Transactions'!$B$9:$B$40,'ABT Transactions'!$G$9:$G$40,$C$181,'ABT Transactions'!$F$9:$F$40,$AD$148,'ABT Transactions'!$C$9:$C$40,AF183,'ABT Transactions'!$D$9:$D$40,$B$154)","v":0},{"$f":"SUMIFS('ABT Transactions'!$B$9:$B$40,'ABT Transactions'!$G$9:$G$40,$C$181,'ABT Transactions'!$F$9:$F$40,$AG$148,'ABT Transactions'!$C$9:$C$40,AG183,'ABT Transactions'!$D$9:$D$40,$B$154)","v":0},{"$f":"SUMIFS('ABT Transactions'!$B$9:$B$40,'ABT Transactions'!$G$9:$G$40,$C$181,'ABT Transactions'!$F$9:$F$40,$AG$148,'ABT Transactions'!$C$9:$C$40,AH183,'ABT Transactions'!$D$9:$D$40,$B$154)","v":0},{"$f":"SUMIFS('ABT Transactions'!$B$9:$B$40,'ABT Transactions'!$G$9:$G$40,$C$181,'ABT Transactions'!$F$9:$F$40,$AG$148,'ABT Transactions'!$C$9:$C$40,AI183,'ABT Transactions'!$D$9:$D$40,$B$154)","v":0},{"$f":"SUMIFS('ABT Transactions'!$B$9:$B$40,'ABT Transactions'!$G$9:$G$40,$C$181,'ABT Transactions'!$F$9:$F$40,$AJ$148,'ABT Transactions'!$C$9:$C$40,AJ183,'ABT Transactions'!$D$9:$D$40,$B$154)","v":0},{"$f":"SUMIFS('ABT Transactions'!$B$9:$B$40,'ABT Transactions'!$G$9:$G$40,$C$181,'ABT Transactions'!$F$9:$F$40,$AJ$148,'ABT Transactions'!$C$9:$C$40,AK183,'ABT Transactions'!$D$9:$D$40,$B$154)","v":0},{"$f":"SUMIFS('ABT Transactions'!$B$9:$B$40,'ABT Transactions'!$G$9:$G$40,$C$181,'ABT Transactions'!$F$9:$F$40,$AJ$148,'ABT Transactions'!$C$9:$C$40,AL183,'ABT Transactions'!$D$9:$D$40,$B$154)","v":0},{"$f":"SUMIFS('ABT Transactions'!$B$9:$B$40,'ABT Transactions'!$G$9:$G$40,$C$181,'ABT Transactions'!$F$9:$F$40,$AM$148,'ABT Transactions'!$C$9:$C$40,AM183,'ABT Transactions'!$D$9:$D$40,$B$154)","v":0},{"$f":"SUMIFS('ABT Transactions'!$B$9:$B$40,'ABT Transactions'!$G$9:$G$40,$C$181,'ABT Transactions'!$F$9:$F$40,$AM$148,'ABT Transactions'!$C$9:$C$40,AN183,'ABT Transactions'!$D$9:$D$40,$B$154)","v":0},{"$f":"SUMIFS('ABT Transactions'!$B$9:$B$40,'ABT Transactions'!$G$9:$G$40,$C$181,'ABT Transactions'!$F$9:$F$40,$AM$148,'ABT Transactions'!$C$9:$C$40,AO183,'ABT Transactions'!$D$9:$D$40,$B$154)","v":0},{"$f":"SUMIFS('ABT Transactions'!$B$9:$B$40,'ABT Transactions'!$G$9:$G$40,$C$181,'ABT Transactions'!$F$9:$F$40,$AP$148,'ABT Transactions'!$C$9:$C$40,AP183,'ABT Transactions'!$D$9:$D$40,$B$154)","v":0},{"$f":"SUMIFS('ABT Transactions'!$B$9:$B$40,'ABT Transactions'!$G$9:$G$40,$C$181,'ABT Transactions'!$F$9:$F$40,$AP$148,'ABT Transactions'!$C$9:$C$40,AQ183,'ABT Transactions'!$D$9:$D$40,$B$154)","v":0},{"$f":"SUMIFS('ABT Transactions'!$B$9:$B$40,'ABT Transactions'!$G$9:$G$40,$C$181,'ABT Transactions'!$F$9:$F$40,$AP$148,'ABT Transactions'!$C$9:$C$40,AR183,'ABT Transactions'!$D$9:$D$40,$B$154)","v":0},{"$f":"SUMIFS('ABT Transactions'!$B$9:$B$40,'ABT Transactions'!$G$9:$G$40,$C$181,'ABT Transactions'!$F$9:$F$40,$AS$148,'ABT Transactions'!$C$9:$C$40,AS183,'ABT Transactions'!$D$9:$D$40,$B$154)","v":0},{"$f":"SUMIFS('ABT Transactions'!$B$9:$B$40,'ABT Transactions'!$G$9:$G$40,$C$181,'ABT Transactions'!$F$9:$F$40,$AS$148,'ABT Transactions'!$C$9:$C$40,AT183,'ABT Transactions'!$D$9:$D$40,$B$154)","v":0},{"$f":"SUMIFS('ABT Transactions'!$B$9:$B$40,'ABT Transactions'!$G$9:$G$40,$C$181,'ABT Transactions'!$F$9:$F$40,$AS$148,'ABT Transactions'!$C$9:$C$40,AU183,'ABT Transactions'!$D$9:$D$40,$B$154)","v":0}]
[null,"Trade In",{"$f":"SUMIFS('ABT Transactions'!$B$9:$B$40,'ABT Transactions'!$J$9:$J$40,$C$181,'ABT Transactions'!$I$9:$I$40,$C$148,'ABT Transactions'!$C$9:$C$40,C183,'ABT Transactions'!$D$9:$D$40,$B$155)","v":0},{"$f":"SUMIFS('ABT Transactions'!$B$9:$B$40,'ABT Transactions'!$J$9:$J$40,$C$181,'ABT Transactions'!$I$9:$I$40,$C$148,'ABT Transactions'!$C$9:$C$40,D183,'ABT Transactions'!$D$9:$D$40,$B$155)","v":0},{"$f":"SUMIFS('ABT Transactions'!$B$9:$B$40,'ABT Transactions'!$J$9:$J$40,$C$181,'ABT Transactions'!$I$9:$I$40,$C$148,'ABT Transactions'!$C$9:$C$40,E183,'ABT Transactions'!$D$9:$D$40,$B$155)","v":0},{"$f":"SUMIFS('ABT Transactions'!$B$9:$B$40,'ABT Transactions'!$J$9:$J$40,$C$181,'ABT Transactions'!$I$9:$I$40,$F$148,'ABT Transactions'!$C$9:$C$40,F183,'ABT Transactions'!$D$9:$D$40,$B$155)","v":0},{"$f":"SUMIFS('ABT Transactions'!$B$9:$B$40,'ABT Transactions'!$J$9:$J$40,$C$181,'ABT Transactions'!$I$9:$I$40,$F$148,'ABT Transactions'!$C$9:$C$40,G183,'ABT Transactions'!$D$9:$D$40,$B$155)","v":0},{"$f":"SUMIFS('ABT Transactions'!$B$9:$B$40,'ABT Transactions'!$J$9:$J$40,$C$181,'ABT Transactions'!$I$9:$I$40,$F$148,'ABT Transactions'!$C$9:$C$40,H183,'ABT Transactions'!$D$9:$D$40,$B$155)","v":0},{"$f":"SUMIFS('ABT Transactions'!$B$9:$B$40,'ABT Transactions'!$J$9:$J$40,$C$181,'ABT Transactions'!$I$9:$I$40,$I$148,'ABT Transactions'!$C$9:$C$40,I183,'ABT Transactions'!$D$9:$D$40,$B$155)","v":0},{"$f":"SUMIFS('ABT Transactions'!$B$9:$B$40,'ABT Transactions'!$J$9:$J$40,$C$181,'ABT Transactions'!$I$9:$I$40,$I$148,'ABT Transactions'!$C$9:$C$40,J183,'ABT Transactions'!$D$9:$D$40,$B$155)","v":0},{"$f":"SUMIFS('ABT Transactions'!$B$9:$B$40,'ABT Transactions'!$J$9:$J$40,$C$181,'ABT Transactions'!$I$9:$I$40,$I$148,'ABT Transactions'!$C$9:$C$40,K183,'ABT Transactions'!$D$9:$D$40,$B$155)","v":0},{"$f":"SUMIFS('ABT Transactions'!$B$9:$B$40,'ABT Transactions'!$J$9:$J$40,$C$181,'ABT Transactions'!$I$9:$I$40,$L$148,'ABT Transactions'!$C$9:$C$40,L183,'ABT Transactions'!$D$9:$D$40,$B$155)","v":0},{"$f":"SUMIFS('ABT Transactions'!$B$9:$B$40,'ABT Transactions'!$J$9:$J$40,$C$181,'ABT Transactions'!$I$9:$I$40,$L$148,'ABT Transactions'!$C$9:$C$40,M183,'ABT Transactions'!$D$9:$D$40,$B$155)","v":0},{"$f":"SUMIFS('ABT Transactions'!$B$9:$B$40,'ABT Transactions'!$J$9:$J$40,$C$181,'ABT Transactions'!$I$9:$I$40,$L$148,'ABT Transactions'!$C$9:$C$40,N183,'ABT Transactions'!$D$9:$D$40,$B$155)","v":0},{"$f":"SUMIFS('ABT Transactions'!$B$9:$B$40,'ABT Transactions'!$J$9:$J$40,$C$181,'ABT Transactions'!$I$9:$I$40,$O$148,'ABT Transactions'!$C$9:$C$40,O183,'ABT Transactions'!$D$9:$D$40,$B$155)","v":0},{"$f":"SUMIFS('ABT Transactions'!$B$9:$B$40,'ABT Transactions'!$J$9:$J$40,$C$181,'ABT Transactions'!$I$9:$I$40,$O$148,'ABT Transactions'!$C$9:$C$40,P183,'ABT Transactions'!$D$9:$D$40,$B$155)","v":0},{"$f":"SUMIFS('ABT Transactions'!$B$9:$B$40,'ABT Transactions'!$J$9:$J$40,$C$181,'ABT Transactions'!$I$9:$I$40,$O$148,'ABT Transactions'!$C$9:$C$40,Q183,'ABT Transactions'!$D$9:$D$40,$B$155)","v":0},{"$f":"SUMIFS('ABT Transactions'!$B$9:$B$40,'ABT Transactions'!$J$9:$J$40,$C$181,'ABT Transactions'!$I$9:$I$40,$R$148,'ABT Transactions'!$C$9:$C$40,R183,'ABT Transactions'!$D$9:$D$40,$B$155)","v":0},{"$f":"SUMIFS('ABT Transactions'!$B$9:$B$40,'ABT Transactions'!$J$9:$J$40,$C$181,'ABT Transactions'!$I$9:$I$40,$R$148,'ABT Transactions'!$C$9:$C$40,S183,'ABT Transactions'!$D$9:$D$40,$B$155)","v":0},{"$f":"SUMIFS('ABT Transactions'!$B$9:$B$40,'ABT Transactions'!$J$9:$J$40,$C$181,'ABT Transactions'!$I$9:$I$40,$R$148,'ABT Transactions'!$C$9:$C$40,T183,'ABT Transactions'!$D$9:$D$40,$B$155)","v":0},{"$f":"SUMIFS('ABT Transactions'!$B$9:$B$40,'ABT Transactions'!$J$9:$J$40,$C$181,'ABT Transactions'!$I$9:$I$40,$U$148,'ABT Transactions'!$C$9:$C$40,U183,'ABT Transactions'!$D$9:$D$40,$B$155)","v":0},{"$f":"SUMIFS('ABT Transactions'!$B$9:$B$40,'ABT Transactions'!$J$9:$J$40,$C$181,'ABT Transactions'!$I$9:$I$40,$U$148,'ABT Transactions'!$C$9:$C$40,V183,'ABT Transactions'!$D$9:$D$40,$B$155)","v":0},{"$f":"SUMIFS('ABT Transactions'!$B$9:$B$40,'ABT Transactions'!$J$9:$J$40,$C$181,'ABT Transactions'!$I$9:$I$40,U$148,'ABT Transactions'!$C$9:$C$40,W183,'ABT Transactions'!$D$9:$D$40,$B$155)","v":0},{"$f":"SUMIFS('ABT Transactions'!$B$9:$B$40,'ABT Transactions'!$J$9:$J$40,$C$181,'ABT Transactions'!$I$9:$I$40,$X$148,'ABT Transactions'!$C$9:$C$40,X183,'ABT Transactions'!$D$9:$D$40,$B$155)","v":0},{"$f":"SUMIFS('ABT Transactions'!$B$9:$B$40,'ABT Transactions'!$J$9:$J$40,$C$181,'ABT Transactions'!$I$9:$I$40,$X$148,'ABT Transactions'!$C$9:$C$40,Y183,'ABT Transactions'!$D$9:$D$40,$B$155)","v":0},{"$f":"SUMIFS('ABT Transactions'!$B$9:$B$40,'ABT Transactions'!$J$9:$J$40,$C$181,'ABT Transactions'!$I$9:$I$40,$X$148,'ABT Transactions'!$C$9:$C$40,Z183,'ABT Transactions'!$D$9:$D$40,$B$155)","v":0},{"$f":"SUMIFS('ABT Transactions'!$B$9:$B$40,'ABT Transactions'!$J$9:$J$40,$C$181,'ABT Transactions'!$I$9:$I$40,$AA$148,'ABT Transactions'!$C$9:$C$40,AA183,'ABT Transactions'!$D$9:$D$40,$B$155)","v":0},{"$f":"SUMIFS('ABT Transactions'!$B$9:$B$40,'ABT Transactions'!$J$9:$J$40,$C$181,'ABT Transactions'!$I$9:$I$40,$AA$148,'ABT Transactions'!$C$9:$C$40,AB183,'ABT Transactions'!$D$9:$D$40,$B$155)","v":0},{"$f":"SUMIFS('ABT Transactions'!$B$9:$B$40,'ABT Transactions'!$J$9:$J$40,$C$181,'ABT Transactions'!$I$9:$I$40,$AA$148,'ABT Transactions'!$C$9:$C$40,AC183,'ABT Transactions'!$D$9:$D$40,$B$155)","v":0},{"$f":"SUMIFS('ABT Transactions'!$B$9:$B$40,'ABT Transactions'!$J$9:$J$40,$C$181,'ABT Transactions'!$I$9:$I$40,$AD$148,'ABT Transactions'!$C$9:$C$40,AD183,'ABT Transactions'!$D$9:$D$40,$B$155)","v":0},{"$f":"SUMIFS('ABT Transactions'!$B$9:$B$40,'ABT Transactions'!$J$9:$J$40,$C$181,'ABT Transactions'!$I$9:$I$40,$AD$148,'ABT Transactions'!$C$9:$C$40,AE183,'ABT Transactions'!$D$9:$D$40,$B$155)","v":0},{"$f":"SUMIFS('ABT Transactions'!$B$9:$B$40,'ABT Transactions'!$J$9:$J$40,$C$181,'ABT Transactions'!$I$9:$I$40,$AD$148,'ABT Transactions'!$C$9:$C$40,AF183,'ABT Transactions'!$D$9:$D$40,$B$155)","v":0},{"$f":"SUMIFS('ABT Transactions'!$B$9:$B$40,'ABT Transactions'!$J$9:$J$40,$C$181,'ABT Transactions'!$I$9:$I$40,$AG$148,'ABT Transactions'!$C$9:$C$40,AG183,'ABT Transactions'!$D$9:$D$40,$B$155)","v":0},{"$f":"SUMIFS('ABT Transactions'!$B$9:$B$40,'ABT Transactions'!$J$9:$J$40,$C$181,'ABT Transactions'!$I$9:$I$40,$AG$148,'ABT Transactions'!$C$9:$C$40,AH183,'ABT Transactions'!$D$9:$D$40,$B$155)","v":0},{"$f":"SUMIFS('ABT Transactions'!$B$9:$B$40,'ABT Transactions'!$J$9:$J$40,$C$181,'ABT Transactions'!$I$9:$I$40,$AG$148,'ABT Transactions'!$C$9:$C$40,AI183,'ABT Transactions'!$D$9:$D$40,$B$155)","v":0},{"$f":"SUMIFS('ABT Transactions'!$B$9:$B$40,'ABT Transactions'!$J$9:$J$40,$C$181,'ABT Transactions'!$I$9:$I$40,$AJ$148,'ABT Transactions'!$C$9:$C$40,AJ183,'ABT Transactions'!$D$9:$D$40,$B$155)","v":0},{"$f":"SUMIFS('ABT Transactions'!$B$9:$B$40,'ABT Transactions'!$J$9:$J$40,$C$181,'ABT Transactions'!$I$9:$I$40,$AJ$148,'ABT Transactions'!$C$9:$C$40,AK183,'ABT Transactions'!$D$9:$D$40,$B$155)","v":0},{"$f":"SUMIFS('ABT Transactions'!$B$9:$B$40,'ABT Transactions'!$J$9:$J$40,$C$181,'ABT Transactions'!$I$9:$I$40,$AJ$148,'ABT Transactions'!$C$9:$C$40,AL183,'ABT Transactions'!$D$9:$D$40,$B$155)","v":0},{"$f":"SUMIFS('ABT Transactions'!$B$9:$B$40,'ABT Transactions'!$J$9:$J$40,$C$181,'ABT Transactions'!$I$9:$I$40,$AM$148,'ABT Transactions'!$C$9:$C$40,AM183,'ABT Transactions'!$D$9:$D$40,$B$155)","v":0},{"$f":"SUMIFS('ABT Transactions'!$B$9:$B$40,'ABT Transactions'!$J$9:$J$40,$C$181,'ABT Transactions'!$I$9:$I$40,$AM$148,'ABT Transactions'!$C$9:$C$40,AN183,'ABT Transactions'!$D$9:$D$40,$B$155)","v":0},{"$f":"SUMIFS('ABT Transactions'!$B$9:$B$40,'ABT Transactions'!$J$9:$J$40,$C$181,'ABT Transactions'!$I$9:$I$40,$AM$148,'ABT Transactions'!$C$9:$C$40,AO183,'ABT Transactions'!$D$9:$D$40,$B$155)","v":0},{"$f":"SUMIFS('ABT Transactions'!$B$9:$B$40,'ABT Transactions'!$J$9:$J$40,$C$181,'ABT Transactions'!$I$9:$I$40,$AP$148,'ABT Transactions'!$C$9:$C$40,AP183,'ABT Transactions'!$D$9:$D$40,$B$155)","v":0},{"$f":"SUMIFS('ABT Transactions'!$B$9:$B$40,'ABT Transactions'!$J$9:$J$40,$C$181,'ABT Transactions'!$I$9:$I$40,$AP$148,'ABT Transactions'!$C$9:$C$40,AQ183,'ABT Transactions'!$D$9:$D$40,$B$155)","v":0},{"$f":"SUMIFS('ABT Transactions'!$B$9:$B$40,'ABT Transactions'!$J$9:$J$40,$C$181,'ABT Transactions'!$I$9:$I$40,$AP$148,'ABT Transactions'!$C$9:$C$40,AR183,'ABT Transactions'!$D$9:$D$40,$B$155)","v":0},{"$f":"SUMIFS('ABT Transactions'!$B$9:$B$40,'ABT Transactions'!$J$9:$J$40,$C$181,'ABT Transactions'!$I$9:$I$40,$AS$148,'ABT Transactions'!$C$9:$C$40,AS183,'ABT Transactions'!$D$9:$D$40,$B$155)","v":0},{"$f":"SUMIFS('ABT Transactions'!$B$9:$B$40,'ABT Transactions'!$J$9:$J$40,$C$181,'ABT Transactions'!$I$9:$I$40,$AS$148,'ABT Transactions'!$C$9:$C$40,AT183,'ABT Transactions'!$D$9:$D$40,$B$155)","v":0},{"$f":"SUMIFS('ABT Transactions'!$B$9:$B$40,'ABT Transactions'!$J$9:$J$40,$C$181,'ABT Transactions'!$I$9:$I$40,$AS$148,'ABT Transactions'!$C$9:$C$40,AU183,'ABT Transactions'!$D$9:$D$40,$B$155)","v":0}]
[null,"Transfer ADV Credits (out)",{"$f":"SUMIFS('ABT Transactions'!$B$9:$B$40,'ABT Transactions'!$G$9:$G$40,$C$181,'ABT Transactions'!$F$9:$F$40,$C$148,'ABT Transactions'!$C$9:$C$40,C183,'ABT Transactions'!$D$9:$D$40,$B$156)","v":0},{"$f":"SUMIFS('ABT Transactions'!$B$9:$B$40,'ABT Transactions'!$G$9:$G$40,$C$181,'ABT Transactions'!$F$9:$F$40,$C$148,'ABT Transactions'!$C$9:$C$40,D183,'ABT Transactions'!$D$9:$D$40,$B$156)","v":0},{"$f":"SUMIFS('ABT Transactions'!$B$9:$B$40,'ABT Transactions'!$G$9:$G$40,$C$181,'ABT Transactions'!$F$9:$F$40,$C$148,'ABT Transactions'!$C$9:$C$40,E183,'ABT Transactions'!$D$9:$D$40,$B$156)","v":0},{"$f":"SUMIFS('ABT Transactions'!$B$9:$B$40,'ABT Transactions'!$G$9:$G$40,$C$181,'ABT Transactions'!$F$9:$F$40,$F$148,'ABT Transactions'!$C$9:$C$40,F183,'ABT Transactions'!$D$9:$D$40,$B$156)","v":0},{"$f":"SUMIFS('ABT Transactions'!$B$9:$B$40,'ABT Transactions'!$G$9:$G$40,$C$181,'ABT Transactions'!$F$9:$F$40,$F$148,'ABT Transactions'!$C$9:$C$40,G183,'ABT Transactions'!$D$9:$D$40,$B$156)","v":0},{"$f":"SUMIFS('ABT Transactions'!$B$9:$B$40,'ABT Transactions'!$G$9:$G$40,$C$181,'ABT Transactions'!$F$9:$F$40,$F$148,'ABT Transactions'!$C$9:$C$40,H183,'ABT Transactions'!$D$9:$D$40,$B$156)","v":0},{"$f":"SUMIFS('ABT Transactions'!$B$9:$B$40,'ABT Transactions'!$G$9:$G$40,$C$181,'ABT Transactions'!$F$9:$F$40,$I$148,'ABT Transactions'!$C$9:$C$40,I183,'ABT Transactions'!$D$9:$D$40,$B$156)","v":0},{"$f":"SUMIFS('ABT Transactions'!$B$9:$B$40,'ABT Transactions'!$G$9:$G$40,$C$181,'ABT Transactions'!$F$9:$F$40,$I$148,'ABT Transactions'!$C$9:$C$40,J183,'ABT Transactions'!$D$9:$D$40,$B$156)","v":0},{"$f":"SUMIFS('ABT Transactions'!$B$9:$B$40,'ABT Transactions'!$G$9:$G$40,$C$181,'ABT Transactions'!$F$9:$F$40,$I$148,'ABT Transactions'!$C$9:$C$40,K183,'ABT Transactions'!$D$9:$D$40,$B$156)","v":0},{"$f":"SUMIFS('ABT Transactions'!$B$9:$B$40,'ABT Transactions'!$G$9:$G$40,$C$181,'ABT Transactions'!$F$9:$F$40,$L$148,'ABT Transactions'!$C$9:$C$40,L183,'ABT Transactions'!$D$9:$D$40,$B$156)","v":0},{"$f":"SUMIFS('ABT Transactions'!$B$9:$B$40,'ABT Transactions'!$G$9:$G$40,$C$181,'ABT Transactions'!$F$9:$F$40,$L$148,'ABT Transactions'!$C$9:$C$40,M183,'ABT Transactions'!$D$9:$D$40,$B$156)","v":0},{"$f":"SUMIFS('ABT Transactions'!$B$9:$B$40,'ABT Transactions'!$G$9:$G$40,$C$181,'ABT Transactions'!$F$9:$F$40,$L$148,'ABT Transactions'!$C$9:$C$40,N183,'ABT Transactions'!$D$9:$D$40,$B$156)","v":0},{"$f":"SUMIFS('ABT Transactions'!$B$9:$B$40,'ABT Transactions'!$G$9:$G$40,$C$181,'ABT Transactions'!$F$9:$F$40,$O$148,'ABT Transactions'!$C$9:$C$40,O183,'ABT Transactions'!$D$9:$D$40,$B$156)","v":0},{"$f":"SUMIFS('ABT Transactions'!$B$9:$B$40,'ABT Transactions'!$G$9:$G$40,$C$181,'ABT Transactions'!$F$9:$F$40,$O$148,'ABT Transactions'!$C$9:$C$40,P183,'ABT Transactions'!$D$9:$D$40,$B$156)","v":0},{"$f":"SUMIFS('ABT Transactions'!$B$9:$B$40,'ABT Transactions'!$G$9:$G$40,$C$181,'ABT Transactions'!$F$9:$F$40,$O$148,'ABT Transactions'!$C$9:$C$40,Q183,'ABT Transactions'!$D$9:$D$40,$B$156)","v":0},{"$f":"SUMIFS('ABT Transactions'!$B$9:$B$40,'ABT Transactions'!$G$9:$G$40,$C$181,'ABT Transactions'!$F$9:$F$40,$R$148,'ABT Transactions'!$C$9:$C$40,R183,'ABT Transactions'!$D$9:$D$40,$B$156)","v":0},{"$f":"SUMIFS('ABT Transactions'!$B$9:$B$40,'ABT Transactions'!$G$9:$G$40,$C$181,'ABT Transactions'!$F$9:$F$40,$R$148,'ABT Transactions'!$C$9:$C$40,S183,'ABT Transactions'!$D$9:$D$40,$B$156)","v":0},{"$f":"SUMIFS('ABT Transactions'!$B$9:$B$40,'ABT Transactions'!$G$9:$G$40,$C$181,'ABT Transactions'!$F$9:$F$40,$R$148,'ABT Transactions'!$C$9:$C$40,T183,'ABT Transactions'!$D$9:$D$40,$B$156)","v":0},{"$f":"SUMIFS('ABT Transactions'!$B$9:$B$40,'ABT Transactions'!$G$9:$G$40,$C$181,'ABT Transactions'!$F$9:$F$40,$U$148,'ABT Transactions'!$C$9:$C$40,U183,'ABT Transactions'!$D$9:$D$40,$B$156)","v":0},{"$f":"SUMIFS('ABT Transactions'!$B$9:$B$40,'ABT Transactions'!$G$9:$G$40,$C$181,'ABT Transactions'!$F$9:$F$40,$U$148,'ABT Transactions'!$C$9:$C$40,V183,'ABT Transactions'!$D$9:$D$40,$B$156)","v":0},{"$f":"SUMIFS('ABT Transactions'!$B$9:$B$40,'ABT Transactions'!$G$9:$G$40,$C$181,'ABT Transactions'!$F$9:$F$40,U$148,'ABT Transactions'!$C$9:$C$40,W183,'ABT Transactions'!$D$9:$D$40,$B$156)","v":0},{"$f":"SUMIFS('ABT Transactions'!$B$9:$B$40,'ABT Transactions'!$G$9:$G$40,$C$181,'ABT Transactions'!$F$9:$F$40,$X$148,'ABT Transactions'!$C$9:$C$40,X183,'ABT Transactions'!$D$9:$D$40,$B$156)","v":0},{"$f":"SUMIFS('ABT Transactions'!$B$9:$B$40,'ABT Transactions'!$G$9:$G$40,$C$181,'ABT Transactions'!$F$9:$F$40,$X$148,'ABT Transactions'!$C$9:$C$40,Y183,'ABT Transactions'!$D$9:$D$40,$B$156)","v":0},{"$f":"SUMIFS('ABT Transactions'!$B$9:$B$40,'ABT Transactions'!$G$9:$G$40,$C$181,'ABT Transactions'!$F$9:$F$40,$X$148,'ABT Transactions'!$C$9:$C$40,Z183,'ABT Transactions'!$D$9:$D$40,$B$156)","v":0},{"$f":"SUMIFS('ABT Transactions'!$B$9:$B$40,'ABT Transactions'!$G$9:$G$40,$C$181,'ABT Transactions'!$F$9:$F$40,$AA$148,'ABT Transactions'!$C$9:$C$40,AA183,'ABT Transactions'!$D$9:$D$40,$B$156)","v":0},{"$f":"SUMIFS('ABT Transactions'!$B$9:$B$40,'ABT Transactions'!$G$9:$G$40,$C$181,'ABT Transactions'!$F$9:$F$40,$AA$148,'ABT Transactions'!$C$9:$C$40,AB183,'ABT Transactions'!$D$9:$D$40,$B$156)","v":0},{"$f":"SUMIFS('ABT Transactions'!$B$9:$B$40,'ABT Transactions'!$G$9:$G$40,$C$181,'ABT Transactions'!$F$9:$F$40,$AA$148,'ABT Transactions'!$C$9:$C$40,AC183,'ABT Transactions'!$D$9:$D$40,$B$156)","v":0},{"$f":"SUMIFS('ABT Transactions'!$B$9:$B$40,'ABT Transactions'!$G$9:$G$40,$C$181,'ABT Transactions'!$F$9:$F$40,$AD$148,'ABT Transactions'!$C$9:$C$40,AD183,'ABT Transactions'!$D$9:$D$40,$B$156)","v":0},{"$f":"SUMIFS('ABT Transactions'!$B$9:$B$40,'ABT Transactions'!$G$9:$G$40,$C$181,'ABT Transactions'!$F$9:$F$40,$AD$148,'ABT Transactions'!$C$9:$C$40,AE183,'ABT Transactions'!$D$9:$D$40,$B$156)","v":0},{"$f":"SUMIFS('ABT Transactions'!$B$9:$B$40,'ABT Transactions'!$G$9:$G$40,$C$181,'ABT Transactions'!$F$9:$F$40,$AD$148,'ABT Transactions'!$C$9:$C$40,AF183,'ABT Transactions'!$D$9:$D$40,$B$156)","v":0},{"$f":"SUMIFS('ABT Transactions'!$B$9:$B$40,'ABT Transactions'!$G$9:$G$40,$C$181,'ABT Transactions'!$F$9:$F$40,$AG$148,'ABT Transactions'!$C$9:$C$40,AG183,'ABT Transactions'!$D$9:$D$40,$B$156)","v":0},{"$f":"SUMIFS('ABT Transactions'!$B$9:$B$40,'ABT Transactions'!$G$9:$G$40,$C$181,'ABT Transactions'!$F$9:$F$40,$AG$148,'ABT Transactions'!$C$9:$C$40,AH183,'ABT Transactions'!$D$9:$D$40,$B$156)","v":0},{"$f":"SUMIFS('ABT Transactions'!$B$9:$B$40,'ABT Transactions'!$G$9:$G$40,$C$181,'ABT Transactions'!$F$9:$F$40,$AG$148,'ABT Transactions'!$C$9:$C$40,AI183,'ABT Transactions'!$D$9:$D$40,$B$156)","v":0},{"$f":"SUMIFS('ABT Transactions'!$B$9:$B$40,'ABT Transactions'!$G$9:$G$40,$C$181,'ABT Transactions'!$F$9:$F$40,$AJ$148,'ABT Transactions'!$C$9:$C$40,AJ183,'ABT Transactions'!$D$9:$D$40,$B$156)","v":0},{"$f":"SUMIFS('ABT Transactions'!$B$9:$B$40,'ABT Transactions'!$G$9:$G$40,$C$181,'ABT Transactions'!$F$9:$F$40,$AJ$148,'ABT Transactions'!$C$9:$C$40,AK183,'ABT Transactions'!$D$9:$D$40,$B$156)","v":0},{"$f":"SUMIFS('ABT Transactions'!$B$9:$B$40,'ABT Transactions'!$G$9:$G$40,$C$181,'ABT Transactions'!$F$9:$F$40,$AJ$148,'ABT Transactions'!$C$9:$C$40,AL183,'ABT Transactions'!$D$9:$D$40,$B$156)","v":0},{"$f":"SUMIFS('ABT Transactions'!$B$9:$B$40,'ABT Transactions'!$G$9:$G$40,$C$181,'ABT Transactions'!$F$9:$F$40,$AM$148,'ABT Transactions'!$C$9:$C$40,AM183,'ABT Transactions'!$D$9:$D$40,$B$156)","v":0},{"$f":"SUMIFS('ABT Transactions'!$B$9:$B$40,'ABT Transactions'!$G$9:$G$40,$C$181,'ABT Transactions'!$F$9:$F$40,$AM$148,'ABT Transactions'!$C$9:$C$40,AN183,'ABT Transactions'!$D$9:$D$40,$B$156)","v":0},{"$f":"SUMIFS('ABT Transactions'!$B$9:$B$40,'ABT Transactions'!$G$9:$G$40,$C$181,'ABT Transactions'!$F$9:$F$40,$AM$148,'ABT Transactions'!$C$9:$C$40,AO183,'ABT Transactions'!$D$9:$D$40,$B$156)","v":0},{"$f":"SUMIFS('ABT Transactions'!$B$9:$B$40,'ABT Transactions'!$G$9:$G$40,$C$181,'ABT Transactions'!$F$9:$F$40,$AP$148,'ABT Transactions'!$C$9:$C$40,AP183,'ABT Transactions'!$D$9:$D$40,$B$156)","v":0},{"$f":"SUMIFS('ABT Transactions'!$B$9:$B$40,'ABT Transactions'!$G$9:$G$40,$C$181,'ABT Transactions'!$F$9:$F$40,$AP$148,'ABT Transactions'!$C$9:$C$40,AQ183,'ABT Transactions'!$D$9:$D$40,$B$156)","v":0},{"$f":"SUMIFS('ABT Transactions'!$B$9:$B$40,'ABT Transactions'!$G$9:$G$40,$C$181,'ABT Transactions'!$F$9:$F$40,$AP$148,'ABT Transactions'!$C$9:$C$40,AR183,'ABT Transactions'!$D$9:$D$40,$B$156)","v":0},{"$f":"SUMIFS('ABT Transactions'!$B$9:$B$40,'ABT Transactions'!$G$9:$G$40,$C$181,'ABT Transactions'!$F$9:$F$40,$AS$148,'ABT Transactions'!$C$9:$C$40,AS183,'ABT Transactions'!$D$9:$D$40,$B$156)","v":0},{"$f":"SUMIFS('ABT Transactions'!$B$9:$B$40,'ABT Transactions'!$G$9:$G$40,$C$181,'ABT Transactions'!$F$9:$F$40,$AS$148,'ABT Transactions'!$C$9:$C$40,AT183,'ABT Transactions'!$D$9:$D$40,$B$156)","v":0},{"$f":"SUMIFS('ABT Transactions'!$B$9:$B$40,'ABT Transactions'!$G$9:$G$40,$C$181,'ABT Transactions'!$F$9:$F$40,$AS$148,'ABT Transactions'!$C$9:$C$40,AU183,'ABT Transactions'!$D$9:$D$40,$B$156)","v":0}]
[null,"Transfer ADV Credits (in)",{"$f":"SUMIFS('ABT Transactions'!$B$9:$B$40,'ABT Transactions'!$J$9:$J$40,$C$181,'ABT Transactions'!$I$9:$I$40,$C$148,'ABT Transactions'!$C$9:$C$40,C183,'ABT Transactions'!$D$9:$D$40,$B$157)","v":0},{"$f":"SUMIFS('ABT Transactions'!$B$9:$B$40,'ABT Transactions'!$J$9:$J$40,$C$181,'ABT Transactions'!$I$9:$I$40,$C$148,'ABT Transactions'!$C$9:$C$40,D183,'ABT Transactions'!$D$9:$D$40,$B$157)","v":0},{"$f":"SUMIFS('ABT Transactions'!$B$9:$B$40,'ABT Transactions'!$J$9:$J$40,$C$181,'ABT Transactions'!$I$9:$I$40,$C$148,'ABT Transactions'!$C$9:$C$40,E183,'ABT Transactions'!$D$9:$D$40,$B$157)","v":0},{"$f":"SUMIFS('ABT Transactions'!$B$9:$B$40,'ABT Transactions'!$J$9:$J$40,$C$181,'ABT Transactions'!$I$9:$I$40,$F$148,'ABT Transactions'!$C$9:$C$40,F183,'ABT Transactions'!$D$9:$D$40,$B$157)","v":0},{"$f":"SUMIFS('ABT Transactions'!$B$9:$B$40,'ABT Transactions'!$J$9:$J$40,$C$181,'ABT Transactions'!$I$9:$I$40,$F$148,'ABT Transactions'!$C$9:$C$40,G183,'ABT Transactions'!$D$9:$D$40,$B$157)","v":0},{"$f":"SUMIFS('ABT Transactions'!$B$9:$B$40,'ABT Transactions'!$J$9:$J$40,$C$181,'ABT Transactions'!$I$9:$I$40,$F$148,'ABT Transactions'!$C$9:$C$40,H183,'ABT Transactions'!$D$9:$D$40,$B$157)","v":0},{"$f":"SUMIFS('ABT Transactions'!$B$9:$B$40,'ABT Transactions'!$J$9:$J$40,$C$181,'ABT Transactions'!$I$9:$I$40,$I$148,'ABT Transactions'!$C$9:$C$40,I183,'ABT Transactions'!$D$9:$D$40,$B$157)","v":0},{"$f":"SUMIFS('ABT Transactions'!$B$9:$B$40,'ABT Transactions'!$J$9:$J$40,$C$181,'ABT Transactions'!$I$9:$I$40,$I$148,'ABT Transactions'!$C$9:$C$40,J183,'ABT Transactions'!$D$9:$D$40,$B$157)","v":0},{"$f":"SUMIFS('ABT Transactions'!$B$9:$B$40,'ABT Transactions'!$J$9:$J$40,$C$181,'ABT Transactions'!$I$9:$I$40,$I$148,'ABT Transactions'!$C$9:$C$40,K183,'ABT Transactions'!$D$9:$D$40,$B$157)","v":0},{"$f":"SUMIFS('ABT Transactions'!$B$9:$B$40,'ABT Transactions'!$J$9:$J$40,$C$181,'ABT Transactions'!$I$9:$I$40,$L$148,'ABT Transactions'!$C$9:$C$40,L183,'ABT Transactions'!$D$9:$D$40,$B$157)","v":0},{"$f":"SUMIFS('ABT Transactions'!$B$9:$B$40,'ABT Transactions'!$J$9:$J$40,$C$181,'ABT Transactions'!$I$9:$I$40,$L$148,'ABT Transactions'!$C$9:$C$40,M183,'ABT Transactions'!$D$9:$D$40,$B$157)","v":0},{"$f":"SUMIFS('ABT Transactions'!$B$9:$B$40,'ABT Transactions'!$J$9:$J$40,$C$181,'ABT Transactions'!$I$9:$I$40,$L$148,'ABT Transactions'!$C$9:$C$40,N183,'ABT Transactions'!$D$9:$D$40,$B$157)","v":0},{"$f":"SUMIFS('ABT Transactions'!$B$9:$B$40,'ABT Transactions'!$J$9:$J$40,$C$181,'ABT Transactions'!$I$9:$I$40,$O$148,'ABT Transactions'!$C$9:$C$40,O183,'ABT Transactions'!$D$9:$D$40,$B$157)","v":0},{"$f":"SUMIFS('ABT Transactions'!$B$9:$B$40,'ABT Transactions'!$J$9:$J$40,$C$181,'ABT Transactions'!$I$9:$I$40,$O$148,'ABT Transactions'!$C$9:$C$40,P183,'ABT Transactions'!$D$9:$D$40,$B$157)","v":0},{"$f":"SUMIFS('ABT Transactions'!$B$9:$B$40,'ABT Transactions'!$J$9:$J$40,$C$181,'ABT Transactions'!$I$9:$I$40,$O$148,'ABT Transactions'!$C$9:$C$40,Q183,'ABT Transactions'!$D$9:$D$40,$B$157)","v":0},{"$f":"SUMIFS('ABT Transactions'!$B$9:$B$40,'ABT Transactions'!$J$9:$J$40,$C$181,'ABT Transactions'!$I$9:$I$40,$R$148,'ABT Transactions'!$C$9:$C$40,R183,'ABT Transactions'!$D$9:$D$40,$B$157)","v":0},{"$f":"SUMIFS('ABT Transactions'!$B$9:$B$40,'ABT Transactions'!$J$9:$J$40,$C$181,'ABT Transactions'!$I$9:$I$40,$R$148,'ABT Transactions'!$C$9:$C$40,S183,'ABT Transactions'!$D$9:$D$40,$B$157)","v":0},{"$f":"SUMIFS('ABT Transactions'!$B$9:$B$40,'ABT Transactions'!$J$9:$J$40,$C$181,'ABT Transactions'!$I$9:$I$40,$R$148,'ABT Transactions'!$C$9:$C$40,T183,'ABT Transactions'!$D$9:$D$40,$B$157)","v":0},{"$f":"SUMIFS('ABT Transactions'!$B$9:$B$40,'ABT Transactions'!$J$9:$J$40,$C$181,'ABT Transactions'!$I$9:$I$40,$U$148,'ABT Transactions'!$C$9:$C$40,U183,'ABT Transactions'!$D$9:$D$40,$B$157)","v":0},{"$f":"SUMIFS('ABT Transactions'!$B$9:$B$40,'ABT Transactions'!$J$9:$J$40,$C$181,'ABT Transactions'!$I$9:$I$40,$U$148,'ABT Transactions'!$C$9:$C$40,V183,'ABT Transactions'!$D$9:$D$40,$B$157)","v":0},{"$f":"SUMIFS('ABT Transactions'!$B$9:$B$40,'ABT Transactions'!$J$9:$J$40,$C$181,'ABT Transactions'!$I$9:$I$40,U$148,'ABT Transactions'!$C$9:$C$40,W183,'ABT Transactions'!$D$9:$D$40,$B$157)","v":0},{"$f":"SUMIFS('ABT Transactions'!$B$9:$B$40,'ABT Transactions'!$J$9:$J$40,$C$181,'ABT Transactions'!$I$9:$I$40,$X$148,'ABT Transactions'!$C$9:$C$40,X183,'ABT Transactions'!$D$9:$D$40,$B$157)","v":0},{"$f":"SUMIFS('ABT Transactions'!$B$9:$B$40,'ABT Transactions'!$J$9:$J$40,$C$181,'ABT Transactions'!$I$9:$I$40,$X$148,'ABT Transactions'!$C$9:$C$40,Y183,'ABT Transactions'!$D$9:$D$40,$B$157)","v":0},{"$f":"SUMIFS('ABT Transactions'!$B$9:$B$40,'ABT Transactions'!$J$9:$J$40,$C$181,'ABT Transactions'!$I$9:$I$40,$X$148,'ABT Transactions'!$C$9:$C$40,Z183,'ABT Transactions'!$D$9:$D$40,$B$157)","v":0},{"$f":"SUMIFS('ABT Transactions'!$B$9:$B$40,'ABT Transactions'!$J$9:$J$40,$C$181,'ABT Transactions'!$I$9:$I$40,$AA$148,'ABT Transactions'!$C$9:$C$40,AA183,'ABT Transactions'!$D$9:$D$40,$B$157)","v":0},{"$f":"SUMIFS('ABT Transactions'!$B$9:$B$40,'ABT Transactions'!$J$9:$J$40,$C$181,'ABT Transactions'!$I$9:$I$40,$AA$148,'ABT Transactions'!$C$9:$C$40,AB183,'ABT Transactions'!$D$9:$D$40,$B$157)","v":0},{"$f":"SUMIFS('ABT Transactions'!$B$9:$B$40,'ABT Transactions'!$J$9:$J$40,$C$181,'ABT Transactions'!$I$9:$I$40,$AA$148,'ABT Transactions'!$C$9:$C$40,AC183,'ABT Transactions'!$D$9:$D$40,$B$157)","v":0},{"$f":"SUMIFS('ABT Transactions'!$B$9:$B$40,'ABT Transactions'!$J$9:$J$40,$C$181,'ABT Transactions'!$I$9:$I$40,$AD$148,'ABT Transactions'!$C$9:$C$40,AD183,'ABT Transactions'!$D$9:$D$40,$B$157)","v":0},{"$f":"SUMIFS('ABT Transactions'!$B$9:$B$40,'ABT Transactions'!$J$9:$J$40,$C$181,'ABT Transactions'!$I$9:$I$40,$AD$148,'ABT Transactions'!$C$9:$C$40,AE183,'ABT Transactions'!$D$9:$D$40,$B$157)","v":0},{"$f":"SUMIFS('ABT Transactions'!$B$9:$B$40,'ABT Transactions'!$J$9:$J$40,$C$181,'ABT Transactions'!$I$9:$I$40,$AD$148,'ABT Transactions'!$C$9:$C$40,AF183,'ABT Transactions'!$D$9:$D$40,$B$157)","v":0},{"$f":"SUMIFS('ABT Transactions'!$B$9:$B$40,'ABT Transactions'!$J$9:$J$40,$C$181,'ABT Transactions'!$I$9:$I$40,$AG$148,'ABT Transactions'!$C$9:$C$40,AG183,'ABT Transactions'!$D$9:$D$40,$B$157)","v":0},{"$f":"SUMIFS('ABT Transactions'!$B$9:$B$40,'ABT Transactions'!$J$9:$J$40,$C$181,'ABT Transactions'!$I$9:$I$40,$AG$148,'ABT Transactions'!$C$9:$C$40,AH183,'ABT Transactions'!$D$9:$D$40,$B$157)","v":0},{"$f":"SUMIFS('ABT Transactions'!$B$9:$B$40,'ABT Transactions'!$J$9:$J$40,$C$181,'ABT Transactions'!$I$9:$I$40,$AG$148,'ABT Transactions'!$C$9:$C$40,AI183,'ABT Transactions'!$D$9:$D$40,$B$157)","v":0},{"$f":"SUMIFS('ABT Transactions'!$B$9:$B$40,'ABT Transactions'!$J$9:$J$40,$C$181,'ABT Transactions'!$I$9:$I$40,$AJ$148,'ABT Transactions'!$C$9:$C$40,AJ183,'ABT Transactions'!$D$9:$D$40,$B$157)","v":0},{"$f":"SUMIFS('ABT Transactions'!$B$9:$B$40,'ABT Transactions'!$J$9:$J$40,$C$181,'ABT Transactions'!$I$9:$I$40,$AJ$148,'ABT Transactions'!$C$9:$C$40,AK183,'ABT Transactions'!$D$9:$D$40,$B$157)","v":0},{"$f":"SUMIFS('ABT Transactions'!$B$9:$B$40,'ABT Transactions'!$J$9:$J$40,$C$181,'ABT Transactions'!$I$9:$I$40,$AJ$148,'ABT Transactions'!$C$9:$C$40,AL183,'ABT Transactions'!$D$9:$D$40,$B$157)","v":0},{"$f":"SUMIFS('ABT Transactions'!$B$9:$B$40,'ABT Transactions'!$J$9:$J$40,$C$181,'ABT Transactions'!$I$9:$I$40,$AM$148,'ABT Transactions'!$C$9:$C$40,AM183,'ABT Transactions'!$D$9:$D$40,$B$157)","v":0},{"$f":"SUMIFS('ABT Transactions'!$B$9:$B$40,'ABT Transactions'!$J$9:$J$40,$C$181,'ABT Transactions'!$I$9:$I$40,$AM$148,'ABT Transactions'!$C$9:$C$40,AN183,'ABT Transactions'!$D$9:$D$40,$B$157)","v":0},{"$f":"SUMIFS('ABT Transactions'!$B$9:$B$40,'ABT Transactions'!$J$9:$J$40,$C$181,'ABT Transactions'!$I$9:$I$40,$AM$148,'ABT Transactions'!$C$9:$C$40,AO183,'ABT Transactions'!$D$9:$D$40,$B$157)","v":0},{"$f":"SUMIFS('ABT Transactions'!$B$9:$B$40,'ABT Transactions'!$J$9:$J$40,$C$181,'ABT Transactions'!$I$9:$I$40,$AP$148,'ABT Transactions'!$C$9:$C$40,AP183,'ABT Transactions'!$D$9:$D$40,$B$157)","v":0},{"$f":"SUMIFS('ABT Transactions'!$B$9:$B$40,'ABT Transactions'!$J$9:$J$40,$C$181,'ABT Transactions'!$I$9:$I$40,$AP$148,'ABT Transactions'!$C$9:$C$40,AQ183,'ABT Transactions'!$D$9:$D$40,$B$157)","v":0},{"$f":"SUMIFS('ABT Transactions'!$B$9:$B$40,'ABT Transactions'!$J$9:$J$40,$C$181,'ABT Transactions'!$I$9:$I$40,$AP$148,'ABT Transactions'!$C$9:$C$40,AR183,'ABT Transactions'!$D$9:$D$40,$B$157)","v":0},{"$f":"SUMIFS('ABT Transactions'!$B$9:$B$40,'ABT Transactions'!$J$9:$J$40,$C$181,'ABT Transactions'!$I$9:$I$40,$AS$148,'ABT Transactions'!$C$9:$C$40,AS183,'ABT Transactions'!$D$9:$D$40,$B$157)","v":0},{"$f":"SUMIFS('ABT Transactions'!$B$9:$B$40,'ABT Transactions'!$J$9:$J$40,$C$181,'ABT Transactions'!$I$9:$I$40,$AS$148,'ABT Transactions'!$C$9:$C$40,AT183,'ABT Transactions'!$D$9:$D$40,$B$157)","v":0},{"$f":"SUMIFS('ABT Transactions'!$B$9:$B$40,'ABT Transactions'!$J$9:$J$40,$C$181,'ABT Transactions'!$I$9:$I$40,$AS$148,'ABT Transactions'!$C$9:$C$40,AU183,'ABT Transactions'!$D$9:$D$40,$B$157)","v":0}]
[null,"Retired Credits",{"$f":"SUMIFS('ABT Transactions'!$B$9:$B$40,'ABT Transactions'!$G$9:$G$40,$C$181,'ABT Transactions'!$F$9:$F$40,$C$148,'ABT Transactions'!$C$9:$C$40,C183,'ABT Transactions'!$D$9:$D$40,$B$158)","v":0},{"$f":"SUMIFS('ABT Transactions'!$B$9:$B$40,'ABT Transactions'!$G$9:$G$40,$C$181,'ABT Transactions'!$F$9:$F$40,$C$148,'ABT Transactions'!$C$9:$C$40,D183,'ABT Transactions'!$D$9:$D$40,$B$158)","v":0},{"$f":"SUMIFS('ABT Transactions'!$B$9:$B$40,'ABT Transactions'!$G$9:$G$40,$C$181,'ABT Transactions'!$F$9:$F$40,$C$148,'ABT Transactions'!$C$9:$C$40,E183,'ABT Transactions'!$D$9:$D$40,$B$158)","v":0},{"$f":"SUMIFS('ABT Transactions'!$B$9:$B$40,'ABT Transactions'!$G$9:$G$40,$C$181,'ABT Transactions'!$F$9:$F$40,$F$148,'ABT Transactions'!$C$9:$C$40,F183,'ABT Transactions'!$D$9:$D$40,$B$158)","v":0},{"$f":"SUMIFS('ABT Transactions'!$B$9:$B$40,'ABT Transactions'!$G$9:$G$40,$C$181,'ABT Transactions'!$F$9:$F$40,$F$148,'ABT Transactions'!$C$9:$C$40,G183,'ABT Transactions'!$D$9:$D$40,$B$158)","v":0},{"$f":"SUMIFS('ABT Transactions'!$B$9:$B$40,'ABT Transactions'!$G$9:$G$40,$C$181,'ABT Transactions'!$F$9:$F$40,$F$148,'ABT Transactions'!$C$9:$C$40,H183,'ABT Transactions'!$D$9:$D$40,$B$158)","v":0},{"$f":"SUMIFS('ABT Transactions'!$B$9:$B$40,'ABT Transactions'!$G$9:$G$40,$C$181,'ABT Transactions'!$F$9:$F$40,$I$148,'ABT Transactions'!$C$9:$C$40,I183,'ABT Transactions'!$D$9:$D$40,$B$158)","v":0},{"$f":"SUMIFS('ABT Transactions'!$B$9:$B$40,'ABT Transactions'!$G$9:$G$40,$C$181,'ABT Transactions'!$F$9:$F$40,$I$148,'ABT Transactions'!$C$9:$C$40,J183,'ABT Transactions'!$D$9:$D$40,$B$158)","v":0},{"$f":"SUMIFS('ABT Transactions'!$B$9:$B$40,'ABT Transactions'!$G$9:$G$40,$C$181,'ABT Transactions'!$F$9:$F$40,$I$148,'ABT Transactions'!$C$9:$C$40,K183,'ABT Transactions'!$D$9:$D$40,$B$158)","v":0},{"$f":"SUMIFS('ABT Transactions'!$B$9:$B$40,'ABT Transactions'!$G$9:$G$40,$C$181,'ABT Transactions'!$F$9:$F$40,$L$148,'ABT Transactions'!$C$9:$C$40,L183,'ABT Transactions'!$D$9:$D$40,$B$158)","v":0},{"$f":"SUMIFS('ABT Transactions'!$B$9:$B$40,'ABT Transactions'!$G$9:$G$40,$C$181,'ABT Transactions'!$F$9:$F$40,$L$148,'ABT Transactions'!$C$9:$C$40,M183,'ABT Transactions'!$D$9:$D$40,$B$158)","v":0},{"$f":"SUMIFS('ABT Transactions'!$B$9:$B$40,'ABT Transactions'!$G$9:$G$40,$C$181,'ABT Transactions'!$F$9:$F$40,$L$148,'ABT Transactions'!$C$9:$C$40,N183,'ABT Transactions'!$D$9:$D$40,$B$158)","v":0},{"$f":"SUMIFS('ABT Transactions'!$B$9:$B$40,'ABT Transactions'!$G$9:$G$40,$C$181,'ABT Transactions'!$F$9:$F$40,$O$148,'ABT Transactions'!$C$9:$C$40,O183,'ABT Transactions'!$D$9:$D$40,$B$158)","v":0},{"$f":"SUMIFS('ABT Transactions'!$B$9:$B$40,'ABT Transactions'!$G$9:$G$40,$C$181,'ABT Transactions'!$F$9:$F$40,$O$148,'ABT Transactions'!$C$9:$C$40,P183,'ABT Transactions'!$D$9:$D$40,$B$158)","v":0},{"$f":"SUMIFS('ABT Transactions'!$B$9:$B$40,'ABT Transactions'!$G$9:$G$40,$C$181,'ABT Transactions'!$F$9:$F$40,$O$148,'ABT Transactions'!$C$9:$C$40,Q183,'ABT Transactions'!$D$9:$D$40,$B$158)","v":0},{"$f":"SUMIFS('ABT Transactions'!$B$9:$B$40,'ABT Transactions'!$G$9:$G$40,$C$181,'ABT Transactions'!$F$9:$F$40,$R$148,'ABT Transactions'!$C$9:$C$40,R183,'ABT Transactions'!$D$9:$D$40,$B$158)","v":0},{"$f":"SUMIFS('ABT Transactions'!$B$9:$B$40,'ABT Transactions'!$G$9:$G$40,$C$181,'ABT Transactions'!$F$9:$F$40,$R$148,'ABT Transactions'!$C$9:$C$40,S183,'ABT Transactions'!$D$9:$D$40,$B$158)","v":0},{"$f":"SUMIFS('ABT Transactions'!$B$9:$B$40,'ABT Transactions'!$G$9:$G$40,$C$181,'ABT Transactions'!$F$9:$F$40,$R$148,'ABT Transactions'!$C$9:$C$40,T183,'ABT Transactions'!$D$9:$D$40,$B$158)","v":0},{"$f":"SUMIFS('ABT Transactions'!$B$9:$B$40,'ABT Transactions'!$G$9:$G$40,$C$181,'ABT Transactions'!$F$9:$F$40,$U$148,'ABT Transactions'!$C$9:$C$40,U183,'ABT Transactions'!$D$9:$D$40,$B$158)","v":0},{"$f":"SUMIFS('ABT Transactions'!$B$9:$B$40,'ABT Transactions'!$G$9:$G$40,$C$181,'ABT Transactions'!$F$9:$F$40,$U$148,'ABT Transactions'!$C$9:$C$40,V183,'ABT Transactions'!$D$9:$D$40,$B$158)","v":0},{"$f":"SUMIFS('ABT Transactions'!$B$9:$B$40,'ABT Transactions'!$G$9:$G$40,$C$181,'ABT Transactions'!$F$9:$F$40,U$148,'ABT Transactions'!$C$9:$C$40,W183,'ABT Transactions'!$D$9:$D$40,$B$158)","v":0},{"$f":"SUMIFS('ABT Transactions'!$B$9:$B$40,'ABT Transactions'!$G$9:$G$40,$C$181,'ABT Transactions'!$F$9:$F$40,$X$148,'ABT Transactions'!$C$9:$C$40,X183,'ABT Transactions'!$D$9:$D$40,$B$158)","v":0},{"$f":"SUMIFS('ABT Transactions'!$B$9:$B$40,'ABT Transactions'!$G$9:$G$40,$C$181,'ABT Transactions'!$F$9:$F$40,$X$148,'ABT Transactions'!$C$9:$C$40,Y183,'ABT Transactions'!$D$9:$D$40,$B$158)","v":0},{"$f":"SUMIFS('ABT Transactions'!$B$9:$B$40,'ABT Transactions'!$G$9:$G$40,$C$181,'ABT Transactions'!$F$9:$F$40,$X$148,'ABT Transactions'!$C$9:$C$40,Z183,'ABT Transactions'!$D$9:$D$40,$B$158)","v":0},{"$f":"SUMIFS('ABT Transactions'!$B$9:$B$40,'ABT Transactions'!$G$9:$G$40,$C$181,'ABT Transactions'!$F$9:$F$40,$AA$148,'ABT Transactions'!$C$9:$C$40,AA183,'ABT Transactions'!$D$9:$D$40,$B$158)","v":0},{"$f":"SUMIFS('ABT Transactions'!$B$9:$B$40,'ABT Transactions'!$G$9:$G$40,$C$181,'ABT Transactions'!$F$9:$F$40,$AA$148,'ABT Transactions'!$C$9:$C$40,AB183,'ABT Transactions'!$D$9:$D$40,$B$158)","v":0},{"$f":"SUMIFS('ABT Transactions'!$B$9:$B$40,'ABT Transactions'!$G$9:$G$40,$C$181,'ABT Transactions'!$F$9:$F$40,$AA$148,'ABT Transactions'!$C$9:$C$40,AC183,'ABT Transactions'!$D$9:$D$40,$B$158)","v":0},{"$f":"SUMIFS('ABT Transactions'!$B$9:$B$40,'ABT Transactions'!$G$9:$G$40,$C$181,'ABT Transactions'!$F$9:$F$40,$AD$148,'ABT Transactions'!$C$9:$C$40,AD183,'ABT Transactions'!$D$9:$D$40,$B$158)","v":0},{"$f":"SUMIFS('ABT Transactions'!$B$9:$B$40,'ABT Transactions'!$G$9:$G$40,$C$181,'ABT Transactions'!$F$9:$F$40,$AD$148,'ABT Transactions'!$C$9:$C$40,AE183,'ABT Transactions'!$D$9:$D$40,$B$158)","v":0},{"$f":"SUMIFS('ABT Transactions'!$B$9:$B$40,'ABT Transactions'!$G$9:$G$40,$C$181,'ABT Transactions'!$F$9:$F$40,$AD$148,'ABT Transactions'!$C$9:$C$40,AF183,'ABT Transactions'!$D$9:$D$40,$B$158)","v":0},{"$f":"SUMIFS('ABT Transactions'!$B$9:$B$40,'ABT Transactions'!$G$9:$G$40,$C$181,'ABT Transactions'!$F$9:$F$40,$AG$148,'ABT Transactions'!$C$9:$C$40,AG183,'ABT Transactions'!$D$9:$D$40,$B$158)","v":0},{"$f":"SUMIFS('ABT Transactions'!$B$9:$B$40,'ABT Transactions'!$G$9:$G$40,$C$181,'ABT Transactions'!$F$9:$F$40,$AG$148,'ABT Transactions'!$C$9:$C$40,AH183,'ABT Transactions'!$D$9:$D$40,$B$158)","v":0},{"$f":"SUMIFS('ABT Transactions'!$B$9:$B$40,'ABT Transactions'!$G$9:$G$40,$C$181,'ABT Transactions'!$F$9:$F$40,$AG$148,'ABT Transactions'!$C$9:$C$40,AI183,'ABT Transactions'!$D$9:$D$40,$B$158)","v":0},{"$f":"SUMIFS('ABT Transactions'!$B$9:$B$40,'ABT Transactions'!$G$9:$G$40,$C$181,'ABT Transactions'!$F$9:$F$40,$AJ$148,'ABT Transactions'!$C$9:$C$40,AJ183,'ABT Transactions'!$D$9:$D$40,$B$158)","v":0},{"$f":"SUMIFS('ABT Transactions'!$B$9:$B$40,'ABT Transactions'!$G$9:$G$40,$C$181,'ABT Transactions'!$F$9:$F$40,$AJ$148,'ABT Transactions'!$C$9:$C$40,AK183,'ABT Transactions'!$D$9:$D$40,$B$158)","v":0},{"$f":"SUMIFS('ABT Transactions'!$B$9:$B$40,'ABT Transactions'!$G$9:$G$40,$C$181,'ABT Transactions'!$F$9:$F$40,$AJ$148,'ABT Transactions'!$C$9:$C$40,AL183,'ABT Transactions'!$D$9:$D$40,$B$158)","v":0},{"$f":"SUMIFS('ABT Transactions'!$B$9:$B$40,'ABT Transactions'!$G$9:$G$40,$C$181,'ABT Transactions'!$F$9:$F$40,$AM$148,'ABT Transactions'!$C$9:$C$40,AM183,'ABT Transactions'!$D$9:$D$40,$B$158)","v":0},{"$f":"SUMIFS('ABT Transactions'!$B$9:$B$40,'ABT Transactions'!$G$9:$G$40,$C$181,'ABT Transactions'!$F$9:$F$40,$AM$148,'ABT Transactions'!$C$9:$C$40,AN183,'ABT Transactions'!$D$9:$D$40,$B$158)","v":0},{"$f":"SUMIFS('ABT Transactions'!$B$9:$B$40,'ABT Transactions'!$G$9:$G$40,$C$181,'ABT Transactions'!$F$9:$F$40,$AM$148,'ABT Transactions'!$C$9:$C$40,AO183,'ABT Transactions'!$D$9:$D$40,$B$158)","v":0},{"$f":"SUMIFS('ABT Transactions'!$B$9:$B$40,'ABT Transactions'!$G$9:$G$40,$C$181,'ABT Transactions'!$F$9:$F$40,$AP$148,'ABT Transactions'!$C$9:$C$40,AP183,'ABT Transactions'!$D$9:$D$40,$B$158)","v":0},{"$f":"SUMIFS('ABT Transactions'!$B$9:$B$40,'ABT Transactions'!$G$9:$G$40,$C$181,'ABT Transactions'!$F$9:$F$40,$AP$148,'ABT Transactions'!$C$9:$C$40,AQ183,'ABT Transactions'!$D$9:$D$40,$B$158)","v":0},{"$f":"SUMIFS('ABT Transactions'!$B$9:$B$40,'ABT Transactions'!$G$9:$G$40,$C$181,'ABT Transactions'!$F$9:$F$40,$AP$148,'ABT Transactions'!$C$9:$C$40,AR183,'ABT Transactions'!$D$9:$D$40,$B$158)","v":0},{"$f":"SUMIFS('ABT Transactions'!$B$9:$B$40,'ABT Transactions'!$G$9:$G$40,$C$181,'ABT Transactions'!$F$9:$F$40,$AS$148,'ABT Transactions'!$C$9:$C$40,AS183,'ABT Transactions'!$D$9:$D$40,$B$158)","v":0},{"$f":"SUMIFS('ABT Transactions'!$B$9:$B$40,'ABT Transactions'!$G$9:$G$40,$C$181,'ABT Transactions'!$F$9:$F$40,$AS$148,'ABT Transactions'!$C$9:$C$40,AT183,'ABT Transactions'!$D$9:$D$40,$B$158)","v":0},{"$f":"SUMIFS('ABT Transactions'!$B$9:$B$40,'ABT Transactions'!$G$9:$G$40,$C$181,'ABT Transactions'!$F$9:$F$40,$AS$148,'ABT Transactions'!$C$9:$C$40,AU183,'ABT Transactions'!$D$9:$D$40,$B$158)","v":0}]
[null,"Expired Credits",{"$f":"SUMIFS('ABT Transactions'!$B$9:$B$40,'ABT Transactions'!$G$9:$G$40,$C$181,'ABT Transactions'!$F$9:$F$40,$C$148,'ABT Transactions'!$C$9:$C$40,C183,'ABT Transactions'!$D$9:$D$40,$B$159)","v":0},{"$f":"SUMIFS('ABT Transactions'!$B$9:$B$40,'ABT Transactions'!$G$9:$G$40,$C$181,'ABT Transactions'!$F$9:$F$40,$C$148,'ABT Transactions'!$C$9:$C$40,D183,'ABT Transactions'!$D$9:$D$40,$B$159)","v":0},{"$f":"SUMIFS('ABT Transactions'!$B$9:$B$40,'ABT Transactions'!$G$9:$G$40,$C$181,'ABT Transactions'!$F$9:$F$40,$C$148,'ABT Transactions'!$C$9:$C$40,E183,'ABT Transactions'!$D$9:$D$40,$B$159)","v":0},{"$f":"SUMIFS('ABT Transactions'!$B$9:$B$40,'ABT Transactions'!$G$9:$G$40,$C$181,'ABT Transactions'!$F$9:$F$40,$F$148,'ABT Transactions'!$C$9:$C$40,F183,'ABT Transactions'!$D$9:$D$40,$B$159)","v":0},{"$f":"SUMIFS('ABT Transactions'!$B$9:$B$40,'ABT Transactions'!$G$9:$G$40,$C$181,'ABT Transactions'!$F$9:$F$40,$F$148,'ABT Transactions'!$C$9:$C$40,G183,'ABT Transactions'!$D$9:$D$40,$B$159)","v":0},{"$f":"SUMIFS('ABT Transactions'!$B$9:$B$40,'ABT Transactions'!$G$9:$G$40,$C$181,'ABT Transactions'!$F$9:$F$40,$F$148,'ABT Transactions'!$C$9:$C$40,H183,'ABT Transactions'!$D$9:$D$40,$B$159)","v":0},{"$f":"SUMIFS('ABT Transactions'!$B$9:$B$40,'ABT Transactions'!$G$9:$G$40,$C$181,'ABT Transactions'!$F$9:$F$40,$I$148,'ABT Transactions'!$C$9:$C$40,I183,'ABT Transactions'!$D$9:$D$40,$B$159)","v":0},{"$f":"SUMIFS('ABT Transactions'!$B$9:$B$40,'ABT Transactions'!$G$9:$G$40,$C$181,'ABT Transactions'!$F$9:$F$40,$I$148,'ABT Transactions'!$C$9:$C$40,J183,'ABT Transactions'!$D$9:$D$40,$B$159)","v":0},{"$f":"SUMIFS('ABT Transactions'!$B$9:$B$40,'ABT Transactions'!$G$9:$G$40,$C$181,'ABT Transactions'!$F$9:$F$40,$I$148,'ABT Transactions'!$C$9:$C$40,K183,'ABT Transactions'!$D$9:$D$40,$B$159)","v":0},{"$f":"SUMIFS('ABT Transactions'!$B$9:$B$40,'ABT Transactions'!$G$9:$G$40,$C$181,'ABT Transactions'!$F$9:$F$40,$L$148,'ABT Transactions'!$C$9:$C$40,L183,'ABT Transactions'!$D$9:$D$40,$B$159)","v":0},{"$f":"SUMIFS('ABT Transactions'!$B$9:$B$40,'ABT Transactions'!$G$9:$G$40,$C$181,'ABT Transactions'!$F$9:$F$40,$L$148,'ABT Transactions'!$C$9:$C$40,M183,'ABT Transactions'!$D$9:$D$40,$B$159)","v":0},{"$f":"SUMIFS('ABT Transactions'!$B$9:$B$40,'ABT Transactions'!$G$9:$G$40,$C$181,'ABT Transactions'!$F$9:$F$40,$L$148,'ABT Transactions'!$C$9:$C$40,N183,'ABT Transactions'!$D$9:$D$40,$B$159)","v":0},{"$f":"SUMIFS('ABT Transactions'!$B$9:$B$40,'ABT Transactions'!$G$9:$G$40,$C$181,'ABT Transactions'!$F$9:$F$40,$O$148,'ABT Transactions'!$C$9:$C$40,O183,'ABT Transactions'!$D$9:$D$40,$B$159)","v":0},{"$f":"SUMIFS('ABT Transactions'!$B$9:$B$40,'ABT Transactions'!$G$9:$G$40,$C$181,'ABT Transactions'!$F$9:$F$40,$O$148,'ABT Transactions'!$C$9:$C$40,P183,'ABT Transactions'!$D$9:$D$40,$B$159)","v":0},{"$f":"SUMIFS('ABT Transactions'!$B$9:$B$40,'ABT Transactions'!$G$9:$G$40,$C$181,'ABT Transactions'!$F$9:$F$40,$O$148,'ABT Transactions'!$C$9:$C$40,Q183,'ABT Transactions'!$D$9:$D$40,$B$159)","v":0},{"$f":"SUMIFS('ABT Transactions'!$B$9:$B$40,'ABT Transactions'!$G$9:$G$40,$C$181,'ABT Transactions'!$F$9:$F$40,$R$148,'ABT Transactions'!$C$9:$C$40,R183,'ABT Transactions'!$D$9:$D$40,$B$159)","v":0},{"$f":"SUMIFS('ABT Transactions'!$B$9:$B$40,'ABT Transactions'!$G$9:$G$40,$C$181,'ABT Transactions'!$F$9:$F$40,$R$148,'ABT Transactions'!$C$9:$C$40,S183,'ABT Transactions'!$D$9:$D$40,$B$159)","v":0},{"$f":"SUMIFS('ABT Transactions'!$B$9:$B$40,'ABT Transactions'!$G$9:$G$40,$C$181,'ABT Transactions'!$F$9:$F$40,$R$148,'ABT Transactions'!$C$9:$C$40,T183,'ABT Transactions'!$D$9:$D$40,$B$159)","v":0},{"$f":"SUMIFS('ABT Transactions'!$B$9:$B$40,'ABT Transactions'!$G$9:$G$40,$C$181,'ABT Transactions'!$F$9:$F$40,$U$148,'ABT Transactions'!$C$9:$C$40,U183,'ABT Transactions'!$D$9:$D$40,$B$159)","v":0},{"$f":"SUMIFS('ABT Transactions'!$B$9:$B$40,'ABT Transactions'!$G$9:$G$40,$C$181,'ABT Transactions'!$F$9:$F$40,$U$148,'ABT Transactions'!$C$9:$C$40,V183,'ABT Transactions'!$D$9:$D$40,$B$159)","v":0},{"$f":"SUMIFS('ABT Transactions'!$B$9:$B$40,'ABT Transactions'!$G$9:$G$40,$C$181,'ABT Transactions'!$F$9:$F$40,U$148,'ABT Transactions'!$C$9:$C$40,W183,'ABT Transactions'!$D$9:$D$40,$B$159)","v":0},{"$f":"SUMIFS('ABT Transactions'!$B$9:$B$40,'ABT Transactions'!$G$9:$G$40,$C$181,'ABT Transactions'!$F$9:$F$40,$X$148,'ABT Transactions'!$C$9:$C$40,X183,'ABT Transactions'!$D$9:$D$40,$B$159)","v":0},{"$f":"SUMIFS('ABT Transactions'!$B$9:$B$40,'ABT Transactions'!$G$9:$G$40,$C$181,'ABT Transactions'!$F$9:$F$40,$X$148,'ABT Transactions'!$C$9:$C$40,Y183,'ABT Transactions'!$D$9:$D$40,$B$159)","v":0},{"$f":"SUMIFS('ABT Transactions'!$B$9:$B$40,'ABT Transactions'!$G$9:$G$40,$C$181,'ABT Transactions'!$F$9:$F$40,$X$148,'ABT Transactions'!$C$9:$C$40,Z183,'ABT Transactions'!$D$9:$D$40,$B$159)","v":0},{"$f":"SUMIFS('ABT Transactions'!$B$9:$B$40,'ABT Transactions'!$G$9:$G$40,$C$181,'ABT Transactions'!$F$9:$F$40,$AA$148,'ABT Transactions'!$C$9:$C$40,AA183,'ABT Transactions'!$D$9:$D$40,$B$159)","v":0},{"$f":"SUMIFS('ABT Transactions'!$B$9:$B$40,'ABT Transactions'!$G$9:$G$40,$C$181,'ABT Transactions'!$F$9:$F$40,$AA$148,'ABT Transactions'!$C$9:$C$40,AB183,'ABT Transactions'!$D$9:$D$40,$B$159)","v":0},{"$f":"SUMIFS('ABT Transactions'!$B$9:$B$40,'ABT Transactions'!$G$9:$G$40,$C$181,'ABT Transactions'!$F$9:$F$40,$AA$148,'ABT Transactions'!$C$9:$C$40,AC183,'ABT Transactions'!$D$9:$D$40,$B$159)","v":0},{"$f":"SUMIFS('ABT Transactions'!$B$9:$B$40,'ABT Transactions'!$G$9:$G$40,$C$181,'ABT Transactions'!$F$9:$F$40,$AD$148,'ABT Transactions'!$C$9:$C$40,AD183,'ABT Transactions'!$D$9:$D$40,$B$159)","v":0},{"$f":"SUMIFS('ABT Transactions'!$B$9:$B$40,'ABT Transactions'!$G$9:$G$40,$C$181,'ABT Transactions'!$F$9:$F$40,$AD$148,'ABT Transactions'!$C$9:$C$40,AE183,'ABT Transactions'!$D$9:$D$40,$B$159)","v":0},{"$f":"SUMIFS('ABT Transactions'!$B$9:$B$40,'ABT Transactions'!$G$9:$G$40,$C$181,'ABT Transactions'!$F$9:$F$40,$AD$148,'ABT Transactions'!$C$9:$C$40,AF183,'ABT Transactions'!$D$9:$D$40,$B$159)","v":0},{"$f":"SUMIFS('ABT Transactions'!$B$9:$B$40,'ABT Transactions'!$G$9:$G$40,$C$181,'ABT Transactions'!$F$9:$F$40,$AG$148,'ABT Transactions'!$C$9:$C$40,AG183,'ABT Transactions'!$D$9:$D$40,$B$159)","v":0},{"$f":"SUMIFS('ABT Transactions'!$B$9:$B$40,'ABT Transactions'!$G$9:$G$40,$C$181,'ABT Transactions'!$F$9:$F$40,$AG$148,'ABT Transactions'!$C$9:$C$40,AH183,'ABT Transactions'!$D$9:$D$40,$B$159)","v":0},{"$f":"SUMIFS('ABT Transactions'!$B$9:$B$40,'ABT Transactions'!$G$9:$G$40,$C$181,'ABT Transactions'!$F$9:$F$40,$AG$148,'ABT Transactions'!$C$9:$C$40,AI183,'ABT Transactions'!$D$9:$D$40,$B$159)","v":0},{"$f":"SUMIFS('ABT Transactions'!$B$9:$B$40,'ABT Transactions'!$G$9:$G$40,$C$181,'ABT Transactions'!$F$9:$F$40,$AJ$148,'ABT Transactions'!$C$9:$C$40,AJ183,'ABT Transactions'!$D$9:$D$40,$B$159)","v":0},{"$f":"SUMIFS('ABT Transactions'!$B$9:$B$40,'ABT Transactions'!$G$9:$G$40,$C$181,'ABT Transactions'!$F$9:$F$40,$AJ$148,'ABT Transactions'!$C$9:$C$40,AK183,'ABT Transactions'!$D$9:$D$40,$B$159)","v":0},{"$f":"SUMIFS('ABT Transactions'!$B$9:$B$40,'ABT Transactions'!$G$9:$G$40,$C$181,'ABT Transactions'!$F$9:$F$40,$AJ$148,'ABT Transactions'!$C$9:$C$40,AL183,'ABT Transactions'!$D$9:$D$40,$B$159)","v":0},{"$f":"SUMIFS('ABT Transactions'!$B$9:$B$40,'ABT Transactions'!$G$9:$G$40,$C$181,'ABT Transactions'!$F$9:$F$40,$AM$148,'ABT Transactions'!$C$9:$C$40,AM183,'ABT Transactions'!$D$9:$D$40,$B$159)","v":0},{"$f":"SUMIFS('ABT Transactions'!$B$9:$B$40,'ABT Transactions'!$G$9:$G$40,$C$181,'ABT Transactions'!$F$9:$F$40,$AM$148,'ABT Transactions'!$C$9:$C$40,AN183,'ABT Transactions'!$D$9:$D$40,$B$159)","v":0},{"$f":"SUMIFS('ABT Transactions'!$B$9:$B$40,'ABT Transactions'!$G$9:$G$40,$C$181,'ABT Transactions'!$F$9:$F$40,$AM$148,'ABT Transactions'!$C$9:$C$40,AO183,'ABT Transactions'!$D$9:$D$40,$B$159)","v":0},{"$f":"SUMIFS('ABT Transactions'!$B$9:$B$40,'ABT Transactions'!$G$9:$G$40,$C$181,'ABT Transactions'!$F$9:$F$40,$AP$148,'ABT Transactions'!$C$9:$C$40,AP183,'ABT Transactions'!$D$9:$D$40,$B$159)","v":0},{"$f":"SUMIFS('ABT Transactions'!$B$9:$B$40,'ABT Transactions'!$G$9:$G$40,$C$181,'ABT Transactions'!$F$9:$F$40,$AP$148,'ABT Transactions'!$C$9:$C$40,AQ183,'ABT Transactions'!$D$9:$D$40,$B$159)","v":0},{"$f":"SUMIFS('ABT Transactions'!$B$9:$B$40,'ABT Transactions'!$G$9:$G$40,$C$181,'ABT Transactions'!$F$9:$F$40,$AP$148,'ABT Transactions'!$C$9:$C$40,AR183,'ABT Transactions'!$D$9:$D$40,$B$159)","v":0},{"$f":"SUMIFS('ABT Transactions'!$B$9:$B$40,'ABT Transactions'!$G$9:$G$40,$C$181,'ABT Transactions'!$F$9:$F$40,$AS$148,'ABT Transactions'!$C$9:$C$40,AS183,'ABT Transactions'!$D$9:$D$40,$B$159)","v":0},{"$f":"SUMIFS('ABT Transactions'!$B$9:$B$40,'ABT Transactions'!$G$9:$G$40,$C$181,'ABT Transactions'!$F$9:$F$40,$AS$148,'ABT Transactions'!$C$9:$C$40,AT183,'ABT Transactions'!$D$9:$D$40,$B$159)","v":0},{"$f":"SUMIFS('ABT Transactions'!$B$9:$B$40,'ABT Transactions'!$G$9:$G$40,$C$181,'ABT Transactions'!$F$9:$F$40,$AS$148,'ABT Transactions'!$C$9:$C$40,AU183,'ABT Transactions'!$D$9:$D$40,$B$159)","v":0}]
[null,"Final Credit Balance",{"$f":"(C184+C185+C187+C189+C191+C192+C193)-(C186+C188+C190)","v":0},{"$f":"(D184+D185+D187+D189+D191+D192+D193)-(D186+D188+D190)","v":0},{"$f":"(E184+E185+E187+E189+E191+E192+E193)-(E186+E188+E190)","v":0},{"$f":"(F184+F185+F187+F189+F191+F192+F193)-(F186+F188+F190)","v":0},{"$f":"(G184+G185+G187+G189+G191+G192+G193)-(G186+G188+G190)","v":0},{"$f":"(H184+H185+H187+H189+H191+H192+H193)-(H186+H188+H190)","v":0},{"$f":"(I184+I185+I187+I189+I191+I192+I193)-(I186+I188+I190)","v":0},{"$f":"(J184+J185+J187+J189+J191+J192+J193)-(J186+J188+J190)","v":0},{"$f":"(K184+K185+K187+K189+K191+K192+K193)-(K186+K188+K190)","v":0},{"$f":"(L184+L185+L187+L189+L191+L192+L193)-(L186+L188+L190)","v":0},{"$f":"(M184+M185+M187+M189+M191+M192+M193)-(M186+M188+M190)","v":0},{"$f":"(N184+N185+N187+N189+N191+N192+N193)-(N186+N188+N190)","v":0},{"$f":"(O184+O185+O187+O189+O191+O192+O193)-(O186+O188+O190)","v":0},{"$f":"(P184+P185+P187+P189+P191+P192+P193)-(P186+P188+P190)","v":0},{"$f":"(Q184+Q185+Q187+Q189+Q191+Q192+Q193)-(Q186+Q188+Q190)","v":0},{"$f":"(R184+R185+R187+R189+R191+R192+R193)-(R186+R188+R190)","v":0},{"$f":"(S184+S185+S187+S189+S191+S192+S193)-(S186+S188+S190)","v":0},{"$f":"(T184+T185+T187+T189+T191+T192+T193)-(T186+T188+T190)","v":0},{"$f":"(U184+U185+U187+U189+U191+U192+U193)-(U186+U188+U190)","v":0},{"$f":"(V184+V185+V187+V189+V191+V192+V193)-(V186+V188+V190)","v":0},{"$f":"(W184+W185+W187+W189+W191+W192+W193)-(W186+W188+W190)","v":0},{"$f":"(X184+X185+X187+X189+X191+X192+X193)-(X186+X188+X190)","v":0},{"$f":"(Y184+Y185+Y187+Y189+Y191+Y192+Y193)-(Y186+Y188+Y190)","v":0},{"$f":"(Z184+Z185+Z187+Z189+Z191+Z192+Z193)-(Z186+Z188+Z190)","v":0},{"$f":"(AA184+AA185+AA187+AA189+AA191+AA192+AA193)-(AA186+AA188+AA190)","v":0},{"$f":"(AB184+AB185+AB187+AB189+AB191+AB192+AB193)-(AB186+AB188+AB190)","v":0},{"$f":"(AC184+AC185+AC187+AC189+AC191+AC192+AC193)-(AC186+AC188+AC190)","v":0},{"$f":"(AD184+AD185+AD187+AD189+AD191+AD192+AD193)-(AD186+AD188+AD190)","v":0},{"$f":"(AE184+AE185+AE187+AE189+AE191+AE192+AE193)-(AE186+AE188+AE190)","v":0},{"$f":"(AF184+AF185+AF187+AF189+AF191+AF192+AF193)-(AF186+AF188+AF190)","v":0},{"$f":"(AG184+AG185+AG187+AG189+AG191+AG192+AG193)-(AG186+AG188+AG190)","v":0},{"$f":"(AH184+AH185+AH187+AH189+AH191+AH192+AH193)-(AH186+AH188+AH190)","v":0},{"$f":"(AI184+AI185+AI187+AI189+AI191+AI192+AI193)-(AI186+AI188+AI190)","v":0},{"$f":"(AJ184+AJ185+AJ187+AJ189+AJ191+AJ192+AJ193)-(AJ186+AJ188+AJ190)","v":0},{"$f":"(AK184+AK185+AK187+AK189+AK191+AK192+AK193)-(AK186+AK188+AK190)","v":0},{"$f":"(AL184+AL185+AL187+AL189+AL191+AL192+AL193)-(AL186+AL188+AL190)","v":0},{"$f":"(AM184+AM185+AM187+AM189+AM191+AM192+AM193)-(AM186+AM188+AM190)","v":0},{"$f":"(AN184+AN185+AN187+AN189+AN191+AN192+AN193)-(AN186+AN188+AN190)","v":0},{"$f":"(AO184+AO185+AO187+AO189+AO191+AO192+AO193)-(AO186+AO188+AO190)","v":0},{"$f":"(AP184+AP185+AP187+AP189+AP191+AP192+AP193)-(AP186+AP188+AP190)","v":0},{"$f":"(AQ184+AQ185+AQ187+AQ189+AQ191+AQ192+AQ193)-(AQ186+AQ188+AQ190)","v":0},{"$f":"(AR184+AR185+AR187+AR189+AR191+AR192+AR193)-(AR186+AR188+AR190)","v":0},{"$f":"(AS184+AS185+AS187+AS189+AS191+AS192+AS193)-(AS186+AS188+AS190)","v":0},{"$f":"(AT184+AT185+AT187+AT189+AT191+AT192+AT193)-(AT186+AT188+AT190)","v":0},{"$f":"(AU184+AU185+AU187+AU189+AU191+AU192+AU193)-(AU186+AU188+AU190)","v":0}]
[null,"Averaging Set Credit Balance",{"$f":"SUM(C194:E194)","v":0},null,null,{"$f":"SUM(F194:H194)","v":0},null,null,{"$f":"SUM(I194:K194)","v":0},null,null,{"$f":"SUM(L194:N194)","v":0},null,null,{"$f":"SUM(O194:Q194)","v":0},null,null,{"$f":"SUM(R194:T194)","v":0},null,null,{"$f":"SUM(U194:W194)","v":0},null,null,{"$f":"SUM(X194:Z194)","v":0},null,null,{"$f":"SUM(AA194:AC194)","v":0},null,null,{"$f":"SUM(AD194:AF194)","v":0},null,null,{"$f":"SUM(AG194:AI194)","v":0},null,null,{"$f":"SUM(AJ194:AL194)","v":0},null,null,{"$f":"SUM(AM194:AO194)","v":0},null,null,{"$f":"SUM(AP194:AR194)","v":0},null,null,{"$f":"SUM(AS194:AU194)","v":0}]
[]
[]
[null,null,"Other bus"]
[null,null,2013,null,null,2014,null,null,2015,null,null,2016,null,null,2017,null,null,2018,null,null,2019,null,null,2020,null,null,2021,null,null,2022,null,null,2023,null,null,2024,null,null,2025,null,null,2026,null,null,2027]
[null,"Credit Type","Conventional Credit","Innovative Technology Credit","Advanced Technology Credit","Conventional Credit","Innovative Technology Credit","Advanced Technology Credit","Conventional Credit","Innovative Technology Credit","Advanced Technology Credit","Conventional Credit","Innovative Technology Credit","Advanced Technology Credit","Conventional Credit","Innovative Technology Credit","Advanced Technology Credit","Conventional Credit","Innovative Technology Credit","Advanced Technology Credit","Conventional Credit","Innovative Technology Credit","Advanced Technology Credit","Conventional Credit","Innovative Technology Credit","Advanced Technology Credit","Conventional Credit","Innovative Technology Credit","Advanced Technology Credit","Conventional Credit","Innovative Technology Credit","Advanced Technology Credit","Conventional Credit","Innovative Technology Credit","Advanced Technology Credit","Conventional Credit","Innovative Technology Credit","Advanced Technology Credit","Conventional Credit","Innovative Technology Credit","Advanced Technology Credit","Conventional Credit","Innovative Technology Credit","Advanced Technology Credit","Conventional Credit","Innovative Technology Credit","Advanced Technology Credit"]
[null,"Earned Credits",{"$f":"SUMIFS('ABT Credit Balances'!$D$9:$D$208,'ABT Credit Balances'!$B$9:$B$208,$C$198,'ABT Credit Balances'!$F$9:$F$208,C200,'ABT Credit Balances'!$E$9:$E$208,$C$148,'ABT Credit Balances'!$C$9:$C$208,$B$150)","v":0},{"$f":"SUMIFS('ABT Credit Balances'!$D$9:$D$208,'ABT Credit Balances'!$B$9:$B$208,$C$198,'ABT Credit Balances'!$F$9:$F$208,D200,'ABT Credit Balances'!$E$9:$E$208,$C$148,'ABT Credit Balances'!$C$9:$C$208,$B$150)","v":0},{"$f":"SUMIFS('ABT Credit Balances'!$D$9:$D$208,'ABT Credit Balances'!$B$9:$B$208,$C$198,'ABT Credit Balances'!$F$9:$F$208,E200,'ABT Credit Balances'!$E$9:$E$208,$C$148,'ABT Credit Balances'!$C$9:$C$208,$B$150)","v":0},{"$f":"SUMIFS('ABT Credit Balances'!$D$9:$D$208,'ABT Credit Balances'!$B$9:$B$208,$C$198,'ABT Credit Balances'!$F$9:$F$208,F200,'ABT Credit Balances'!$E$9:$E$208,$F$148,'ABT Credit Balances'!$C$9:$C$208,$B$150)","v":0},{"$f":"SUMIFS('ABT Credit Balances'!$D$9:$D$208,'ABT Credit Balances'!$B$9:$B$208,$C$198,'ABT Credit Balances'!$F$9:$F$208,G200,'ABT Credit Balances'!$E$9:$E$208,$F$148,'ABT Credit Balances'!$C$9:$C$208,$B$150)","v":0},{"$f":"SUMIFS('ABT Credit Balances'!$D$9:$D$208,'ABT Credit Balances'!$B$9:$B$208,$C$198,'ABT Credit Balances'!$F$9:$F$208,H200,'ABT Credit Balances'!$E$9:$E$208,$F$148,'ABT Credit Balances'!$C$9:$C$208,$B$150)","v":0},{"$f":"SUMIFS('ABT Credit Balances'!$D$9:$D$208,'ABT Credit Balances'!$B$9:$B$208,$C$198,'ABT Credit Balances'!$F$9:$F$208,I200,'ABT Credit Balances'!$E$9:$E$208,$I$148,'ABT Credit Balances'!$C$9:$C$208,$B$150)","v":0},{"$f":"SUMIFS('ABT Credit Balances'!$D$9:$D$208,'ABT Credit Balances'!$B$9:$B$208,$C$198,'ABT Credit Balances'!$F$9:$F$208,J200,'ABT Credit Balances'!$E$9:$E$208,$I$148,'ABT Credit Balances'!$C$9:$C$208,$B$150)","v":0},{"$f":"SUMIFS('ABT Credit Balances'!$D$9:$D$208,'ABT Credit Balances'!$B$9:$B$208,$C$198,'ABT Credit Balances'!$F$9:$F$208,K200,'ABT Credit Balances'!$E$9:$E$208,$I$148,'ABT Credit Balances'!$C$9:$C$208,$B$150)","v":0},{"$f":"SUMIFS('ABT Credit Balances'!$D$9:$D$208,'ABT Credit Balances'!$B$9:$B$208,$C$198,'ABT Credit Balances'!$F$9:$F$208,L200,'ABT Credit Balances'!$E$9:$E$208,$L$148,'ABT Credit Balances'!$C$9:$C$208,$B$150)","v":0},{"$f":"SUMIFS('ABT Credit Balances'!$D$9:$D$208,'ABT Credit Balances'!$B$9:$B$208,$C$198,'ABT Credit Balances'!$F$9:$F$208,M200,'ABT Credit Balances'!$E$9:$E$208,$L$148,'ABT Credit Balances'!$C$9:$C$208,$B$150)","v":0},{"$f":"SUMIFS('ABT Credit Balances'!$D$9:$D$208,'ABT Credit Balances'!$B$9:$B$208,$C$198,'ABT Credit Balances'!$F$9:$F$208,N200,'ABT Credit Balances'!$E$9:$E$208,$L$148,'ABT Credit Balances'!$C$9:$C$208,$B$150)","v":0},{"$f":"SUMIFS('ABT Credit Balances'!$D$9:$D$208,'ABT Credit Balances'!$B$9:$B$208,$C$198,'ABT Credit Balances'!$F$9:$F$208,O200,'ABT Credit Balances'!$E$9:$E$208,$O$148,'ABT Credit Balances'!$C$9:$C$208,$B$150)","v":0},{"$f":"SUMIFS('ABT Credit Balances'!$D$9:$D$208,'ABT Credit Balances'!$B$9:$B$208,$C$198,'ABT Credit Balances'!$F$9:$F$208,P200,'ABT Credit Balances'!$E$9:$E$208,$O$148,'ABT Credit Balances'!$C$9:$C$208,$B$150)","v":0},{"$f":"SUMIFS('ABT Credit Balances'!$D$9:$D$208,'ABT Credit Balances'!$B$9:$B$208,$C$198,'ABT Credit Balances'!$F$9:$F$208,Q200,'ABT Credit Balances'!$E$9:$E$208,$O$148,'ABT Credit Balances'!$C$9:$C$208,$B$150)","v":0},{"$f":"SUMIFS('ABT Credit Balances'!$D$9:$D$208,'ABT Credit Balances'!$B$9:$B$208,$C$198,'ABT Credit Balances'!$F$9:$F$208,R200,'ABT Credit Balances'!$E$9:$E$208,$R$148,'ABT Credit Balances'!$C$9:$C$208,$B$150)","v":0},{"$f":"SUMIFS('ABT Credit Balances'!$D$9:$D$208,'ABT Credit Balances'!$B$9:$B$208,$C$198,'ABT Credit Balances'!$F$9:$F$208,S200,'ABT Credit Balances'!$E$9:$E$208,$R$148,'ABT Credit Balances'!$C$9:$C$208,$B$150)","v":0},{"$f":"SUMIFS('ABT Credit Balances'!$D$9:$D$208,'ABT Credit Balances'!$B$9:$B$208,$C$198,'ABT Credit Balances'!$F$9:$F$208,T200,'ABT Credit Balances'!$E$9:$E$208,$R$148,'ABT Credit Balances'!$C$9:$C$208,$B$150)","v":0},{"$f":"SUMIFS('ABT Credit Balances'!$D$9:$D$208,'ABT Credit Balances'!$B$9:$B$208,$C$198,'ABT Credit Balances'!$F$9:$F$208,U200,'ABT Credit Balances'!$E$9:$E$208,$U$148,'ABT Credit Balances'!$C$9:$C$208,$B$150)","v":0},{"$f":"SUMIFS('ABT Credit Balances'!$D$9:$D$208,'ABT Credit Balances'!$B$9:$B$208,$C$198,'ABT Credit Balances'!$F$9:$F$208,V200,'ABT Credit Balances'!$E$9:$E$208,$U$148,'ABT Credit Balances'!$C$9:$C$208,$B$150)","v":0},{"$f":"SUMIFS('ABT Credit Balances'!$D$9:$D$208,'ABT Credit Balances'!$B$9:$B$208,$C$198,'ABT Credit Balances'!$F$9:$F$208,W200,'ABT Credit Balances'!$E$9:$E$208,U$148,'ABT Credit Balances'!$C$9:$C$208,$B$150)","v":0},{"$f":"SUMIFS('ABT Credit Balances'!$D$9:$D$208,'ABT Credit Balances'!$B$9:$B$208,$C$198,'ABT Credit Balances'!$F$9:$F$208,X200,'ABT Credit Balances'!$E$9:$E$208,$X$148,'ABT Credit Balances'!$C$9:$C$208,$B$150)","v":0},{"$f":"SUMIFS('ABT Credit Balances'!$D$9:$D$208,'ABT Credit Balances'!$B$9:$B$208,$C$198,'ABT Credit Balances'!$F$9:$F$208,Y200,'ABT Credit Balances'!$E$9:$E$208,$X$148,'ABT Credit Balances'!$C$9:$C$208,$B$150)","v":0},{"$f":"SUMIFS('ABT Credit Balances'!$D$9:$D$208,'ABT Credit Balances'!$B$9:$B$208,$C$198,'ABT Credit Balances'!$F$9:$F$208,Z200,'ABT Credit Balances'!$E$9:$E$208,$X$148,'ABT Credit Balances'!$C$9:$C$208,$B$150)","v":0},{"$f":"SUMIFS('ABT Credit Balances'!$D$9:$D$208,'ABT Credit Balances'!$B$9:$B$208,$C$198,'ABT Credit Balances'!$F$9:$F$208,AA200,'ABT Credit Balances'!$E$9:$E$208,$AA$148,'ABT Credit Balances'!$C$9:$C$208,$B$150)","v":0},{"$f":"SUMIFS('ABT Credit Balances'!$D$9:$D$208,'ABT Credit Balances'!$B$9:$B$208,$C$198,'ABT Credit Balances'!$F$9:$F$208,AB200,'ABT Credit Balances'!$E$9:$E$208,$AA$148,'ABT Credit Balances'!$C$9:$C$208,$B$150)","v":0},{"$f":"SUMIFS('ABT Credit Balances'!$D$9:$D$208,'ABT Credit Balances'!$B$9:$B$208,$C$198,'ABT Credit Balances'!$F$9:$F$208,AC200,'ABT Credit Balances'!$E$9:$E$208,$AA$148,'ABT Credit Balances'!$C$9:$C$208,$B$150)","v":0},{"$f":"SUMIFS('ABT Credit Balances'!$D$9:$D$208,'ABT Credit Balances'!$B$9:$B$208,$C$198,'ABT Credit Balances'!$F$9:$F$208,AD200,'ABT Credit Balances'!$E$9:$E$208,$AD$148,'ABT Credit Balances'!$C$9:$C$208,$B$150)","v":0},{"$f":"SUMIFS('ABT Credit Balances'!$D$9:$D$208,'ABT Credit Balances'!$B$9:$B$208,$C$198,'ABT Credit Balances'!$F$9:$F$208,AE200,'ABT Credit Balances'!$E$9:$E$208,$AD$148,'ABT Credit Balances'!$C$9:$C$208,$B$150)","v":0},{"$f":"SUMIFS('ABT Credit Balances'!$D$9:$D$208,'ABT Credit Balances'!$B$9:$B$208,$C$198,'ABT Credit Balances'!$F$9:$F$208,AF200,'ABT Credit Balances'!$E$9:$E$208,$AD$148,'ABT Credit Balances'!$C$9:$C$208,$B$150)","v":0},{"$f":"SUMIFS('ABT Credit Balances'!$D$9:$D$208,'ABT Credit Balances'!$B$9:$B$208,$C$198,'ABT Credit Balances'!$F$9:$F$208,AG200,'ABT Credit Balances'!$E$9:$E$208,$AG$148,'ABT Credit Balances'!$C$9:$C$208,$B$150)","v":0},{"$f":"SUMIFS('ABT Credit Balances'!$D$9:$D$208,'ABT Credit Balances'!$B$9:$B$208,$C$198,'ABT Credit Balances'!$F$9:$F$208,AH200,'ABT Credit Balances'!$E$9:$E$208,$AG$148,'ABT Credit Balances'!$C$9:$C$208,$B$150)","v":0},{"$f":"SUMIFS('ABT Credit Balances'!$D$9:$D$208,'ABT Credit Balances'!$B$9:$B$208,$C$198,'ABT Credit Balances'!$F$9:$F$208,AI200,'ABT Credit Balances'!$E$9:$E$208,$AG$148,'ABT Credit Balances'!$C$9:$C$208,$B$150)","v":0},{"$f":"SUMIFS('ABT Credit Balances'!$D$9:$D$208,'ABT Credit Balances'!$B$9:$B$208,$C$198,'ABT Credit Balances'!$F$9:$F$208,AJ200,'ABT Credit Balances'!$E$9:$E$208,$AJ$148,'ABT Credit Balances'!$C$9:$C$208,$B$150)","v":0},{"$f":"SUMIFS('ABT Credit Balances'!$D$9:$D$208,'ABT Credit Balances'!$B$9:$B$208,$C$198,'ABT Credit Balances'!$F$9:$F$208,AK200,'ABT Credit Balances'!$E$9:$E$208,$AJ$148,'ABT Credit Balances'!$C$9:$C$208,$B$150)","v":0},{"$f":"SUMIFS('ABT Credit Balances'!$D$9:$D$208,'ABT Credit Balances'!$B$9:$B$208,$C$198,'ABT Credit Balances'!$F$9:$F$208,AL200,'ABT Credit Balances'!$E$9:$E$208,$AJ$148,'ABT Credit Balances'!$C$9:$C$208,$B$150)","v":0},{"$f":"SUMIFS('ABT Credit Balances'!$D$9:$D$208,'ABT Credit Balances'!$B$9:$B$208,$C$198,'ABT Credit Balances'!$F$9:$F$208,AM200,'ABT Credit Balances'!$E$9:$E$208,$AM$148,'ABT Credit Balances'!$C$9:$C$208,$B$150)","v":0},{"$f":"SUMIFS('ABT Credit Balances'!$D$9:$D$208,'ABT Credit Balances'!$B$9:$B$208,$C$198,'ABT Credit Balances'!$F$9:$F$208,AN200,'ABT Credit Balances'!$E$9:$E$208,$AM$148,'ABT Credit Balances'!$C$9:$C$208,$B$150)","v":0},{"$f":"SUMIFS('ABT Credit Balances'!$D$9:$D$208,'ABT Credit Balances'!$B$9:$B$208,$C$198,'ABT Credit Balances'!$F$9:$F$208,AO200,'ABT Credit Balances'!$E$9:$E$208,$AM$148,'ABT Credit Balances'!$C$9:$C$208,$B$150)","v":0},{"$f":"SUMIFS('ABT Credit Balances'!$D$9:$D$208,'ABT Credit Balances'!$B$9:$B$208,$C$198,'ABT Credit Balances'!$F$9:$F$208,AP200,'ABT Credit Balances'!$E$9:$E$208,$AP$148,'ABT Credit Balances'!$C$9:$C$208,$B$150)","v":0},{"$f":"SUMIFS('ABT Credit Balances'!$D$9:$D$208,'ABT Credit Balances'!$B$9:$B$208,$C$198,'ABT Credit Balances'!$F$9:$F$208,AQ200,'ABT Credit Balances'!$E$9:$E$208,$AP$148,'ABT Credit Balances'!$C$9:$C$208,$B$150)","v":0},{"$f":"SUMIFS('ABT Credit Balances'!$D$9:$D$208,'ABT Credit Balances'!$B$9:$B$208,$C$198,'ABT Credit Balances'!$F$9:$F$208,AR200,'ABT Credit Balances'!$E$9:$E$208,$AP$148,'ABT Credit Balances'!$C$9:$C$208,$B$150)","v":0},{"$f":"SUMIFS('ABT Credit Balances'!$D$9:$D$208,'ABT Credit Balances'!$B$9:$B$208,$C$198,'ABT Credit Balances'!$F$9:$F$208,AS200,'ABT Credit Balances'!$E$9:$E$208,$AS$148,'ABT Credit Balances'!$C$9:$C$208,$B$150)","v":0},{"$f":"SUMIFS('ABT Credit Balances'!$D$9:$D$208,'ABT Credit Balances'!$B$9:$B$208,$C$198,'ABT Credit Balances'!$F$9:$F$208,AT200,'ABT Credit Balances'!$E$9:$E$208,$AS$148,'ABT Credit Balances'!$C$9:$C$208,$B$150)","v":0},{"$f":"SUMIFS('ABT Credit Balances'!$D$9:$D$208,'ABT Credit Balances'!$B$9:$B$208,$C$198,'ABT Credit Balances'!$F$9:$F$208,AU200,'ABT Credit Balances'!$E$9:$E$208,$AS$148,'ABT Credit Balances'!$C$9:$C$208,$B$150)","v":0}]
[null,"Projected Credits",{"$f":"SUMIFS('ABT Credit Balances'!$D$9:$D$208,'ABT Credit Balances'!$B$9:$B$208,$C$198,'ABT Credit Balances'!$F$9:$F$208,C200,'ABT Credit Balances'!$E$9:$E$208,$C$148,'ABT Credit Balances'!$C$9:$C$208,$B$151)","v":0},{"$f":"SUMIFS('ABT Credit Balances'!$D$9:$D$208,'ABT Credit Balances'!$B$9:$B$208,$C$198,'ABT Credit Balances'!$F$9:$F$208,D200,'ABT Credit Balances'!$E$9:$E$208,$C$148,'ABT Credit Balances'!$C$9:$C$208,$B$151)","v":0},{"$f":"SUMIFS('ABT Credit Balances'!$D$9:$D$208,'ABT Credit Balances'!$B$9:$B$208,$C$198,'ABT Credit Balances'!$F$9:$F$208,E200,'ABT Credit Balances'!$E$9:$E$208,$C$148,'ABT Credit Balances'!$C$9:$C$208,$B$151)","v":0},{"$f":"SUMIFS('ABT Credit Balances'!$D$9:$D$208,'ABT Credit Balances'!$B$9:$B$208,$C$198,'ABT Credit Balances'!$F$9:$F$208,F200,'ABT Credit Balances'!$E$9:$E$208,$F$148,'ABT Credit Balances'!$C$9:$C$208,$B$151)","v":0},{"$f":"SUMIFS('ABT Credit Balances'!$D$9:$D$208,'ABT Credit Balances'!$B$9:$B$208,$C$198,'ABT Credit Balances'!$F$9:$F$208,G200,'ABT Credit Balances'!$E$9:$E$208,$F$148,'ABT Credit Balances'!$C$9:$C$208,$B$151)","v":0},{"$f":"SUMIFS('ABT Credit Balances'!$D$9:$D$208,'ABT Credit Balances'!$B$9:$B$208,$C$198,'ABT Credit Balances'!$F$9:$F$208,H200,'ABT Credit Balances'!$E$9:$E$208,$F$148,'ABT Credit Balances'!$C$9:$C$208,$B$151)","v":0},{"$f":"SUMIFS('ABT Credit Balances'!$D$9:$D$208,'ABT Credit Balances'!$B$9:$B$208,$C$198,'ABT Credit Balances'!$F$9:$F$208,I200,'ABT Credit Balances'!$E$9:$E$208,$I$148,'ABT Credit Balances'!$C$9:$C$208,$B$151)","v":0},{"$f":"SUMIFS('ABT Credit Balances'!$D$9:$D$208,'ABT Credit Balances'!$B$9:$B$208,$C$198,'ABT Credit Balances'!$F$9:$F$208,J200,'ABT Credit Balances'!$E$9:$E$208,$I$148,'ABT Credit Balances'!$C$9:$C$208,$B$151)","v":0},{"$f":"SUMIFS('ABT Credit Balances'!$D$9:$D$208,'ABT Credit Balances'!$B$9:$B$208,$C$198,'ABT Credit Balances'!$F$9:$F$208,K200,'ABT Credit Balances'!$E$9:$E$208,$I$148,'ABT Credit Balances'!$C$9:$C$208,$B$151)","v":0},{"$f":"SUMIFS('ABT Credit Balances'!$D$9:$D$208,'ABT Credit Balances'!$B$9:$B$208,$C$198,'ABT Credit Balances'!$F$9:$F$208,L200,'ABT Credit Balances'!$E$9:$E$208,$L$148,'ABT Credit Balances'!$C$9:$C$208,$B$151)","v":0},{"$f":"SUMIFS('ABT Credit Balances'!$D$9:$D$208,'ABT Credit Balances'!$B$9:$B$208,$C$198,'ABT Credit Balances'!$F$9:$F$208,M200,'ABT Credit Balances'!$E$9:$E$208,$L$148,'ABT Credit Balances'!$C$9:$C$208,$B$151)","v":0},{"$f":"SUMIFS('ABT Credit Balances'!$D$9:$D$208,'ABT Credit Balances'!$B$9:$B$208,$C$198,'ABT Credit Balances'!$F$9:$F$208,N200,'ABT Credit Balances'!$E$9:$E$208,$L$148,'ABT Credit Balances'!$C$9:$C$208,$B$151)","v":0},{"$f":"SUMIFS('ABT Credit Balances'!$D$9:$D$208,'ABT Credit Balances'!$B$9:$B$208,$C$198,'ABT Credit Balances'!$F$9:$F$208,O200,'ABT Credit Balances'!$E$9:$E$208,$O$148,'ABT Credit Balances'!$C$9:$C$208,$B$151)","v":0},{"$f":"SUMIFS('ABT Credit Balances'!$D$9:$D$208,'ABT Credit Balances'!$B$9:$B$208,$C$198,'ABT Credit Balances'!$F$9:$F$208,P200,'ABT Credit Balances'!$E$9:$E$208,$O$148,'ABT Credit Balances'!$C$9:$C$208,$B$151)","v":0},{"$f":"SUMIFS('ABT Credit Balances'!$D$9:$D$208,'ABT Credit Balances'!$B$9:$B$208,$C$198,'ABT Credit Balances'!$F$9:$F$208,Q200,'ABT Credit Balances'!$E$9:$E$208,$O$148,'ABT Credit Balances'!$C$9:$C$208,$B$151)","v":0},{"$f":"SUMIFS('ABT Credit Balances'!$D$9:$D$208,'ABT Credit Balances'!$B$9:$B$208,$C$198,'ABT Credit Balances'!$F$9:$F$208,R200,'ABT Credit Balances'!$E$9:$E$208,$R$148,'ABT Credit Balances'!$C$9:$C$208,$B$151)","v":0},{"$f":"SUMIFS('ABT Credit Balances'!$D$9:$D$208,'ABT Credit Balances'!$B$9:$B$208,$C$198,'ABT Credit Balances'!$F$9:$F$208,S200,'ABT Credit Balances'!$E$9:$E$208,$R$148,'ABT Credit Balances'!$C$9:$C$208,$B$151)","v":0},{"$f":"SUMIFS('ABT Credit Balances'!$D$9:$D$208,'ABT Credit Balances'!$B$9:$B$208,$C$198,'ABT Credit Balances'!$F$9:$F$208,T200,'ABT Credit Balances'!$E$9:$E$208,$R$148,'ABT Credit Balances'!$C$9:$C$208,$B$151)","v":0},{"$f":"SUMIFS('ABT Credit Balances'!$D$9:$D$208,'ABT Credit Balances'!$B$9:$B$208,$C$198,'ABT Credit Balances'!$F$9:$F$208,U200,'ABT Credit Balances'!$E$9:$E$208,$U$148,'ABT Credit Balances'!$C$9:$C$208,$B$151)","v":0},{"$f":"SUMIFS('ABT Credit Balances'!$D$9:$D$208,'ABT Credit Balances'!$B$9:$B$208,$C$198,'ABT Credit Balances'!$F$9:$F$208,V200,'ABT Credit Balances'!$E$9:$E$208,$U$148,'ABT Credit Balances'!$C$9:$C$208,$B$151)","v":0},{"$f":"SUMIFS('ABT Credit Balances'!$D$9:$D$208,'ABT Credit Balances'!$B$9:$B$208,$C$198,'ABT Credit Balances'!$F$9:$F$208,W200,'ABT Credit Balances'!$E$9:$E$208,U$148,'ABT Credit Balances'!$C$9:$C$208,$B$151)","v":0},{"$f":"SUMIFS('ABT Credit Balances'!$D$9:$D$208,'ABT Credit Balances'!$B$9:$B$208,$C$198,'ABT Credit Balances'!$F$9:$F$208,X200,'ABT Credit Balances'!$E$9:$E$208,$X$148,'ABT Credit Balances'!$C$9:$C$208,$B$151)","v":0},{"$f":"SUMIFS('ABT Credit Balances'!$D$9:$D$208,'ABT Credit Balances'!$B$9:$B$208,$C$198,'ABT Credit Balances'!$F$9:$F$208,Y200,'ABT Credit Balances'!$E$9:$E$208,$X$148,'ABT Credit Balances'!$C$9:$C$208,$B$151)","v":0},{"$f":"SUMIFS('ABT Credit Balances'!$D$9:$D$208,'ABT Credit Balances'!$B$9:$B$208,$C$198,'ABT Credit Balances'!$F$9:$F$208,Z200,'ABT Credit Balances'!$E$9:$E$208,$X$148,'ABT Credit Balances'!$C$9:$C$208,$B$151)","v":0},{"$f":"SUMIFS('ABT Credit Balances'!$D$9:$D$208,'ABT Credit Balances'!$B$9:$B$208,$C$198,'ABT Credit Balances'!$F$9:$F$208,AA200,'ABT Credit Balances'!$E$9:$E$208,$AA$148,'ABT Credit Balances'!$C$9:$C$208,$B$151)","v":0},{"$f":"SUMIFS('ABT Credit Balances'!$D$9:$D$208,'ABT Credit Balances'!$B$9:$B$208,$C$198,'ABT Credit Balances'!$F$9:$F$208,AB200,'ABT Credit Balances'!$E$9:$E$208,$AA$148,'ABT Credit Balances'!$C$9:$C$208,$B$151)","v":0},{"$f":"SUMIFS('ABT Credit Balances'!$D$9:$D$208,'ABT Credit Balances'!$B$9:$B$208,$C$198,'ABT Credit Balances'!$F$9:$F$208,AC200,'ABT Credit Balances'!$E$9:$E$208,$AA$148,'ABT Credit Balances'!$C$9:$C$208,$B$151)","v":0},{"$f":"SUMIFS('ABT Credit Balances'!$D$9:$D$208,'ABT Credit Balances'!$B$9:$B$208,$C$198,'ABT Credit Balances'!$F$9:$F$208,AD200,'ABT Credit Balances'!$E$9:$E$208,$AD$148,'ABT Credit Balances'!$C$9:$C$208,$B$151)","v":0},{"$f":"SUMIFS('ABT Credit Balances'!$D$9:$D$208,'ABT Credit Balances'!$B$9:$B$208,$C$198,'ABT Credit Balances'!$F$9:$F$208,AE200,'ABT Credit Balances'!$E$9:$E$208,$AD$148,'ABT Credit Balances'!$C$9:$C$208,$B$151)","v":0},{"$f":"SUMIFS('ABT Credit Balances'!$D$9:$D$208,'ABT Credit Balances'!$B$9:$B$208,$C$198,'ABT Credit Balances'!$F$9:$F$208,AF200,'ABT Credit Balances'!$E$9:$E$208,$AD$148,'ABT Credit Balances'!$C$9:$C$208,$B$151)","v":0},{"$f":"SUMIFS('ABT Credit Balances'!$D$9:$D$208,'ABT Credit Balances'!$B$9:$B$208,$C$198,'ABT Credit Balances'!$F$9:$F$208,AG200,'ABT Credit Balances'!$E$9:$E$208,$AG$148,'ABT Credit Balances'!$C$9:$C$208,$B$151)","v":0},{"$f":"SUMIFS('ABT Credit Balances'!$D$9:$D$208,'ABT Credit Balances'!$B$9:$B$208,$C$198,'ABT Credit Balances'!$F$9:$F$208,AH200,'ABT Credit Balances'!$E$9:$E$208,$AG$148,'ABT Credit Balances'!$C$9:$C$208,$B$151)","v":0},{"$f":"SUMIFS('ABT Credit Balances'!$D$9:$D$208,'ABT Credit Balances'!$B$9:$B$208,$C$198,'ABT Credit Balances'!$F$9:$F$208,AI200,'ABT Credit Balances'!$E$9:$E$208,$AG$148,'ABT Credit Balances'!$C$9:$C$208,$B$151)","v":0},{"$f":"SUMIFS('ABT Credit Balances'!$D$9:$D$208,'ABT Credit Balances'!$B$9:$B$208,$C$198,'ABT Credit Balances'!$F$9:$F$208,AJ200,'ABT Credit Balances'!$E$9:$E$208,$AJ$148,'ABT Credit Balances'!$C$9:$C$208,$B$151)","v":0},{"$f":"SUMIFS('ABT Credit Balances'!$D$9:$D$208,'ABT Credit Balances'!$B$9:$B$208,$C$198,'ABT Credit Balances'!$F$9:$F$208,AK200,'ABT Credit Balances'!$E$9:$E$208,$AJ$148,'ABT Credit Balances'!$C$9:$C$208,$B$151)","v":0},{"$f":"SUMIFS('ABT Credit Balances'!$D$9:$D$208,'ABT Credit Balances'!$B$9:$B$208,$C$198,'ABT Credit Balances'!$F$9:$F$208,AL200,'ABT Credit Balances'!$E$9:$E$208,$AJ$148,'ABT Credit Balances'!$C$9:$C$208,$B$151)","v":0},{"$f":"SUMIFS('ABT Credit Balances'!$D$9:$D$208,'ABT Credit Balances'!$B$9:$B$208,$C$198,'ABT Credit Balances'!$F$9:$F$208,AM200,'ABT Credit Balances'!$E$9:$E$208,$AM$148,'ABT Credit Balances'!$C$9:$C$208,$B$151)","v":0},{"$f":"SUMIFS('ABT Credit Balances'!$D$9:$D$208,'ABT Credit Balances'!$B$9:$B$208,$C$198,'ABT Credit Balances'!$F$9:$F$208,AN200,'ABT Credit Balances'!$E$9:$E$208,$AM$148,'ABT Credit Balances'!$C$9:$C$208,$B$151)","v":0},{"$f":"SUMIFS('ABT Credit Balances'!$D$9:$D$208,'ABT Credit Balances'!$B$9:$B$208,$C$198,'ABT Credit Balances'!$F$9:$F$208,AO200,'ABT Credit Balances'!$E$9:$E$208,$AM$148,'ABT Credit Balances'!$C$9:$C$208,$B$151)","v":0},{"$f":"SUMIFS('ABT Credit Balances'!$D$9:$D$208,'ABT Credit Balances'!$B$9:$B$208,$C$198,'ABT Credit Balances'!$F$9:$F$208,AP200,'ABT Credit Balances'!$E$9:$E$208,$AP$148,'ABT Credit Balances'!$C$9:$C$208,$B$151)","v":0},{"$f":"SUMIFS('ABT Credit Balances'!$D$9:$D$208,'ABT Credit Balances'!$B$9:$B$208,$C$198,'ABT Credit Balances'!$F$9:$F$208,AQ200,'ABT Credit Balances'!$E$9:$E$208,$AP$148,'ABT Credit Balances'!$C$9:$C$208,$B$151)","v":0},{"$f":"SUMIFS('ABT Credit Balances'!$D$9:$D$208,'ABT Credit Balances'!$B$9:$B$208,$C$198,'ABT Credit Balances'!$F$9:$F$208,AR200,'ABT Credit Balances'!$E$9:$E$208,$AP$148,'ABT Credit Balances'!$C$9:$C$208,$B$151)","v":0},{"$f":"SUMIFS('ABT Credit Balances'!$D$9:$D$208,'ABT Credit Balances'!$B$9:$B$208,$C$198,'ABT Credit Balances'!$F$9:$F$208,AS200,'ABT Credit Balances'!$E$9:$E$208,$AS$148,'ABT Credit Balances'!$C$9:$C$208,$B$151)","v":0},{"$f":"SUMIFS('ABT Credit Balances'!$D$9:$D$208,'ABT Credit Balances'!$B$9:$B$208,$C$198,'ABT Credit Balances'!$F$9:$F$208,AT200,'ABT Credit Balances'!$E$9:$E$208,$AS$148,'ABT Credit Balances'!$C$9:$C$208,$B$151)","v":0},{"$f":"SUMIFS('ABT Credit Balances'!$D$9:$D$208,'ABT Credit Balances'!$B$9:$B$208,$C$198,'ABT Credit Balances'!$F$9:$F$208,AU200,'ABT Credit Balances'!$E$9:$E$208,$AS$148,'ABT Credit Balances'!$C$9:$C$208,$B$151)","v":0}]
[null,"Applied Banked Credits (out)",{"$f":"SUMIFS('ABT Transactions'!$B$9:$B$40,'ABT Transactions'!$G$9:$G$40,$C$198,'ABT Transactions'!$F$9:$F$40,$C$148,'ABT Transactions'!$C$9:$C$40,C200,'ABT Transactions'!$D$9:$D$40,$B$152)","v":0},{"$f":"SUMIFS('ABT Transactions'!$B$9:$B$40,'ABT Transactions'!$G$9:$G$40,$C$198,'ABT Transactions'!$F$9:$F$40,$C$148,'ABT Transactions'!$C$9:$C$40,D200,'ABT Transactions'!$D$9:$D$40,$B$152)","v":0},{"$f":"SUMIFS('ABT Transactions'!$B$9:$B$40,'ABT Transactions'!$G$9:$G$40,$C$198,'ABT Transactions'!$F$9:$F$40,$C$148,'ABT Transactions'!$C$9:$C$40,E200,'ABT Transactions'!$D$9:$D$40,$B$152)","v":0},{"$f":"SUMIFS('ABT Transactions'!$B$9:$B$40,'ABT Transactions'!$G$9:$G$40,$C$198,'ABT Transactions'!$F$9:$F$40,$F$148,'ABT Transactions'!$C$9:$C$40,F200,'ABT Transactions'!$D$9:$D$40,$B$152)","v":0},{"$f":"SUMIFS('ABT Transactions'!$B$9:$B$40,'ABT Transactions'!$G$9:$G$40,$C$198,'ABT Transactions'!$F$9:$F$40,$F$148,'ABT Transactions'!$C$9:$C$40,G200,'ABT Transactions'!$D$9:$D$40,$B$152)","v":0},{"$f":"SUMIFS('ABT Transactions'!$B$9:$B$40,'ABT Transactions'!$G$9:$G$40,$C$198,'ABT Transactions'!$F$9:$F$40,$F$148,'ABT Transactions'!$C$9:$C$40,H200,'ABT Transactions'!$D$9:$D$40,$B$152)","v":0},{"$f":"SUMIFS('ABT Transactions'!$B$9:$B$40,'ABT Transactions'!$G$9:$G$40,$C$198,'ABT Transactions'!$F$9:$F$40,$I$148,'ABT Transactions'!$C$9:$C$40,I200,'ABT Transactions'!$D$9:$D$40,$B$152)","v":0},{"$f":"SUMIFS('ABT Transactions'!$B$9:$B$40,'ABT Transactions'!$G$9:$G$40,$C$198,'ABT Transactions'!$F$9:$F$40,$I$148,'ABT Transactions'!$C$9:$C$40,J200,'ABT Transactions'!$D$9:$D$40,$B$152)","v":0},{"$f":"SUMIFS('ABT Transactions'!$B$9:$B$40,'ABT Transactions'!$G$9:$G$40,$C$198,'ABT Transactions'!$F$9:$F$40,$I$148,'ABT Transactions'!$C$9:$C$40,K200,'ABT Transactions'!$D$9:$D$40,$B$152)","v":0},{"$f":"SUMIFS('ABT Transactions'!$B$9:$B$40,'ABT Transactions'!$G$9:$G$40,$C$198,'ABT Transactions'!$F$9:$F$40,$L$148,'ABT Transactions'!$C$9:$C$40,L200,'ABT Transactions'!$D$9:$D$40,$B$152)","v":0},{"$f":"SUMIFS('ABT Transactions'!$B$9:$B$40,'ABT Transactions'!$G$9:$G$40,$C$198,'ABT Transactions'!$F$9:$F$40,$L$148,'ABT Transactions'!$C$9:$C$40,M200,'ABT Transactions'!$D$9:$D$40,$B$152)","v":0},{"$f":"SUMIFS('ABT Transactions'!$B$9:$B$40,'ABT Transactions'!$G$9:$G$40,$C$198,'ABT Transactions'!$F$9:$F$40,$L$148,'ABT Transactions'!$C$9:$C$40,N200,'ABT Transactions'!$D$9:$D$40,$B$152)","v":0},{"$f":"SUMIFS('ABT Transactions'!$B$9:$B$40,'ABT Transactions'!$G$9:$G$40,$C$198,'ABT Transactions'!$F$9:$F$40,$O$148,'ABT Transactions'!$C$9:$C$40,O200,'ABT Transactions'!$D$9:$D$40,$B$152)","v":0},{"$f":"SUMIFS('ABT Transactions'!$B$9:$B$40,'ABT Transactions'!$G$9:$G$40,$C$198,'ABT Transactions'!$F$9:$F$40,$O$148,'ABT Transactions'!$C$9:$C$40,P200,'ABT Transactions'!$D$9:$D$40,$B$152)","v":0},{"$f":"SUMIFS('ABT Transactions'!$B$9:$B$40,'ABT Transactions'!$G$9:$G$40,$C$198,'ABT Transactions'!$F$9:$F$40,$O$148,'ABT Transactions'!$C$9:$C$40,Q200,'ABT Transactions'!$D$9:$D$40,$B$152)","v":0},{"$f":"SUMIFS('ABT Transactions'!$B$9:$B$40,'ABT Transactions'!$G$9:$G$40,$C$198,'ABT Transactions'!$F$9:$F$40,$R$148,'ABT Transactions'!$C$9:$C$40,R200,'ABT Transactions'!$D$9:$D$40,$B$152)","v":0},{"$f":"SUMIFS('ABT Transactions'!$B$9:$B$40,'ABT Transactions'!$G$9:$G$40,$C$198,'ABT Transactions'!$F$9:$F$40,$R$148,'ABT Transactions'!$C$9:$C$40,S200,'ABT Transactions'!$D$9:$D$40,$B$152)","v":0},{"$f":"SUMIFS('ABT Transactions'!$B$9:$B$40,'ABT Transactions'!$G$9:$G$40,$C$198,'ABT Transactions'!$F$9:$F$40,$R$148,'ABT Transactions'!$C$9:$C$40,T200,'ABT Transactions'!$D$9:$D$40,$B$152)","v":0},{"$f":"SUMIFS('ABT Transactions'!$B$9:$B$40,'ABT Transactions'!$G$9:$G$40,$C$198,'ABT Transactions'!$F$9:$F$40,$U$148,'ABT Transactions'!$C$9:$C$40,U200,'ABT Transactions'!$D$9:$D$40,$B$152)","v":0},{"$f":"SUMIFS('ABT Transactions'!$B$9:$B$40,'ABT Transactions'!$G$9:$G$40,$C$198,'ABT Transactions'!$F$9:$F$40,$U$148,'ABT Transactions'!$C$9:$C$40,V200,'ABT Transactions'!$D$9:$D$40,$B$152)","v":0},{"$f":"SUMIFS('ABT Transactions'!$B$9:$B$40,'ABT Transactions'!$G$9:$G$40,$C$198,'ABT Transactions'!$F$9:$F$40,U$148,'ABT Transactions'!$C$9:$C$40,W200,'ABT Transactions'!$D$9:$D$40,$B$152)","v":0},{"$f":"SUMIFS('ABT Transactions'!$B$9:$B$40,'ABT Transactions'!$G$9:$G$40,$C$198,'ABT Transactions'!$F$9:$F$40,$X$148,'ABT Transactions'!$C$9:$C$40,X200,'ABT Transactions'!$D$9:$D$40,$B$152)","v":0},{"$f":"SUMIFS('ABT Transactions'!$B$9:$B$40,'ABT Transactions'!$G$9:$G$40,$C$198,'ABT Transactions'!$F$9:$F$40,$X$148,'ABT Transactions'!$C$9:$C$40,Y200,'ABT Transactions'!$D$9:$D$40,$B$152)","v":0},{"$f":"SUMIFS('ABT Transactions'!$B$9:$B$40,'ABT Transactions'!$G$9:$G$40,$C$198,'ABT Transactions'!$F$9:$F$40,$X$148,'ABT Transactions'!$C$9:$C$40,Z200,'ABT Transactions'!$D$9:$D$40,$B$152)","v":0},{"$f":"SUMIFS('ABT Transactions'!$B$9:$B$40,'ABT Transactions'!$G$9:$G$40,$C$198,'ABT Transactions'!$F$9:$F$40,$AA$148,'ABT Transactions'!$C$9:$C$40,AA200,'ABT Transactions'!$D$9:$D$40,$B$152)","v":0},{"$f":"SUMIFS('ABT Transactions'!$B$9:$B$40,'ABT Transactions'!$G$9:$G$40,$C$198,'ABT Transactions'!$F$9:$F$40,$AA$148,'ABT Transactions'!$C$9:$C$40,AB200,'ABT Transactions'!$D$9:$D$40,$B$152)","v":0},{"$f":"SUMIFS('ABT Transactions'!$B$9:$B$40,'ABT Transactions'!$G$9:$G$40,$C$198,'ABT Transactions'!$F$9:$F$40,$AA$148,'ABT Transactions'!$C$9:$C$40,AC200,'ABT Transactions'!$D$9:$D$40,$B$152)","v":0},{"$f":"SUMIFS('ABT Transactions'!$B$9:$B$40,'ABT Transactions'!$G$9:$G$40,$C$198,'ABT Transactions'!$F$9:$F$40,$AD$148,'ABT Transactions'!$C$9:$C$40,AD200,'ABT Transactions'!$D$9:$D$40,$B$152)","v":0},{"$f":"SUMIFS('ABT Transactions'!$B$9:$B$40,'ABT Transactions'!$G$9:$G$40,$C$198,'ABT Transactions'!$F$9:$F$40,$AD$148,'ABT Transactions'!$C$9:$C$40,AE200,'ABT Transactions'!$D$9:$D$40,$B$152)","v":0},{"$f":"SUMIFS('ABT Transactions'!$B$9:$B$40,'ABT Transactions'!$G$9:$G$40,$C$198,'ABT Transactions'!$F$9:$F$40,$AD$148,'ABT Transactions'!$C$9:$C$40,AF200,'ABT Transactions'!$D$9:$D$40,$B$152)","v":0},{"$f":"SUMIFS('ABT Transactions'!$B$9:$B$40,'ABT Transactions'!$G$9:$G$40,$C$198,'ABT Transactions'!$F$9:$F$40,$AG$148,'ABT Transactions'!$C$9:$C$40,AG200,'ABT Transactions'!$D$9:$D$40,$B$152)","v":0},{"$f":"SUMIFS('ABT Transactions'!$B$9:$B$40,'ABT Transactions'!$G$9:$G$40,$C$198,'ABT Transactions'!$F$9:$F$40,$AG$148,'ABT Transactions'!$C$9:$C$40,AH200,'ABT Transactions'!$D$9:$D$40,$B$152)","v":0},{"$f":"SUMIFS('ABT Transactions'!$B$9:$B$40,'ABT Transactions'!$G$9:$G$40,$C$198,'ABT Transactions'!$F$9:$F$40,$AG$148,'ABT Transactions'!$C$9:$C$40,AI200,'ABT Transactions'!$D$9:$D$40,$B$152)","v":0},{"$f":"SUMIFS('ABT Transactions'!$B$9:$B$40,'ABT Transactions'!$G$9:$G$40,$C$198,'ABT Transactions'!$F$9:$F$40,$AJ$148,'ABT Transactions'!$C$9:$C$40,AJ200,'ABT Transactions'!$D$9:$D$40,$B$152)","v":0},{"$f":"SUMIFS('ABT Transactions'!$B$9:$B$40,'ABT Transactions'!$G$9:$G$40,$C$198,'ABT Transactions'!$F$9:$F$40,$AJ$148,'ABT Transactions'!$C$9:$C$40,AK200,'ABT Transactions'!$D$9:$D$40,$B$152)","v":0},{"$f":"SUMIFS('ABT Transactions'!$B$9:$B$40,'ABT Transactions'!$G$9:$G$40,$C$198,'ABT Transactions'!$F$9:$F$40,$AJ$148,'ABT Transactions'!$C$9:$C$40,AL200,'ABT Transactions'!$D$9:$D$40,$B$152)","v":0},{"$f":"SUMIFS('ABT Transactions'!$B$9:$B$40,'ABT Transactions'!$G$9:$G$40,$C$198,'ABT Transactions'!$F$9:$F$40,$AM$148,'ABT Transactions'!$C$9:$C$40,AM200,'ABT Transactions'!$D$9:$D$40,$B$152)","v":0},{"$f":"SUMIFS('ABT Transactions'!$B$9:$B$40,'ABT Transactions'!$G$9:$G$40,$C$198,'ABT Transactions'!$F$9:$F$40,$AM$148,'ABT Transactions'!$C$9:$C$40,AN200,'ABT Transactions'!$D$9:$D$40,$B$152)","v":0},{"$f":"SUMIFS('ABT Transactions'!$B$9:$B$40,'ABT Transactions'!$G$9:$G$40,$C$198,'ABT Transactions'!$F$9:$F$40,$AM$148,'ABT Transactions'!$C$9:$C$40,AO200,'ABT Transactions'!$D$9:$D$40,$B$152)","v":0},{"$f":"SUMIFS('ABT Transactions'!$B$9:$B$40,'ABT Transactions'!$G$9:$G$40,$C$198,'ABT Transactions'!$F$9:$F$40,$AP$148,'ABT Transactions'!$C$9:$C$40,AP200,'ABT Transactions'!$D$9:$D$40,$B$152)","v":0},{"$f":"SUMIFS('ABT Transactions'!$B$9:$B$40,'ABT Transactions'!$G$9:$G$40,$C$198,'ABT Transactions'!$F$9:$F$40,$AP$148,'ABT Transactions'!$C$9:$C$40,AQ200,'ABT Transactions'!$D$9:$D$40,$B$152)","v":0},{"$f":"SUMIFS('ABT Transactions'!$B$9:$B$40,'ABT Transactions'!$G$9:$G$40,$C$198,'ABT Transactions'!$F$9:$F$40,$AP$148,'ABT Transactions'!$C$9:$C$40,AR200,'ABT Transactions'!$D$9:$D$40,$B$152)","v":0},{"$f":"SUMIFS('ABT Transactions'!$B$9:$B$40,'ABT Transactions'!$G$9:$G$40,$C$198,'ABT Transactions'!$F$9:$F$40,$AS$148,'ABT Transactions'!$C$9:$C$40,AS200,'ABT Transactions'!$D$9:$D$40,$B$152)","v":0},{"$f":"SUMIFS('ABT Transactions'!$B$9:$B$40,'ABT Transactions'!$G$9:$G$40,$C$198,'ABT Transactions'!$F$9:$F$40,$AS$148,'ABT Transactions'!$C$9:$C$40,AT200,'ABT Transactions'!$D$9:$D$40,$B$152)","v":0},{"$f":"SUMIFS('ABT Transactions'!$B$9:$B$40,'ABT Transactions'!$G$9:$G$40,$C$198,'ABT Transactions'!$F$9:$F$40,$AS$148,'ABT Transactions'!$C$9:$C$40,AU200,'ABT Transactions'!$D$9:$D$40,$B$152)","v":0}]
[null,"Applied Banked Credits (in)",{"$f":"SUMIFS('ABT Transactions'!$B$9:$B$40,'ABT Transactions'!$J$9:$J$40,$C$198,'ABT Transactions'!$I$9:$I$40,$C$148,'ABT Transactions'!$C$9:$C$40,C200,'ABT Transactions'!$D$9:$D$40,$B$153)","v":0},{"$f":"SUMIFS('ABT Transactions'!$B$9:$B$40,'ABT Transactions'!$J$9:$J$40,$C$198,'ABT Transactions'!$I$9:$I$40,$C$148,'ABT Transactions'!$C$9:$C$40,D200,'ABT Transactions'!$D$9:$D$40,$B$153)","v":0},{"$f":"SUMIFS('ABT Transactions'!$B$9:$B$40,'ABT Transactions'!$J$9:$J$40,$C$198,'ABT Transactions'!$I$9:$I$40,$C$148,'ABT Transactions'!$C$9:$C$40,E200,'ABT Transactions'!$D$9:$D$40,$B$153)","v":0},{"$f":"SUMIFS('ABT Transactions'!$B$9:$B$40,'ABT Transactions'!$J$9:$J$40,$C$198,'ABT Transactions'!$I$9:$I$40,$F$148,'ABT Transactions'!$C$9:$C$40,F200,'ABT Transactions'!$D$9:$D$40,$B$153)","v":0},{"$f":"SUMIFS('ABT Transactions'!$B$9:$B$40,'ABT Transactions'!$J$9:$J$40,$C$198,'ABT Transactions'!$I$9:$I$40,$F$148,'ABT Transactions'!$C$9:$C$40,G200,'ABT Transactions'!$D$9:$D$40,$B$153)","v":0},{"$f":"SUMIFS('ABT Transactions'!$B$9:$B$40,'ABT Transactions'!$J$9:$J$40,$C$198,'ABT Transactions'!$I$9:$I$40,$F$148,'ABT Transactions'!$C$9:$C$40,H200,'ABT Transactions'!$D$9:$D$40,$B$153)","v":0},{"$f":"SUMIFS('ABT Transactions'!$B$9:$B$40,'ABT Transactions'!$J$9:$J$40,$C$198,'ABT Transactions'!$I$9:$I$40,$I$148,'ABT Transactions'!$C$9:$C$40,I200,'ABT Transactions'!$D$9:$D$40,$B$153)","v":0},{"$f":"SUMIFS('ABT Transactions'!$B$9:$B$40,'ABT Transactions'!$J$9:$J$40,$C$198,'ABT Transactions'!$I$9:$I$40,$I$148,'ABT Transactions'!$C$9:$C$40,J200,'ABT Transactions'!$D$9:$D$40,$B$153)","v":0},{"$f":"SUMIFS('ABT Transactions'!$B$9:$B$40,'ABT Transactions'!$J$9:$J$40,$C$198,'ABT Transactions'!$I$9:$I$40,$I$148,'ABT Transactions'!$C$9:$C$40,K200,'ABT Transactions'!$D$9:$D$40,$B$153)","v":0},{"$f":"SUMIFS('ABT Transactions'!$B$9:$B$40,'ABT Transactions'!$J$9:$J$40,$C$198,'ABT Transactions'!$I$9:$I$40,$L$148,'ABT Transactions'!$C$9:$C$40,L200,'ABT Transactions'!$D$9:$D$40,$B$153)","v":0},{"$f":"SUMIFS('ABT Transactions'!$B$9:$B$40,'ABT Transactions'!$J$9:$J$40,$C$198,'ABT Transactions'!$I$9:$I$40,$L$148,'ABT Transactions'!$C$9:$C$40,M200,'ABT Transactions'!$D$9:$D$40,$B$153)","v":0},{"$f":"SUMIFS('ABT Transactions'!$B$9:$B$40,'ABT Transactions'!$J$9:$J$40,$C$198,'ABT Transactions'!$I$9:$I$40,$L$148,'ABT Transactions'!$C$9:$C$40,N200,'ABT Transactions'!$D$9:$D$40,$B$153)","v":0},{"$f":"SUMIFS('ABT Transactions'!$B$9:$B$40,'ABT Transactions'!$J$9:$J$40,$C$198,'ABT Transactions'!$I$9:$I$40,$O$148,'ABT Transactions'!$C$9:$C$40,O200,'ABT Transactions'!$D$9:$D$40,$B$153)","v":0},{"$f":"SUMIFS('ABT Transactions'!$B$9:$B$40,'ABT Transactions'!$J$9:$J$40,$C$198,'ABT Transactions'!$I$9:$I$40,$O$148,'ABT Transactions'!$C$9:$C$40,P200,'ABT Transactions'!$D$9:$D$40,$B$153)","v":0},{"$f":"SUMIFS('ABT Transactions'!$B$9:$B$40,'ABT Transactions'!$J$9:$J$40,$C$198,'ABT Transactions'!$I$9:$I$40,$O$148,'ABT Transactions'!$C$9:$C$40,Q200,'ABT Transactions'!$D$9:$D$40,$B$153)","v":0},{"$f":"SUMIFS('ABT Transactions'!$B$9:$B$40,'ABT Transactions'!$J$9:$J$40,$C$198,'ABT Transactions'!$I$9:$I$40,$R$148,'ABT Transactions'!$C$9:$C$40,R200,'ABT Transactions'!$D$9:$D$40,$B$153)","v":0},{"$f":"SUMIFS('ABT Transactions'!$B$9:$B$40,'ABT Transactions'!$J$9:$J$40,$C$198,'ABT Transactions'!$I$9:$I$40,$R$148,'ABT Transactions'!$C$9:$C$40,S200,'ABT Transactions'!$D$9:$D$40,$B$153)","v":0},{"$f":"SUMIFS('ABT Transactions'!$B$9:$B$40,'ABT Transactions'!$J$9:$J$40,$C$198,'ABT Transactions'!$I$9:$I$40,$R$148,'ABT Transactions'!$C$9:$C$40,T200,'ABT Transactions'!$D$9:$D$40,$B$153)","v":0},{"$f":"SUMIFS('ABT Transactions'!$B$9:$B$40,'ABT Transactions'!$J$9:$J$40,$C$198,'ABT Transactions'!$I$9:$I$40,$U$148,'ABT Transactions'!$C$9:$C$40,U200,'ABT Transactions'!$D$9:$D$40,$B$153)","v":0},{"$f":"SUMIFS('ABT Transactions'!$B$9:$B$40,'ABT Transactions'!$J$9:$J$40,$C$198,'ABT Transactions'!$I$9:$I$40,$U$148,'ABT Transactions'!$C$9:$C$40,V200,'ABT Transactions'!$D$9:$D$40,$B$153)","v":0},{"$f":"SUMIFS('ABT Transactions'!$B$9:$B$40,'ABT Transactions'!$J$9:$J$40,$C$198,'ABT Transactions'!$I$9:$I$40,U$148,'ABT Transactions'!$C$9:$C$40,W200,'ABT Transactions'!$D$9:$D$40,$B$153)","v":0},{"$f":"SUMIFS('ABT Transactions'!$B$9:$B$40,'ABT Transactions'!$J$9:$J$40,$C$198,'ABT Transactions'!$I$9:$I$40,$X$148,'ABT Transactions'!$C$9:$C$40,X200,'ABT Transactions'!$D$9:$D$40,$B$153)","v":0},{"$f":"SUMIFS('ABT Transactions'!$B$9:$B$40,'ABT Transactions'!$J$9:$J$40,$C$198,'ABT Transactions'!$I$9:$I$40,$X$148,'ABT Transactions'!$C$9:$C$40,Y200,'ABT Transactions'!$D$9:$D$40,$B$153)","v":0},{"$f":"SUMIFS('ABT Transactions'!$B$9:$B$40,'ABT Transactions'!$J$9:$J$40,$C$198,'ABT Transactions'!$I$9:$I$40,$X$148,'ABT Transactions'!$C$9:$C$40,Z200,'ABT Transactions'!$D$9:$D$40,$B$153)","v":0},{"$f":"SUMIFS('ABT Transactions'!$B$9:$B$40,'ABT Transactions'!$J$9:$J$40,$C$198,'ABT Transactions'!$I$9:$I$40,$AA$148,'ABT Transactions'!$C$9:$C$40,AA200,'ABT Transactions'!$D$9:$D$40,$B$153)","v":0},{"$f":"SUMIFS('ABT Transactions'!$B$9:$B$40,'ABT Transactions'!$J$9:$J$40,$C$198,'ABT Transactions'!$I$9:$I$40,$AA$148,'ABT Transactions'!$C$9:$C$40,AB200,'ABT Transactions'!$D$9:$D$40,$B$153)","v":0},{"$f":"SUMIFS('ABT Transactions'!$B$9:$B$40,'ABT Transactions'!$J$9:$J$40,$C$198,'ABT Transactions'!$I$9:$I$40,$AA$148,'ABT Transactions'!$C$9:$C$40,AC200,'ABT Transactions'!$D$9:$D$40,$B$153)","v":0},{"$f":"SUMIFS('ABT Transactions'!$B$9:$B$40,'ABT Transactions'!$J$9:$J$40,$C$198,'ABT Transactions'!$I$9:$I$40,$AD$148,'ABT Transactions'!$C$9:$C$40,AD200,'ABT Transactions'!$D$9:$D$40,$B$153)","v":0},{"$f":"SUMIFS('ABT Transactions'!$B$9:$B$40,'ABT Transactions'!$J$9:$J$40,$C$198,'ABT Transactions'!$I$9:$I$40,$AD$148,'ABT Transactions'!$C$9:$C$40,AE200,'ABT Transactions'!$D$9:$D$40,$B$153)","v":0},{"$f":"SUMIFS('ABT Transactions'!$B$9:$B$40,'ABT Transactions'!$J$9:$J$40,$C$198,'ABT Transactions'!$I$9:$I$40,$AD$148,'ABT Transactions'!$C$9:$C$40,AF200,'ABT Transactions'!$D$9:$D$40,$B$153)","v":0},{"$f":"SUMIFS('ABT Transactions'!$B$9:$B$40,'ABT Transactions'!$J$9:$J$40,$C$198,'ABT Transactions'!$I$9:$I$40,$AG$148,'ABT Transactions'!$C$9:$C$40,AG200,'ABT Transactions'!$D$9:$D$40,$B$153)","v":0},{"$f":"SUMIFS('ABT Transactions'!$B$9:$B$40,'ABT Transactions'!$J$9:$J$40,$C$198,'ABT Transactions'!$I$9:$I$40,$AG$148,'ABT Transactions'!$C$9:$C$40,AH200,'ABT Transactions'!$D$9:$D$40,$B$153)","v":0},{"$f":"SUMIFS('ABT Transactions'!$B$9:$B$40,'ABT Transactions'!$J$9:$J$40,$C$198,'ABT Transactions'!$I$9:$I$40,$AG$148,'ABT Transactions'!$C$9:$C$40,AI200,'ABT Transactions'!$D$9:$D$40,$B$153)","v":0},{"$f":"SUMIFS('ABT Transactions'!$B$9:$B$40,'ABT Transactions'!$J$9:$J$40,$C$198,'ABT Transactions'!$I$9:$I$40,$AJ$148,'ABT Transactions'!$C$9:$C$40,AJ200,'ABT Transactions'!$D$9:$D$40,$B$153)","v":0},{"$f":"SUMIFS('ABT Transactions'!$B$9:$B$40,'ABT Transactions'!$J$9:$J$40,$C$198,'ABT Transactions'!$I$9:$I$40,$AJ$148,'ABT Transactions'!$C$9:$C$40,AK200,'ABT Transactions'!$D$9:$D$40,$B$153)","v":0},{"$f":"SUMIFS('ABT Transactions'!$B$9:$B$40,'ABT Transactions'!$J$9:$J$40,$C$198,'ABT Transactions'!$I$9:$I$40,$AJ$148,'ABT Transactions'!$C$9:$C$40,AL200,'ABT Transactions'!$D$9:$D$40,$B$153)","v":0},{"$f":"SUMIFS('ABT Transactions'!$B$9:$B$40,'ABT Transactions'!$J$9:$J$40,$C$198,'ABT Transactions'!$I$9:$I$40,$AM$148,'ABT Transactions'!$C$9:$C$40,AM200,'ABT Transactions'!$D$9:$D$40,$B$153)","v":0},{"$f":"SUMIFS('ABT Transactions'!$B$9:$B$40,'ABT Transactions'!$J$9:$J$40,$C$198,'ABT Transactions'!$I$9:$I$40,$AM$148,'ABT Transactions'!$C$9:$C$40,AN200,'ABT Transactions'!$D$9:$D$40,$B$153)","v":0},{"$f":"SUMIFS('ABT Transactions'!$B$9:$B$40,'ABT Transactions'!$J$9:$J$40,$C$198,'ABT Transactions'!$I$9:$I$40,$AM$148,'ABT Transactions'!$C$9:$C$40,AO200,'ABT Transactions'!$D$9:$D$40,$B$153)","v":0},{"$f":"SUMIFS('ABT Transactions'!$B$9:$B$40,'ABT Transactions'!$J$9:$J$40,$C$198,'ABT Transactions'!$I$9:$I$40,$AP$148,'ABT Transactions'!$C$9:$C$40,AP200,'ABT Transactions'!$D$9:$D$40,$B$153)","v":0},{"$f":"SUMIFS('ABT Transactions'!$B$9:$B$40,'ABT Transactions'!$J$9:$J$40,$C$198,'ABT Transactions'!$I$9:$I$40,$AP$148,'ABT Transactions'!$C$9:$C$40,AQ200,'ABT Transactions'!$D$9:$D$40,$B$153)","v":0},{"$f":"SUMIFS('ABT Transactions'!$B$9:$B$40,'ABT Transactions'!$J$9:$J$40,$C$198,'ABT Transactions'!$I$9:$I$40,$AP$148,'ABT Transactions'!$C$9:$C$40,AR200,'ABT Transactions'!$D$9:$D$40,$B$153)","v":0},{"$f":"SUMIFS('ABT Transactions'!$B$9:$B$40,'ABT Transactions'!$J$9:$J$40,$C$198,'ABT Transactions'!$I$9:$I$40,$AS$148,'ABT Transactions'!$C$9:$C$40,AS200,'ABT Transactions'!$D$9:$D$40,$B$153)","v":0},{"$f":"SUMIFS('ABT Transactions'!$B$9:$B$40,'ABT Transactions'!$J$9:$J$40,$C$198,'ABT Transactions'!$I$9:$I$40,$AS$148,'ABT Transactions'!$C$9:$C$40,AT200,'ABT Transactions'!$D$9:$D$40,$B$153)","v":0},{"$f":"SUMIFS('ABT Transactions'!$B$9:$B$40,'ABT Transactions'!$J$9:$J$40,$C$198,'ABT Transactions'!$I$9:$I$40,$AS$148,'ABT Transactions'!$C$9:$C$40,AU200,'ABT Transactions'!$D$9:$D$40,$B$153)","v":0}]
[null,"Trade Out",{"$f":"SUMIFS('ABT Transactions'!$B$9:$B$40,'ABT Transactions'!$G$9:$G$40,$C$198,'ABT Transactions'!$F$9:$F$40,$C$148,'ABT Transactions'!$C$9:$C$40,C200,'ABT Transactions'!$D$9:$D$40,$B$154)","v":0},{"$f":"SUMIFS('ABT Transactions'!$B$9:$B$40,'ABT Transactions'!$G$9:$G$40,$C$198,'ABT Transactions'!$F$9:$F$40,$C$148,'ABT Transactions'!$C$9:$C$40,D200,'ABT Transactions'!$D$9:$D$40,$B$154)","v":0},{"$f":"SUMIFS('ABT Transactions'!$B$9:$B$40,'ABT Transactions'!$G$9:$G$40,$C$198,'ABT Transactions'!$F$9:$F$40,$C$148,'ABT Transactions'!$C$9:$C$40,E200,'ABT Transactions'!$D$9:$D$40,$B$154)","v":0},{"$f":"SUMIFS('ABT Transactions'!$B$9:$B$40,'ABT Transactions'!$G$9:$G$40,$C$198,'ABT Transactions'!$F$9:$F$40,$F$148,'ABT Transactions'!$C$9:$C$40,F200,'ABT Transactions'!$D$9:$D$40,$B$154)","v":0},{"$f":"SUMIFS('ABT Transactions'!$B$9:$B$40,'ABT Transactions'!$G$9:$G$40,$C$198,'ABT Transactions'!$F$9:$F$40,$F$148,'ABT Transactions'!$C$9:$C$40,G200,'ABT Transactions'!$D$9:$D$40,$B$154)","v":0},{"$f":"SUMIFS('ABT Transactions'!$B$9:$B$40,'ABT Transactions'!$G$9:$G$40,$C$198,'ABT Transactions'!$F$9:$F$40,$F$148,'ABT Transactions'!$C$9:$C$40,H200,'ABT Transactions'!$D$9:$D$40,$B$154)","v":0},{"$f":"SUMIFS('ABT Transactions'!$B$9:$B$40,'ABT Transactions'!$G$9:$G$40,$C$198,'ABT Transactions'!$F$9:$F$40,$I$148,'ABT Transactions'!$C$9:$C$40,I200,'ABT Transactions'!$D$9:$D$40,$B$154)","v":0},{"$f":"SUMIFS('ABT Transactions'!$B$9:$B$40,'ABT Transactions'!$G$9:$G$40,$C$198,'ABT Transactions'!$F$9:$F$40,$I$148,'ABT Transactions'!$C$9:$C$40,J200,'ABT Transactions'!$D$9:$D$40,$B$154)","v":0},{"$f":"SUMIFS('ABT Transactions'!$B$9:$B$40,'ABT Transactions'!$G$9:$G$40,$C$198,'ABT Transactions'!$F$9:$F$40,$I$148,'ABT Transactions'!$C$9:$C$40,K200,'ABT Transactions'!$D$9:$D$40,$B$154)","v":0},{"$f":"SUMIFS('ABT Transactions'!$B$9:$B$40,'ABT Transactions'!$G$9:$G$40,$C$198,'ABT Transactions'!$F$9:$F$40,$L$148,'ABT Transactions'!$C$9:$C$40,L200,'ABT Transactions'!$D$9:$D$40,$B$154)","v":0},{"$f":"SUMIFS('ABT Transactions'!$B$9:$B$40,'ABT Transactions'!$G$9:$G$40,$C$198,'ABT Transactions'!$F$9:$F$40,$L$148,'ABT Transactions'!$C$9:$C$40,M200,'ABT Transactions'!$D$9:$D$40,$B$154)","v":0},{"$f":"SUMIFS('ABT Transactions'!$B$9:$B$40,'ABT Transactions'!$G$9:$G$40,$C$198,'ABT Transactions'!$F$9:$F$40,$L$148,'ABT Transactions'!$C$9:$C$40,N200,'ABT Transactions'!$D$9:$D$40,$B$154)","v":0},{"$f":"SUMIFS('ABT Transactions'!$B$9:$B$40,'ABT Transactions'!$G$9:$G$40,$C$198,'ABT Transactions'!$F$9:$F$40,$O$148,'ABT Transactions'!$C$9:$C$40,O200,'ABT Transactions'!$D$9:$D$40,$B$154)","v":0},{"$f":"SUMIFS('ABT Transactions'!$B$9:$B$40,'ABT Transactions'!$G$9:$G$40,$C$198,'ABT Transactions'!$F$9:$F$40,$O$148,'ABT Transactions'!$C$9:$C$40,P200,'ABT Transactions'!$D$9:$D$40,$B$154)","v":0},{"$f":"SUMIFS('ABT Transactions'!$B$9:$B$40,'ABT Transactions'!$G$9:$G$40,$C$198,'ABT Transactions'!$F$9:$F$40,$O$148,'ABT Transactions'!$C$9:$C$40,Q200,'ABT Transactions'!$D$9:$D$40,$B$154)","v":0},{"$f":"SUMIFS('ABT Transactions'!$B$9:$B$40,'ABT Transactions'!$G$9:$G$40,$C$198,'ABT Transactions'!$F$9:$F$40,$R$148,'ABT Transactions'!$C$9:$C$40,R200,'ABT Transactions'!$D$9:$D$40,$B$154)","v":0},{"$f":"SUMIFS('ABT Transactions'!$B$9:$B$40,'ABT Transactions'!$G$9:$G$40,$C$198,'ABT Transactions'!$F$9:$F$40,$R$148,'ABT Transactions'!$C$9:$C$40,S200,'ABT Transactions'!$D$9:$D$40,$B$154)","v":0},{"$f":"SUMIFS('ABT Transactions'!$B$9:$B$40,'ABT Transactions'!$G$9:$G$40,$C$198,'ABT Transactions'!$F$9:$F$40,$R$148,'ABT Transactions'!$C$9:$C$40,T200,'ABT Transactions'!$D$9:$D$40,$B$154)","v":0},{"$f":"SUMIFS('ABT Transactions'!$B$9:$B$40,'ABT Transactions'!$G$9:$G$40,$C$198,'ABT Transactions'!$F$9:$F$40,$U$148,'ABT Transactions'!$C$9:$C$40,U200,'ABT Transactions'!$D$9:$D$40,$B$154)","v":0},{"$f":"SUMIFS('ABT Transactions'!$B$9:$B$40,'ABT Transactions'!$G$9:$G$40,$C$198,'ABT Transactions'!$F$9:$F$40,$U$148,'ABT Transactions'!$C$9:$C$40,V200,'ABT Transactions'!$D$9:$D$40,$B$154)","v":0},{"$f":"SUMIFS('ABT Transactions'!$B$9:$B$40,'ABT Transactions'!$G$9:$G$40,$C$198,'ABT Transactions'!$F$9:$F$40,U$148,'ABT Transactions'!$C$9:$C$40,W200,'ABT Transactions'!$D$9:$D$40,$B$154)","v":0},{"$f":"SUMIFS('ABT Transactions'!$B$9:$B$40,'ABT Transactions'!$G$9:$G$40,$C$198,'ABT Transactions'!$F$9:$F$40,$X$148,'ABT Transactions'!$C$9:$C$40,X200,'ABT Transactions'!$D$9:$D$40,$B$154)","v":0},{"$f":"SUMIFS('ABT Transactions'!$B$9:$B$40,'ABT Transactions'!$G$9:$G$40,$C$198,'ABT Transactions'!$F$9:$F$40,$X$148,'ABT Transactions'!$C$9:$C$40,Y200,'ABT Transactions'!$D$9:$D$40,$B$154)","v":0},{"$f":"SUMIFS('ABT Transactions'!$B$9:$B$40,'ABT Transactions'!$G$9:$G$40,$C$198,'ABT Transactions'!$F$9:$F$40,$X$148,'ABT Transactions'!$C$9:$C$40,Z200,'ABT Transactions'!$D$9:$D$40,$B$154)","v":0},{"$f":"SUMIFS('ABT Transactions'!$B$9:$B$40,'ABT Transactions'!$G$9:$G$40,$C$198,'ABT Transactions'!$F$9:$F$40,$AA$148,'ABT Transactions'!$C$9:$C$40,AA200,'ABT Transactions'!$D$9:$D$40,$B$154)","v":0},{"$f":"SUMIFS('ABT Transactions'!$B$9:$B$40,'ABT Transactions'!$G$9:$G$40,$C$198,'ABT Transactions'!$F$9:$F$40,$AA$148,'ABT Transactions'!$C$9:$C$40,AB200,'ABT Transactions'!$D$9:$D$40,$B$154)","v":0},{"$f":"SUMIFS('ABT Transactions'!$B$9:$B$40,'ABT Transactions'!$G$9:$G$40,$C$198,'ABT Transactions'!$F$9:$F$40,$AA$148,'ABT Transactions'!$C$9:$C$40,AC200,'ABT Transactions'!$D$9:$D$40,$B$154)","v":0},{"$f":"SUMIFS('ABT Transactions'!$B$9:$B$40,'ABT Transactions'!$G$9:$G$40,$C$198,'ABT Transactions'!$F$9:$F$40,$AD$148,'ABT Transactions'!$C$9:$C$40,AD200,'ABT Transactions'!$D$9:$D$40,$B$154)","v":0},{"$f":"SUMIFS('ABT Transactions'!$B$9:$B$40,'ABT Transactions'!$G$9:$G$40,$C$198,'ABT Transactions'!$F$9:$F$40,$AD$148,'ABT Transactions'!$C$9:$C$40,AE200,'ABT Transactions'!$D$9:$D$40,$B$154)","v":0},{"$f":"SUMIFS('ABT Transactions'!$B$9:$B$40,'ABT Transactions'!$G$9:$G$40,$C$198,'ABT Transactions'!$F$9:$F$40,$AD$148,'ABT Transactions'!$C$9:$C$40,AF200,'ABT Transactions'!$D$9:$D$40,$B$154)","v":0},{"$f":"SUMIFS('ABT Transactions'!$B$9:$B$40,'ABT Transactions'!$G$9:$G$40,$C$198,'ABT Transactions'!$F$9:$F$40,$AG$148,'ABT Transactions'!$C$9:$C$40,AG200,'ABT Transactions'!$D$9:$D$40,$B$154)","v":0},{"$f":"SUMIFS('ABT Transactions'!$B$9:$B$40,'ABT Transactions'!$G$9:$G$40,$C$198,'ABT Transactions'!$F$9:$F$40,$AG$148,'ABT Transactions'!$C$9:$C$40,AH200,'ABT Transactions'!$D$9:$D$40,$B$154)","v":0},{"$f":"SUMIFS('ABT Transactions'!$B$9:$B$40,'ABT Transactions'!$G$9:$G$40,$C$198,'ABT Transactions'!$F$9:$F$40,$AG$148,'ABT Transactions'!$C$9:$C$40,AI200,'ABT Transactions'!$D$9:$D$40,$B$154)","v":0},{"$f":"SUMIFS('ABT Transactions'!$B$9:$B$40,'ABT Transactions'!$G$9:$G$40,$C$198,'ABT Transactions'!$F$9:$F$40,$AJ$148,'ABT Transactions'!$C$9:$C$40,AJ200,'ABT Transactions'!$D$9:$D$40,$B$154)","v":0},{"$f":"SUMIFS('ABT Transactions'!$B$9:$B$40,'ABT Transactions'!$G$9:$G$40,$C$198,'ABT Transactions'!$F$9:$F$40,$AJ$148,'ABT Transactions'!$C$9:$C$40,AK200,'ABT Transactions'!$D$9:$D$40,$B$154)","v":0},{"$f":"SUMIFS('ABT Transactions'!$B$9:$B$40,'ABT Transactions'!$G$9:$G$40,$C$198,'ABT Transactions'!$F$9:$F$40,$AJ$148,'ABT Transactions'!$C$9:$C$40,AL200,'ABT Transactions'!$D$9:$D$40,$B$154)","v":0},{"$f":"SUMIFS('ABT Transactions'!$B$9:$B$40,'ABT Transactions'!$G$9:$G$40,$C$198,'ABT Transactions'!$F$9:$F$40,$AM$148,'ABT Transactions'!$C$9:$C$40,AM200,'ABT Transactions'!$D$9:$D$40,$B$154)","v":0},{"$f":"SUMIFS('ABT Transactions'!$B$9:$B$40,'ABT Transactions'!$G$9:$G$40,$C$198,'ABT Transactions'!$F$9:$F$40,$AM$148,'ABT Transactions'!$C$9:$C$40,AN200,'ABT Transactions'!$D$9:$D$40,$B$154)","v":0},{"$f":"SUMIFS('ABT Transactions'!$B$9:$B$40,'ABT Transactions'!$G$9:$G$40,$C$198,'ABT Transactions'!$F$9:$F$40,$AM$148,'ABT Transactions'!$C$9:$C$40,AO200,'ABT Transactions'!$D$9:$D$40,$B$154)","v":0},{"$f":"SUMIFS('ABT Transactions'!$B$9:$B$40,'ABT Transactions'!$G$9:$G$40,$C$198,'ABT Transactions'!$F$9:$F$40,$AP$148,'ABT Transactions'!$C$9:$C$40,AP200,'ABT Transactions'!$D$9:$D$40,$B$154)","v":0},{"$f":"SUMIFS('ABT Transactions'!$B$9:$B$40,'ABT Transactions'!$G$9:$G$40,$C$198,'ABT Transactions'!$F$9:$F$40,$AP$148,'ABT Transactions'!$C$9:$C$40,AQ200,'ABT Transactions'!$D$9:$D$40,$B$154)","v":0},{"$f":"SUMIFS('ABT Transactions'!$B$9:$B$40,'ABT Transactions'!$G$9:$G$40,$C$198,'ABT Transactions'!$F$9:$F$40,$AP$148,'ABT Transactions'!$C$9:$C$40,AR200,'ABT Transactions'!$D$9:$D$40,$B$154)","v":0},{"$f":"SUMIFS('ABT Transactions'!$B$9:$B$40,'ABT Transactions'!$G$9:$G$40,$C$198,'ABT Transactions'!$F$9:$F$40,$AS$148,'ABT Transactions'!$C$9:$C$40,AS200,'ABT Transactions'!$D$9:$D$40,$B$154)","v":0},{"$f":"SUMIFS('ABT Transactions'!$B$9:$B$40,'ABT Transactions'!$G$9:$G$40,$C$198,'ABT Transactions'!$F$9:$F$40,$AS$148,'ABT Transactions'!$C$9:$C$40,AT200,'ABT Transactions'!$D$9:$D$40,$B$154)","v":0},{"$f":"SUMIFS('ABT Transactions'!$B$9:$B$40,'ABT Transactions'!$G$9:$G$40,$C$198,'ABT Transactions'!$F$9:$F$40,$AS$148,'ABT Transactions'!$C$9:$C$40,AU200,'ABT Transactions'!$D$9:$D$40,$B$154)","v":0}]
[null,"Trade In",{"$f":"SUMIFS('ABT Transactions'!$B$9:$B$40,'ABT Transactions'!$J$9:$J$40,$C$198,'ABT Transactions'!$I$9:$I$40,$C$148,'ABT Transactions'!$C$9:$C$40,C200,'ABT Transactions'!$D$9:$D$40,$B$155)","v":0},{"$f":"SUMIFS('ABT Transactions'!$B$9:$B$40,'ABT Transactions'!$J$9:$J$40,$C$198,'ABT Transactions'!$I$9:$I$40,$C$148,'ABT Transactions'!$C$9:$C$40,D200,'ABT Transactions'!$D$9:$D$40,$B$155)","v":0},{"$f":"SUMIFS('ABT Transactions'!$B$9:$B$40,'ABT Transactions'!$J$9:$J$40,$C$198,'ABT Transactions'!$I$9:$I$40,$C$148,'ABT Transactions'!$C$9:$C$40,E200,'ABT Transactions'!$D$9:$D$40,$B$155)","v":0},{"$f":"SUMIFS('ABT Transactions'!$B$9:$B$40,'ABT Transactions'!$J$9:$J$40,$C$198,'ABT Transactions'!$I$9:$I$40,$F$148,'ABT Transactions'!$C$9:$C$40,F200,'ABT Transactions'!$D$9:$D$40,$B$155)","v":0},{"$f":"SUMIFS('ABT Transactions'!$B$9:$B$40,'ABT Transactions'!$J$9:$J$40,$C$198,'ABT Transactions'!$I$9:$I$40,$F$148,'ABT Transactions'!$C$9:$C$40,G200,'ABT Transactions'!$D$9:$D$40,$B$155)","v":0},{"$f":"SUMIFS('ABT Transactions'!$B$9:$B$40,'ABT Transactions'!$J$9:$J$40,$C$198,'ABT Transactions'!$I$9:$I$40,$F$148,'ABT Transactions'!$C$9:$C$40,H200,'ABT Transactions'!$D$9:$D$40,$B$155)","v":0},{"$f":"SUMIFS('ABT Transactions'!$B$9:$B$40,'ABT Transactions'!$J$9:$J$40,$C$198,'ABT Transactions'!$I$9:$I$40,$I$148,'ABT Transactions'!$C$9:$C$40,I200,'ABT Transactions'!$D$9:$D$40,$B$155)","v":0},{"$f":"SUMIFS('ABT Transactions'!$B$9:$B$40,'ABT Transactions'!$J$9:$J$40,$C$198,'ABT Transactions'!$I$9:$I$40,$I$148,'ABT Transactions'!$C$9:$C$40,J200,'ABT Transactions'!$D$9:$D$40,$B$155)","v":0},{"$f":"SUMIFS('ABT Transactions'!$B$9:$B$40,'ABT Transactions'!$J$9:$J$40,$C$198,'ABT Transactions'!$I$9:$I$40,$I$148,'ABT Transactions'!$C$9:$C$40,K200,'ABT Transactions'!$D$9:$D$40,$B$155)","v":0},{"$f":"SUMIFS('ABT Transactions'!$B$9:$B$40,'ABT Transactions'!$J$9:$J$40,$C$198,'ABT Transactions'!$I$9:$I$40,$L$148,'ABT Transactions'!$C$9:$C$40,L200,'ABT Transactions'!$D$9:$D$40,$B$155)","v":0},{"$f":"SUMIFS('ABT Transactions'!$B$9:$B$40,'ABT Transactions'!$J$9:$J$40,$C$198,'ABT Transactions'!$I$9:$I$40,$L$148,'ABT Transactions'!$C$9:$C$40,M200,'ABT Transactions'!$D$9:$D$40,$B$155)","v":0},{"$f":"SUMIFS('ABT Transactions'!$B$9:$B$40,'ABT Transactions'!$J$9:$J$40,$C$198,'ABT Transactions'!$I$9:$I$40,$L$148,'ABT Transactions'!$C$9:$C$40,N200,'ABT Transactions'!$D$9:$D$40,$B$155)","v":0},{"$f":"SUMIFS('ABT Transactions'!$B$9:$B$40,'ABT Transactions'!$J$9:$J$40,$C$198,'ABT Transactions'!$I$9:$I$40,$O$148,'ABT Transactions'!$C$9:$C$40,O200,'ABT Transactions'!$D$9:$D$40,$B$155)","v":0},{"$f":"SUMIFS('ABT Transactions'!$B$9:$B$40,'ABT Transactions'!$J$9:$J$40,$C$198,'ABT Transactions'!$I$9:$I$40,$O$148,'ABT Transactions'!$C$9:$C$40,P200,'ABT Transactions'!$D$9:$D$40,$B$155)","v":0},{"$f":"SUMIFS('ABT Transactions'!$B$9:$B$40,'ABT Transactions'!$J$9:$J$40,$C$198,'ABT Transactions'!$I$9:$I$40,$O$148,'ABT Transactions'!$C$9:$C$40,Q200,'ABT Transactions'!$D$9:$D$40,$B$155)","v":0},{"$f":"SUMIFS('ABT Transactions'!$B$9:$B$40,'ABT Transactions'!$J$9:$J$40,$C$198,'ABT Transactions'!$I$9:$I$40,$R$148,'ABT Transactions'!$C$9:$C$40,R200,'ABT Transactions'!$D$9:$D$40,$B$155)","v":0},{"$f":"SUMIFS('ABT Transactions'!$B$9:$B$40,'ABT Transactions'!$J$9:$J$40,$C$198,'ABT Transactions'!$I$9:$I$40,$R$148,'ABT Transactions'!$C$9:$C$40,S200,'ABT Transactions'!$D$9:$D$40,$B$155)","v":0},{"$f":"SUMIFS('ABT Transactions'!$B$9:$B$40,'ABT Transactions'!$J$9:$J$40,$C$198,'ABT Transactions'!$I$9:$I$40,$R$148,'ABT Transactions'!$C$9:$C$40,T200,'ABT Transactions'!$D$9:$D$40,$B$155)","v":0},{"$f":"SUMIFS('ABT Transactions'!$B$9:$B$40,'ABT Transactions'!$J$9:$J$40,$C$198,'ABT Transactions'!$I$9:$I$40,$U$148,'ABT Transactions'!$C$9:$C$40,U200,'ABT Transactions'!$D$9:$D$40,$B$155)","v":0},{"$f":"SUMIFS('ABT Transactions'!$B$9:$B$40,'ABT Transactions'!$J$9:$J$40,$C$198,'ABT Transactions'!$I$9:$I$40,$U$148,'ABT Transactions'!$C$9:$C$40,V200,'ABT Transactions'!$D$9:$D$40,$B$155)","v":0},{"$f":"SUMIFS('ABT Transactions'!$B$9:$B$40,'ABT Transactions'!$J$9:$J$40,$C$198,'ABT Transactions'!$I$9:$I$40,U$148,'ABT Transactions'!$C$9:$C$40,W200,'ABT Transactions'!$D$9:$D$40,$B$155)","v":0},{"$f":"SUMIFS('ABT Transactions'!$B$9:$B$40,'ABT Transactions'!$J$9:$J$40,$C$198,'ABT Transactions'!$I$9:$I$40,$X$148,'ABT Transactions'!$C$9:$C$40,X200,'ABT Transactions'!$D$9:$D$40,$B$155)","v":0},{"$f":"SUMIFS('ABT Transactions'!$B$9:$B$40,'ABT Transactions'!$J$9:$J$40,$C$198,'ABT Transactions'!$I$9:$I$40,$X$148,'ABT Transactions'!$C$9:$C$40,Y200,'ABT Transactions'!$D$9:$D$40,$B$155)","v":0},{"$f":"SUMIFS('ABT Transactions'!$B$9:$B$40,'ABT Transactions'!$J$9:$J$40,$C$198,'ABT Transactions'!$I$9:$I$40,$X$148,'ABT Transactions'!$C$9:$C$40,Z200,'ABT Transactions'!$D$9:$D$40,$B$155)","v":0},{"$f":"SUMIFS('ABT Transactions'!$B$9:$B$40,'ABT Transactions'!$J$9:$J$40,$C$198,'ABT Transactions'!$I$9:$I$40,$AA$148,'ABT Transactions'!$C$9:$C$40,AA200,'ABT Transactions'!$D$9:$D$40,$B$155)","v":0},{"$f":"SUMIFS('ABT Transactions'!$B$9:$B$40,'ABT Transactions'!$J$9:$J$40,$C$198,'ABT Transactions'!$I$9:$I$40,$AA$148,'ABT Transactions'!$C$9:$C$40,AB200,'ABT Transactions'!$D$9:$D$40,$B$155)","v":0},{"$f":"SUMIFS('ABT Transactions'!$B$9:$B$40,'ABT Transactions'!$J$9:$J$40,$C$198,'ABT Transactions'!$I$9:$I$40,$AA$148,'ABT Transactions'!$C$9:$C$40,AC200,'ABT Transactions'!$D$9:$D$40,$B$155)","v":0},{"$f":"SUMIFS('ABT Transactions'!$B$9:$B$40,'ABT Transactions'!$J$9:$J$40,$C$198,'ABT Transactions'!$I$9:$I$40,$AD$148,'ABT Transactions'!$C$9:$C$40,AD200,'ABT Transactions'!$D$9:$D$40,$B$155)","v":0},{"$f":"SUMIFS('ABT Transactions'!$B$9:$B$40,'ABT Transactions'!$J$9:$J$40,$C$198,'ABT Transactions'!$I$9:$I$40,$AD$148,'ABT Transactions'!$C$9:$C$40,AE200,'ABT Transactions'!$D$9:$D$40,$B$155)","v":0},{"$f":"SUMIFS('ABT Transactions'!$B$9:$B$40,'ABT Transactions'!$J$9:$J$40,$C$198,'ABT Transactions'!$I$9:$I$40,$AD$148,'ABT Transactions'!$C$9:$C$40,AF200,'ABT Transactions'!$D$9:$D$40,$B$155)","v":0},{"$f":"SUMIFS('ABT Transactions'!$B$9:$B$40,'ABT Transactions'!$J$9:$J$40,$C$198,'ABT Transactions'!$I$9:$I$40,$AG$148,'ABT Transactions'!$C$9:$C$40,AG200,'ABT Transactions'!$D$9:$D$40,$B$155)","v":0},{"$f":"SUMIFS('ABT Transactions'!$B$9:$B$40,'ABT Transactions'!$J$9:$J$40,$C$198,'ABT Transactions'!$I$9:$I$40,$AG$148,'ABT Transactions'!$C$9:$C$40,AH200,'ABT Transactions'!$D$9:$D$40,$B$155)","v":0},{"$f":"SUMIFS('ABT Transactions'!$B$9:$B$40,'ABT Transactions'!$J$9:$J$40,$C$198,'ABT Transactions'!$I$9:$I$40,$AG$148,'ABT Transactions'!$C$9:$C$40,AI200,'ABT Transactions'!$D$9:$D$40,$B$155)","v":0},{"$f":"SUMIFS('ABT Transactions'!$B$9:$B$40,'ABT Transactions'!$J$9:$J$40,$C$198,'ABT Transactions'!$I$9:$I$40,$AJ$148,'ABT Transactions'!$C$9:$C$40,AJ200,'ABT Transactions'!$D$9:$D$40,$B$155)","v":0},{"$f":"SUMIFS('ABT Transactions'!$B$9:$B$40,'ABT Transactions'!$J$9:$J$40,$C$198,'ABT Transactions'!$I$9:$I$40,$AJ$148,'ABT Transactions'!$C$9:$C$40,AK200,'ABT Transactions'!$D$9:$D$40,$B$155)","v":0},{"$f":"SUMIFS('ABT Transactions'!$B$9:$B$40,'ABT Transactions'!$J$9:$J$40,$C$198,'ABT Transactions'!$I$9:$I$40,$AJ$148,'ABT Transactions'!$C$9:$C$40,AL200,'ABT Transactions'!$D$9:$D$40,$B$155)","v":0},{"$f":"SUMIFS('ABT Transactions'!$B$9:$B$40,'ABT Transactions'!$J$9:$J$40,$C$198,'ABT Transactions'!$I$9:$I$40,$AM$148,'ABT Transactions'!$C$9:$C$40,AM200,'ABT Transactions'!$D$9:$D$40,$B$155)","v":0},{"$f":"SUMIFS('ABT Transactions'!$B$9:$B$40,'ABT Transactions'!$J$9:$J$40,$C$198,'ABT Transactions'!$I$9:$I$40,$AM$148,'ABT Transactions'!$C$9:$C$40,AN200,'ABT Transactions'!$D$9:$D$40,$B$155)","v":0},{"$f":"SUMIFS('ABT Transactions'!$B$9:$B$40,'ABT Transactions'!$J$9:$J$40,$C$198,'ABT Transactions'!$I$9:$I$40,$AM$148,'ABT Transactions'!$C$9:$C$40,AO200,'ABT Transactions'!$D$9:$D$40,$B$155)","v":0},{"$f":"SUMIFS('ABT Transactions'!$B$9:$B$40,'ABT Transactions'!$J$9:$J$40,$C$198,'ABT Transactions'!$I$9:$I$40,$AP$148,'ABT Transactions'!$C$9:$C$40,AP200,'ABT Transactions'!$D$9:$D$40,$B$155)","v":0},{"$f":"SUMIFS('ABT Transactions'!$B$9:$B$40,'ABT Transactions'!$J$9:$J$40,$C$198,'ABT Transactions'!$I$9:$I$40,$AP$148,'ABT Transactions'!$C$9:$C$40,AQ200,'ABT Transactions'!$D$9:$D$40,$B$155)","v":0},{"$f":"SUMIFS('ABT Transactions'!$B$9:$B$40,'ABT Transactions'!$J$9:$J$40,$C$198,'ABT Transactions'!$I$9:$I$40,$AP$148,'ABT Transactions'!$C$9:$C$40,AR200,'ABT Transactions'!$D$9:$D$40,$B$155)","v":0},{"$f":"SUMIFS('ABT Transactions'!$B$9:$B$40,'ABT Transactions'!$J$9:$J$40,$C$198,'ABT Transactions'!$I$9:$I$40,$AS$148,'ABT Transactions'!$C$9:$C$40,AS200,'ABT Transactions'!$D$9:$D$40,$B$155)","v":0},{"$f":"SUMIFS('ABT Transactions'!$B$9:$B$40,'ABT Transactions'!$J$9:$J$40,$C$198,'ABT Transactions'!$I$9:$I$40,$AS$148,'ABT Transactions'!$C$9:$C$40,AT200,'ABT Transactions'!$D$9:$D$40,$B$155)","v":0},{"$f":"SUMIFS('ABT Transactions'!$B$9:$B$40,'ABT Transactions'!$J$9:$J$40,$C$198,'ABT Transactions'!$I$9:$I$40,$AS$148,'ABT Transactions'!$C$9:$C$40,AU200,'ABT Transactions'!$D$9:$D$40,$B$155)","v":0}]
[null,"Transfer ADV Credits (out)",{"$f":"SUMIFS('ABT Transactions'!$B$9:$B$40,'ABT Transactions'!$G$9:$G$40,$C$198,'ABT Transactions'!$F$9:$F$40,$C$148,'ABT Transactions'!$C$9:$C$40,C200,'ABT Transactions'!$D$9:$D$40,$B$156)","v":0},{"$f":"SUMIFS('ABT Transactions'!$B$9:$B$40,'ABT Transactions'!$G$9:$G$40,$C$198,'ABT Transactions'!$F$9:$F$40,$C$148,'ABT Transactions'!$C$9:$C$40,D200,'ABT Transactions'!$D$9:$D$40,$B$156)","v":0},{"$f":"SUMIFS('ABT Transactions'!$B$9:$B$40,'ABT Transactions'!$G$9:$G$40,$C$198,'ABT Transactions'!$F$9:$F$40,$C$148,'ABT Transactions'!$C$9:$C$40,E200,'ABT Transactions'!$D$9:$D$40,$B$156)","v":0},{"$f":"SUMIFS('ABT Transactions'!$B$9:$B$40,'ABT Transactions'!$G$9:$G$40,$C$198,'ABT Transactions'!$F$9:$F$40,$F$148,'ABT Transactions'!$C$9:$C$40,F200,'ABT Transactions'!$D$9:$D$40,$B$156)","v":0},{"$f":"SUMIFS('ABT Transactions'!$B$9:$B$40,'ABT Transactions'!$G$9:$G$40,$C$198,'ABT Transactions'!$F$9:$F$40,$F$148,'ABT Transactions'!$C$9:$C$40,G200,'ABT Transactions'!$D$9:$D$40,$B$156)","v":0},{"$f":"SUMIFS('ABT Transactions'!$B$9:$B$40,'ABT Transactions'!$G$9:$G$40,$C$198,'ABT Transactions'!$F$9:$F$40,$F$148,'ABT Transactions'!$C$9:$C$40,H200,'ABT Transactions'!$D$9:$D$40,$B$156)","v":0},{"$f":"SUMIFS('ABT Transactions'!$B$9:$B$40,'ABT Transactions'!$G$9:$G$40,$C$198,'ABT Transactions'!$F$9:$F$40,$I$148,'ABT Transactions'!$C$9:$C$40,I200,'ABT Transactions'!$D$9:$D$40,$B$156)","v":0},{"$f":"SUMIFS('ABT Transactions'!$B$9:$B$40,'ABT Transactions'!$G$9:$G$40,$C$198,'ABT Transactions'!$F$9:$F$40,$I$148,'ABT Transactions'!$C$9:$C$40,J200,'ABT Transactions'!$D$9:$D$40,$B$156)","v":0},{"$f":"SUMIFS('ABT Transactions'!$B$9:$B$40,'ABT Transactions'!$G$9:$G$40,$C$198,'ABT Transactions'!$F$9:$F$40,$I$148,'ABT Transactions'!$C$9:$C$40,K200,'ABT Transactions'!$D$9:$D$40,$B$156)","v":0},{"$f":"SUMIFS('ABT Transactions'!$B$9:$B$40,'ABT Transactions'!$G$9:$G$40,$C$198,'ABT Transactions'!$F$9:$F$40,$L$148,'ABT Transactions'!$C$9:$C$40,L200,'ABT Transactions'!$D$9:$D$40,$B$156)","v":0},{"$f":"SUMIFS('ABT Transactions'!$B$9:$B$40,'ABT Transactions'!$G$9:$G$40,$C$198,'ABT Transactions'!$F$9:$F$40,$L$148,'ABT Transactions'!$C$9:$C$40,M200,'ABT Transactions'!$D$9:$D$40,$B$156)","v":0},{"$f":"SUMIFS('ABT Transactions'!$B$9:$B$40,'ABT Transactions'!$G$9:$G$40,$C$198,'ABT Transactions'!$F$9:$F$40,$L$148,'ABT Transactions'!$C$9:$C$40,N200,'ABT Transactions'!$D$9:$D$40,$B$156)","v":0},{"$f":"SUMIFS('ABT Transactions'!$B$9:$B$40,'ABT Transactions'!$G$9:$G$40,$C$198,'ABT Transactions'!$F$9:$F$40,$O$148,'ABT Transactions'!$C$9:$C$40,O200,'ABT Transactions'!$D$9:$D$40,$B$156)","v":0},{"$f":"SUMIFS('ABT Transactions'!$B$9:$B$40,'ABT Transactions'!$G$9:$G$40,$C$198,'ABT Transactions'!$F$9:$F$40,$O$148,'ABT Transactions'!$C$9:$C$40,P200,'ABT Transactions'!$D$9:$D$40,$B$156)","v":0},{"$f":"SUMIFS('ABT Transactions'!$B$9:$B$40,'ABT Transactions'!$G$9:$G$40,$C$198,'ABT Transactions'!$F$9:$F$40,$O$148,'ABT Transactions'!$C$9:$C$40,Q200,'ABT Transactions'!$D$9:$D$40,$B$156)","v":0},{"$f":"SUMIFS('ABT Transactions'!$B$9:$B$40,'ABT Transactions'!$G$9:$G$40,$C$198,'ABT Transactions'!$F$9:$F$40,$R$148,'ABT Transactions'!$C$9:$C$40,R200,'ABT Transactions'!$D$9:$D$40,$B$156)","v":0},{"$f":"SUMIFS('ABT Transactions'!$B$9:$B$40,'ABT Transactions'!$G$9:$G$40,$C$198,'ABT Transactions'!$F$9:$F$40,$R$148,'ABT Transactions'!$C$9:$C$40,S200,'ABT Transactions'!$D$9:$D$40,$B$156)","v":0},{"$f":"SUMIFS('ABT Transactions'!$B$9:$B$40,'ABT Transactions'!$G$9:$G$40,$C$198,'ABT Transactions'!$F$9:$F$40,$R$148,'ABT Transactions'!$C$9:$C$40,T200,'ABT Transactions'!$D$9:$D$40,$B$156)","v":0},{"$f":"SUMIFS('ABT Transactions'!$B$9:$B$40,'ABT Transactions'!$G$9:$G$40,$C$198,'ABT Transactions'!$F$9:$F$40,$U$148,'ABT Transactions'!$C$9:$C$40,U200,'ABT Transactions'!$D$9:$D$40,$B$156)","v":0},{"$f":"SUMIFS('ABT Transactions'!$B$9:$B$40,'ABT Transactions'!$G$9:$G$40,$C$198,'ABT Transactions'!$F$9:$F$40,$U$148,'ABT Transactions'!$C$9:$C$40,V200,'ABT Transactions'!$D$9:$D$40,$B$156)","v":0},{"$f":"SUMIFS('ABT Transactions'!$B$9:$B$40,'ABT Transactions'!$G$9:$G$40,$C$198,'ABT Transactions'!$F$9:$F$40,U$148,'ABT Transactions'!$C$9:$C$40,W200,'ABT Transactions'!$D$9:$D$40,$B$156)","v":0},{"$f":"SUMIFS('ABT Transactions'!$B$9:$B$40,'ABT Transactions'!$G$9:$G$40,$C$198,'ABT Transactions'!$F$9:$F$40,$X$148,'ABT Transactions'!$C$9:$C$40,X200,'ABT Transactions'!$D$9:$D$40,$B$156)","v":0},{"$f":"SUMIFS('ABT Transactions'!$B$9:$B$40,'ABT Transactions'!$G$9:$G$40,$C$198,'ABT Transactions'!$F$9:$F$40,$X$148,'ABT Transactions'!$C$9:$C$40,Y200,'ABT Transactions'!$D$9:$D$40,$B$156)","v":0},{"$f":"SUMIFS('ABT Transactions'!$B$9:$B$40,'ABT Transactions'!$G$9:$G$40,$C$198,'ABT Transactions'!$F$9:$F$40,$X$148,'ABT Transactions'!$C$9:$C$40,Z200,'ABT Transactions'!$D$9:$D$40,$B$156)","v":0},{"$f":"SUMIFS('ABT Transactions'!$B$9:$B$40,'ABT Transactions'!$G$9:$G$40,$C$198,'ABT Transactions'!$F$9:$F$40,$AA$148,'ABT Transactions'!$C$9:$C$40,AA200,'ABT Transactions'!$D$9:$D$40,$B$156)","v":0},{"$f":"SUMIFS('ABT Transactions'!$B$9:$B$40,'ABT Transactions'!$G$9:$G$40,$C$198,'ABT Transactions'!$F$9:$F$40,$AA$148,'ABT Transactions'!$C$9:$C$40,AB200,'ABT Transactions'!$D$9:$D$40,$B$156)","v":0},{"$f":"SUMIFS('ABT Transactions'!$B$9:$B$40,'ABT Transactions'!$G$9:$G$40,$C$198,'ABT Transactions'!$F$9:$F$40,$AA$148,'ABT Transactions'!$C$9:$C$40,AC200,'ABT Transactions'!$D$9:$D$40,$B$156)","v":0},{"$f":"SUMIFS('ABT Transactions'!$B$9:$B$40,'ABT Transactions'!$G$9:$G$40,$C$198,'ABT Transactions'!$F$9:$F$40,$AD$148,'ABT Transactions'!$C$9:$C$40,AD200,'ABT Transactions'!$D$9:$D$40,$B$156)","v":0},{"$f":"SUMIFS('ABT Transactions'!$B$9:$B$40,'ABT Transactions'!$G$9:$G$40,$C$198,'ABT Transactions'!$F$9:$F$40,$AD$148,'ABT Transactions'!$C$9:$C$40,AE200,'ABT Transactions'!$D$9:$D$40,$B$156)","v":0},{"$f":"SUMIFS('ABT Transactions'!$B$9:$B$40,'ABT Transactions'!$G$9:$G$40,$C$198,'ABT Transactions'!$F$9:$F$40,$AD$148,'ABT Transactions'!$C$9:$C$40,AF200,'ABT Transactions'!$D$9:$D$40,$B$156)","v":0},{"$f":"SUMIFS('ABT Transactions'!$B$9:$B$40,'ABT Transactions'!$G$9:$G$40,$C$198,'ABT Transactions'!$F$9:$F$40,$AG$148,'ABT Transactions'!$C$9:$C$40,AG200,'ABT Transactions'!$D$9:$D$40,$B$156)","v":0},{"$f":"SUMIFS('ABT Transactions'!$B$9:$B$40,'ABT Transactions'!$G$9:$G$40,$C$198,'ABT Transactions'!$F$9:$F$40,$AG$148,'ABT Transactions'!$C$9:$C$40,AH200,'ABT Transactions'!$D$9:$D$40,$B$156)","v":0},{"$f":"SUMIFS('ABT Transactions'!$B$9:$B$40,'ABT Transactions'!$G$9:$G$40,$C$198,'ABT Transactions'!$F$9:$F$40,$AG$148,'ABT Transactions'!$C$9:$C$40,AI200,'ABT Transactions'!$D$9:$D$40,$B$156)","v":0},{"$f":"SUMIFS('ABT Transactions'!$B$9:$B$40,'ABT Transactions'!$G$9:$G$40,$C$198,'ABT Transactions'!$F$9:$F$40,$AJ$148,'ABT Transactions'!$C$9:$C$40,AJ200,'ABT Transactions'!$D$9:$D$40,$B$156)","v":0},{"$f":"SUMIFS('ABT Transactions'!$B$9:$B$40,'ABT Transactions'!$G$9:$G$40,$C$198,'ABT Transactions'!$F$9:$F$40,$AJ$148,'ABT Transactions'!$C$9:$C$40,AK200,'ABT Transactions'!$D$9:$D$40,$B$156)","v":0},{"$f":"SUMIFS('ABT Transactions'!$B$9:$B$40,'ABT Transactions'!$G$9:$G$40,$C$198,'ABT Transactions'!$F$9:$F$40,$AJ$148,'ABT Transactions'!$C$9:$C$40,AL200,'ABT Transactions'!$D$9:$D$40,$B$156)","v":0},{"$f":"SUMIFS('ABT Transactions'!$B$9:$B$40,'ABT Transactions'!$G$9:$G$40,$C$198,'ABT Transactions'!$F$9:$F$40,$AM$148,'ABT Transactions'!$C$9:$C$40,AM200,'ABT Transactions'!$D$9:$D$40,$B$156)","v":0},{"$f":"SUMIFS('ABT Transactions'!$B$9:$B$40,'ABT Transactions'!$G$9:$G$40,$C$198,'ABT Transactions'!$F$9:$F$40,$AM$148,'ABT Transactions'!$C$9:$C$40,AN200,'ABT Transactions'!$D$9:$D$40,$B$156)","v":0},{"$f":"SUMIFS('ABT Transactions'!$B$9:$B$40,'ABT Transactions'!$G$9:$G$40,$C$198,'ABT Transactions'!$F$9:$F$40,$AM$148,'ABT Transactions'!$C$9:$C$40,AO200,'ABT Transactions'!$D$9:$D$40,$B$156)","v":0},{"$f":"SUMIFS('ABT Transactions'!$B$9:$B$40,'ABT Transactions'!$G$9:$G$40,$C$198,'ABT Transactions'!$F$9:$F$40,$AP$148,'ABT Transactions'!$C$9:$C$40,AP200,'ABT Transactions'!$D$9:$D$40,$B$156)","v":0},{"$f":"SUMIFS('ABT Transactions'!$B$9:$B$40,'ABT Transactions'!$G$9:$G$40,$C$198,'ABT Transactions'!$F$9:$F$40,$AP$148,'ABT Transactions'!$C$9:$C$40,AQ200,'ABT Transactions'!$D$9:$D$40,$B$156)","v":0},{"$f":"SUMIFS('ABT Transactions'!$B$9:$B$40,'ABT Transactions'!$G$9:$G$40,$C$198,'ABT Transactions'!$F$9:$F$40,$AP$148,'ABT Transactions'!$C$9:$C$40,AR200,'ABT Transactions'!$D$9:$D$40,$B$156)","v":0},{"$f":"SUMIFS('ABT Transactions'!$B$9:$B$40,'ABT Transactions'!$G$9:$G$40,$C$198,'ABT Transactions'!$F$9:$F$40,$AS$148,'ABT Transactions'!$C$9:$C$40,AS200,'ABT Transactions'!$D$9:$D$40,$B$156)","v":0},{"$f":"SUMIFS('ABT Transactions'!$B$9:$B$40,'ABT Transactions'!$G$9:$G$40,$C$198,'ABT Transactions'!$F$9:$F$40,$AS$148,'ABT Transactions'!$C$9:$C$40,AT200,'ABT Transactions'!$D$9:$D$40,$B$156)","v":0},{"$f":"SUMIFS('ABT Transactions'!$B$9:$B$40,'ABT Transactions'!$G$9:$G$40,$C$198,'ABT Transactions'!$F$9:$F$40,$AS$148,'ABT Transactions'!$C$9:$C$40,AU200,'ABT Transactions'!$D$9:$D$40,$B$156)","v":0}]
[null,"Transfer ADV Credits (in)",{"$f":"SUMIFS('ABT Transactions'!$B$9:$B$40,'ABT Transactions'!$J$9:$J$40,$C$198,'ABT Transactions'!$I$9:$I$40,$C$148,'ABT Transactions'!$C$9:$C$40,C200,'ABT Transactions'!$D$9:$D$40,$B$157)","v":0},{"$f":"SUMIFS('ABT Transactions'!$B$9:$B$40,'ABT Transactions'!$J$9:$J$40,$C$198,'ABT Transactions'!$I$9:$I$40,$C$148,'ABT Transactions'!$C$9:$C$40,D200,'ABT Transactions'!$D$9:$D$40,$B$157)","v":0},{"$f":"SUMIFS('ABT Transactions'!$B$9:$B$40,'ABT Transactions'!$J$9:$J$40,$C$198,'ABT Transactions'!$I$9:$I$40,$C$148,'ABT Transactions'!$C$9:$C$40,E200,'ABT Transactions'!$D$9:$D$40,$B$157)","v":0},{"$f":"SUMIFS('ABT Transactions'!$B$9:$B$40,'ABT Transactions'!$J$9:$J$40,$C$198,'ABT Transactions'!$I$9:$I$40,$F$148,'ABT Transactions'!$C$9:$C$40,F200,'ABT Transactions'!$D$9:$D$40,$B$157)","v":0},{"$f":"SUMIFS('ABT Transactions'!$B$9:$B$40,'ABT Transactions'!$J$9:$J$40,$C$198,'ABT Transactions'!$I$9:$I$40,$F$148,'ABT Transactions'!$C$9:$C$40,G200,'ABT Transactions'!$D$9:$D$40,$B$157)","v":0},{"$f":"SUMIFS('ABT Transactions'!$B$9:$B$40,'ABT Transactions'!$J$9:$J$40,$C$198,'ABT Transactions'!$I$9:$I$40,$F$148,'ABT Transactions'!$C$9:$C$40,H200,'ABT Transactions'!$D$9:$D$40,$B$157)","v":0},{"$f":"SUMIFS('ABT Transactions'!$B$9:$B$40,'ABT Transactions'!$J$9:$J$40,$C$198,'ABT Transactions'!$I$9:$I$40,$I$148,'ABT Transactions'!$C$9:$C$40,I200,'ABT Transactions'!$D$9:$D$40,$B$157)","v":0},{"$f":"SUMIFS('ABT Transactions'!$B$9:$B$40,'ABT Transactions'!$J$9:$J$40,$C$198,'ABT Transactions'!$I$9:$I$40,$I$148,'ABT Transactions'!$C$9:$C$40,J200,'ABT Transactions'!$D$9:$D$40,$B$157)","v":0},{"$f":"SUMIFS('ABT Transactions'!$B$9:$B$40,'ABT Transactions'!$J$9:$J$40,$C$198,'ABT Transactions'!$I$9:$I$40,$I$148,'ABT Transactions'!$C$9:$C$40,K200,'ABT Transactions'!$D$9:$D$40,$B$157)","v":0},{"$f":"SUMIFS('ABT Transactions'!$B$9:$B$40,'ABT Transactions'!$J$9:$J$40,$C$198,'ABT Transactions'!$I$9:$I$40,$L$148,'ABT Transactions'!$C$9:$C$40,L200,'ABT Transactions'!$D$9:$D$40,$B$157)","v":0},{"$f":"SUMIFS('ABT Transactions'!$B$9:$B$40,'ABT Transactions'!$J$9:$J$40,$C$198,'ABT Transactions'!$I$9:$I$40,$L$148,'ABT Transactions'!$C$9:$C$40,M200,'ABT Transactions'!$D$9:$D$40,$B$157)","v":0},{"$f":"SUMIFS('ABT Transactions'!$B$9:$B$40,'ABT Transactions'!$J$9:$J$40,$C$198,'ABT Transactions'!$I$9:$I$40,$L$148,'ABT Transactions'!$C$9:$C$40,N200,'ABT Transactions'!$D$9:$D$40,$B$157)","v":0},{"$f":"SUMIFS('ABT Transactions'!$B$9:$B$40,'ABT Transactions'!$J$9:$J$40,$C$198,'ABT Transactions'!$I$9:$I$40,$O$148,'ABT Transactions'!$C$9:$C$40,O200,'ABT Transactions'!$D$9:$D$40,$B$157)","v":0},{"$f":"SUMIFS('ABT Transactions'!$B$9:$B$40,'ABT Transactions'!$J$9:$J$40,$C$198,'ABT Transactions'!$I$9:$I$40,$O$148,'ABT Transactions'!$C$9:$C$40,P200,'ABT Transactions'!$D$9:$D$40,$B$157)","v":0},{"$f":"SUMIFS('ABT Transactions'!$B$9:$B$40,'ABT Transactions'!$J$9:$J$40,$C$198,'ABT Transactions'!$I$9:$I$40,$O$148,'ABT Transactions'!$C$9:$C$40,Q200,'ABT Transactions'!$D$9:$D$40,$B$157)","v":0},{"$f":"SUMIFS('ABT Transactions'!$B$9:$B$40,'ABT Transactions'!$J$9:$J$40,$C$198,'ABT Transactions'!$I$9:$I$40,$R$148,'ABT Transactions'!$C$9:$C$40,R200,'ABT Transactions'!$D$9:$D$40,$B$157)","v":0},{"$f":"SUMIFS('ABT Transactions'!$B$9:$B$40,'ABT Transactions'!$J$9:$J$40,$C$198,'ABT Transactions'!$I$9:$I$40,$R$148,'ABT Transactions'!$C$9:$C$40,S200,'ABT Transactions'!$D$9:$D$40,$B$157)","v":0},{"$f":"SUMIFS('ABT Transactions'!$B$9:$B$40,'ABT Transactions'!$J$9:$J$40,$C$198,'ABT Transactions'!$I$9:$I$40,$R$148,'ABT Transactions'!$C$9:$C$40,T200,'ABT Transactions'!$D$9:$D$40,$B$157)","v":0},{"$f":"SUMIFS('ABT Transactions'!$B$9:$B$40,'ABT Transactions'!$J$9:$J$40,$C$198,'ABT Transactions'!$I$9:$I$40,$U$148,'ABT Transactions'!$C$9:$C$40,U200,'ABT Transactions'!$D$9:$D$40,$B$157)","v":0},{"$f":"SUMIFS('ABT Transactions'!$B$9:$B$40,'ABT Transactions'!$J$9:$J$40,$C$198,'ABT Transactions'!$I$9:$I$40,$U$148,'ABT Transactions'!$C$9:$C$40,V200,'ABT Transactions'!$D$9:$D$40,$B$157)","v":0},{"$f":"SUMIFS('ABT Transactions'!$B$9:$B$40,'ABT Transactions'!$J$9:$J$40,$C$198,'ABT Transactions'!$I$9:$I$40,U$148,'ABT Transactions'!$C$9:$C$40,W200,'ABT Transactions'!$D$9:$D$40,$B$157)","v":0},{"$f":"SUMIFS('ABT Transactions'!$B$9:$B$40,'ABT Transactions'!$J$9:$J$40,$C$198,'ABT Transactions'!$I$9:$I$40,$X$148,'ABT Transactions'!$C$9:$C$40,X200,'ABT Transactions'!$D$9:$D$40,$B$157)","v":0},{"$f":"SUMIFS('ABT Transactions'!$B$9:$B$40,'ABT Transactions'!$J$9:$J$40,$C$198,'ABT Transactions'!$I$9:$I$40,$X$148,'ABT Transactions'!$C$9:$C$40,Y200,'ABT Transactions'!$D$9:$D$40,$B$157)","v":0},{"$f":"SUMIFS('ABT Transactions'!$B$9:$B$40,'ABT Transactions'!$J$9:$J$40,$C$198,'ABT Transactions'!$I$9:$I$40,$X$148,'ABT Transactions'!$C$9:$C$40,Z200,'ABT Transactions'!$D$9:$D$40,$B$157)","v":0},{"$f":"SUMIFS('ABT Transactions'!$B$9:$B$40,'ABT Transactions'!$J$9:$J$40,$C$198,'ABT Transactions'!$I$9:$I$40,$AA$148,'ABT Transactions'!$C$9:$C$40,AA200,'ABT Transactions'!$D$9:$D$40,$B$157)","v":0},{"$f":"SUMIFS('ABT Transactions'!$B$9:$B$40,'ABT Transactions'!$J$9:$J$40,$C$198,'ABT Transactions'!$I$9:$I$40,$AA$148,'ABT Transactions'!$C$9:$C$40,AB200,'ABT Transactions'!$D$9:$D$40,$B$157)","v":0},{"$f":"SUMIFS('ABT Transactions'!$B$9:$B$40,'ABT Transactions'!$J$9:$J$40,$C$198,'ABT Transactions'!$I$9:$I$40,$AA$148,'ABT Transactions'!$C$9:$C$40,AC200,'ABT Transactions'!$D$9:$D$40,$B$157)","v":0},{"$f":"SUMIFS('ABT Transactions'!$B$9:$B$40,'ABT Transactions'!$J$9:$J$40,$C$198,'ABT Transactions'!$I$9:$I$40,$AD$148,'ABT Transactions'!$C$9:$C$40,AD200,'ABT Transactions'!$D$9:$D$40,$B$157)","v":0},{"$f":"SUMIFS('ABT Transactions'!$B$9:$B$40,'ABT Transactions'!$J$9:$J$40,$C$198,'ABT Transactions'!$I$9:$I$40,$AD$148,'ABT Transactions'!$C$9:$C$40,AE200,'ABT Transactions'!$D$9:$D$40,$B$157)","v":0},{"$f":"SUMIFS('ABT Transactions'!$B$9:$B$40,'ABT Transactions'!$J$9:$J$40,$C$198,'ABT Transactions'!$I$9:$I$40,$AD$148,'ABT Transactions'!$C$9:$C$40,AF200,'ABT Transactions'!$D$9:$D$40,$B$157)","v":0},{"$f":"SUMIFS('ABT Transactions'!$B$9:$B$40,'ABT Transactions'!$J$9:$J$40,$C$198,'ABT Transactions'!$I$9:$I$40,$AG$148,'ABT Transactions'!$C$9:$C$40,AG200,'ABT Transactions'!$D$9:$D$40,$B$157)","v":0},{"$f":"SUMIFS('ABT Transactions'!$B$9:$B$40,'ABT Transactions'!$J$9:$J$40,$C$198,'ABT Transactions'!$I$9:$I$40,$AG$148,'ABT Transactions'!$C$9:$C$40,AH200,'ABT Transactions'!$D$9:$D$40,$B$157)","v":0},{"$f":"SUMIFS('ABT Transactions'!$B$9:$B$40,'ABT Transactions'!$J$9:$J$40,$C$198,'ABT Transactions'!$I$9:$I$40,$AG$148,'ABT Transactions'!$C$9:$C$40,AI200,'ABT Transactions'!$D$9:$D$40,$B$157)","v":0},{"$f":"SUMIFS('ABT Transactions'!$B$9:$B$40,'ABT Transactions'!$J$9:$J$40,$C$198,'ABT Transactions'!$I$9:$I$40,$AJ$148,'ABT Transactions'!$C$9:$C$40,AJ200,'ABT Transactions'!$D$9:$D$40,$B$157)","v":0},{"$f":"SUMIFS('ABT Transactions'!$B$9:$B$40,'ABT Transactions'!$J$9:$J$40,$C$198,'ABT Transactions'!$I$9:$I$40,$AJ$148,'ABT Transactions'!$C$9:$C$40,AK200,'ABT Transactions'!$D$9:$D$40,$B$157)","v":0},{"$f":"SUMIFS('ABT Transactions'!$B$9:$B$40,'ABT Transactions'!$J$9:$J$40,$C$198,'ABT Transactions'!$I$9:$I$40,$AJ$148,'ABT Transactions'!$C$9:$C$40,AL200,'ABT Transactions'!$D$9:$D$40,$B$157)","v":0},{"$f":"SUMIFS('ABT Transactions'!$B$9:$B$40,'ABT Transactions'!$J$9:$J$40,$C$198,'ABT Transactions'!$I$9:$I$40,$AM$148,'ABT Transactions'!$C$9:$C$40,AM200,'ABT Transactions'!$D$9:$D$40,$B$157)","v":0},{"$f":"SUMIFS('ABT Transactions'!$B$9:$B$40,'ABT Transactions'!$J$9:$J$40,$C$198,'ABT Transactions'!$I$9:$I$40,$AM$148,'ABT Transactions'!$C$9:$C$40,AN200,'ABT Transactions'!$D$9:$D$40,$B$157)","v":0},{"$f":"SUMIFS('ABT Transactions'!$B$9:$B$40,'ABT Transactions'!$J$9:$J$40,$C$198,'ABT Transactions'!$I$9:$I$40,$AM$148,'ABT Transactions'!$C$9:$C$40,AO200,'ABT Transactions'!$D$9:$D$40,$B$157)","v":0},{"$f":"SUMIFS('ABT Transactions'!$B$9:$B$40,'ABT Transactions'!$J$9:$J$40,$C$198,'ABT Transactions'!$I$9:$I$40,$AP$148,'ABT Transactions'!$C$9:$C$40,AP200,'ABT Transactions'!$D$9:$D$40,$B$157)","v":0},{"$f":"SUMIFS('ABT Transactions'!$B$9:$B$40,'ABT Transactions'!$J$9:$J$40,$C$198,'ABT Transactions'!$I$9:$I$40,$AP$148,'ABT Transactions'!$C$9:$C$40,AQ200,'ABT Transactions'!$D$9:$D$40,$B$157)","v":0},{"$f":"SUMIFS('ABT Transactions'!$B$9:$B$40,'ABT Transactions'!$J$9:$J$40,$C$198,'ABT Transactions'!$I$9:$I$40,$AP$148,'ABT Transactions'!$C$9:$C$40,AR200,'ABT Transactions'!$D$9:$D$40,$B$157)","v":0},{"$f":"SUMIFS('ABT Transactions'!$B$9:$B$40,'ABT Transactions'!$J$9:$J$40,$C$198,'ABT Transactions'!$I$9:$I$40,$AS$148,'ABT Transactions'!$C$9:$C$40,AS200,'ABT Transactions'!$D$9:$D$40,$B$157)","v":0},{"$f":"SUMIFS('ABT Transactions'!$B$9:$B$40,'ABT Transactions'!$J$9:$J$40,$C$198,'ABT Transactions'!$I$9:$I$40,$AS$148,'ABT Transactions'!$C$9:$C$40,AT200,'ABT Transactions'!$D$9:$D$40,$B$157)","v":0},{"$f":"SUMIFS('ABT Transactions'!$B$9:$B$40,'ABT Transactions'!$J$9:$J$40,$C$198,'ABT Transactions'!$I$9:$I$40,$AS$148,'ABT Transactions'!$C$9:$C$40,AU200,'ABT Transactions'!$D$9:$D$40,$B$157)","v":0}]
[null,"Retired Credits",{"$f":"SUMIFS('ABT Transactions'!$B$9:$B$40,'ABT Transactions'!$G$9:$G$40,$C$198,'ABT Transactions'!$F$9:$F$40,$C$148,'ABT Transactions'!$C$9:$C$40,C200,'ABT Transactions'!$D$9:$D$40,$B$158)","v":0},{"$f":"SUMIFS('ABT Transactions'!$B$9:$B$40,'ABT Transactions'!$G$9:$G$40,$C$198,'ABT Transactions'!$F$9:$F$40,$C$148,'ABT Transactions'!$C$9:$C$40,D200,'ABT Transactions'!$D$9:$D$40,$B$158)","v":0},{"$f":"SUMIFS('ABT Transactions'!$B$9:$B$40,'ABT Transactions'!$G$9:$G$40,$C$198,'ABT Transactions'!$F$9:$F$40,$C$148,'ABT Transactions'!$C$9:$C$40,E200,'ABT Transactions'!$D$9:$D$40,$B$158)","v":0},{"$f":"SUMIFS('ABT Transactions'!$B$9:$B$40,'ABT Transactions'!$G$9:$G$40,$C$198,'ABT Transactions'!$F$9:$F$40,$F$148,'ABT Transactions'!$C$9:$C$40,F200,'ABT Transactions'!$D$9:$D$40,$B$158)","v":0},{"$f":"SUMIFS('ABT Transactions'!$B$9:$B$40,'ABT Transactions'!$G$9:$G$40,$C$198,'ABT Transactions'!$F$9:$F$40,$F$148,'ABT Transactions'!$C$9:$C$40,G200,'ABT Transactions'!$D$9:$D$40,$B$158)","v":0},{"$f":"SUMIFS('ABT Transactions'!$B$9:$B$40,'ABT Transactions'!$G$9:$G$40,$C$198,'ABT Transactions'!$F$9:$F$40,$F$148,'ABT Transactions'!$C$9:$C$40,H200,'ABT Transactions'!$D$9:$D$40,$B$158)","v":0},{"$f":"SUMIFS('ABT Transactions'!$B$9:$B$40,'ABT Transactions'!$G$9:$G$40,$C$198,'ABT Transactions'!$F$9:$F$40,$I$148,'ABT Transactions'!$C$9:$C$40,I200,'ABT Transactions'!$D$9:$D$40,$B$158)","v":0},{"$f":"SUMIFS('ABT Transactions'!$B$9:$B$40,'ABT Transactions'!$G$9:$G$40,$C$198,'ABT Transactions'!$F$9:$F$40,$I$148,'ABT Transactions'!$C$9:$C$40,J200,'ABT Transactions'!$D$9:$D$40,$B$158)","v":0},{"$f":"SUMIFS('ABT Transactions'!$B$9:$B$40,'ABT Transactions'!$G$9:$G$40,$C$198,'ABT Transactions'!$F$9:$F$40,$I$148,'ABT Transactions'!$C$9:$C$40,K200,'ABT Transactions'!$D$9:$D$40,$B$158)","v":0},{"$f":"SUMIFS('ABT Transactions'!$B$9:$B$40,'ABT Transactions'!$G$9:$G$40,$C$198,'ABT Transactions'!$F$9:$F$40,$L$148,'ABT Transactions'!$C$9:$C$40,L200,'ABT Transactions'!$D$9:$D$40,$B$158)","v":0},{"$f":"SUMIFS('ABT Transactions'!$B$9:$B$40,'ABT Transactions'!$G$9:$G$40,$C$198,'ABT Transactions'!$F$9:$F$40,$L$148,'ABT Transactions'!$C$9:$C$40,M200,'ABT Transactions'!$D$9:$D$40,$B$158)","v":0},{"$f":"SUMIFS('ABT Transactions'!$B$9:$B$40,'ABT Transactions'!$G$9:$G$40,$C$198,'ABT Transactions'!$F$9:$F$40,$L$148,'ABT Transactions'!$C$9:$C$40,N200,'ABT Transactions'!$D$9:$D$40,$B$158)","v":0},{"$f":"SUMIFS('ABT Transactions'!$B$9:$B$40,'ABT Transactions'!$G$9:$G$40,$C$198,'ABT Transactions'!$F$9:$F$40,$O$148,'ABT Transactions'!$C$9:$C$40,O200,'ABT Transactions'!$D$9:$D$40,$B$158)","v":0},{"$f":"SUMIFS('ABT Transactions'!$B$9:$B$40,'ABT Transactions'!$G$9:$G$40,$C$198,'ABT Transactions'!$F$9:$F$40,$O$148,'ABT Transactions'!$C$9:$C$40,P200,'ABT Transactions'!$D$9:$D$40,$B$158)","v":0},{"$f":"SUMIFS('ABT Transactions'!$B$9:$B$40,'ABT Transactions'!$G$9:$G$40,$C$198,'ABT Transactions'!$F$9:$F$40,$O$148,'ABT Transactions'!$C$9:$C$40,Q200,'ABT Transactions'!$D$9:$D$40,$B$158)","v":0},{"$f":"SUMIFS('ABT Transactions'!$B$9:$B$40,'ABT Transactions'!$G$9:$G$40,$C$198,'ABT Transactions'!$F$9:$F$40,$R$148,'ABT Transactions'!$C$9:$C$40,R200,'ABT Transactions'!$D$9:$D$40,$B$158)","v":0},{"$f":"SUMIFS('ABT Transactions'!$B$9:$B$40,'ABT Transactions'!$G$9:$G$40,$C$198,'ABT Transactions'!$F$9:$F$40,$R$148,'ABT Transactions'!$C$9:$C$40,S200,'ABT Transactions'!$D$9:$D$40,$B$158)","v":0},{"$f":"SUMIFS('ABT Transactions'!$B$9:$B$40,'ABT Transactions'!$G$9:$G$40,$C$198,'ABT Transactions'!$F$9:$F$40,$R$148,'ABT Transactions'!$C$9:$C$40,T200,'ABT Transactions'!$D$9:$D$40,$B$158)","v":0},{"$f":"SUMIFS('ABT Transactions'!$B$9:$B$40,'ABT Transactions'!$G$9:$G$40,$C$198,'ABT Transactions'!$F$9:$F$40,$U$148,'ABT Transactions'!$C$9:$C$40,U200,'ABT Transactions'!$D$9:$D$40,$B$158)","v":0},{"$f":"SUMIFS('ABT Transactions'!$B$9:$B$40,'ABT Transactions'!$G$9:$G$40,$C$198,'ABT Transactions'!$F$9:$F$40,$U$148,'ABT Transactions'!$C$9:$C$40,V200,'ABT Transactions'!$D$9:$D$40,$B$158)","v":0},{"$f":"SUMIFS('ABT Transactions'!$B$9:$B$40,'ABT Transactions'!$G$9:$G$40,$C$198,'ABT Transactions'!$F$9:$F$40,U$148,'ABT Transactions'!$C$9:$C$40,W200,'ABT Transactions'!$D$9:$D$40,$B$158)","v":0},{"$f":"SUMIFS('ABT Transactions'!$B$9:$B$40,'ABT Transactions'!$G$9:$G$40,$C$198,'ABT Transactions'!$F$9:$F$40,$X$148,'ABT Transactions'!$C$9:$C$40,X200,'ABT Transactions'!$D$9:$D$40,$B$158)","v":0},{"$f":"SUMIFS('ABT Transactions'!$B$9:$B$40,'ABT Transactions'!$G$9:$G$40,$C$198,'ABT Transactions'!$F$9:$F$40,$X$148,'ABT Transactions'!$C$9:$C$40,Y200,'ABT Transactions'!$D$9:$D$40,$B$158)","v":0},{"$f":"SUMIFS('ABT Transactions'!$B$9:$B$40,'ABT Transactions'!$G$9:$G$40,$C$198,'ABT Transactions'!$F$9:$F$40,$X$148,'ABT Transactions'!$C$9:$C$40,Z200,'ABT Transactions'!$D$9:$D$40,$B$158)","v":0},{"$f":"SUMIFS('ABT Transactions'!$B$9:$B$40,'ABT Transactions'!$G$9:$G$40,$C$198,'ABT Transactions'!$F$9:$F$40,$AA$148,'ABT Transactions'!$C$9:$C$40,AA200,'ABT Transactions'!$D$9:$D$40,$B$158)","v":0},{"$f":"SUMIFS('ABT Transactions'!$B$9:$B$40,'ABT Transactions'!$G$9:$G$40,$C$198,'ABT Transactions'!$F$9:$F$40,$AA$148,'ABT Transactions'!$C$9:$C$40,AB200,'ABT Transactions'!$D$9:$D$40,$B$158)","v":0},{"$f":"SUMIFS('ABT Transactions'!$B$9:$B$40,'ABT Transactions'!$G$9:$G$40,$C$198,'ABT Transactions'!$F$9:$F$40,$AA$148,'ABT Transactions'!$C$9:$C$40,AC200,'ABT Transactions'!$D$9:$D$40,$B$158)","v":0},{"$f":"SUMIFS('ABT Transactions'!$B$9:$B$40,'ABT Transactions'!$G$9:$G$40,$C$198,'ABT Transactions'!$F$9:$F$40,$AD$148,'ABT Transactions'!$C$9:$C$40,AD200,'ABT Transactions'!$D$9:$D$40,$B$158)","v":0},{"$f":"SUMIFS('ABT Transactions'!$B$9:$B$40,'ABT Transactions'!$G$9:$G$40,$C$198,'ABT Transactions'!$F$9:$F$40,$AD$148,'ABT Transactions'!$C$9:$C$40,AE200,'ABT Transactions'!$D$9:$D$40,$B$158)","v":0},{"$f":"SUMIFS('ABT Transactions'!$B$9:$B$40,'ABT Transactions'!$G$9:$G$40,$C$198,'ABT Transactions'!$F$9:$F$40,$AD$148,'ABT Transactions'!$C$9:$C$40,AF200,'ABT Transactions'!$D$9:$D$40,$B$158)","v":0},{"$f":"SUMIFS('ABT Transactions'!$B$9:$B$40,'ABT Transactions'!$G$9:$G$40,$C$198,'ABT Transactions'!$F$9:$F$40,$AG$148,'ABT Transactions'!$C$9:$C$40,AG200,'ABT Transactions'!$D$9:$D$40,$B$158)","v":0},{"$f":"SUMIFS('ABT Transactions'!$B$9:$B$40,'ABT Transactions'!$G$9:$G$40,$C$198,'ABT Transactions'!$F$9:$F$40,$AG$148,'ABT Transactions'!$C$9:$C$40,AH200,'ABT Transactions'!$D$9:$D$40,$B$158)","v":0},{"$f":"SUMIFS('ABT Transactions'!$B$9:$B$40,'ABT Transactions'!$G$9:$G$40,$C$198,'ABT Transactions'!$F$9:$F$40,$AG$148,'ABT Transactions'!$C$9:$C$40,AI200,'ABT Transactions'!$D$9:$D$40,$B$158)","v":0},{"$f":"SUMIFS('ABT Transactions'!$B$9:$B$40,'ABT Transactions'!$G$9:$G$40,$C$198,'ABT Transactions'!$F$9:$F$40,$AJ$148,'ABT Transactions'!$C$9:$C$40,AJ200,'ABT Transactions'!$D$9:$D$40,$B$158)","v":0},{"$f":"SUMIFS('ABT Transactions'!$B$9:$B$40,'ABT Transactions'!$G$9:$G$40,$C$198,'ABT Transactions'!$F$9:$F$40,$AJ$148,'ABT Transactions'!$C$9:$C$40,AK200,'ABT Transactions'!$D$9:$D$40,$B$158)","v":0},{"$f":"SUMIFS('ABT Transactions'!$B$9:$B$40,'ABT Transactions'!$G$9:$G$40,$C$198,'ABT Transactions'!$F$9:$F$40,$AJ$148,'ABT Transactions'!$C$9:$C$40,AL200,'ABT Transactions'!$D$9:$D$40,$B$158)","v":0},{"$f":"SUMIFS('ABT Transactions'!$B$9:$B$40,'ABT Transactions'!$G$9:$G$40,$C$198,'ABT Transactions'!$F$9:$F$40,$AM$148,'ABT Transactions'!$C$9:$C$40,AM200,'ABT Transactions'!$D$9:$D$40,$B$158)","v":0},{"$f":"SUMIFS('ABT Transactions'!$B$9:$B$40,'ABT Transactions'!$G$9:$G$40,$C$198,'ABT Transactions'!$F$9:$F$40,$AM$148,'ABT Transactions'!$C$9:$C$40,AN200,'ABT Transactions'!$D$9:$D$40,$B$158)","v":0},{"$f":"SUMIFS('ABT Transactions'!$B$9:$B$40,'ABT Transactions'!$G$9:$G$40,$C$198,'ABT Transactions'!$F$9:$F$40,$AM$148,'ABT Transactions'!$C$9:$C$40,AO200,'ABT Transactions'!$D$9:$D$40,$B$158)","v":0},{"$f":"SUMIFS('ABT Transactions'!$B$9:$B$40,'ABT Transactions'!$G$9:$G$40,$C$198,'ABT Transactions'!$F$9:$F$40,$AP$148,'ABT Transactions'!$C$9:$C$40,AP200,'ABT Transactions'!$D$9:$D$40,$B$158)","v":0},{"$f":"SUMIFS('ABT Transactions'!$B$9:$B$40,'ABT Transactions'!$G$9:$G$40,$C$198,'ABT Transactions'!$F$9:$F$40,$AP$148,'ABT Transactions'!$C$9:$C$40,AQ200,'ABT Transactions'!$D$9:$D$40,$B$158)","v":0},{"$f":"SUMIFS('ABT Transactions'!$B$9:$B$40,'ABT Transactions'!$G$9:$G$40,$C$198,'ABT Transactions'!$F$9:$F$40,$AP$148,'ABT Transactions'!$C$9:$C$40,AR200,'ABT Transactions'!$D$9:$D$40,$B$158)","v":0},{"$f":"SUMIFS('ABT Transactions'!$B$9:$B$40,'ABT Transactions'!$G$9:$G$40,$C$198,'ABT Transactions'!$F$9:$F$40,$AS$148,'ABT Transactions'!$C$9:$C$40,AS200,'ABT Transactions'!$D$9:$D$40,$B$158)","v":0},{"$f":"SUMIFS('ABT Transactions'!$B$9:$B$40,'ABT Transactions'!$G$9:$G$40,$C$198,'ABT Transactions'!$F$9:$F$40,$AS$148,'ABT Transactions'!$C$9:$C$40,AT200,'ABT Transactions'!$D$9:$D$40,$B$158)","v":0},{"$f":"SUMIFS('ABT Transactions'!$B$9:$B$40,'ABT Transactions'!$G$9:$G$40,$C$198,'ABT Transactions'!$F$9:$F$40,$AS$148,'ABT Transactions'!$C$9:$C$40,AU200,'ABT Transactions'!$D$9:$D$40,$B$158)","v":0}]
[null,"Expired Credits",{"$f":"SUMIFS('ABT Transactions'!$B$9:$B$40,'ABT Transactions'!$G$9:$G$40,$C$198,'ABT Transactions'!$F$9:$F$40,$C$148,'ABT Transactions'!$C$9:$C$40,C200,'ABT Transactions'!$D$9:$D$40,$B$159)","v":0},{"$f":"SUMIFS('ABT Transactions'!$B$9:$B$40,'ABT Transactions'!$G$9:$G$40,$C$198,'ABT Transactions'!$F$9:$F$40,$C$148,'ABT Transactions'!$C$9:$C$40,D200,'ABT Transactions'!$D$9:$D$40,$B$159)","v":0},{"$f":"SUMIFS('ABT Transactions'!$B$9:$B$40,'ABT Transactions'!$G$9:$G$40,$C$198,'ABT Transactions'!$F$9:$F$40,$C$148,'ABT Transactions'!$C$9:$C$40,E200,'ABT Transactions'!$D$9:$D$40,$B$159)","v":0},{"$f":"SUMIFS('ABT Transactions'!$B$9:$B$40,'ABT Transactions'!$G$9:$G$40,$C$198,'ABT Transactions'!$F$9:$F$40,$F$148,'ABT Transactions'!$C$9:$C$40,F200,'ABT Transactions'!$D$9:$D$40,$B$159)","v":0},{"$f":"SUMIFS('ABT Transactions'!$B$9:$B$40,'ABT Transactions'!$G$9:$G$40,$C$198,'ABT Transactions'!$F$9:$F$40,$F$148,'ABT Transactions'!$C$9:$C$40,G200,'ABT Transactions'!$D$9:$D$40,$B$159)","v":0},{"$f":"SUMIFS('ABT Transactions'!$B$9:$B$40,'ABT Transactions'!$G$9:$G$40,$C$198,'ABT Transactions'!$F$9:$F$40,$F$148,'ABT Transactions'!$C$9:$C$40,H200,'ABT Transactions'!$D$9:$D$40,$B$159)","v":0},{"$f":"SUMIFS('ABT Transactions'!$B$9:$B$40,'ABT Transactions'!$G$9:$G$40,$C$198,'ABT Transactions'!$F$9:$F$40,$I$148,'ABT Transactions'!$C$9:$C$40,I200,'ABT Transactions'!$D$9:$D$40,$B$159)","v":0},{"$f":"SUMIFS('ABT Transactions'!$B$9:$B$40,'ABT Transactions'!$G$9:$G$40,$C$198,'ABT Transactions'!$F$9:$F$40,$I$148,'ABT Transactions'!$C$9:$C$40,J200,'ABT Transactions'!$D$9:$D$40,$B$159)","v":0},{"$f":"SUMIFS('ABT Transactions'!$B$9:$B$40,'ABT Transactions'!$G$9:$G$40,$C$198,'ABT Transactions'!$F$9:$F$40,$I$148,'ABT Transactions'!$C$9:$C$40,K200,'ABT Transactions'!$D$9:$D$40,$B$159)","v":0},{"$f":"SUMIFS('ABT Transactions'!$B$9:$B$40,'ABT Transactions'!$G$9:$G$40,$C$198,'ABT Transactions'!$F$9:$F$40,$L$148,'ABT Transactions'!$C$9:$C$40,L200,'ABT Transactions'!$D$9:$D$40,$B$159)","v":0},{"$f":"SUMIFS('ABT Transactions'!$B$9:$B$40,'ABT Transactions'!$G$9:$G$40,$C$198,'ABT Transactions'!$F$9:$F$40,$L$148,'ABT Transactions'!$C$9:$C$40,M200,'ABT Transactions'!$D$9:$D$40,$B$159)","v":0},{"$f":"SUMIFS('ABT Transactions'!$B$9:$B$40,'ABT Transactions'!$G$9:$G$40,$C$198,'ABT Transactions'!$F$9:$F$40,$L$148,'ABT Transactions'!$C$9:$C$40,N200,'ABT Transactions'!$D$9:$D$40,$B$159)","v":0},{"$f":"SUMIFS('ABT Transactions'!$B$9:$B$40,'ABT Transactions'!$G$9:$G$40,$C$198,'ABT Transactions'!$F$9:$F$40,$O$148,'ABT Transactions'!$C$9:$C$40,O200,'ABT Transactions'!$D$9:$D$40,$B$159)","v":0},{"$f":"SUMIFS('ABT Transactions'!$B$9:$B$40,'ABT Transactions'!$G$9:$G$40,$C$198,'ABT Transactions'!$F$9:$F$40,$O$148,'ABT Transactions'!$C$9:$C$40,P200,'ABT Transactions'!$D$9:$D$40,$B$159)","v":0},{"$f":"SUMIFS('ABT Transactions'!$B$9:$B$40,'ABT Transactions'!$G$9:$G$40,$C$198,'ABT Transactions'!$F$9:$F$40,$O$148,'ABT Transactions'!$C$9:$C$40,Q200,'ABT Transactions'!$D$9:$D$40,$B$159)","v":0},{"$f":"SUMIFS('ABT Transactions'!$B$9:$B$40,'ABT Transactions'!$G$9:$G$40,$C$198,'ABT Transactions'!$F$9:$F$40,$R$148,'ABT Transactions'!$C$9:$C$40,R200,'ABT Transactions'!$D$9:$D$40,$B$159)","v":0},{"$f":"SUMIFS('ABT Transactions'!$B$9:$B$40,'ABT Transactions'!$G$9:$G$40,$C$198,'ABT Transactions'!$F$9:$F$40,$R$148,'ABT Transactions'!$C$9:$C$40,S200,'ABT Transactions'!$D$9:$D$40,$B$159)","v":0},{"$f":"SUMIFS('ABT Transactions'!$B$9:$B$40,'ABT Transactions'!$G$9:$G$40,$C$198,'ABT Transactions'!$F$9:$F$40,$R$148,'ABT Transactions'!$C$9:$C$40,T200,'ABT Transactions'!$D$9:$D$40,$B$159)","v":0},{"$f":"SUMIFS('ABT Transactions'!$B$9:$B$40,'ABT Transactions'!$G$9:$G$40,$C$198,'ABT Transactions'!$F$9:$F$40,$U$148,'ABT Transactions'!$C$9:$C$40,U200,'ABT Transactions'!$D$9:$D$40,$B$159)","v":0},{"$f":"SUMIFS('ABT Transactions'!$B$9:$B$40,'ABT Transactions'!$G$9:$G$40,$C$198,'ABT Transactions'!$F$9:$F$40,$U$148,'ABT Transactions'!$C$9:$C$40,V200,'ABT Transactions'!$D$9:$D$40,$B$159)","v":0},{"$f":"SUMIFS('ABT Transactions'!$B$9:$B$40,'ABT Transactions'!$G$9:$G$40,$C$198,'ABT Transactions'!$F$9:$F$40,U$148,'ABT Transactions'!$C$9:$C$40,W200,'ABT Transactions'!$D$9:$D$40,$B$159)","v":0},{"$f":"SUMIFS('ABT Transactions'!$B$9:$B$40,'ABT Transactions'!$G$9:$G$40,$C$198,'ABT Transactions'!$F$9:$F$40,$X$148,'ABT Transactions'!$C$9:$C$40,X200,'ABT Transactions'!$D$9:$D$40,$B$159)","v":0},{"$f":"SUMIFS('ABT Transactions'!$B$9:$B$40,'ABT Transactions'!$G$9:$G$40,$C$198,'ABT Transactions'!$F$9:$F$40,$X$148,'ABT Transactions'!$C$9:$C$40,Y200,'ABT Transactions'!$D$9:$D$40,$B$159)","v":0},{"$f":"SUMIFS('ABT Transactions'!$B$9:$B$40,'ABT Transactions'!$G$9:$G$40,$C$198,'ABT Transactions'!$F$9:$F$40,$X$148,'ABT Transactions'!$C$9:$C$40,Z200,'ABT Transactions'!$D$9:$D$40,$B$159)","v":0},{"$f":"SUMIFS('ABT Transactions'!$B$9:$B$40,'ABT Transactions'!$G$9:$G$40,$C$198,'ABT Transactions'!$F$9:$F$40,$AA$148,'ABT Transactions'!$C$9:$C$40,AA200,'ABT Transactions'!$D$9:$D$40,$B$159)","v":0},{"$f":"SUMIFS('ABT Transactions'!$B$9:$B$40,'ABT Transactions'!$G$9:$G$40,$C$198,'ABT Transactions'!$F$9:$F$40,$AA$148,'ABT Transactions'!$C$9:$C$40,AB200,'ABT Transactions'!$D$9:$D$40,$B$159)","v":0},{"$f":"SUMIFS('ABT Transactions'!$B$9:$B$40,'ABT Transactions'!$G$9:$G$40,$C$198,'ABT Transactions'!$F$9:$F$40,$AA$148,'ABT Transactions'!$C$9:$C$40,AC200,'ABT Transactions'!$D$9:$D$40,$B$159)","v":0},{"$f":"SUMIFS('ABT Transactions'!$B$9:$B$40,'ABT Transactions'!$G$9:$G$40,$C$198,'ABT Transactions'!$F$9:$F$40,$AD$148,'ABT Transactions'!$C$9:$C$40,AD200,'ABT Transactions'!$D$9:$D$40,$B$159)","v":0},{"$f":"SUMIFS('ABT Transactions'!$B$9:$B$40,'ABT Transactions'!$G$9:$G$40,$C$198,'ABT Transactions'!$F$9:$F$40,$AD$148,'ABT Transactions'!$C$9:$C$40,AE200,'ABT Transactions'!$D$9:$D$40,$B$159)","v":0},{"$f":"SUMIFS('ABT Transactions'!$B$9:$B$40,'ABT Transactions'!$G$9:$G$40,$C$198,'ABT Transactions'!$F$9:$F$40,$AD$148,'ABT Transactions'!$C$9:$C$40,AF200,'ABT Transactions'!$D$9:$D$40,$B$159)","v":0},{"$f":"SUMIFS('ABT Transactions'!$B$9:$B$40,'ABT Transactions'!$G$9:$G$40,$C$198,'ABT Transactions'!$F$9:$F$40,$AG$148,'ABT Transactions'!$C$9:$C$40,AG200,'ABT Transactions'!$D$9:$D$40,$B$159)","v":0},{"$f":"SUMIFS('ABT Transactions'!$B$9:$B$40,'ABT Transactions'!$G$9:$G$40,$C$198,'ABT Transactions'!$F$9:$F$40,$AG$148,'ABT Transactions'!$C$9:$C$40,AH200,'ABT Transactions'!$D$9:$D$40,$B$159)","v":0},{"$f":"SUMIFS('ABT Transactions'!$B$9:$B$40,'ABT Transactions'!$G$9:$G$40,$C$198,'ABT Transactions'!$F$9:$F$40,$AG$148,'ABT Transactions'!$C$9:$C$40,AI200,'ABT Transactions'!$D$9:$D$40,$B$159)","v":0},{"$f":"SUMIFS('ABT Transactions'!$B$9:$B$40,'ABT Transactions'!$G$9:$G$40,$C$198,'ABT Transactions'!$F$9:$F$40,$AJ$148,'ABT Transactions'!$C$9:$C$40,AJ200,'ABT Transactions'!$D$9:$D$40,$B$159)","v":0},{"$f":"SUMIFS('ABT Transactions'!$B$9:$B$40,'ABT Transactions'!$G$9:$G$40,$C$198,'ABT Transactions'!$F$9:$F$40,$AJ$148,'ABT Transactions'!$C$9:$C$40,AK200,'ABT Transactions'!$D$9:$D$40,$B$159)","v":0},{"$f":"SUMIFS('ABT Transactions'!$B$9:$B$40,'ABT Transactions'!$G$9:$G$40,$C$198,'ABT Transactions'!$F$9:$F$40,$AJ$148,'ABT Transactions'!$C$9:$C$40,AL200,'ABT Transactions'!$D$9:$D$40,$B$159)","v":0},{"$f":"SUMIFS('ABT Transactions'!$B$9:$B$40,'ABT Transactions'!$G$9:$G$40,$C$198,'ABT Transactions'!$F$9:$F$40,$AM$148,'ABT Transactions'!$C$9:$C$40,AM200,'ABT Transactions'!$D$9:$D$40,$B$159)","v":0},{"$f":"SUMIFS('ABT Transactions'!$B$9:$B$40,'ABT Transactions'!$G$9:$G$40,$C$198,'ABT Transactions'!$F$9:$F$40,$AM$148,'ABT Transactions'!$C$9:$C$40,AN200,'ABT Transactions'!$D$9:$D$40,$B$159)","v":0},{"$f":"SUMIFS('ABT Transactions'!$B$9:$B$40,'ABT Transactions'!$G$9:$G$40,$C$198,'ABT Transactions'!$F$9:$F$40,$AM$148,'ABT Transactions'!$C$9:$C$40,AO200,'ABT Transactions'!$D$9:$D$40,$B$159)","v":0},{"$f":"SUMIFS('ABT Transactions'!$B$9:$B$40,'ABT Transactions'!$G$9:$G$40,$C$198,'ABT Transactions'!$F$9:$F$40,$AP$148,'ABT Transactions'!$C$9:$C$40,AP200,'ABT Transactions'!$D$9:$D$40,$B$159)","v":0},{"$f":"SUMIFS('ABT Transactions'!$B$9:$B$40,'ABT Transactions'!$G$9:$G$40,$C$198,'ABT Transactions'!$F$9:$F$40,$AP$148,'ABT Transactions'!$C$9:$C$40,AQ200,'ABT Transactions'!$D$9:$D$40,$B$159)","v":0},{"$f":"SUMIFS('ABT Transactions'!$B$9:$B$40,'ABT Transactions'!$G$9:$G$40,$C$198,'ABT Transactions'!$F$9:$F$40,$AP$148,'ABT Transactions'!$C$9:$C$40,AR200,'ABT Transactions'!$D$9:$D$40,$B$159)","v":0},{"$f":"SUMIFS('ABT Transactions'!$B$9:$B$40,'ABT Transactions'!$G$9:$G$40,$C$198,'ABT Transactions'!$F$9:$F$40,$AS$148,'ABT Transactions'!$C$9:$C$40,AS200,'ABT Transactions'!$D$9:$D$40,$B$159)","v":0},{"$f":"SUMIFS('ABT Transactions'!$B$9:$B$40,'ABT Transactions'!$G$9:$G$40,$C$198,'ABT Transactions'!$F$9:$F$40,$AS$148,'ABT Transactions'!$C$9:$C$40,AT200,'ABT Transactions'!$D$9:$D$40,$B$159)","v":0},{"$f":"SUMIFS('ABT Transactions'!$B$9:$B$40,'ABT Transactions'!$G$9:$G$40,$C$198,'ABT Transactions'!$F$9:$F$40,$AS$148,'ABT Transactions'!$C$9:$C$40,AU200,'ABT Transactions'!$D$9:$D$40,$B$159)","v":0}]
[null,"Final Credit Balance",{"$f":"(C201+C202+C204+C206+C208+C209+C210)-(C203+C205+C207)","v":0},{"$f":"(D201+D202+D204+D206+D208+D209+D210)-(D203+D205+D207)","v":0},{"$f":"(E201+E202+E204+E206+E208+E209+E210)-(E203+E205+E207)","v":0},{"$f":"(F201+F202+F204+F206+F208+F209+F210)-(F203+F205+F207)","v":0},{"$f":"(G201+G202+G204+G206+G208+G209+G210)-(G203+G205+G207)","v":0},{"$f":"(H201+H202+H204+H206+H208+H209+H210)-(H203+H205+H207)","v":0},{"$f":"(I201+I202+I204+I206+I208+I209+I210)-(I203+I205+I207)","v":0},{"$f":"(J201+J202+J204+J206+J208+J209+J210)-(J203+J205+J207)","v":0},{"$f":"(K201+K202+K204+K206+K208+K209+K210)-(K203+K205+K207)","v":0},{"$f":"(L201+L202+L204+L206+L208+L209+L210)-(L203+L205+L207)","v":0},{"$f":"(M201+M202+M204+M206+M208+M209+M210)-(M203+M205+M207)","v":0},{"$f":"(N201+N202+N204+N206+N208+N209+N210)-(N203+N205+N207)","v":0},{"$f":"(O201+O202+O204+O206+O208+O209+O210)-(O203+O205+O207)","v":0},{"$f":"(P201+P202+P204+P206+P208+P209+P210)-(P203+P205+P207)","v":0},{"$f":"(Q201+Q202+Q204+Q206+Q208+Q209+Q210)-(Q203+Q205+Q207)","v":0},{"$f":"(R201+R202+R204+R206+R208+R209+R210)-(R203+R205+R207)","v":0},{"$f":"(S201+S202+S204+S206+S208+S209+S210)-(S203+S205+S207)","v":0},{"$f":"(T201+T202+T204+T206+T208+T209+T210)-(T203+T205+T207)","v":0},{"$f":"(U201+U202+U204+U206+U208+U209+U210)-(U203+U205+U207)","v":0},{"$f":"(V201+V202+V204+V206+V208+V209+V210)-(V203+V205+V207)","v":0},{"$f":"(W201+W202+W204+W206+W208+W209+W210)-(W203+W205+W207)","v":0},{"$f":"(X201+X202+X204+X206+X208+X209+X210)-(X203+X205+X207)","v":0},{"$f":"(Y201+Y202+Y204+Y206+Y208+Y209+Y210)-(Y203+Y205+Y207)","v":0},{"$f":"(Z201+Z202+Z204+Z206+Z208+Z209+Z210)-(Z203+Z205+Z207)","v":0},{"$f":"(AA201+AA202+AA204+AA206+AA208+AA209+AA210)-(AA203+AA205+AA207)","v":0},{"$f":"(AB201+AB202+AB204+AB206+AB208+AB209+AB210)-(AB203+AB205+AB207)","v":0},{"$f":"(AC201+AC202+AC204+AC206+AC208+AC209+AC210)-(AC203+AC205+AC207)","v":0},{"$f":"(AD201+AD202+AD204+AD206+AD208+AD209+AD210)-(AD203+AD205+AD207)","v":0},{"$f":"(AE201+AE202+AE204+AE206+AE208+AE209+AE210)-(AE203+AE205+AE207)","v":0},{"$f":"(AF201+AF202+AF204+AF206+AF208+AF209+AF210)-(AF203+AF205+AF207)","v":0},{"$f":"(AG201+AG202+AG204+AG206+AG208+AG209+AG210)-(AG203+AG205+AG207)","v":0},{"$f":"(AH201+AH202+AH204+AH206+AH208+AH209+AH210)-(AH203+AH205+AH207)","v":0},{"$f":"(AI201+AI202+AI204+AI206+AI208+AI209+AI210)-(AI203+AI205+AI207)","v":0},{"$f":"(AJ201+AJ202+AJ204+AJ206+AJ208+AJ209+AJ210)-(AJ203+AJ205+AJ207)","v":0},{"$f":"(AK201+AK202+AK204+AK206+AK208+AK209+AK210)-(AK203+AK205+AK207)","v":0},{"$f":"(AL201+AL202+AL204+AL206+AL208+AL209+AL210)-(AL203+AL205+AL207)","v":0},{"$f":"(AM201+AM202+AM204+AM206+AM208+AM209+AM210)-(AM203+AM205+AM207)","v":0},{"$f":"(AN201+AN202+AN204+AN206+AN208+AN209+AN210)-(AN203+AN205+AN207)","v":0},{"$f":"(AO201+AO202+AO204+AO206+AO208+AO209+AO210)-(AO203+AO205+AO207)","v":0},{"$f":"(AP201+AP202+AP204+AP206+AP208+AP209+AP210)-(AP203+AP205+AP207)","v":0},{"$f":"(AQ201+AQ202+AQ204+AQ206+AQ208+AQ209+AQ210)-(AQ203+AQ205+AQ207)","v":0},{"$f":"(AR201+AR202+AR204+AR206+AR208+AR209+AR210)-(AR203+AR205+AR207)","v":0},{"$f":"(AS201+AS202+AS204+AS206+AS208+AS209+AS210)-(AS203+AS205+AS207)","v":0},{"$f":"(AT201+AT202+AT204+AT206+AT208+AT209+AT210)-(AT203+AT205+AT207)","v":0},{"$f":"(AU201+AU202+AU204+AU206+AU208+AU209+AU210)-(AU203+AU205+AU207)","v":0}]
[null,"Averaging Set Credit Balance",{"$f":"SUM(C211:E211)","v":0},null,null,{"$f":"SUM(F211:H211)","v":0},null,null,{"$f":"SUM(I211:K211)","v":0},null,null,{"$f":"SUM(L211:N211)","v":0},null,null,{"$f":"SUM(O211:Q211)","v":0},null,null,{"$f":"SUM(R211:T211)","v":0},null,null,{"$f":"SUM(U211:W211)","v":0},null,null,{"$f":"SUM(X211:Z211)","v":0},null,null,{"$f":"SUM(AA211:AC211)","v":0},null,null,{"$f":"SUM(AD211:AF211)","v":0},null,null,{"$f":"SUM(AG211:AI211)","v":0},null,null,{"$f":"SUM(AJ211:AL211)","v":0},null,null,{"$f":"SUM(AM211:AO211)","v":0},null,null,{"$f":"SUM(AP211:AR211)","v":0},null,null,{"$f":"SUM(AS211:AU211)","v":0}]
[]
[]
[null,null,"Refuse hauler"]
[null,null,2013,null,null,2014,null,null,2015,null,null,2016,null,null,2017,null,null,2018,null,null,2019,null,null,2020,null,null,2021,null,null,2022,null,null,2023,null,null,2024,null,null,2025,null,null,2026,null,null,2027]
[null,"Credit Type","Conventional Credit","Innovative Technology Credit","Advanced Technology Credit","Conventional Credit","Innovative Technology Credit","Advanced Technology Credit","Conventional Credit","Innovative Technology Credit","Advanced Technology Credit","Conventional Credit","Innovative Technology Credit","Advanced Technology Credit","Conventional Credit","Innovative Technology Credit","Advanced Technology Credit","Conventional Credit","Innovative Technology Credit","Advanced Technology Credit","Conventional Credit","Innovative Technology Credit","Advanced Technology Credit","Conventional Credit","Innovative Technology Credit","Advanced Technology Credit","Conventional Credit","Innovative Technology Credit","Advanced Technology Credit","Conventional Credit","Innovative Technology Credit","Advanced Technology Credit","Conventional Credit","Innovative Technology Credit","Advanced Technology Credit","Conventional Credit","Innovative Technology Credit","Advanced Technology Credit","Conventional Credit","Innovative Technology Credit","Advanced Technology Credit","Conventional Credit","Innovative Technology Credit","Advanced Technology Credit","Conventional Credit","Innovative Technology Credit","Advanced Technology Credit"]
[null,"Earned Credits",{"$f":"SUMIFS('ABT Credit Balances'!$D$9:$D$208,'ABT Credit Balances'!$B$9:$B$208,$C$215,'ABT Credit Balances'!$F$9:$F$208,C217,'ABT Credit Balances'!$E$9:$E$208,$C$148,'ABT Credit Balances'!$C$9:$C$208,$B$150)","v":0},{"$f":"SUMIFS('ABT Credit Balances'!$D$9:$D$208,'ABT Credit Balances'!$B$9:$B$208,$C$215,'ABT Credit Balances'!$F$9:$F$208,D217,'ABT Credit Balances'!$E$9:$E$208,$C$148,'ABT Credit Balances'!$C$9:$C$208,$B$150)","v":0},{"$f":"SUMIFS('ABT Credit Balances'!$D$9:$D$208,'ABT Credit Balances'!$B$9:$B$208,$C$215,'ABT Credit Balances'!$F$9:$F$208,E217,'ABT Credit Balances'!$E$9:$E$208,$C$148,'ABT Credit Balances'!$C$9:$C$208,$B$150)","v":0},{"$f":"SUMIFS('ABT Credit Balances'!$D$9:$D$208,'ABT Credit Balances'!$B$9:$B$208,$C$215,'ABT Credit Balances'!$F$9:$F$208,F217,'ABT Credit Balances'!$E$9:$E$208,$F$148,'ABT Credit Balances'!$C$9:$C$208,$B$150)","v":0},{"$f":"SUMIFS('ABT Credit Balances'!$D$9:$D$208,'ABT Credit Balances'!$B$9:$B$208,$C$215,'ABT Credit Balances'!$F$9:$F$208,G217,'ABT Credit Balances'!$E$9:$E$208,$F$148,'ABT Credit Balances'!$C$9:$C$208,$B$150)","v":0},{"$f":"SUMIFS('ABT Credit Balances'!$D$9:$D$208,'ABT Credit Balances'!$B$9:$B$208,$C$215,'ABT Credit Balances'!$F$9:$F$208,H217,'ABT Credit Balances'!$E$9:$E$208,$F$148,'ABT Credit Balances'!$C$9:$C$208,$B$150)","v":0},{"$f":"SUMIFS('ABT Credit Balances'!$D$9:$D$208,'ABT Credit Balances'!$B$9:$B$208,$C$215,'ABT Credit Balances'!$F$9:$F$208,I217,'ABT Credit Balances'!$E$9:$E$208,$I$148,'ABT Credit Balances'!$C$9:$C$208,$B$150)","v":0},{"$f":"SUMIFS('ABT Credit Balances'!$D$9:$D$208,'ABT Credit Balances'!$B$9:$B$208,$C$215,'ABT Credit Balances'!$F$9:$F$208,J217,'ABT Credit Balances'!$E$9:$E$208,$I$148,'ABT Credit Balances'!$C$9:$C$208,$B$150)","v":0},{"$f":"SUMIFS('ABT Credit Balances'!$D$9:$D$208,'ABT Credit Balances'!$B$9:$B$208,$C$215,'ABT Credit Balances'!$F$9:$F$208,K217,'ABT Credit Balances'!$E$9:$E$208,$I$148,'ABT Credit Balances'!$C$9:$C$208,$B$150)","v":0},{"$f":"SUMIFS('ABT Credit Balances'!$D$9:$D$208,'ABT Credit Balances'!$B$9:$B$208,$C$215,'ABT Credit Balances'!$F$9:$F$208,L217,'ABT Credit Balances'!$E$9:$E$208,$L$148,'ABT Credit Balances'!$C$9:$C$208,$B$150)","v":0},{"$f":"SUMIFS('ABT Credit Balances'!$D$9:$D$208,'ABT Credit Balances'!$B$9:$B$208,$C$215,'ABT Credit Balances'!$F$9:$F$208,M217,'ABT Credit Balances'!$E$9:$E$208,$L$148,'ABT Credit Balances'!$C$9:$C$208,$B$150)","v":0},{"$f":"SUMIFS('ABT Credit Balances'!$D$9:$D$208,'ABT Credit Balances'!$B$9:$B$208,$C$215,'ABT Credit Balances'!$F$9:$F$208,N217,'ABT Credit Balances'!$E$9:$E$208,$L$148,'ABT Credit Balances'!$C$9:$C$208,$B$150)","v":0},{"$f":"SUMIFS('ABT Credit Balances'!$D$9:$D$208,'ABT Credit Balances'!$B$9:$B$208,$C$215,'ABT Credit Balances'!$F$9:$F$208,O217,'ABT Credit Balances'!$E$9:$E$208,$O$148,'ABT Credit Balances'!$C$9:$C$208,$B$150)","v":0},{"$f":"SUMIFS('ABT Credit Balances'!$D$9:$D$208,'ABT Credit Balances'!$B$9:$B$208,$C$215,'ABT Credit Balances'!$F$9:$F$208,P217,'ABT Credit Balances'!$E$9:$E$208,$O$148,'ABT Credit Balances'!$C$9:$C$208,$B$150)","v":0},{"$f":"SUMIFS('ABT Credit Balances'!$D$9:$D$208,'ABT Credit Balances'!$B$9:$B$208,$C$215,'ABT Credit Balances'!$F$9:$F$208,Q217,'ABT Credit Balances'!$E$9:$E$208,$O$148,'ABT Credit Balances'!$C$9:$C$208,$B$150)","v":0},{"$f":"SUMIFS('ABT Credit Balances'!$D$9:$D$208,'ABT Credit Balances'!$B$9:$B$208,$C$215,'ABT Credit Balances'!$F$9:$F$208,R217,'ABT Credit Balances'!$E$9:$E$208,$R$148,'ABT Credit Balances'!$C$9:$C$208,$B$150)","v":0},{"$f":"SUMIFS('ABT Credit Balances'!$D$9:$D$208,'ABT Credit Balances'!$B$9:$B$208,$C$215,'ABT Credit Balances'!$F$9:$F$208,S217,'ABT Credit Balances'!$E$9:$E$208,$R$148,'ABT Credit Balances'!$C$9:$C$208,$B$150)","v":0},{"$f":"SUMIFS('ABT Credit Balances'!$D$9:$D$208,'ABT Credit Balances'!$B$9:$B$208,$C$215,'ABT Credit Balances'!$F$9:$F$208,T217,'ABT Credit Balances'!$E$9:$E$208,$R$148,'ABT Credit Balances'!$C$9:$C$208,$B$150)","v":0},{"$f":"SUMIFS('ABT Credit Balances'!$D$9:$D$208,'ABT Credit Balances'!$B$9:$B$208,$C$215,'ABT Credit Balances'!$F$9:$F$208,U217,'ABT Credit Balances'!$E$9:$E$208,$U$148,'ABT Credit Balances'!$C$9:$C$208,$B$150)","v":0},{"$f":"SUMIFS('ABT Credit Balances'!$D$9:$D$208,'ABT Credit Balances'!$B$9:$B$208,$C$215,'ABT Credit Balances'!$F$9:$F$208,V217,'ABT Credit Balances'!$E$9:$E$208,$U$148,'ABT Credit Balances'!$C$9:$C$208,$B$150)","v":0},{"$f":"SUMIFS('ABT Credit Balances'!$D$9:$D$208,'ABT Credit Balances'!$B$9:$B$208,$C$215,'ABT Credit Balances'!$F$9:$F$208,W217,'ABT Credit Balances'!$E$9:$E$208,U$148,'ABT Credit Balances'!$C$9:$C$208,$B$150)","v":0},{"$f":"SUMIFS('ABT Credit Balances'!$D$9:$D$208,'ABT Credit Balances'!$B$9:$B$208,$C$215,'ABT Credit Balances'!$F$9:$F$208,X217,'ABT Credit Balances'!$E$9:$E$208,$X$148,'ABT Credit Balances'!$C$9:$C$208,$B$150)","v":0},{"$f":"SUMIFS('ABT Credit Balances'!$D$9:$D$208,'ABT Credit Balances'!$B$9:$B$208,$C$215,'ABT Credit Balances'!$F$9:$F$208,Y217,'ABT Credit Balances'!$E$9:$E$208,$X$148,'ABT Credit Balances'!$C$9:$C$208,$B$150)","v":0},{"$f":"SUMIFS('ABT Credit Balances'!$D$9:$D$208,'ABT Credit Balances'!$B$9:$B$208,$C$215,'ABT Credit Balances'!$F$9:$F$208,Z217,'ABT Credit Balances'!$E$9:$E$208,$X$148,'ABT Credit Balances'!$C$9:$C$208,$B$150)","v":0},{"$f":"SUMIFS('ABT Credit Balances'!$D$9:$D$208,'ABT Credit Balances'!$B$9:$B$208,$C$215,'ABT Credit Balances'!$F$9:$F$208,AA217,'ABT Credit Balances'!$E$9:$E$208,$AA$148,'ABT Credit Balances'!$C$9:$C$208,$B$150)","v":0},{"$f":"SUMIFS('ABT Credit Balances'!$D$9:$D$208,'ABT Credit Balances'!$B$9:$B$208,$C$215,'ABT Credit Balances'!$F$9:$F$208,AB217,'ABT Credit Balances'!$E$9:$E$208,$AA$148,'ABT Credit Balances'!$C$9:$C$208,$B$150)","v":0},{"$f":"SUMIFS('ABT Credit Balances'!$D$9:$D$208,'ABT Credit Balances'!$B$9:$B$208,$C$215,'ABT Credit Balances'!$F$9:$F$208,AC217,'ABT Credit Balances'!$E$9:$E$208,$AA$148,'ABT Credit Balances'!$C$9:$C$208,$B$150)","v":0},{"$f":"SUMIFS('ABT Credit Balances'!$D$9:$D$208,'ABT Credit Balances'!$B$9:$B$208,$C$215,'ABT Credit Balances'!$F$9:$F$208,AD217,'ABT Credit Balances'!$E$9:$E$208,$AD$148,'ABT Credit Balances'!$C$9:$C$208,$B$150)","v":0},{"$f":"SUMIFS('ABT Credit Balances'!$D$9:$D$208,'ABT Credit Balances'!$B$9:$B$208,$C$215,'ABT Credit Balances'!$F$9:$F$208,AE217,'ABT Credit Balances'!$E$9:$E$208,$AD$148,'ABT Credit Balances'!$C$9:$C$208,$B$150)","v":0},{"$f":"SUMIFS('ABT Credit Balances'!$D$9:$D$208,'ABT Credit Balances'!$B$9:$B$208,$C$215,'ABT Credit Balances'!$F$9:$F$208,AF217,'ABT Credit Balances'!$E$9:$E$208,$AD$148,'ABT Credit Balances'!$C$9:$C$208,$B$150)","v":0},{"$f":"SUMIFS('ABT Credit Balances'!$D$9:$D$208,'ABT Credit Balances'!$B$9:$B$208,$C$215,'ABT Credit Balances'!$F$9:$F$208,AG217,'ABT Credit Balances'!$E$9:$E$208,$AG$148,'ABT Credit Balances'!$C$9:$C$208,$B$150)","v":0},{"$f":"SUMIFS('ABT Credit Balances'!$D$9:$D$208,'ABT Credit Balances'!$B$9:$B$208,$C$215,'ABT Credit Balances'!$F$9:$F$208,AH217,'ABT Credit Balances'!$E$9:$E$208,$AG$148,'ABT Credit Balances'!$C$9:$C$208,$B$150)","v":0},{"$f":"SUMIFS('ABT Credit Balances'!$D$9:$D$208,'ABT Credit Balances'!$B$9:$B$208,$C$215,'ABT Credit Balances'!$F$9:$F$208,AI217,'ABT Credit Balances'!$E$9:$E$208,$AG$148,'ABT Credit Balances'!$C$9:$C$208,$B$150)","v":0},{"$f":"SUMIFS('ABT Credit Balances'!$D$9:$D$208,'ABT Credit Balances'!$B$9:$B$208,$C$215,'ABT Credit Balances'!$F$9:$F$208,AJ217,'ABT Credit Balances'!$E$9:$E$208,$AJ$148,'ABT Credit Balances'!$C$9:$C$208,$B$150)","v":0},{"$f":"SUMIFS('ABT Credit Balances'!$D$9:$D$208,'ABT Credit Balances'!$B$9:$B$208,$C$215,'ABT Credit Balances'!$F$9:$F$208,AK217,'ABT Credit Balances'!$E$9:$E$208,$AJ$148,'ABT Credit Balances'!$C$9:$C$208,$B$150)","v":0},{"$f":"SUMIFS('ABT Credit Balances'!$D$9:$D$208,'ABT Credit Balances'!$B$9:$B$208,$C$215,'ABT Credit Balances'!$F$9:$F$208,AL217,'ABT Credit Balances'!$E$9:$E$208,$AJ$148,'ABT Credit Balances'!$C$9:$C$208,$B$150)","v":0},{"$f":"SUMIFS('ABT Credit Balances'!$D$9:$D$208,'ABT Credit Balances'!$B$9:$B$208,$C$215,'ABT Credit Balances'!$F$9:$F$208,AM217,'ABT Credit Balances'!$E$9:$E$208,$AM$148,'ABT Credit Balances'!$C$9:$C$208,$B$150)","v":0},{"$f":"SUMIFS('ABT Credit Balances'!$D$9:$D$208,'ABT Credit Balances'!$B$9:$B$208,$C$215,'ABT Credit Balances'!$F$9:$F$208,AN217,'ABT Credit Balances'!$E$9:$E$208,$AM$148,'ABT Credit Balances'!$C$9:$C$208,$B$150)","v":0},{"$f":"SUMIFS('ABT Credit Balances'!$D$9:$D$208,'ABT Credit Balances'!$B$9:$B$208,$C$215,'ABT Credit Balances'!$F$9:$F$208,AO217,'ABT Credit Balances'!$E$9:$E$208,$AM$148,'ABT Credit Balances'!$C$9:$C$208,$B$150)","v":0},{"$f":"SUMIFS('ABT Credit Balances'!$D$9:$D$208,'ABT Credit Balances'!$B$9:$B$208,$C$215,'ABT Credit Balances'!$F$9:$F$208,AP217,'ABT Credit Balances'!$E$9:$E$208,$AP$148,'ABT Credit Balances'!$C$9:$C$208,$B$150)","v":0},{"$f":"SUMIFS('ABT Credit Balances'!$D$9:$D$208,'ABT Credit Balances'!$B$9:$B$208,$C$215,'ABT Credit Balances'!$F$9:$F$208,AQ217,'ABT Credit Balances'!$E$9:$E$208,$AP$148,'ABT Credit Balances'!$C$9:$C$208,$B$150)","v":0},{"$f":"SUMIFS('ABT Credit Balances'!$D$9:$D$208,'ABT Credit Balances'!$B$9:$B$208,$C$215,'ABT Credit Balances'!$F$9:$F$208,AR217,'ABT Credit Balances'!$E$9:$E$208,$AP$148,'ABT Credit Balances'!$C$9:$C$208,$B$150)","v":0},{"$f":"SUMIFS('ABT Credit Balances'!$D$9:$D$208,'ABT Credit Balances'!$B$9:$B$208,$C$215,'ABT Credit Balances'!$F$9:$F$208,AS217,'ABT Credit Balances'!$E$9:$E$208,$AS$148,'ABT Credit Balances'!$C$9:$C$208,$B$150)","v":0},{"$f":"SUMIFS('ABT Credit Balances'!$D$9:$D$208,'ABT Credit Balances'!$B$9:$B$208,$C$215,'ABT Credit Balances'!$F$9:$F$208,AT217,'ABT Credit Balances'!$E$9:$E$208,$AS$148,'ABT Credit Balances'!$C$9:$C$208,$B$150)","v":0},{"$f":"SUMIFS('ABT Credit Balances'!$D$9:$D$208,'ABT Credit Balances'!$B$9:$B$208,$C$215,'ABT Credit Balances'!$F$9:$F$208,AU217,'ABT Credit Balances'!$E$9:$E$208,$AS$148,'ABT Credit Balances'!$C$9:$C$208,$B$150)","v":0}]
[null,"Projected Credits",{"$f":"SUMIFS('ABT Credit Balances'!$D$9:$D$208,'ABT Credit Balances'!$B$9:$B$208,$C$215,'ABT Credit Balances'!$F$9:$F$208,C217,'ABT Credit Balances'!$E$9:$E$208,$C$148,'ABT Credit Balances'!$C$9:$C$208,$B$151)","v":0},{"$f":"SUMIFS('ABT Credit Balances'!$D$9:$D$208,'ABT Credit Balances'!$B$9:$B$208,$C$215,'ABT Credit Balances'!$F$9:$F$208,D217,'ABT Credit Balances'!$E$9:$E$208,$C$148,'ABT Credit Balances'!$C$9:$C$208,$B$151)","v":0},{"$f":"SUMIFS('ABT Credit Balances'!$D$9:$D$208,'ABT Credit Balances'!$B$9:$B$208,$C$215,'ABT Credit Balances'!$F$9:$F$208,E217,'ABT Credit Balances'!$E$9:$E$208,$C$148,'ABT Credit Balances'!$C$9:$C$208,$B$151)","v":0},{"$f":"SUMIFS('ABT Credit Balances'!$D$9:$D$208,'ABT Credit Balances'!$B$9:$B$208,$C$215,'ABT Credit Balances'!$F$9:$F$208,F217,'ABT Credit Balances'!$E$9:$E$208,$F$148,'ABT Credit Balances'!$C$9:$C$208,$B$151)","v":0},{"$f":"SUMIFS('ABT Credit Balances'!$D$9:$D$208,'ABT Credit Balances'!$B$9:$B$208,$C$215,'ABT Credit Balances'!$F$9:$F$208,G217,'ABT Credit Balances'!$E$9:$E$208,$F$148,'ABT Credit Balances'!$C$9:$C$208,$B$151)","v":0},{"$f":"SUMIFS('ABT Credit Balances'!$D$9:$D$208,'ABT Credit Balances'!$B$9:$B$208,$C$215,'ABT Credit Balances'!$F$9:$F$208,H217,'ABT Credit Balances'!$E$9:$E$208,$F$148,'ABT Credit Balances'!$C$9:$C$208,$B$151)","v":0},{"$f":"SUMIFS('ABT Credit Balances'!$D$9:$D$208,'ABT Credit Balances'!$B$9:$B$208,$C$215,'ABT Credit Balances'!$F$9:$F$208,I217,'ABT Credit Balances'!$E$9:$E$208,$I$148,'ABT Credit Balances'!$C$9:$C$208,$B$151)","v":0},{"$f":"SUMIFS('ABT Credit Balances'!$D$9:$D$208,'ABT Credit Balances'!$B$9:$B$208,$C$215,'ABT Credit Balances'!$F$9:$F$208,J217,'ABT Credit Balances'!$E$9:$E$208,$I$148,'ABT Credit Balances'!$C$9:$C$208,$B$151)","v":0},{"$f":"SUMIFS('ABT Credit Balances'!$D$9:$D$208,'ABT Credit Balances'!$B$9:$B$208,$C$215,'ABT Credit Balances'!$F$9:$F$208,K217,'ABT Credit Balances'!$E$9:$E$208,$I$148,'ABT Credit Balances'!$C$9:$C$208,$B$151)","v":0},{"$f":"SUMIFS('ABT Credit Balances'!$D$9:$D$208,'ABT Credit Balances'!$B$9:$B$208,$C$215,'ABT Credit Balances'!$F$9:$F$208,L217,'ABT Credit Balances'!$E$9:$E$208,$L$148,'ABT Credit Balances'!$C$9:$C$208,$B$151)","v":0},{"$f":"SUMIFS('ABT Credit Balances'!$D$9:$D$208,'ABT Credit Balances'!$B$9:$B$208,$C$215,'ABT Credit Balances'!$F$9:$F$208,M217,'ABT Credit Balances'!$E$9:$E$208,$L$148,'ABT Credit Balances'!$C$9:$C$208,$B$151)","v":0},{"$f":"SUMIFS('ABT Credit Balances'!$D$9:$D$208,'ABT Credit Balances'!$B$9:$B$208,$C$215,'ABT Credit Balances'!$F$9:$F$208,N217,'ABT Credit Balances'!$E$9:$E$208,$L$148,'ABT Credit Balances'!$C$9:$C$208,$B$151)","v":0},{"$f":"SUMIFS('ABT Credit Balances'!$D$9:$D$208,'ABT Credit Balances'!$B$9:$B$208,$C$215,'ABT Credit Balances'!$F$9:$F$208,O217,'ABT Credit Balances'!$E$9:$E$208,$O$148,'ABT Credit Balances'!$C$9:$C$208,$B$151)","v":0},{"$f":"SUMIFS('ABT Credit Balances'!$D$9:$D$208,'ABT Credit Balances'!$B$9:$B$208,$C$215,'ABT Credit Balances'!$F$9:$F$208,P217,'ABT Credit Balances'!$E$9:$E$208,$O$148,'ABT Credit Balances'!$C$9:$C$208,$B$151)","v":0},{"$f":"SUMIFS('ABT Credit Balances'!$D$9:$D$208,'ABT Credit Balances'!$B$9:$B$208,$C$215,'ABT Credit Balances'!$F$9:$F$208,Q217,'ABT Credit Balances'!$E$9:$E$208,$O$148,'ABT Credit Balances'!$C$9:$C$208,$B$151)","v":0},{"$f":"SUMIFS('ABT Credit Balances'!$D$9:$D$208,'ABT Credit Balances'!$B$9:$B$208,$C$215,'ABT Credit Balances'!$F$9:$F$208,R217,'ABT Credit Balances'!$E$9:$E$208,$R$148,'ABT Credit Balances'!$C$9:$C$208,$B$151)","v":0},{"$f":"SUMIFS('ABT Credit Balances'!$D$9:$D$208,'ABT Credit Balances'!$B$9:$B$208,$C$215,'ABT Credit Balances'!$F$9:$F$208,S217,'ABT Credit Balances'!$E$9:$E$208,$R$148,'ABT Credit Balances'!$C$9:$C$208,$B$151)","v":0},{"$f":"SUMIFS('ABT Credit Balances'!$D$9:$D$208,'ABT Credit Balances'!$B$9:$B$208,$C$215,'ABT Credit Balances'!$F$9:$F$208,T217,'ABT Credit Balances'!$E$9:$E$208,$R$148,'ABT Credit Balances'!$C$9:$C$208,$B$151)","v":0},{"$f":"SUMIFS('ABT Credit Balances'!$D$9:$D$208,'ABT Credit Balances'!$B$9:$B$208,$C$215,'ABT Credit Balances'!$F$9:$F$208,U217,'ABT Credit Balances'!$E$9:$E$208,$U$148,'ABT Credit Balances'!$C$9:$C$208,$B$151)","v":0},{"$f":"SUMIFS('ABT Credit Balances'!$D$9:$D$208,'ABT Credit Balances'!$B$9:$B$208,$C$215,'ABT Credit Balances'!$F$9:$F$208,V217,'ABT Credit Balances'!$E$9:$E$208,$U$148,'ABT Credit Balances'!$C$9:$C$208,$B$151)","v":0},{"$f":"SUMIFS('ABT Credit Balances'!$D$9:$D$208,'ABT Credit Balances'!$B$9:$B$208,$C$215,'ABT Credit Balances'!$F$9:$F$208,W217,'ABT Credit Balances'!$E$9:$E$208,U$148,'ABT Credit Balances'!$C$9:$C$208,$B$151)","v":0},{"$f":"SUMIFS('ABT Credit Balances'!$D$9:$D$208,'ABT Credit Balances'!$B$9:$B$208,$C$215,'ABT Credit Balances'!$F$9:$F$208,X217,'ABT Credit Balances'!$E$9:$E$208,$X$148,'ABT Credit Balances'!$C$9:$C$208,$B$151)","v":0},{"$f":"SUMIFS('ABT Credit Balances'!$D$9:$D$208,'ABT Credit Balances'!$B$9:$B$208,$C$215,'ABT Credit Balances'!$F$9:$F$208,Y217,'ABT Credit Balances'!$E$9:$E$208,$X$148,'ABT Credit Balances'!$C$9:$C$208,$B$151)","v":0},{"$f":"SUMIFS('ABT Credit Balances'!$D$9:$D$208,'ABT Credit Balances'!$B$9:$B$208,$C$215,'ABT Credit Balances'!$F$9:$F$208,Z217,'ABT Credit Balances'!$E$9:$E$208,$X$148,'ABT Credit Balances'!$C$9:$C$208,$B$151)","v":0},{"$f":"SUMIFS('ABT Credit Balances'!$D$9:$D$208,'ABT Credit Balances'!$B$9:$B$208,$C$215,'ABT Credit Balances'!$F$9:$F$208,AA217,'ABT Credit Balances'!$E$9:$E$208,$AA$148,'ABT Credit Balances'!$C$9:$C$208,$B$151)","v":0},{"$f":"SUMIFS('ABT Credit Balances'!$D$9:$D$208,'ABT Credit Balances'!$B$9:$B$208,$C$215,'ABT Credit Balances'!$F$9:$F$208,AB217,'ABT Credit Balances'!$E$9:$E$208,$AA$148,'ABT Credit Balances'!$C$9:$C$208,$B$151)","v":0},{"$f":"SUMIFS('ABT Credit Balances'!$D$9:$D$208,'ABT Credit Balances'!$B$9:$B$208,$C$215,'ABT Credit Balances'!$F$9:$F$208,AC217,'ABT Credit Balances'!$E$9:$E$208,$AA$148,'ABT Credit Balances'!$C$9:$C$208,$B$151)","v":0},{"$f":"SUMIFS('ABT Credit Balances'!$D$9:$D$208,'ABT Credit Balances'!$B$9:$B$208,$C$215,'ABT Credit Balances'!$F$9:$F$208,AD217,'ABT Credit Balances'!$E$9:$E$208,$AD$148,'ABT Credit Balances'!$C$9:$C$208,$B$151)","v":0},{"$f":"SUMIFS('ABT Credit Balances'!$D$9:$D$208,'ABT Credit Balances'!$B$9:$B$208,$C$215,'ABT Credit Balances'!$F$9:$F$208,AE217,'ABT Credit Balances'!$E$9:$E$208,$AD$148,'ABT Credit Balances'!$C$9:$C$208,$B$151)","v":0},{"$f":"SUMIFS('ABT Credit Balances'!$D$9:$D$208,'ABT Credit Balances'!$B$9:$B$208,$C$215,'ABT Credit Balances'!$F$9:$F$208,AF217,'ABT Credit Balances'!$E$9:$E$208,$AD$148,'ABT Credit Balances'!$C$9:$C$208,$B$151)","v":0},{"$f":"SUMIFS('ABT Credit Balances'!$D$9:$D$208,'ABT Credit Balances'!$B$9:$B$208,$C$215,'ABT Credit Balances'!$F$9:$F$208,AG217,'ABT Credit Balances'!$E$9:$E$208,$AG$148,'ABT Credit Balances'!$C$9:$C$208,$B$151)","v":0},{"$f":"SUMIFS('ABT Credit Balances'!$D$9:$D$208,'ABT Credit Balances'!$B$9:$B$208,$C$215,'ABT Credit Balances'!$F$9:$F$208,AH217,'ABT Credit Balances'!$E$9:$E$208,$AG$148,'ABT Credit Balances'!$C$9:$C$208,$B$151)","v":0},{"$f":"SUMIFS('ABT Credit Balances'!$D$9:$D$208,'ABT Credit Balances'!$B$9:$B$208,$C$215,'ABT Credit Balances'!$F$9:$F$208,AI217,'ABT Credit Balances'!$E$9:$E$208,$AG$148,'ABT Credit Balances'!$C$9:$C$208,$B$151)","v":0},{"$f":"SUMIFS('ABT Credit Balances'!$D$9:$D$208,'ABT Credit Balances'!$B$9:$B$208,$C$215,'ABT Credit Balances'!$F$9:$F$208,AJ217,'ABT Credit Balances'!$E$9:$E$208,$AJ$148,'ABT Credit Balances'!$C$9:$C$208,$B$151)","v":0},{"$f":"SUMIFS('ABT Credit Balances'!$D$9:$D$208,'ABT Credit Balances'!$B$9:$B$208,$C$215,'ABT Credit Balances'!$F$9:$F$208,AK217,'ABT Credit Balances'!$E$9:$E$208,$AJ$148,'ABT Credit Balances'!$C$9:$C$208,$B$151)","v":0},{"$f":"SUMIFS('ABT Credit Balances'!$D$9:$D$208,'ABT Credit Balances'!$B$9:$B$208,$C$215,'ABT Credit Balances'!$F$9:$F$208,AL217,'ABT Credit Balances'!$E$9:$E$208,$AJ$148,'ABT Credit Balances'!$C$9:$C$208,$B$151)","v":0},{"$f":"SUMIFS('ABT Credit Balances'!$D$9:$D$208,'ABT Credit Balances'!$B$9:$B$208,$C$215,'ABT Credit Balances'!$F$9:$F$208,AM217,'ABT Credit Balances'!$E$9:$E$208,$AM$148,'ABT Credit Balances'!$C$9:$C$208,$B$151)","v":0},{"$f":"SUMIFS('ABT Credit Balances'!$D$9:$D$208,'ABT Credit Balances'!$B$9:$B$208,$C$215,'ABT Credit Balances'!$F$9:$F$208,AN217,'ABT Credit Balances'!$E$9:$E$208,$AM$148,'ABT Credit Balances'!$C$9:$C$208,$B$151)","v":0},{"$f":"SUMIFS('ABT Credit Balances'!$D$9:$D$208,'ABT Credit Balances'!$B$9:$B$208,$C$215,'ABT Credit Balances'!$F$9:$F$208,AO217,'ABT Credit Balances'!$E$9:$E$208,$AM$148,'ABT Credit Balances'!$C$9:$C$208,$B$151)","v":0},{"$f":"SUMIFS('ABT Credit Balances'!$D$9:$D$208,'ABT Credit Balances'!$B$9:$B$208,$C$215,'ABT Credit Balances'!$F$9:$F$208,AP217,'ABT Credit Balances'!$E$9:$E$208,$AP$148,'ABT Credit Balances'!$C$9:$C$208,$B$151)","v":0},{"$f":"SUMIFS('ABT Credit Balances'!$D$9:$D$208,'ABT Credit Balances'!$B$9:$B$208,$C$215,'ABT Credit Balances'!$F$9:$F$208,AQ217,'ABT Credit Balances'!$E$9:$E$208,$AP$148,'ABT Credit Balances'!$C$9:$C$208,$B$151)","v":0},{"$f":"SUMIFS('ABT Credit Balances'!$D$9:$D$208,'ABT Credit Balances'!$B$9:$B$208,$C$215,'ABT Credit Balances'!$F$9:$F$208,AR217,'ABT Credit Balances'!$E$9:$E$208,$AP$148,'ABT Credit Balances'!$C$9:$C$208,$B$151)","v":0},{"$f":"SUMIFS('ABT Credit Balances'!$D$9:$D$208,'ABT Credit Balances'!$B$9:$B$208,$C$215,'ABT Credit Balances'!$F$9:$F$208,AS217,'ABT Credit Balances'!$E$9:$E$208,$AS$148,'ABT Credit Balances'!$C$9:$C$208,$B$151)","v":0},{"$f":"SUMIFS('ABT Credit Balances'!$D$9:$D$208,'ABT Credit Balances'!$B$9:$B$208,$C$215,'ABT Credit Balances'!$F$9:$F$208,AT217,'ABT Credit Balances'!$E$9:$E$208,$AS$148,'ABT Credit Balances'!$C$9:$C$208,$B$151)","v":0},{"$f":"SUMIFS('ABT Credit Balances'!$D$9:$D$208,'ABT Credit Balances'!$B$9:$B$208,$C$215,'ABT Credit Balances'!$F$9:$F$208,AU217,'ABT Credit Balances'!$E$9:$E$208,$AS$148,'ABT Credit Balances'!$C$9:$C$208,$B$151)","v":0}]
[null,"Applied Banked Credits (out)",{"$f":"SUMIFS('ABT Transactions'!$B$9:$B$40,'ABT Transactions'!$G$9:$G$40,$C$215,'ABT Transactions'!$F$9:$F$40,$C$148,'ABT Transactions'!$C$9:$C$40,C217,'ABT Transactions'!$D$9:$D$40,$B$152)","v":0},{"$f":"SUMIFS('ABT Transactions'!$B$9:$B$40,'ABT Transactions'!$G$9:$G$40,$C$215,'ABT Transactions'!$F$9:$F$40,$C$148,'ABT Transactions'!$C$9:$C$40,D217,'ABT Transactions'!$D$9:$D$40,$B$152)","v":0},{"$f":"SUMIFS('ABT Transactions'!$B$9:$B$40,'ABT Transactions'!$G$9:$G$40,$C$215,'ABT Transactions'!$F$9:$F$40,$C$148,'ABT Transactions'!$C$9:$C$40,E217,'ABT Transactions'!$D$9:$D$40,$B$152)","v":0},{"$f":"SUMIFS('ABT Transactions'!$B$9:$B$40,'ABT Transactions'!$G$9:$G$40,$C$215,'ABT Transactions'!$F$9:$F$40,$F$148,'ABT Transactions'!$C$9:$C$40,F217,'ABT Transactions'!$D$9:$D$40,$B$152)","v":0},{"$f":"SUMIFS('ABT Transactions'!$B$9:$B$40,'ABT Transactions'!$G$9:$G$40,$C$215,'ABT Transactions'!$F$9:$F$40,$F$148,'ABT Transactions'!$C$9:$C$40,G217,'ABT Transactions'!$D$9:$D$40,$B$152)","v":0},{"$f":"SUMIFS('ABT Transactions'!$B$9:$B$40,'ABT Transactions'!$G$9:$G$40,$C$215,'ABT Transactions'!$F$9:$F$40,$F$148,'ABT Transactions'!$C$9:$C$40,H217,'ABT Transactions'!$D$9:$D$40,$B$152)","v":0},{"$f":"SUMIFS('ABT Transactions'!$B$9:$B$40,'ABT Transactions'!$G$9:$G$40,$C$215,'ABT Transactions'!$F$9:$F$40,$I$148,'ABT Transactions'!$C$9:$C$40,I217,'ABT Transactions'!$D$9:$D$40,$B$152)","v":0},{"$f":"SUMIFS('ABT Transactions'!$B$9:$B$40,'ABT Transactions'!$G$9:$G$40,$C$215,'ABT Transactions'!$F$9:$F$40,$I$148,'ABT Transactions'!$C$9:$C$40,J217,'ABT Transactions'!$D$9:$D$40,$B$152)","v":0},{"$f":"SUMIFS('ABT Transactions'!$B$9:$B$40,'ABT Transactions'!$G$9:$G$40,$C$215,'ABT Transactions'!$F$9:$F$40,$I$148,'ABT Transactions'!$C$9:$C$40,K217,'ABT Transactions'!$D$9:$D$40,$B$152)","v":0},{"$f":"SUMIFS('ABT Transactions'!$B$9:$B$40,'ABT Transactions'!$G$9:$G$40,$C$215,'ABT Transactions'!$F$9:$F$40,$L$148,'ABT Transactions'!$C$9:$C$40,L217,'ABT Transactions'!$D$9:$D$40,$B$152)","v":0},{"$f":"SUMIFS('ABT Transactions'!$B$9:$B$40,'ABT Transactions'!$G$9:$G$40,$C$215,'ABT Transactions'!$F$9:$F$40,$L$148,'ABT Transactions'!$C$9:$C$40,M217,'ABT Transactions'!$D$9:$D$40,$B$152)","v":0},{"$f":"SUMIFS('ABT Transactions'!$B$9:$B$40,'ABT Transactions'!$G$9:$G$40,$C$215,'ABT Transactions'!$F$9:$F$40,$L$148,'ABT Transactions'!$C$9:$C$40,N217,'ABT Transactions'!$D$9:$D$40,$B$152)","v":0},{"$f":"SUMIFS('ABT Transactions'!$B$9:$B$40,'ABT Transactions'!$G$9:$G$40,$C$215,'ABT Transactions'!$F$9:$F$40,$O$148,'ABT Transactions'!$C$9:$C$40,O217,'ABT Transactions'!$D$9:$D$40,$B$152)","v":0},{"$f":"SUMIFS('ABT Transactions'!$B$9:$B$40,'ABT Transactions'!$G$9:$G$40,$C$215,'ABT Transactions'!$F$9:$F$40,$O$148,'ABT Transactions'!$C$9:$C$40,P217,'ABT Transactions'!$D$9:$D$40,$B$152)","v":0},{"$f":"SUMIFS('ABT Transactions'!$B$9:$B$40,'ABT Transactions'!$G$9:$G$40,$C$215,'ABT Transactions'!$F$9:$F$40,$O$148,'ABT Transactions'!$C$9:$C$40,Q217,'ABT Transactions'!$D$9:$D$40,$B$152)","v":0},{"$f":"SUMIFS('ABT Transactions'!$B$9:$B$40,'ABT Transactions'!$G$9:$G$40,$C$215,'ABT Transactions'!$F$9:$F$40,$R$148,'ABT Transactions'!$C$9:$C$40,R217,'ABT Transactions'!$D$9:$D$40,$B$152)","v":0},{"$f":"SUMIFS('ABT Transactions'!$B$9:$B$40,'ABT Transactions'!$G$9:$G$40,$C$215,'ABT Transactions'!$F$9:$F$40,$R$148,'ABT Transactions'!$C$9:$C$40,S217,'ABT Transactions'!$D$9:$D$40,$B$152)","v":0},{"$f":"SUMIFS('ABT Transactions'!$B$9:$B$40,'ABT Transactions'!$G$9:$G$40,$C$215,'ABT Transactions'!$F$9:$F$40,$R$148,'ABT Transactions'!$C$9:$C$40,T217,'ABT Transactions'!$D$9:$D$40,$B$152)","v":0},{"$f":"SUMIFS('ABT Transactions'!$B$9:$B$40,'ABT Transactions'!$G$9:$G$40,$C$215,'ABT Transactions'!$F$9:$F$40,$U$148,'ABT Transactions'!$C$9:$C$40,U217,'ABT Transactions'!$D$9:$D$40,$B$152)","v":0},{"$f":"SUMIFS('ABT Transactions'!$B$9:$B$40,'ABT Transactions'!$G$9:$G$40,$C$215,'ABT Transactions'!$F$9:$F$40,$U$148,'ABT Transactions'!$C$9:$C$40,V217,'ABT Transactions'!$D$9:$D$40,$B$152)","v":0},{"$f":"SUMIFS('ABT Transactions'!$B$9:$B$40,'ABT Transactions'!$G$9:$G$40,$C$215,'ABT Transactions'!$F$9:$F$40,U$148,'ABT Transactions'!$C$9:$C$40,W217,'ABT Transactions'!$D$9:$D$40,$B$152)","v":0},{"$f":"SUMIFS('ABT Transactions'!$B$9:$B$40,'ABT Transactions'!$G$9:$G$40,$C$215,'ABT Transactions'!$F$9:$F$40,$X$148,'ABT Transactions'!$C$9:$C$40,X217,'ABT Transactions'!$D$9:$D$40,$B$152)","v":0},{"$f":"SUMIFS('ABT Transactions'!$B$9:$B$40,'ABT Transactions'!$G$9:$G$40,$C$215,'ABT Transactions'!$F$9:$F$40,$X$148,'ABT Transactions'!$C$9:$C$40,Y217,'ABT Transactions'!$D$9:$D$40,$B$152)","v":0},{"$f":"SUMIFS('ABT Transactions'!$B$9:$B$40,'ABT Transactions'!$G$9:$G$40,$C$215,'ABT Transactions'!$F$9:$F$40,$X$148,'ABT Transactions'!$C$9:$C$40,Z217,'ABT Transactions'!$D$9:$D$40,$B$152)","v":0},{"$f":"SUMIFS('ABT Transactions'!$B$9:$B$40,'ABT Transactions'!$G$9:$G$40,$C$215,'ABT Transactions'!$F$9:$F$40,$AA$148,'ABT Transactions'!$C$9:$C$40,AA217,'ABT Transactions'!$D$9:$D$40,$B$152)","v":0},{"$f":"SUMIFS('ABT Transactions'!$B$9:$B$40,'ABT Transactions'!$G$9:$G$40,$C$215,'ABT Transactions'!$F$9:$F$40,$AA$148,'ABT Transactions'!$C$9:$C$40,AB217,'ABT Transactions'!$D$9:$D$40,$B$152)","v":0},{"$f":"SUMIFS('ABT Transactions'!$B$9:$B$40,'ABT Transactions'!$G$9:$G$40,$C$215,'ABT Transactions'!$F$9:$F$40,$AA$148,'ABT Transactions'!$C$9:$C$40,AC217,'ABT Transactions'!$D$9:$D$40,$B$152)","v":0},{"$f":"SUMIFS('ABT Transactions'!$B$9:$B$40,'ABT Transactions'!$G$9:$G$40,$C$215,'ABT Transactions'!$F$9:$F$40,$AD$148,'ABT Transactions'!$C$9:$C$40,AD217,'ABT Transactions'!$D$9:$D$40,$B$152)","v":0},{"$f":"SUMIFS('ABT Transactions'!$B$9:$B$40,'ABT Transactions'!$G$9:$G$40,$C$215,'ABT Transactions'!$F$9:$F$40,$AD$148,'ABT Transactions'!$C$9:$C$40,AE217,'ABT Transactions'!$D$9:$D$40,$B$152)","v":0},{"$f":"SUMIFS('ABT Transactions'!$B$9:$B$40,'ABT Transactions'!$G$9:$G$40,$C$215,'ABT Transactions'!$F$9:$F$40,$AD$148,'ABT Transactions'!$C$9:$C$40,AF217,'ABT Transactions'!$D$9:$D$40,$B$152)","v":0},{"$f":"SUMIFS('ABT Transactions'!$B$9:$B$40,'ABT Transactions'!$G$9:$G$40,$C$215,'ABT Transactions'!$F$9:$F$40,$AG$148,'ABT Transactions'!$C$9:$C$40,AG217,'ABT Transactions'!$D$9:$D$40,$B$152)","v":0},{"$f":"SUMIFS('ABT Transactions'!$B$9:$B$40,'ABT Transactions'!$G$9:$G$40,$C$215,'ABT Transactions'!$F$9:$F$40,$AG$148,'ABT Transactions'!$C$9:$C$40,AH217,'ABT Transactions'!$D$9:$D$40,$B$152)","v":0},{"$f":"SUMIFS('ABT Transactions'!$B$9:$B$40,'ABT Transactions'!$G$9:$G$40,$C$215,'ABT Transactions'!$F$9:$F$40,$AG$148,'ABT Transactions'!$C$9:$C$40,AI217,'ABT Transactions'!$D$9:$D$40,$B$152)","v":0},{"$f":"SUMIFS('ABT Transactions'!$B$9:$B$40,'ABT Transactions'!$G$9:$G$40,$C$215,'ABT Transactions'!$F$9:$F$40,$AJ$148,'ABT Transactions'!$C$9:$C$40,AJ217,'ABT Transactions'!$D$9:$D$40,$B$152)","v":0},{"$f":"SUMIFS('ABT Transactions'!$B$9:$B$40,'ABT Transactions'!$G$9:$G$40,$C$215,'ABT Transactions'!$F$9:$F$40,$AJ$148,'ABT Transactions'!$C$9:$C$40,AK217,'ABT Transactions'!$D$9:$D$40,$B$152)","v":0},{"$f":"SUMIFS('ABT Transactions'!$B$9:$B$40,'ABT Transactions'!$G$9:$G$40,$C$215,'ABT Transactions'!$F$9:$F$40,$AJ$148,'ABT Transactions'!$C$9:$C$40,AL217,'ABT Transactions'!$D$9:$D$40,$B$152)","v":0},{"$f":"SUMIFS('ABT Transactions'!$B$9:$B$40,'ABT Transactions'!$G$9:$G$40,$C$215,'ABT Transactions'!$F$9:$F$40,$AM$148,'ABT Transactions'!$C$9:$C$40,AM217,'ABT Transactions'!$D$9:$D$40,$B$152)","v":0},{"$f":"SUMIFS('ABT Transactions'!$B$9:$B$40,'ABT Transactions'!$G$9:$G$40,$C$215,'ABT Transactions'!$F$9:$F$40,$AM$148,'ABT Transactions'!$C$9:$C$40,AN217,'ABT Transactions'!$D$9:$D$40,$B$152)","v":0},{"$f":"SUMIFS('ABT Transactions'!$B$9:$B$40,'ABT Transactions'!$G$9:$G$40,$C$215,'ABT Transactions'!$F$9:$F$40,$AM$148,'ABT Transactions'!$C$9:$C$40,AO217,'ABT Transactions'!$D$9:$D$40,$B$152)","v":0},{"$f":"SUMIFS('ABT Transactions'!$B$9:$B$40,'ABT Transactions'!$G$9:$G$40,$C$215,'ABT Transactions'!$F$9:$F$40,$AP$148,'ABT Transactions'!$C$9:$C$40,AP217,'ABT Transactions'!$D$9:$D$40,$B$152)","v":0},{"$f":"SUMIFS('ABT Transactions'!$B$9:$B$40,'ABT Transactions'!$G$9:$G$40,$C$215,'ABT Transactions'!$F$9:$F$40,$AP$148,'ABT Transactions'!$C$9:$C$40,AQ217,'ABT Transactions'!$D$9:$D$40,$B$152)","v":0},{"$f":"SUMIFS('ABT Transactions'!$B$9:$B$40,'ABT Transactions'!$G$9:$G$40,$C$215,'ABT Transactions'!$F$9:$F$40,$AP$148,'ABT Transactions'!$C$9:$C$40,AR217,'ABT Transactions'!$D$9:$D$40,$B$152)","v":0},{"$f":"SUMIFS('ABT Transactions'!$B$9:$B$40,'ABT Transactions'!$G$9:$G$40,$C$215,'ABT Transactions'!$F$9:$F$40,$AS$148,'ABT Transactions'!$C$9:$C$40,AS217,'ABT Transactions'!$D$9:$D$40,$B$152)","v":0},{"$f":"SUMIFS('ABT Transactions'!$B$9:$B$40,'ABT Transactions'!$G$9:$G$40,$C$215,'ABT Transactions'!$F$9:$F$40,$AS$148,'ABT Transactions'!$C$9:$C$40,AT217,'ABT Transactions'!$D$9:$D$40,$B$152)","v":0},{"$f":"SUMIFS('ABT Transactions'!$B$9:$B$40,'ABT Transactions'!$G$9:$G$40,$C$215,'ABT Transactions'!$F$9:$F$40,$AS$148,'ABT Transactions'!$C$9:$C$40,AU217,'ABT Transactions'!$D$9:$D$40,$B$152)","v":0}]
[null,"Applied Banked Credits (in)",{"$f":"SUMIFS('ABT Transactions'!$B$9:$B$40,'ABT Transactions'!$J$9:$J$40,$C$215,'ABT Transactions'!$I$9:$I$40,$C$148,'ABT Transactions'!$C$9:$C$40,C217,'ABT Transactions'!$D$9:$D$40,$B$153)","v":0},{"$f":"SUMIFS('ABT Transactions'!$B$9:$B$40,'ABT Transactions'!$J$9:$J$40,$C$215,'ABT Transactions'!$I$9:$I$40,$C$148,'ABT Transactions'!$C$9:$C$40,D217,'ABT Transactions'!$D$9:$D$40,$B$153)","v":0},{"$f":"SUMIFS('ABT Transactions'!$B$9:$B$40,'ABT Transactions'!$J$9:$J$40,$C$215,'ABT Transactions'!$I$9:$I$40,$C$148,'ABT Transactions'!$C$9:$C$40,E217,'ABT Transactions'!$D$9:$D$40,$B$153)","v":0},{"$f":"SUMIFS('ABT Transactions'!$B$9:$B$40,'ABT Transactions'!$J$9:$J$40,$C$215,'ABT Transactions'!$I$9:$I$40,$F$148,'ABT Transactions'!$C$9:$C$40,F217,'ABT Transactions'!$D$9:$D$40,$B$153)","v":0},{"$f":"SUMIFS('ABT Transactions'!$B$9:$B$40,'ABT Transactions'!$J$9:$J$40,$C$215,'ABT Transactions'!$I$9:$I$40,$F$148,'ABT Transactions'!$C$9:$C$40,G217,'ABT Transactions'!$D$9:$D$40,$B$153)","v":0},{"$f":"SUMIFS('ABT Transactions'!$B$9:$B$40,'ABT Transactions'!$J$9:$J$40,$C$215,'ABT Transactions'!$I$9:$I$40,$F$148,'ABT Transactions'!$C$9:$C$40,H217,'ABT Transactions'!$D$9:$D$40,$B$153)","v":0},{"$f":"SUMIFS('ABT Transactions'!$B$9:$B$40,'ABT Transactions'!$J$9:$J$40,$C$215,'ABT Transactions'!$I$9:$I$40,$I$148,'ABT Transactions'!$C$9:$C$40,I217,'ABT Transactions'!$D$9:$D$40,$B$153)","v":0},{"$f":"SUMIFS('ABT Transactions'!$B$9:$B$40,'ABT Transactions'!$J$9:$J$40,$C$215,'ABT Transactions'!$I$9:$I$40,$I$148,'ABT Transactions'!$C$9:$C$40,J217,'ABT Transactions'!$D$9:$D$40,$B$153)","v":0},{"$f":"SUMIFS('ABT Transactions'!$B$9:$B$40,'ABT Transactions'!$J$9:$J$40,$C$215,'ABT Transactions'!$I$9:$I$40,$I$148,'ABT Transactions'!$C$9:$C$40,K217,'ABT Transactions'!$D$9:$D$40,$B$153)","v":0},{"$f":"SUMIFS('ABT Transactions'!$B$9:$B$40,'ABT Transactions'!$J$9:$J$40,$C$215,'ABT Transactions'!$I$9:$I$40,$L$148,'ABT Transactions'!$C$9:$C$40,L217,'ABT Transactions'!$D$9:$D$40,$B$153)","v":0},{"$f":"SUMIFS('ABT Transactions'!$B$9:$B$40,'ABT Transactions'!$J$9:$J$40,$C$215,'ABT Transactions'!$I$9:$I$40,$L$148,'ABT Transactions'!$C$9:$C$40,M217,'ABT Transactions'!$D$9:$D$40,$B$153)","v":0},{"$f":"SUMIFS('ABT Transactions'!$B$9:$B$40,'ABT Transactions'!$J$9:$J$40,$C$215,'ABT Transactions'!$I$9:$I$40,$L$148,'ABT Transactions'!$C$9:$C$40,N217,'ABT Transactions'!$D$9:$D$40,$B$153)","v":0},{"$f":"SUMIFS('ABT Transactions'!$B$9:$B$40,'ABT Transactions'!$J$9:$J$40,$C$215,'ABT Transactions'!$I$9:$I$40,$O$148,'ABT Transactions'!$C$9:$C$40,O217,'ABT Transactions'!$D$9:$D$40,$B$153)","v":0},{"$f":"SUMIFS('ABT Transactions'!$B$9:$B$40,'ABT Transactions'!$J$9:$J$40,$C$215,'ABT Transactions'!$I$9:$I$40,$O$148,'ABT Transactions'!$C$9:$C$40,P217,'ABT Transactions'!$D$9:$D$40,$B$153)","v":0},{"$f":"SUMIFS('ABT Transactions'!$B$9:$B$40,'ABT Transactions'!$J$9:$J$40,$C$215,'ABT Transactions'!$I$9:$I$40,$O$148,'ABT Transactions'!$C$9:$C$40,Q217,'ABT Transactions'!$D$9:$D$40,$B$153)","v":0},{"$f":"SUMIFS('ABT Transactions'!$B$9:$B$40,'ABT Transactions'!$J$9:$J$40,$C$215,'ABT Transactions'!$I$9:$I$40,$R$148,'ABT Transactions'!$C$9:$C$40,R217,'ABT Transactions'!$D$9:$D$40,$B$153)","v":0},{"$f":"SUMIFS('ABT Transactions'!$B$9:$B$40,'ABT Transactions'!$J$9:$J$40,$C$215,'ABT Transactions'!$I$9:$I$40,$R$148,'ABT Transactions'!$C$9:$C$40,S217,'ABT Transactions'!$D$9:$D$40,$B$153)","v":0},{"$f":"SUMIFS('ABT Transactions'!$B$9:$B$40,'ABT Transactions'!$J$9:$J$40,$C$215,'ABT Transactions'!$I$9:$I$40,$R$148,'ABT Transactions'!$C$9:$C$40,T217,'ABT Transactions'!$D$9:$D$40,$B$153)","v":0},{"$f":"SUMIFS('ABT Transactions'!$B$9:$B$40,'ABT Transactions'!$J$9:$J$40,$C$215,'ABT Transactions'!$I$9:$I$40,$U$148,'ABT Transactions'!$C$9:$C$40,U217,'ABT Transactions'!$D$9:$D$40,$B$153)","v":0},{"$f":"SUMIFS('ABT Transactions'!$B$9:$B$40,'ABT Transactions'!$J$9:$J$40,$C$215,'ABT Transactions'!$I$9:$I$40,$U$148,'ABT Transactions'!$C$9:$C$40,V217,'ABT Transactions'!$D$9:$D$40,$B$153)","v":0},{"$f":"SUMIFS('ABT Transactions'!$B$9:$B$40,'ABT Transactions'!$J$9:$J$40,$C$215,'ABT Transactions'!$I$9:$I$40,U$148,'ABT Transactions'!$C$9:$C$40,W217,'ABT Transactions'!$D$9:$D$40,$B$153)","v":0},{"$f":"SUMIFS('ABT Transactions'!$B$9:$B$40,'ABT Transactions'!$J$9:$J$40,$C$215,'ABT Transactions'!$I$9:$I$40,$X$148,'ABT Transactions'!$C$9:$C$40,X217,'ABT Transactions'!$D$9:$D$40,$B$153)","v":0},{"$f":"SUMIFS('ABT Transactions'!$B$9:$B$40,'ABT Transactions'!$J$9:$J$40,$C$215,'ABT Transactions'!$I$9:$I$40,$X$148,'ABT Transactions'!$C$9:$C$40,Y217,'ABT Transactions'!$D$9:$D$40,$B$153)","v":0},{"$f":"SUMIFS('ABT Transactions'!$B$9:$B$40,'ABT Transactions'!$J$9:$J$40,$C$215,'ABT Transactions'!$I$9:$I$40,$X$148,'ABT Transactions'!$C$9:$C$40,Z217,'ABT Transactions'!$D$9:$D$40,$B$153)","v":0},{"$f":"SUMIFS('ABT Transactions'!$B$9:$B$40,'ABT Transactions'!$J$9:$J$40,$C$215,'ABT Transactions'!$I$9:$I$40,$AA$148,'ABT Transactions'!$C$9:$C$40,AA217,'ABT Transactions'!$D$9:$D$40,$B$153)","v":0},{"$f":"SUMIFS('ABT Transactions'!$B$9:$B$40,'ABT Transactions'!$J$9:$J$40,$C$215,'ABT Transactions'!$I$9:$I$40,$AA$148,'ABT Transactions'!$C$9:$C$40,AB217,'ABT Transactions'!$D$9:$D$40,$B$153)","v":0},{"$f":"SUMIFS('ABT Transactions'!$B$9:$B$40,'ABT Transactions'!$J$9:$J$40,$C$215,'ABT Transactions'!$I$9:$I$40,$AA$148,'ABT Transactions'!$C$9:$C$40,AC217,'ABT Transactions'!$D$9:$D$40,$B$153)","v":0},{"$f":"SUMIFS('ABT Transactions'!$B$9:$B$40,'ABT Transactions'!$J$9:$J$40,$C$215,'ABT Transactions'!$I$9:$I$40,$AD$148,'ABT Transactions'!$C$9:$C$40,AD217,'ABT Transactions'!$D$9:$D$40,$B$153)","v":0},{"$f":"SUMIFS('ABT Transactions'!$B$9:$B$40,'ABT Transactions'!$J$9:$J$40,$C$215,'ABT Transactions'!$I$9:$I$40,$AD$148,'ABT Transactions'!$C$9:$C$40,AE217,'ABT Transactions'!$D$9:$D$40,$B$153)","v":0},{"$f":"SUMIFS('ABT Transactions'!$B$9:$B$40,'ABT Transactions'!$J$9:$J$40,$C$215,'ABT Transactions'!$I$9:$I$40,$AD$148,'ABT Transactions'!$C$9:$C$40,AF217,'ABT Transactions'!$D$9:$D$40,$B$153)","v":0},{"$f":"SUMIFS('ABT Transactions'!$B$9:$B$40,'ABT Transactions'!$J$9:$J$40,$C$215,'ABT Transactions'!$I$9:$I$40,$AG$148,'ABT Transactions'!$C$9:$C$40,AG217,'ABT Transactions'!$D$9:$D$40,$B$153)","v":0},{"$f":"SUMIFS('ABT Transactions'!$B$9:$B$40,'ABT Transactions'!$J$9:$J$40,$C$215,'ABT Transactions'!$I$9:$I$40,$AG$148,'ABT Transactions'!$C$9:$C$40,AH217,'ABT Transactions'!$D$9:$D$40,$B$153)","v":0},{"$f":"SUMIFS('ABT Transactions'!$B$9:$B$40,'ABT Transactions'!$J$9:$J$40,$C$215,'ABT Transactions'!$I$9:$I$40,$AG$148,'ABT Transactions'!$C$9:$C$40,AI217,'ABT Transactions'!$D$9:$D$40,$B$153)","v":0},{"$f":"SUMIFS('ABT Transactions'!$B$9:$B$40,'ABT Transactions'!$J$9:$J$40,$C$215,'ABT Transactions'!$I$9:$I$40,$AJ$148,'ABT Transactions'!$C$9:$C$40,AJ217,'ABT Transactions'!$D$9:$D$40,$B$153)","v":0},{"$f":"SUMIFS('ABT Transactions'!$B$9:$B$40,'ABT Transactions'!$J$9:$J$40,$C$215,'ABT Transactions'!$I$9:$I$40,$AJ$148,'ABT Transactions'!$C$9:$C$40,AK217,'ABT Transactions'!$D$9:$D$40,$B$153)","v":0},{"$f":"SUMIFS('ABT Transactions'!$B$9:$B$40,'ABT Transactions'!$J$9:$J$40,$C$215,'ABT Transactions'!$I$9:$I$40,$AJ$148,'ABT Transactions'!$C$9:$C$40,AL217,'ABT Transactions'!$D$9:$D$40,$B$153)","v":0},{"$f":"SUMIFS('ABT Transactions'!$B$9:$B$40,'ABT Transactions'!$J$9:$J$40,$C$215,'ABT Transactions'!$I$9:$I$40,$AM$148,'ABT Transactions'!$C$9:$C$40,AM217,'ABT Transactions'!$D$9:$D$40,$B$153)","v":0},{"$f":"SUMIFS('ABT Transactions'!$B$9:$B$40,'ABT Transactions'!$J$9:$J$40,$C$215,'ABT Transactions'!$I$9:$I$40,$AM$148,'ABT Transactions'!$C$9:$C$40,AN217,'ABT Transactions'!$D$9:$D$40,$B$153)","v":0},{"$f":"SUMIFS('ABT Transactions'!$B$9:$B$40,'ABT Transactions'!$J$9:$J$40,$C$215,'ABT Transactions'!$I$9:$I$40,$AM$148,'ABT Transactions'!$C$9:$C$40,AO217,'ABT Transactions'!$D$9:$D$40,$B$153)","v":0},{"$f":"SUMIFS('ABT Transactions'!$B$9:$B$40,'ABT Transactions'!$J$9:$J$40,$C$215,'ABT Transactions'!$I$9:$I$40,$AP$148,'ABT Transactions'!$C$9:$C$40,AP217,'ABT Transactions'!$D$9:$D$40,$B$153)","v":0},{"$f":"SUMIFS('ABT Transactions'!$B$9:$B$40,'ABT Transactions'!$J$9:$J$40,$C$215,'ABT Transactions'!$I$9:$I$40,$AP$148,'ABT Transactions'!$C$9:$C$40,AQ217,'ABT Transactions'!$D$9:$D$40,$B$153)","v":0},{"$f":"SUMIFS('ABT Transactions'!$B$9:$B$40,'ABT Transactions'!$J$9:$J$40,$C$215,'ABT Transactions'!$I$9:$I$40,$AP$148,'ABT Transactions'!$C$9:$C$40,AR217,'ABT Transactions'!$D$9:$D$40,$B$153)","v":0},{"$f":"SUMIFS('ABT Transactions'!$B$9:$B$40,'ABT Transactions'!$J$9:$J$40,$C$215,'ABT Transactions'!$I$9:$I$40,$AS$148,'ABT Transactions'!$C$9:$C$40,AS217,'ABT Transactions'!$D$9:$D$40,$B$153)","v":0},{"$f":"SUMIFS('ABT Transactions'!$B$9:$B$40,'ABT Transactions'!$J$9:$J$40,$C$215,'ABT Transactions'!$I$9:$I$40,$AS$148,'ABT Transactions'!$C$9:$C$40,AT217,'ABT Transactions'!$D$9:$D$40,$B$153)","v":0},{"$f":"SUMIFS('ABT Transactions'!$B$9:$B$40,'ABT Transactions'!$J$9:$J$40,$C$215,'ABT Transactions'!$I$9:$I$40,$AS$148,'ABT Transactions'!$C$9:$C$40,AU217,'ABT Transactions'!$D$9:$D$40,$B$153)","v":0}]
[null,"Trade Out",{"$f":"SUMIFS('ABT Transactions'!$B$9:$B$40,'ABT Transactions'!$G$9:$G$40,$C$215,'ABT Transactions'!$F$9:$F$40,$C$148,'ABT Transactions'!$C$9:$C$40,C217,'ABT Transactions'!$D$9:$D$40,$B$154)","v":0},{"$f":"SUMIFS('ABT Transactions'!$B$9:$B$40,'ABT Transactions'!$G$9:$G$40,$C$215,'ABT Transactions'!$F$9:$F$40,$C$148,'ABT Transactions'!$C$9:$C$40,D217,'ABT Transactions'!$D$9:$D$40,$B$154)","v":0},{"$f":"SUMIFS('ABT Transactions'!$B$9:$B$40,'ABT Transactions'!$G$9:$G$40,$C$215,'ABT Transactions'!$F$9:$F$40,$C$148,'ABT Transactions'!$C$9:$C$40,E217,'ABT Transactions'!$D$9:$D$40,$B$154)","v":0},{"$f":"SUMIFS('ABT Transactions'!$B$9:$B$40,'ABT Transactions'!$G$9:$G$40,$C$215,'ABT Transactions'!$F$9:$F$40,$F$148,'ABT Transactions'!$C$9:$C$40,F217,'ABT Transactions'!$D$9:$D$40,$B$154)","v":0},{"$f":"SUMIFS('ABT Transactions'!$B$9:$B$40,'ABT Transactions'!$G$9:$G$40,$C$215,'ABT Transactions'!$F$9:$F$40,$F$148,'ABT Transactions'!$C$9:$C$40,G217,'ABT Transactions'!$D$9:$D$40,$B$154)","v":0},{"$f":"SUMIFS('ABT Transactions'!$B$9:$B$40,'ABT Transactions'!$G$9:$G$40,$C$215,'ABT Transactions'!$F$9:$F$40,$F$148,'ABT Transactions'!$C$9:$C$40,H217,'ABT Transactions'!$D$9:$D$40,$B$154)","v":0},{"$f":"SUMIFS('ABT Transactions'!$B$9:$B$40,'ABT Transactions'!$G$9:$G$40,$C$215,'ABT Transactions'!$F$9:$F$40,$I$148,'ABT Transactions'!$C$9:$C$40,I217,'ABT Transactions'!$D$9:$D$40,$B$154)","v":0},{"$f":"SUMIFS('ABT Transactions'!$B$9:$B$40,'ABT Transactions'!$G$9:$G$40,$C$215,'ABT Transactions'!$F$9:$F$40,$I$148,'ABT Transactions'!$C$9:$C$40,J217,'ABT Transactions'!$D$9:$D$40,$B$154)","v":0},{"$f":"SUMIFS('ABT Transactions'!$B$9:$B$40,'ABT Transactions'!$G$9:$G$40,$C$215,'ABT Transactions'!$F$9:$F$40,$I$148,'ABT Transactions'!$C$9:$C$40,K217,'ABT Transactions'!$D$9:$D$40,$B$154)","v":0},{"$f":"SUMIFS('ABT Transactions'!$B$9:$B$40,'ABT Transactions'!$G$9:$G$40,$C$215,'ABT Transactions'!$F$9:$F$40,$L$148,'ABT Transactions'!$C$9:$C$40,L217,'ABT Transactions'!$D$9:$D$40,$B$154)","v":0},{"$f":"SUMIFS('ABT Transactions'!$B$9:$B$40,'ABT Transactions'!$G$9:$G$40,$C$215,'ABT Transactions'!$F$9:$F$40,$L$148,'ABT Transactions'!$C$9:$C$40,M217,'ABT Transactions'!$D$9:$D$40,$B$154)","v":0},{"$f":"SUMIFS('ABT Transactions'!$B$9:$B$40,'ABT Transactions'!$G$9:$G$40,$C$215,'ABT Transactions'!$F$9:$F$40,$L$148,'ABT Transactions'!$C$9:$C$40,N217,'ABT Transactions'!$D$9:$D$40,$B$154)","v":0},{"$f":"SUMIFS('ABT Transactions'!$B$9:$B$40,'ABT Transactions'!$G$9:$G$40,$C$215,'ABT Transactions'!$F$9:$F$40,$O$148,'ABT Transactions'!$C$9:$C$40,O217,'ABT Transactions'!$D$9:$D$40,$B$154)","v":0},{"$f":"SUMIFS('ABT Transactions'!$B$9:$B$40,'ABT Transactions'!$G$9:$G$40,$C$215,'ABT Transactions'!$F$9:$F$40,$O$148,'ABT Transactions'!$C$9:$C$40,P217,'ABT Transactions'!$D$9:$D$40,$B$154)","v":0},{"$f":"SUMIFS('ABT Transactions'!$B$9:$B$40,'ABT Transactions'!$G$9:$G$40,$C$215,'ABT Transactions'!$F$9:$F$40,$O$148,'ABT Transactions'!$C$9:$C$40,Q217,'ABT Transactions'!$D$9:$D$40,$B$154)","v":0},{"$f":"SUMIFS('ABT Transactions'!$B$9:$B$40,'ABT Transactions'!$G$9:$G$40,$C$215,'ABT Transactions'!$F$9:$F$40,$R$148,'ABT Transactions'!$C$9:$C$40,R217,'ABT Transactions'!$D$9:$D$40,$B$154)","v":0},{"$f":"SUMIFS('ABT Transactions'!$B$9:$B$40,'ABT Transactions'!$G$9:$G$40,$C$215,'ABT Transactions'!$F$9:$F$40,$R$148,'ABT Transactions'!$C$9:$C$40,S217,'ABT Transactions'!$D$9:$D$40,$B$154)","v":0},{"$f":"SUMIFS('ABT Transactions'!$B$9:$B$40,'ABT Transactions'!$G$9:$G$40,$C$215,'ABT Transactions'!$F$9:$F$40,$R$148,'ABT Transactions'!$C$9:$C$40,T217,'ABT Transactions'!$D$9:$D$40,$B$154)","v":0},{"$f":"SUMIFS('ABT Transactions'!$B$9:$B$40,'ABT Transactions'!$G$9:$G$40,$C$215,'ABT Transactions'!$F$9:$F$40,$U$148,'ABT Transactions'!$C$9:$C$40,U217,'ABT Transactions'!$D$9:$D$40,$B$154)","v":0},{"$f":"SUMIFS('ABT Transactions'!$B$9:$B$40,'ABT Transactions'!$G$9:$G$40,$C$215,'ABT Transactions'!$F$9:$F$40,$U$148,'ABT Transactions'!$C$9:$C$40,V217,'ABT Transactions'!$D$9:$D$40,$B$154)","v":0},{"$f":"SUMIFS('ABT Transactions'!$B$9:$B$40,'ABT Transactions'!$G$9:$G$40,$C$215,'ABT Transactions'!$F$9:$F$40,U$148,'ABT Transactions'!$C$9:$C$40,W217,'ABT Transactions'!$D$9:$D$40,$B$154)","v":0},{"$f":"SUMIFS('ABT Transactions'!$B$9:$B$40,'ABT Transactions'!$G$9:$G$40,$C$215,'ABT Transactions'!$F$9:$F$40,$X$148,'ABT Transactions'!$C$9:$C$40,X217,'ABT Transactions'!$D$9:$D$40,$B$154)","v":0},{"$f":"SUMIFS('ABT Transactions'!$B$9:$B$40,'ABT Transactions'!$G$9:$G$40,$C$215,'ABT Transactions'!$F$9:$F$40,$X$148,'ABT Transactions'!$C$9:$C$40,Y217,'ABT Transactions'!$D$9:$D$40,$B$154)","v":0},{"$f":"SUMIFS('ABT Transactions'!$B$9:$B$40,'ABT Transactions'!$G$9:$G$40,$C$215,'ABT Transactions'!$F$9:$F$40,$X$148,'ABT Transactions'!$C$9:$C$40,Z217,'ABT Transactions'!$D$9:$D$40,$B$154)","v":0},{"$f":"SUMIFS('ABT Transactions'!$B$9:$B$40,'ABT Transactions'!$G$9:$G$40,$C$215,'ABT Transactions'!$F$9:$F$40,$AA$148,'ABT Transactions'!$C$9:$C$40,AA217,'ABT Transactions'!$D$9:$D$40,$B$154)","v":0},{"$f":"SUMIFS('ABT Transactions'!$B$9:$B$40,'ABT Transactions'!$G$9:$G$40,$C$215,'ABT Transactions'!$F$9:$F$40,$AA$148,'ABT Transactions'!$C$9:$C$40,AB217,'ABT Transactions'!$D$9:$D$40,$B$154)","v":0},{"$f":"SUMIFS('ABT Transactions'!$B$9:$B$40,'ABT Transactions'!$G$9:$G$40,$C$215,'ABT Transactions'!$F$9:$F$40,$AA$148,'ABT Transactions'!$C$9:$C$40,AC217,'ABT Transactions'!$D$9:$D$40,$B$154)","v":0},{"$f":"SUMIFS('ABT Transactions'!$B$9:$B$40,'ABT Transactions'!$G$9:$G$40,$C$215,'ABT Transactions'!$F$9:$F$40,$AD$148,'ABT Transactions'!$C$9:$C$40,AD217,'ABT Transactions'!$D$9:$D$40,$B$154)","v":0},{"$f":"SUMIFS('ABT Transactions'!$B$9:$B$40,'ABT Transactions'!$G$9:$G$40,$C$215,'ABT Transactions'!$F$9:$F$40,$AD$148,'ABT Transactions'!$C$9:$C$40,AE217,'ABT Transactions'!$D$9:$D$40,$B$154)","v":0},{"$f":"SUMIFS('ABT Transactions'!$B$9:$B$40,'ABT Transactions'!$G$9:$G$40,$C$215,'ABT Transactions'!$F$9:$F$40,$AD$148,'ABT Transactions'!$C$9:$C$40,AF217,'ABT Transactions'!$D$9:$D$40,$B$154)","v":0},{"$f":"SUMIFS('ABT Transactions'!$B$9:$B$40,'ABT Transactions'!$G$9:$G$40,$C$215,'ABT Transactions'!$F$9:$F$40,$AG$148,'ABT Transactions'!$C$9:$C$40,AG217,'ABT Transactions'!$D$9:$D$40,$B$154)","v":0},{"$f":"SUMIFS('ABT Transactions'!$B$9:$B$40,'ABT Transactions'!$G$9:$G$40,$C$215,'ABT Transactions'!$F$9:$F$40,$AG$148,'ABT Transactions'!$C$9:$C$40,AH217,'ABT Transactions'!$D$9:$D$40,$B$154)","v":0},{"$f":"SUMIFS('ABT Transactions'!$B$9:$B$40,'ABT Transactions'!$G$9:$G$40,$C$215,'ABT Transactions'!$F$9:$F$40,$AG$148,'ABT Transactions'!$C$9:$C$40,AI217,'ABT Transactions'!$D$9:$D$40,$B$154)","v":0},{"$f":"SUMIFS('ABT Transactions'!$B$9:$B$40,'ABT Transactions'!$G$9:$G$40,$C$215,'ABT Transactions'!$F$9:$F$40,$AJ$148,'ABT Transactions'!$C$9:$C$40,AJ217,'ABT Transactions'!$D$9:$D$40,$B$154)","v":0},{"$f":"SUMIFS('ABT Transactions'!$B$9:$B$40,'ABT Transactions'!$G$9:$G$40,$C$215,'ABT Transactions'!$F$9:$F$40,$AJ$148,'ABT Transactions'!$C$9:$C$40,AK217,'ABT Transactions'!$D$9:$D$40,$B$154)","v":0},{"$f":"SUMIFS('ABT Transactions'!$B$9:$B$40,'ABT Transactions'!$G$9:$G$40,$C$215,'ABT Transactions'!$F$9:$F$40,$AJ$148,'ABT Transactions'!$C$9:$C$40,AL217,'ABT Transactions'!$D$9:$D$40,$B$154)","v":0},{"$f":"SUMIFS('ABT Transactions'!$B$9:$B$40,'ABT Transactions'!$G$9:$G$40,$C$215,'ABT Transactions'!$F$9:$F$40,$AM$148,'ABT Transactions'!$C$9:$C$40,AM217,'ABT Transactions'!$D$9:$D$40,$B$154)","v":0},{"$f":"SUMIFS('ABT Transactions'!$B$9:$B$40,'ABT Transactions'!$G$9:$G$40,$C$215,'ABT Transactions'!$F$9:$F$40,$AM$148,'ABT Transactions'!$C$9:$C$40,AN217,'ABT Transactions'!$D$9:$D$40,$B$154)","v":0},{"$f":"SUMIFS('ABT Transactions'!$B$9:$B$40,'ABT Transactions'!$G$9:$G$40,$C$215,'ABT Transactions'!$F$9:$F$40,$AM$148,'ABT Transactions'!$C$9:$C$40,AO217,'ABT Transactions'!$D$9:$D$40,$B$154)","v":0},{"$f":"SUMIFS('ABT Transactions'!$B$9:$B$40,'ABT Transactions'!$G$9:$G$40,$C$215,'ABT Transactions'!$F$9:$F$40,$AP$148,'ABT Transactions'!$C$9:$C$40,AP217,'ABT Transactions'!$D$9:$D$40,$B$154)","v":0},{"$f":"SUMIFS('ABT Transactions'!$B$9:$B$40,'ABT Transactions'!$G$9:$G$40,$C$215,'ABT Transactions'!$F$9:$F$40,$AP$148,'ABT Transactions'!$C$9:$C$40,AQ217,'ABT Transactions'!$D$9:$D$40,$B$154)","v":0},{"$f":"SUMIFS('ABT Transactions'!$B$9:$B$40,'ABT Transactions'!$G$9:$G$40,$C$215,'ABT Transactions'!$F$9:$F$40,$AP$148,'ABT Transactions'!$C$9:$C$40,AR217,'ABT Transactions'!$D$9:$D$40,$B$154)","v":0},{"$f":"SUMIFS('ABT Transactions'!$B$9:$B$40,'ABT Transactions'!$G$9:$G$40,$C$215,'ABT Transactions'!$F$9:$F$40,$AS$148,'ABT Transactions'!$C$9:$C$40,AS217,'ABT Transactions'!$D$9:$D$40,$B$154)","v":0},{"$f":"SUMIFS('ABT Transactions'!$B$9:$B$40,'ABT Transactions'!$G$9:$G$40,$C$215,'ABT Transactions'!$F$9:$F$40,$AS$148,'ABT Transactions'!$C$9:$C$40,AT217,'ABT Transactions'!$D$9:$D$40,$B$154)","v":0},{"$f":"SUMIFS('ABT Transactions'!$B$9:$B$40,'ABT Transactions'!$G$9:$G$40,$C$215,'ABT Transactions'!$F$9:$F$40,$AS$148,'ABT Transactions'!$C$9:$C$40,AU217,'ABT Transactions'!$D$9:$D$40,$B$154)","v":0}]
[null,"Trade In",{"$f":"SUMIFS('ABT Transactions'!$B$9:$B$40,'ABT Transactions'!$J$9:$J$40,$C$215,'ABT Transactions'!$I$9:$I$40,$C$148,'ABT Transactions'!$C$9:$C$40,C217,'ABT Transactions'!$D$9:$D$40,$B$155)","v":0},{"$f":"SUMIFS('ABT Transactions'!$B$9:$B$40,'ABT Transactions'!$J$9:$J$40,$C$215,'ABT Transactions'!$I$9:$I$40,$C$148,'ABT Transactions'!$C$9:$C$40,D217,'ABT Transactions'!$D$9:$D$40,$B$155)","v":0},{"$f":"SUMIFS('ABT Transactions'!$B$9:$B$40,'ABT Transactions'!$J$9:$J$40,$C$215,'ABT Transactions'!$I$9:$I$40,$C$148,'ABT Transactions'!$C$9:$C$40,E217,'ABT Transactions'!$D$9:$D$40,$B$155)","v":0},{"$f":"SUMIFS('ABT Transactions'!$B$9:$B$40,'ABT Transactions'!$J$9:$J$40,$C$215,'ABT Transactions'!$I$9:$I$40,$F$148,'ABT Transactions'!$C$9:$C$40,F217,'ABT Transactions'!$D$9:$D$40,$B$155)","v":0},{"$f":"SUMIFS('ABT Transactions'!$B$9:$B$40,'ABT Transactions'!$J$9:$J$40,$C$215,'ABT Transactions'!$I$9:$I$40,$F$148,'ABT Transactions'!$C$9:$C$40,G217,'ABT Transactions'!$D$9:$D$40,$B$155)","v":0},{"$f":"SUMIFS('ABT Transactions'!$B$9:$B$40,'ABT Transactions'!$J$9:$J$40,$C$215,'ABT Transactions'!$I$9:$I$40,$F$148,'ABT Transactions'!$C$9:$C$40,H217,'ABT Transactions'!$D$9:$D$40,$B$155)","v":0},{"$f":"SUMIFS('ABT Transactions'!$B$9:$B$40,'ABT Transactions'!$J$9:$J$40,$C$215,'ABT Transactions'!$I$9:$I$40,$I$148,'ABT Transactions'!$C$9:$C$40,I217,'ABT Transactions'!$D$9:$D$40,$B$155)","v":0},{"$f":"SUMIFS('ABT Transactions'!$B$9:$B$40,'ABT Transactions'!$J$9:$J$40,$C$215,'ABT Transactions'!$I$9:$I$40,$I$148,'ABT Transactions'!$C$9:$C$40,J217,'ABT Transactions'!$D$9:$D$40,$B$155)","v":0},{"$f":"SUMIFS('ABT Transactions'!$B$9:$B$40,'ABT Transactions'!$J$9:$J$40,$C$215,'ABT Transactions'!$I$9:$I$40,$I$148,'ABT Transactions'!$C$9:$C$40,K217,'ABT Transactions'!$D$9:$D$40,$B$155)","v":0},{"$f":"SUMIFS('ABT Transactions'!$B$9:$B$40,'ABT Transactions'!$J$9:$J$40,$C$215,'ABT Transactions'!$I$9:$I$40,$L$148,'ABT Transactions'!$C$9:$C$40,L217,'ABT Transactions'!$D$9:$D$40,$B$155)","v":0},{"$f":"SUMIFS('ABT Transactions'!$B$9:$B$40,'ABT Transactions'!$J$9:$J$40,$C$215,'ABT Transactions'!$I$9:$I$40,$L$148,'ABT Transactions'!$C$9:$C$40,M217,'ABT Transactions'!$D$9:$D$40,$B$155)","v":0},{"$f":"SUMIFS('ABT Transactions'!$B$9:$B$40,'ABT Transactions'!$J$9:$J$40,$C$215,'ABT Transactions'!$I$9:$I$40,$L$148,'ABT Transactions'!$C$9:$C$40,N217,'ABT Transactions'!$D$9:$D$40,$B$155)","v":0},{"$f":"SUMIFS('ABT Transactions'!$B$9:$B$40,'ABT Transactions'!$J$9:$J$40,$C$215,'ABT Transactions'!$I$9:$I$40,$O$148,'ABT Transactions'!$C$9:$C$40,O217,'ABT Transactions'!$D$9:$D$40,$B$155)","v":0},{"$f":"SUMIFS('ABT Transactions'!$B$9:$B$40,'ABT Transactions'!$J$9:$J$40,$C$215,'ABT Transactions'!$I$9:$I$40,$O$148,'ABT Transactions'!$C$9:$C$40,P217,'ABT Transactions'!$D$9:$D$40,$B$155)","v":0},{"$f":"SUMIFS('ABT Transactions'!$B$9:$B$40,'ABT Transactions'!$J$9:$J$40,$C$215,'ABT Transactions'!$I$9:$I$40,$O$148,'ABT Transactions'!$C$9:$C$40,Q217,'ABT Transactions'!$D$9:$D$40,$B$155)","v":0},{"$f":"SUMIFS('ABT Transactions'!$B$9:$B$40,'ABT Transactions'!$J$9:$J$40,$C$215,'ABT Transactions'!$I$9:$I$40,$R$148,'ABT Transactions'!$C$9:$C$40,R217,'ABT Transactions'!$D$9:$D$40,$B$155)","v":0},{"$f":"SUMIFS('ABT Transactions'!$B$9:$B$40,'ABT Transactions'!$J$9:$J$40,$C$215,'ABT Transactions'!$I$9:$I$40,$R$148,'ABT Transactions'!$C$9:$C$40,S217,'ABT Transactions'!$D$9:$D$40,$B$155)","v":0},{"$f":"SUMIFS('ABT Transactions'!$B$9:$B$40,'ABT Transactions'!$J$9:$J$40,$C$215,'ABT Transactions'!$I$9:$I$40,$R$148,'ABT Transactions'!$C$9:$C$40,T217,'ABT Transactions'!$D$9:$D$40,$B$155)","v":0},{"$f":"SUMIFS('ABT Transactions'!$B$9:$B$40,'ABT Transactions'!$J$9:$J$40,$C$215,'ABT Transactions'!$I$9:$I$40,$U$148,'ABT Transactions'!$C$9:$C$40,U217,'ABT Transactions'!$D$9:$D$40,$B$155)","v":0},{"$f":"SUMIFS('ABT Transactions'!$B$9:$B$40,'ABT Transactions'!$J$9:$J$40,$C$215,'ABT Transactions'!$I$9:$I$40,$U$148,'ABT Transactions'!$C$9:$C$40,V217,'ABT Transactions'!$D$9:$D$40,$B$155)","v":0},{"$f":"SUMIFS('ABT Transactions'!$B$9:$B$40,'ABT Transactions'!$J$9:$J$40,$C$215,'ABT Transactions'!$I$9:$I$40,U$148,'ABT Transactions'!$C$9:$C$40,W217,'ABT Transactions'!$D$9:$D$40,$B$155)","v":0},{"$f":"SUMIFS('ABT Transactions'!$B$9:$B$40,'ABT Transactions'!$J$9:$J$40,$C$215,'ABT Transactions'!$I$9:$I$40,$X$148,'ABT Transactions'!$C$9:$C$40,X217,'ABT Transactions'!$D$9:$D$40,$B$155)","v":0},{"$f":"SUMIFS('ABT Transactions'!$B$9:$B$40,'ABT Transactions'!$J$9:$J$40,$C$215,'ABT Transactions'!$I$9:$I$40,$X$148,'ABT Transactions'!$C$9:$C$40,Y217,'ABT Transactions'!$D$9:$D$40,$B$155)","v":0},{"$f":"SUMIFS('ABT Transactions'!$B$9:$B$40,'ABT Transactions'!$J$9:$J$40,$C$215,'ABT Transactions'!$I$9:$I$40,$X$148,'ABT Transactions'!$C$9:$C$40,Z217,'ABT Transactions'!$D$9:$D$40,$B$155)","v":0},{"$f":"SUMIFS('ABT Transactions'!$B$9:$B$40,'ABT Transactions'!$J$9:$J$40,$C$215,'ABT Transactions'!$I$9:$I$40,$AA$148,'ABT Transactions'!$C$9:$C$40,AA217,'ABT Transactions'!$D$9:$D$40,$B$155)","v":0},{"$f":"SUMIFS('ABT Transactions'!$B$9:$B$40,'ABT Transactions'!$J$9:$J$40,$C$215,'ABT Transactions'!$I$9:$I$40,$AA$148,'ABT Transactions'!$C$9:$C$40,AB217,'ABT Transactions'!$D$9:$D$40,$B$155)","v":0},{"$f":"SUMIFS('ABT Transactions'!$B$9:$B$40,'ABT Transactions'!$J$9:$J$40,$C$215,'ABT Transactions'!$I$9:$I$40,$AA$148,'ABT Transactions'!$C$9:$C$40,AC217,'ABT Transactions'!$D$9:$D$40,$B$155)","v":0},{"$f":"SUMIFS('ABT Transactions'!$B$9:$B$40,'ABT Transactions'!$J$9:$J$40,$C$215,'ABT Transactions'!$I$9:$I$40,$AD$148,'ABT Transactions'!$C$9:$C$40,AD217,'ABT Transactions'!$D$9:$D$40,$B$155)","v":0},{"$f":"SUMIFS('ABT Transactions'!$B$9:$B$40,'ABT Transactions'!$J$9:$J$40,$C$215,'ABT Transactions'!$I$9:$I$40,$AD$148,'ABT Transactions'!$C$9:$C$40,AE217,'ABT Transactions'!$D$9:$D$40,$B$155)","v":0},{"$f":"SUMIFS('ABT Transactions'!$B$9:$B$40,'ABT Transactions'!$J$9:$J$40,$C$215,'ABT Transactions'!$I$9:$I$40,$AD$148,'ABT Transactions'!$C$9:$C$40,AF217,'ABT Transactions'!$D$9:$D$40,$B$155)","v":0},{"$f":"SUMIFS('ABT Transactions'!$B$9:$B$40,'ABT Transactions'!$J$9:$J$40,$C$215,'ABT Transactions'!$I$9:$I$40,$AG$148,'ABT Transactions'!$C$9:$C$40,AG217,'ABT Transactions'!$D$9:$D$40,$B$155)","v":0},{"$f":"SUMIFS('ABT Transactions'!$B$9:$B$40,'ABT Transactions'!$J$9:$J$40,$C$215,'ABT Transactions'!$I$9:$I$40,$AG$148,'ABT Transactions'!$C$9:$C$40,AH217,'ABT Transactions'!$D$9:$D$40,$B$155)","v":0},{"$f":"SUMIFS('ABT Transactions'!$B$9:$B$40,'ABT Transactions'!$J$9:$J$40,$C$215,'ABT Transactions'!$I$9:$I$40,$AG$148,'ABT Transactions'!$C$9:$C$40,AI217,'ABT Transactions'!$D$9:$D$40,$B$155)","v":0},{"$f":"SUMIFS('ABT Transactions'!$B$9:$B$40,'ABT Transactions'!$J$9:$J$40,$C$215,'ABT Transactions'!$I$9:$I$40,$AJ$148,'ABT Transactions'!$C$9:$C$40,AJ217,'ABT Transactions'!$D$9:$D$40,$B$155)","v":0},{"$f":"SUMIFS('ABT Transactions'!$B$9:$B$40,'ABT Transactions'!$J$9:$J$40,$C$215,'ABT Transactions'!$I$9:$I$40,$AJ$148,'ABT Transactions'!$C$9:$C$40,AK217,'ABT Transactions'!$D$9:$D$40,$B$155)","v":0},{"$f":"SUMIFS('ABT Transactions'!$B$9:$B$40,'ABT Transactions'!$J$9:$J$40,$C$215,'ABT Transactions'!$I$9:$I$40,$AJ$148,'ABT Transactions'!$C$9:$C$40,AL217,'ABT Transactions'!$D$9:$D$40,$B$155)","v":0},{"$f":"SUMIFS('ABT Transactions'!$B$9:$B$40,'ABT Transactions'!$J$9:$J$40,$C$215,'ABT Transactions'!$I$9:$I$40,$AM$148,'ABT Transactions'!$C$9:$C$40,AM217,'ABT Transactions'!$D$9:$D$40,$B$155)","v":0},{"$f":"SUMIFS('ABT Transactions'!$B$9:$B$40,'ABT Transactions'!$J$9:$J$40,$C$215,'ABT Transactions'!$I$9:$I$40,$AM$148,'ABT Transactions'!$C$9:$C$40,AN217,'ABT Transactions'!$D$9:$D$40,$B$155)","v":0},{"$f":"SUMIFS('ABT Transactions'!$B$9:$B$40,'ABT Transactions'!$J$9:$J$40,$C$215,'ABT Transactions'!$I$9:$I$40,$AM$148,'ABT Transactions'!$C$9:$C$40,AO217,'ABT Transactions'!$D$9:$D$40,$B$155)","v":0},{"$f":"SUMIFS('ABT Transactions'!$B$9:$B$40,'ABT Transactions'!$J$9:$J$40,$C$215,'ABT Transactions'!$I$9:$I$40,$AP$148,'ABT Transactions'!$C$9:$C$40,AP217,'ABT Transactions'!$D$9:$D$40,$B$155)","v":0},{"$f":"SUMIFS('ABT Transactions'!$B$9:$B$40,'ABT Transactions'!$J$9:$J$40,$C$215,'ABT Transactions'!$I$9:$I$40,$AP$148,'ABT Transactions'!$C$9:$C$40,AQ217,'ABT Transactions'!$D$9:$D$40,$B$155)","v":0},{"$f":"SUMIFS('ABT Transactions'!$B$9:$B$40,'ABT Transactions'!$J$9:$J$40,$C$215,'ABT Transactions'!$I$9:$I$40,$AP$148,'ABT Transactions'!$C$9:$C$40,AR217,'ABT Transactions'!$D$9:$D$40,$B$155)","v":0},{"$f":"SUMIFS('ABT Transactions'!$B$9:$B$40,'ABT Transactions'!$J$9:$J$40,$C$215,'ABT Transactions'!$I$9:$I$40,$AS$148,'ABT Transactions'!$C$9:$C$40,AS217,'ABT Transactions'!$D$9:$D$40,$B$155)","v":0},{"$f":"SUMIFS('ABT Transactions'!$B$9:$B$40,'ABT Transactions'!$J$9:$J$40,$C$215,'ABT Transactions'!$I$9:$I$40,$AS$148,'ABT Transactions'!$C$9:$C$40,AT217,'ABT Transactions'!$D$9:$D$40,$B$155)","v":0},{"$f":"SUMIFS('ABT Transactions'!$B$9:$B$40,'ABT Transactions'!$J$9:$J$40,$C$215,'ABT Transactions'!$I$9:$I$40,$AS$148,'ABT Transactions'!$C$9:$C$40,AU217,'ABT Transactions'!$D$9:$D$40,$B$155)","v":0}]
[null,"Transfer ADV Credits (out)",{"$f":"SUMIFS('ABT Transactions'!$B$9:$B$40,'ABT Transactions'!$G$9:$G$40,$C$215,'ABT Transactions'!$F$9:$F$40,$C$148,'ABT Transactions'!$C$9:$C$40,C217,'ABT Transactions'!$D$9:$D$40,$B$156)","v":0},{"$f":"SUMIFS('ABT Transactions'!$B$9:$B$40,'ABT Transactions'!$G$9:$G$40,$C$215,'ABT Transactions'!$F$9:$F$40,$C$148,'ABT Transactions'!$C$9:$C$40,D217,'ABT Transactions'!$D$9:$D$40,$B$156)","v":0},{"$f":"SUMIFS('ABT Transactions'!$B$9:$B$40,'ABT Transactions'!$G$9:$G$40,$C$215,'ABT Transactions'!$F$9:$F$40,$C$148,'ABT Transactions'!$C$9:$C$40,E217,'ABT Transactions'!$D$9:$D$40,$B$156)","v":0},{"$f":"SUMIFS('ABT Transactions'!$B$9:$B$40,'ABT Transactions'!$G$9:$G$40,$C$215,'ABT Transactions'!$F$9:$F$40,$F$148,'ABT Transactions'!$C$9:$C$40,F217,'ABT Transactions'!$D$9:$D$40,$B$156)","v":0},{"$f":"SUMIFS('ABT Transactions'!$B$9:$B$40,'ABT Transactions'!$G$9:$G$40,$C$215,'ABT Transactions'!$F$9:$F$40,$F$148,'ABT Transactions'!$C$9:$C$40,G217,'ABT Transactions'!$D$9:$D$40,$B$156)","v":0},{"$f":"SUMIFS('ABT Transactions'!$B$9:$B$40,'ABT Transactions'!$G$9:$G$40,$C$215,'ABT Transactions'!$F$9:$F$40,$F$148,'ABT Transactions'!$C$9:$C$40,H217,'ABT Transactions'!$D$9:$D$40,$B$156)","v":0},{"$f":"SUMIFS('ABT Transactions'!$B$9:$B$40,'ABT Transactions'!$G$9:$G$40,$C$215,'ABT Transactions'!$F$9:$F$40,$I$148,'ABT Transactions'!$C$9:$C$40,I217,'ABT Transactions'!$D$9:$D$40,$B$156)","v":0},{"$f":"SUMIFS('ABT Transactions'!$B$9:$B$40,'ABT Transactions'!$G$9:$G$40,$C$215,'ABT Transactions'!$F$9:$F$40,$I$148,'ABT Transactions'!$C$9:$C$40,J217,'ABT Transactions'!$D$9:$D$40,$B$156)","v":0},{"$f":"SUMIFS('ABT Transactions'!$B$9:$B$40,'ABT Transactions'!$G$9:$G$40,$C$215,'ABT Transactions'!$F$9:$F$40,$I$148,'ABT Transactions'!$C$9:$C$40,K217,'ABT Transactions'!$D$9:$D$40,$B$156)","v":0},{"$f":"SUMIFS('ABT Transactions'!$B$9:$B$40,'ABT Transactions'!$G$9:$G$40,$C$215,'ABT Transactions'!$F$9:$F$40,$L$148,'ABT Transactions'!$C$9:$C$40,L217,'ABT Transactions'!$D$9:$D$40,$B$156)","v":0},{"$f":"SUMIFS('ABT Transactions'!$B$9:$B$40,'ABT Transactions'!$G$9:$G$40,$C$215,'ABT Transactions'!$F$9:$F$40,$L$148,'ABT Transactions'!$C$9:$C$40,M217,'ABT Transactions'!$D$9:$D$40,$B$156)","v":0},{"$f":"SUMIFS('ABT Transactions'!$B$9:$B$40,'ABT Transactions'!$G$9:$G$40,$C$215,'ABT Transactions'!$F$9:$F$40,$L$148,'ABT Transactions'!$C$9:$C$40,N217,'ABT Transactions'!$D$9:$D$40,$B$156)","v":0},{"$f":"SUMIFS('ABT Transactions'!$B$9:$B$40,'ABT Transactions'!$G$9:$G$40,$C$215,'ABT Transactions'!$F$9:$F$40,$O$148,'ABT Transactions'!$C$9:$C$40,O217,'ABT Transactions'!$D$9:$D$40,$B$156)","v":0},{"$f":"SUMIFS('ABT Transactions'!$B$9:$B$40,'ABT Transactions'!$G$9:$G$40,$C$215,'ABT Transactions'!$F$9:$F$40,$O$148,'ABT Transactions'!$C$9:$C$40,P217,'ABT Transactions'!$D$9:$D$40,$B$156)","v":0},{"$f":"SUMIFS('ABT Transactions'!$B$9:$B$40,'ABT Transactions'!$G$9:$G$40,$C$215,'ABT Transactions'!$F$9:$F$40,$O$148,'ABT Transactions'!$C$9:$C$40,Q217,'ABT Transactions'!$D$9:$D$40,$B$156)","v":0},{"$f":"SUMIFS('ABT Transactions'!$B$9:$B$40,'ABT Transactions'!$G$9:$G$40,$C$215,'ABT Transactions'!$F$9:$F$40,$R$148,'ABT Transactions'!$C$9:$C$40,R217,'ABT Transactions'!$D$9:$D$40,$B$156)","v":0},{"$f":"SUMIFS('ABT Transactions'!$B$9:$B$40,'ABT Transactions'!$G$9:$G$40,$C$215,'ABT Transactions'!$F$9:$F$40,$R$148,'ABT Transactions'!$C$9:$C$40,S217,'ABT Transactions'!$D$9:$D$40,$B$156)","v":0},{"$f":"SUMIFS('ABT Transactions'!$B$9:$B$40,'ABT Transactions'!$G$9:$G$40,$C$215,'ABT Transactions'!$F$9:$F$40,$R$148,'ABT Transactions'!$C$9:$C$40,T217,'ABT Transactions'!$D$9:$D$40,$B$156)","v":0},{"$f":"SUMIFS('ABT Transactions'!$B$9:$B$40,'ABT Transactions'!$G$9:$G$40,$C$215,'ABT Transactions'!$F$9:$F$40,$U$148,'ABT Transactions'!$C$9:$C$40,U217,'ABT Transactions'!$D$9:$D$40,$B$156)","v":0},{"$f":"SUMIFS('ABT Transactions'!$B$9:$B$40,'ABT Transactions'!$G$9:$G$40,$C$215,'ABT Transactions'!$F$9:$F$40,$U$148,'ABT Transactions'!$C$9:$C$40,V217,'ABT Transactions'!$D$9:$D$40,$B$156)","v":0},{"$f":"SUMIFS('ABT Transactions'!$B$9:$B$40,'ABT Transactions'!$G$9:$G$40,$C$215,'ABT Transactions'!$F$9:$F$40,U$148,'ABT Transactions'!$C$9:$C$40,W217,'ABT Transactions'!$D$9:$D$40,$B$156)","v":0},{"$f":"SUMIFS('ABT Transactions'!$B$9:$B$40,'ABT Transactions'!$G$9:$G$40,$C$215,'ABT Transactions'!$F$9:$F$40,$X$148,'ABT Transactions'!$C$9:$C$40,X217,'ABT Transactions'!$D$9:$D$40,$B$156)","v":0},{"$f":"SUMIFS('ABT Transactions'!$B$9:$B$40,'ABT Transactions'!$G$9:$G$40,$C$215,'ABT Transactions'!$F$9:$F$40,$X$148,'ABT Transactions'!$C$9:$C$40,Y217,'ABT Transactions'!$D$9:$D$40,$B$156)","v":0},{"$f":"SUMIFS('ABT Transactions'!$B$9:$B$40,'ABT Transactions'!$G$9:$G$40,$C$215,'ABT Transactions'!$F$9:$F$40,$X$148,'ABT Transactions'!$C$9:$C$40,Z217,'ABT Transactions'!$D$9:$D$40,$B$156)","v":0},{"$f":"SUMIFS('ABT Transactions'!$B$9:$B$40,'ABT Transactions'!$G$9:$G$40,$C$215,'ABT Transactions'!$F$9:$F$40,$AA$148,'ABT Transactions'!$C$9:$C$40,AA217,'ABT Transactions'!$D$9:$D$40,$B$156)","v":0},{"$f":"SUMIFS('ABT Transactions'!$B$9:$B$40,'ABT Transactions'!$G$9:$G$40,$C$215,'ABT Transactions'!$F$9:$F$40,$AA$148,'ABT Transactions'!$C$9:$C$40,AB217,'ABT Transactions'!$D$9:$D$40,$B$156)","v":0},{"$f":"SUMIFS('ABT Transactions'!$B$9:$B$40,'ABT Transactions'!$G$9:$G$40,$C$215,'ABT Transactions'!$F$9:$F$40,$AA$148,'ABT Transactions'!$C$9:$C$40,AC217,'ABT Transactions'!$D$9:$D$40,$B$156)","v":0},{"$f":"SUMIFS('ABT Transactions'!$B$9:$B$40,'ABT Transactions'!$G$9:$G$40,$C$215,'ABT Transactions'!$F$9:$F$40,$AD$148,'ABT Transactions'!$C$9:$C$40,AD217,'ABT Transactions'!$D$9:$D$40,$B$156)","v":0},{"$f":"SUMIFS('ABT Transactions'!$B$9:$B$40,'ABT Transactions'!$G$9:$G$40,$C$215,'ABT Transactions'!$F$9:$F$40,$AD$148,'ABT Transactions'!$C$9:$C$40,AE217,'ABT Transactions'!$D$9:$D$40,$B$156)","v":0},{"$f":"SUMIFS('ABT Transactions'!$B$9:$B$40,'ABT Transactions'!$G$9:$G$40,$C$215,'ABT Transactions'!$F$9:$F$40,$AD$148,'ABT Transactions'!$C$9:$C$40,AF217,'ABT Transactions'!$D$9:$D$40,$B$156)","v":0},{"$f":"SUMIFS('ABT Transactions'!$B$9:$B$40,'ABT Transactions'!$G$9:$G$40,$C$215,'ABT Transactions'!$F$9:$F$40,$AG$148,'ABT Transactions'!$C$9:$C$40,AG217,'ABT Transactions'!$D$9:$D$40,$B$156)","v":0},{"$f":"SUMIFS('ABT Transactions'!$B$9:$B$40,'ABT Transactions'!$G$9:$G$40,$C$215,'ABT Transactions'!$F$9:$F$40,$AG$148,'ABT Transactions'!$C$9:$C$40,AH217,'ABT Transactions'!$D$9:$D$40,$B$156)","v":0},{"$f":"SUMIFS('ABT Transactions'!$B$9:$B$40,'ABT Transactions'!$G$9:$G$40,$C$215,'ABT Transactions'!$F$9:$F$40,$AG$148,'ABT Transactions'!$C$9:$C$40,AI217,'ABT Transactions'!$D$9:$D$40,$B$156)","v":0},{"$f":"SUMIFS('ABT Transactions'!$B$9:$B$40,'ABT Transactions'!$G$9:$G$40,$C$215,'ABT Transactions'!$F$9:$F$40,$AJ$148,'ABT Transactions'!$C$9:$C$40,AJ217,'ABT Transactions'!$D$9:$D$40,$B$156)","v":0},{"$f":"SUMIFS('ABT Transactions'!$B$9:$B$40,'ABT Transactions'!$G$9:$G$40,$C$215,'ABT Transactions'!$F$9:$F$40,$AJ$148,'ABT Transactions'!$C$9:$C$40,AK217,'ABT Transactions'!$D$9:$D$40,$B$156)","v":0},{"$f":"SUMIFS('ABT Transactions'!$B$9:$B$40,'ABT Transactions'!$G$9:$G$40,$C$215,'ABT Transactions'!$F$9:$F$40,$AJ$148,'ABT Transactions'!$C$9:$C$40,AL217,'ABT Transactions'!$D$9:$D$40,$B$156)","v":0},{"$f":"SUMIFS('ABT Transactions'!$B$9:$B$40,'ABT Transactions'!$G$9:$G$40,$C$215,'ABT Transactions'!$F$9:$F$40,$AM$148,'ABT Transactions'!$C$9:$C$40,AM217,'ABT Transactions'!$D$9:$D$40,$B$156)","v":0},{"$f":"SUMIFS('ABT Transactions'!$B$9:$B$40,'ABT Transactions'!$G$9:$G$40,$C$215,'ABT Transactions'!$F$9:$F$40,$AM$148,'ABT Transactions'!$C$9:$C$40,AN217,'ABT Transactions'!$D$9:$D$40,$B$156)","v":0},{"$f":"SUMIFS('ABT Transactions'!$B$9:$B$40,'ABT Transactions'!$G$9:$G$40,$C$215,'ABT Transactions'!$F$9:$F$40,$AM$148,'ABT Transactions'!$C$9:$C$40,AO217,'ABT Transactions'!$D$9:$D$40,$B$156)","v":0},{"$f":"SUMIFS('ABT Transactions'!$B$9:$B$40,'ABT Transactions'!$G$9:$G$40,$C$215,'ABT Transactions'!$F$9:$F$40,$AP$148,'ABT Transactions'!$C$9:$C$40,AP217,'ABT Transactions'!$D$9:$D$40,$B$156)","v":0},{"$f":"SUMIFS('ABT Transactions'!$B$9:$B$40,'ABT Transactions'!$G$9:$G$40,$C$215,'ABT Transactions'!$F$9:$F$40,$AP$148,'ABT Transactions'!$C$9:$C$40,AQ217,'ABT Transactions'!$D$9:$D$40,$B$156)","v":0},{"$f":"SUMIFS('ABT Transactions'!$B$9:$B$40,'ABT Transactions'!$G$9:$G$40,$C$215,'ABT Transactions'!$F$9:$F$40,$AP$148,'ABT Transactions'!$C$9:$C$40,AR217,'ABT Transactions'!$D$9:$D$40,$B$156)","v":0},{"$f":"SUMIFS('ABT Transactions'!$B$9:$B$40,'ABT Transactions'!$G$9:$G$40,$C$215,'ABT Transactions'!$F$9:$F$40,$AS$148,'ABT Transactions'!$C$9:$C$40,AS217,'ABT Transactions'!$D$9:$D$40,$B$156)","v":0},{"$f":"SUMIFS('ABT Transactions'!$B$9:$B$40,'ABT Transactions'!$G$9:$G$40,$C$215,'ABT Transactions'!$F$9:$F$40,$AS$148,'ABT Transactions'!$C$9:$C$40,AT217,'ABT Transactions'!$D$9:$D$40,$B$156)","v":0},{"$f":"SUMIFS('ABT Transactions'!$B$9:$B$40,'ABT Transactions'!$G$9:$G$40,$C$215,'ABT Transactions'!$F$9:$F$40,$AS$148,'ABT Transactions'!$C$9:$C$40,AU217,'ABT Transactions'!$D$9:$D$40,$B$156)","v":0}]
[null,"Transfer ADV Credits (in)",{"$f":"SUMIFS('ABT Transactions'!$B$9:$B$40,'ABT Transactions'!$J$9:$J$40,$C$215,'ABT Transactions'!$I$9:$I$40,$C$148,'ABT Transactions'!$C$9:$C$40,C217,'ABT Transactions'!$D$9:$D$40,$B$157)","v":0},{"$f":"SUMIFS('ABT Transactions'!$B$9:$B$40,'ABT Transactions'!$J$9:$J$40,$C$215,'ABT Transactions'!$I$9:$I$40,$C$148,'ABT Transactions'!$C$9:$C$40,D217,'ABT Transactions'!$D$9:$D$40,$B$157)","v":0},{"$f":"SUMIFS('ABT Transactions'!$B$9:$B$40,'ABT Transactions'!$J$9:$J$40,$C$215,'ABT Transactions'!$I$9:$I$40,$C$148,'ABT Transactions'!$C$9:$C$40,E217,'ABT Transactions'!$D$9:$D$40,$B$157)","v":0},{"$f":"SUMIFS('ABT Transactions'!$B$9:$B$40,'ABT Transactions'!$J$9:$J$40,$C$215,'ABT Transactions'!$I$9:$I$40,$F$148,'ABT Transactions'!$C$9:$C$40,F217,'ABT Transactions'!$D$9:$D$40,$B$157)","v":0},{"$f":"SUMIFS('ABT Transactions'!$B$9:$B$40,'ABT Transactions'!$J$9:$J$40,$C$215,'ABT Transactions'!$I$9:$I$40,$F$148,'ABT Transactions'!$C$9:$C$40,G217,'ABT Transactions'!$D$9:$D$40,$B$157)","v":0},{"$f":"SUMIFS('ABT Transactions'!$B$9:$B$40,'ABT Transactions'!$J$9:$J$40,$C$215,'ABT Transactions'!$I$9:$I$40,$F$148,'ABT Transactions'!$C$9:$C$40,H217,'ABT Transactions'!$D$9:$D$40,$B$157)","v":0},{"$f":"SUMIFS('ABT Transactions'!$B$9:$B$40,'ABT Transactions'!$J$9:$J$40,$C$215,'ABT Transactions'!$I$9:$I$40,$I$148,'ABT Transactions'!$C$9:$C$40,I217,'ABT Transactions'!$D$9:$D$40,$B$157)","v":0},{"$f":"SUMIFS('ABT Transactions'!$B$9:$B$40,'ABT Transactions'!$J$9:$J$40,$C$215,'ABT Transactions'!$I$9:$I$40,$I$148,'ABT Transactions'!$C$9:$C$40,J217,'ABT Transactions'!$D$9:$D$40,$B$157)","v":0},{"$f":"SUMIFS('ABT Transactions'!$B$9:$B$40,'ABT Transactions'!$J$9:$J$40,$C$215,'ABT Transactions'!$I$9:$I$40,$I$148,'ABT Transactions'!$C$9:$C$40,K217,'ABT Transactions'!$D$9:$D$40,$B$157)","v":0},{"$f":"SUMIFS('ABT Transactions'!$B$9:$B$40,'ABT Transactions'!$J$9:$J$40,$C$215,'ABT Transactions'!$I$9:$I$40,$L$148,'ABT Transactions'!$C$9:$C$40,L217,'ABT Transactions'!$D$9:$D$40,$B$157)","v":0},{"$f":"SUMIFS('ABT Transactions'!$B$9:$B$40,'ABT Transactions'!$J$9:$J$40,$C$215,'ABT Transactions'!$I$9:$I$40,$L$148,'ABT Transactions'!$C$9:$C$40,M217,'ABT Transactions'!$D$9:$D$40,$B$157)","v":0},{"$f":"SUMIFS('ABT Transactions'!$B$9:$B$40,'ABT Transactions'!$J$9:$J$40,$C$215,'ABT Transactions'!$I$9:$I$40,$L$148,'ABT Transactions'!$C$9:$C$40,N217,'ABT Transactions'!$D$9:$D$40,$B$157)","v":0},{"$f":"SUMIFS('ABT Transactions'!$B$9:$B$40,'ABT Transactions'!$J$9:$J$40,$C$215,'ABT Transactions'!$I$9:$I$40,$O$148,'ABT Transactions'!$C$9:$C$40,O217,'ABT Transactions'!$D$9:$D$40,$B$157)","v":0},{"$f":"SUMIFS('ABT Transactions'!$B$9:$B$40,'ABT Transactions'!$J$9:$J$40,$C$215,'ABT Transactions'!$I$9:$I$40,$O$148,'ABT Transactions'!$C$9:$C$40,P217,'ABT Transactions'!$D$9:$D$40,$B$157)","v":0},{"$f":"SUMIFS('ABT Transactions'!$B$9:$B$40,'ABT Transactions'!$J$9:$J$40,$C$215,'ABT Transactions'!$I$9:$I$40,$O$148,'ABT Transactions'!$C$9:$C$40,Q217,'ABT Transactions'!$D$9:$D$40,$B$157)","v":0},{"$f":"SUMIFS('ABT Transactions'!$B$9:$B$40,'ABT Transactions'!$J$9:$J$40,$C$215,'ABT Transactions'!$I$9:$I$40,$R$148,'ABT Transactions'!$C$9:$C$40,R217,'ABT Transactions'!$D$9:$D$40,$B$157)","v":0},{"$f":"SUMIFS('ABT Transactions'!$B$9:$B$40,'ABT Transactions'!$J$9:$J$40,$C$215,'ABT Transactions'!$I$9:$I$40,$R$148,'ABT Transactions'!$C$9:$C$40,S217,'ABT Transactions'!$D$9:$D$40,$B$157)","v":0},{"$f":"SUMIFS('ABT Transactions'!$B$9:$B$40,'ABT Transactions'!$J$9:$J$40,$C$215,'ABT Transactions'!$I$9:$I$40,$R$148,'ABT Transactions'!$C$9:$C$40,T217,'ABT Transactions'!$D$9:$D$40,$B$157)","v":0},{"$f":"SUMIFS('ABT Transactions'!$B$9:$B$40,'ABT Transactions'!$J$9:$J$40,$C$215,'ABT Transactions'!$I$9:$I$40,$U$148,'ABT Transactions'!$C$9:$C$40,U217,'ABT Transactions'!$D$9:$D$40,$B$157)","v":0},{"$f":"SUMIFS('ABT Transactions'!$B$9:$B$40,'ABT Transactions'!$J$9:$J$40,$C$215,'ABT Transactions'!$I$9:$I$40,$U$148,'ABT Transactions'!$C$9:$C$40,V217,'ABT Transactions'!$D$9:$D$40,$B$157)","v":0},{"$f":"SUMIFS('ABT Transactions'!$B$9:$B$40,'ABT Transactions'!$J$9:$J$40,$C$215,'ABT Transactions'!$I$9:$I$40,U$148,'ABT Transactions'!$C$9:$C$40,W217,'ABT Transactions'!$D$9:$D$40,$B$157)","v":0},{"$f":"SUMIFS('ABT Transactions'!$B$9:$B$40,'ABT Transactions'!$J$9:$J$40,$C$215,'ABT Transactions'!$I$9:$I$40,$X$148,'ABT Transactions'!$C$9:$C$40,X217,'ABT Transactions'!$D$9:$D$40,$B$157)","v":0},{"$f":"SUMIFS('ABT Transactions'!$B$9:$B$40,'ABT Transactions'!$J$9:$J$40,$C$215,'ABT Transactions'!$I$9:$I$40,$X$148,'ABT Transactions'!$C$9:$C$40,Y217,'ABT Transactions'!$D$9:$D$40,$B$157)","v":0},{"$f":"SUMIFS('ABT Transactions'!$B$9:$B$40,'ABT Transactions'!$J$9:$J$40,$C$215,'ABT Transactions'!$I$9:$I$40,$X$148,'ABT Transactions'!$C$9:$C$40,Z217,'ABT Transactions'!$D$9:$D$40,$B$157)","v":0},{"$f":"SUMIFS('ABT Transactions'!$B$9:$B$40,'ABT Transactions'!$J$9:$J$40,$C$215,'ABT Transactions'!$I$9:$I$40,$AA$148,'ABT Transactions'!$C$9:$C$40,AA217,'ABT Transactions'!$D$9:$D$40,$B$157)","v":0},{"$f":"SUMIFS('ABT Transactions'!$B$9:$B$40,'ABT Transactions'!$J$9:$J$40,$C$215,'ABT Transactions'!$I$9:$I$40,$AA$148,'ABT Transactions'!$C$9:$C$40,AB217,'ABT Transactions'!$D$9:$D$40,$B$157)","v":0},{"$f":"SUMIFS('ABT Transactions'!$B$9:$B$40,'ABT Transactions'!$J$9:$J$40,$C$215,'ABT Transactions'!$I$9:$I$40,$AA$148,'ABT Transactions'!$C$9:$C$40,AC217,'ABT Transactions'!$D$9:$D$40,$B$157)","v":0},{"$f":"SUMIFS('ABT Transactions'!$B$9:$B$40,'ABT Transactions'!$J$9:$J$40,$C$215,'ABT Transactions'!$I$9:$I$40,$AD$148,'ABT Transactions'!$C$9:$C$40,AD217,'ABT Transactions'!$D$9:$D$40,$B$157)","v":0},{"$f":"SUMIFS('ABT Transactions'!$B$9:$B$40,'ABT Transactions'!$J$9:$J$40,$C$215,'ABT Transactions'!$I$9:$I$40,$AD$148,'ABT Transactions'!$C$9:$C$40,AE217,'ABT Transactions'!$D$9:$D$40,$B$157)","v":0},{"$f":"SUMIFS('ABT Transactions'!$B$9:$B$40,'ABT Transactions'!$J$9:$J$40,$C$215,'ABT Transactions'!$I$9:$I$40,$AD$148,'ABT Transactions'!$C$9:$C$40,AF217,'ABT Transactions'!$D$9:$D$40,$B$157)","v":0},{"$f":"SUMIFS('ABT Transactions'!$B$9:$B$40,'ABT Transactions'!$J$9:$J$40,$C$215,'ABT Transactions'!$I$9:$I$40,$AG$148,'ABT Transactions'!$C$9:$C$40,AG217,'ABT Transactions'!$D$9:$D$40,$B$157)","v":0},{"$f":"SUMIFS('ABT Transactions'!$B$9:$B$40,'ABT Transactions'!$J$9:$J$40,$C$215,'ABT Transactions'!$I$9:$I$40,$AG$148,'ABT Transactions'!$C$9:$C$40,AH217,'ABT Transactions'!$D$9:$D$40,$B$157)","v":0},{"$f":"SUMIFS('ABT Transactions'!$B$9:$B$40,'ABT Transactions'!$J$9:$J$40,$C$215,'ABT Transactions'!$I$9:$I$40,$AG$148,'ABT Transactions'!$C$9:$C$40,AI217,'ABT Transactions'!$D$9:$D$40,$B$157)","v":0},{"$f":"SUMIFS('ABT Transactions'!$B$9:$B$40,'ABT Transactions'!$J$9:$J$40,$C$215,'ABT Transactions'!$I$9:$I$40,$AJ$148,'ABT Transactions'!$C$9:$C$40,AJ217,'ABT Transactions'!$D$9:$D$40,$B$157)","v":0},{"$f":"SUMIFS('ABT Transactions'!$B$9:$B$40,'ABT Transactions'!$J$9:$J$40,$C$215,'ABT Transactions'!$I$9:$I$40,$AJ$148,'ABT Transactions'!$C$9:$C$40,AK217,'ABT Transactions'!$D$9:$D$40,$B$157)","v":0},{"$f":"SUMIFS('ABT Transactions'!$B$9:$B$40,'ABT Transactions'!$J$9:$J$40,$C$215,'ABT Transactions'!$I$9:$I$40,$AJ$148,'ABT Transactions'!$C$9:$C$40,AL217,'ABT Transactions'!$D$9:$D$40,$B$157)","v":0},{"$f":"SUMIFS('ABT Transactions'!$B$9:$B$40,'ABT Transactions'!$J$9:$J$40,$C$215,'ABT Transactions'!$I$9:$I$40,$AM$148,'ABT Transactions'!$C$9:$C$40,AM217,'ABT Transactions'!$D$9:$D$40,$B$157)","v":0},{"$f":"SUMIFS('ABT Transactions'!$B$9:$B$40,'ABT Transactions'!$J$9:$J$40,$C$215,'ABT Transactions'!$I$9:$I$40,$AM$148,'ABT Transactions'!$C$9:$C$40,AN217,'ABT Transactions'!$D$9:$D$40,$B$157)","v":0},{"$f":"SUMIFS('ABT Transactions'!$B$9:$B$40,'ABT Transactions'!$J$9:$J$40,$C$215,'ABT Transactions'!$I$9:$I$40,$AM$148,'ABT Transactions'!$C$9:$C$40,AO217,'ABT Transactions'!$D$9:$D$40,$B$157)","v":0},{"$f":"SUMIFS('ABT Transactions'!$B$9:$B$40,'ABT Transactions'!$J$9:$J$40,$C$215,'ABT Transactions'!$I$9:$I$40,$AP$148,'ABT Transactions'!$C$9:$C$40,AP217,'ABT Transactions'!$D$9:$D$40,$B$157)","v":0},{"$f":"SUMIFS('ABT Transactions'!$B$9:$B$40,'ABT Transactions'!$J$9:$J$40,$C$215,'ABT Transactions'!$I$9:$I$40,$AP$148,'ABT Transactions'!$C$9:$C$40,AQ217,'ABT Transactions'!$D$9:$D$40,$B$157)","v":0},{"$f":"SUMIFS('ABT Transactions'!$B$9:$B$40,'ABT Transactions'!$J$9:$J$40,$C$215,'ABT Transactions'!$I$9:$I$40,$AP$148,'ABT Transactions'!$C$9:$C$40,AR217,'ABT Transactions'!$D$9:$D$40,$B$157)","v":0},{"$f":"SUMIFS('ABT Transactions'!$B$9:$B$40,'ABT Transactions'!$J$9:$J$40,$C$215,'ABT Transactions'!$I$9:$I$40,$AS$148,'ABT Transactions'!$C$9:$C$40,AS217,'ABT Transactions'!$D$9:$D$40,$B$157)","v":0},{"$f":"SUMIFS('ABT Transactions'!$B$9:$B$40,'ABT Transactions'!$J$9:$J$40,$C$215,'ABT Transactions'!$I$9:$I$40,$AS$148,'ABT Transactions'!$C$9:$C$40,AT217,'ABT Transactions'!$D$9:$D$40,$B$157)","v":0},{"$f":"SUMIFS('ABT Transactions'!$B$9:$B$40,'ABT Transactions'!$J$9:$J$40,$C$215,'ABT Transactions'!$I$9:$I$40,$AS$148,'ABT Transactions'!$C$9:$C$40,AU217,'ABT Transactions'!$D$9:$D$40,$B$157)","v":0}]
[null,"Retired Credits",{"$f":"SUMIFS('ABT Transactions'!$B$9:$B$40,'ABT Transactions'!$G$9:$G$40,$C$215,'ABT Transactions'!$F$9:$F$40,$C$148,'ABT Transactions'!$C$9:$C$40,C217,'ABT Transactions'!$D$9:$D$40,$B$158)","v":0},{"$f":"SUMIFS('ABT Transactions'!$B$9:$B$40,'ABT Transactions'!$G$9:$G$40,$C$215,'ABT Transactions'!$F$9:$F$40,$C$148,'ABT Transactions'!$C$9:$C$40,D217,'ABT Transactions'!$D$9:$D$40,$B$158)","v":0},{"$f":"SUMIFS('ABT Transactions'!$B$9:$B$40,'ABT Transactions'!$G$9:$G$40,$C$215,'ABT Transactions'!$F$9:$F$40,$C$148,'ABT Transactions'!$C$9:$C$40,E217,'ABT Transactions'!$D$9:$D$40,$B$158)","v":0},{"$f":"SUMIFS('ABT Transactions'!$B$9:$B$40,'ABT Transactions'!$G$9:$G$40,$C$215,'ABT Transactions'!$F$9:$F$40,$F$148,'ABT Transactions'!$C$9:$C$40,F217,'ABT Transactions'!$D$9:$D$40,$B$158)","v":0},{"$f":"SUMIFS('ABT Transactions'!$B$9:$B$40,'ABT Transactions'!$G$9:$G$40,$C$215,'ABT Transactions'!$F$9:$F$40,$F$148,'ABT Transactions'!$C$9:$C$40,G217,'ABT Transactions'!$D$9:$D$40,$B$158)","v":0},{"$f":"SUMIFS('ABT Transactions'!$B$9:$B$40,'ABT Transactions'!$G$9:$G$40,$C$215,'ABT Transactions'!$F$9:$F$40,$F$148,'ABT Transactions'!$C$9:$C$40,H217,'ABT Transactions'!$D$9:$D$40,$B$158)","v":0},{"$f":"SUMIFS('ABT Transactions'!$B$9:$B$40,'ABT Transactions'!$G$9:$G$40,$C$215,'ABT Transactions'!$F$9:$F$40,$I$148,'ABT Transactions'!$C$9:$C$40,I217,'ABT Transactions'!$D$9:$D$40,$B$158)","v":0},{"$f":"SUMIFS('ABT Transactions'!$B$9:$B$40,'ABT Transactions'!$G$9:$G$40,$C$215,'ABT Transactions'!$F$9:$F$40,$I$148,'ABT Transactions'!$C$9:$C$40,J217,'ABT Transactions'!$D$9:$D$40,$B$158)","v":0},{"$f":"SUMIFS('ABT Transactions'!$B$9:$B$40,'ABT Transactions'!$G$9:$G$40,$C$215,'ABT Transactions'!$F$9:$F$40,$I$148,'ABT Transactions'!$C$9:$C$40,K217,'ABT Transactions'!$D$9:$D$40,$B$158)","v":0},{"$f":"SUMIFS('ABT Transactions'!$B$9:$B$40,'ABT Transactions'!$G$9:$G$40,$C$215,'ABT Transactions'!$F$9:$F$40,$L$148,'ABT Transactions'!$C$9:$C$40,L217,'ABT Transactions'!$D$9:$D$40,$B$158)","v":0},{"$f":"SUMIFS('ABT Transactions'!$B$9:$B$40,'ABT Transactions'!$G$9:$G$40,$C$215,'ABT Transactions'!$F$9:$F$40,$L$148,'ABT Transactions'!$C$9:$C$40,M217,'ABT Transactions'!$D$9:$D$40,$B$158)","v":0},{"$f":"SUMIFS('ABT Transactions'!$B$9:$B$40,'ABT Transactions'!$G$9:$G$40,$C$215,'ABT Transactions'!$F$9:$F$40,$L$148,'ABT Transactions'!$C$9:$C$40,N217,'ABT Transactions'!$D$9:$D$40,$B$158)","v":0},{"$f":"SUMIFS('ABT Transactions'!$B$9:$B$40,'ABT Transactions'!$G$9:$G$40,$C$215,'ABT Transactions'!$F$9:$F$40,$O$148,'ABT Transactions'!$C$9:$C$40,O217,'ABT Transactions'!$D$9:$D$40,$B$158)","v":0},{"$f":"SUMIFS('ABT Transactions'!$B$9:$B$40,'ABT Transactions'!$G$9:$G$40,$C$215,'ABT Transactions'!$F$9:$F$40,$O$148,'ABT Transactions'!$C$9:$C$40,P217,'ABT Transactions'!$D$9:$D$40,$B$158)","v":0},{"$f":"SUMIFS('ABT Transactions'!$B$9:$B$40,'ABT Transactions'!$G$9:$G$40,$C$215,'ABT Transactions'!$F$9:$F$40,$O$148,'ABT Transactions'!$C$9:$C$40,Q217,'ABT Transactions'!$D$9:$D$40,$B$158)","v":0},{"$f":"SUMIFS('ABT Transactions'!$B$9:$B$40,'ABT Transactions'!$G$9:$G$40,$C$215,'ABT Transactions'!$F$9:$F$40,$R$148,'ABT Transactions'!$C$9:$C$40,R217,'ABT Transactions'!$D$9:$D$40,$B$158)","v":0},{"$f":"SUMIFS('ABT Transactions'!$B$9:$B$40,'ABT Transactions'!$G$9:$G$40,$C$215,'ABT Transactions'!$F$9:$F$40,$R$148,'ABT Transactions'!$C$9:$C$40,S217,'ABT Transactions'!$D$9:$D$40,$B$158)","v":0},{"$f":"SUMIFS('ABT Transactions'!$B$9:$B$40,'ABT Transactions'!$G$9:$G$40,$C$215,'ABT Transactions'!$F$9:$F$40,$R$148,'ABT Transactions'!$C$9:$C$40,T217,'ABT Transactions'!$D$9:$D$40,$B$158)","v":0},{"$f":"SUMIFS('ABT Transactions'!$B$9:$B$40,'ABT Transactions'!$G$9:$G$40,$C$215,'ABT Transactions'!$F$9:$F$40,$U$148,'ABT Transactions'!$C$9:$C$40,U217,'ABT Transactions'!$D$9:$D$40,$B$158)","v":0},{"$f":"SUMIFS('ABT Transactions'!$B$9:$B$40,'ABT Transactions'!$G$9:$G$40,$C$215,'ABT Transactions'!$F$9:$F$40,$U$148,'ABT Transactions'!$C$9:$C$40,V217,'ABT Transactions'!$D$9:$D$40,$B$158)","v":0},{"$f":"SUMIFS('ABT Transactions'!$B$9:$B$40,'ABT Transactions'!$G$9:$G$40,$C$215,'ABT Transactions'!$F$9:$F$40,U$148,'ABT Transactions'!$C$9:$C$40,W217,'ABT Transactions'!$D$9:$D$40,$B$158)","v":0},{"$f":"SUMIFS('ABT Transactions'!$B$9:$B$40,'ABT Transactions'!$G$9:$G$40,$C$215,'ABT Transactions'!$F$9:$F$40,$X$148,'ABT Transactions'!$C$9:$C$40,X217,'ABT Transactions'!$D$9:$D$40,$B$158)","v":0},{"$f":"SUMIFS('ABT Transactions'!$B$9:$B$40,'ABT Transactions'!$G$9:$G$40,$C$215,'ABT Transactions'!$F$9:$F$40,$X$148,'ABT Transactions'!$C$9:$C$40,Y217,'ABT Transactions'!$D$9:$D$40,$B$158)","v":0},{"$f":"SUMIFS('ABT Transactions'!$B$9:$B$40,'ABT Transactions'!$G$9:$G$40,$C$215,'ABT Transactions'!$F$9:$F$40,$X$148,'ABT Transactions'!$C$9:$C$40,Z217,'ABT Transactions'!$D$9:$D$40,$B$158)","v":0},{"$f":"SUMIFS('ABT Transactions'!$B$9:$B$40,'ABT Transactions'!$G$9:$G$40,$C$215,'ABT Transactions'!$F$9:$F$40,$AA$148,'ABT Transactions'!$C$9:$C$40,AA217,'ABT Transactions'!$D$9:$D$40,$B$158)","v":0},{"$f":"SUMIFS('ABT Transactions'!$B$9:$B$40,'ABT Transactions'!$G$9:$G$40,$C$215,'ABT Transactions'!$F$9:$F$40,$AA$148,'ABT Transactions'!$C$9:$C$40,AB217,'ABT Transactions'!$D$9:$D$40,$B$158)","v":0},{"$f":"SUMIFS('ABT Transactions'!$B$9:$B$40,'ABT Transactions'!$G$9:$G$40,$C$215,'ABT Transactions'!$F$9:$F$40,$AA$148,'ABT Transactions'!$C$9:$C$40,AC217,'ABT Transactions'!$D$9:$D$40,$B$158)","v":0},{"$f":"SUMIFS('ABT Transactions'!$B$9:$B$40,'ABT Transactions'!$G$9:$G$40,$C$215,'ABT Transactions'!$F$9:$F$40,$AD$148,'ABT Transactions'!$C$9:$C$40,AD217,'ABT Transactions'!$D$9:$D$40,$B$158)","v":0},{"$f":"SUMIFS('ABT Transactions'!$B$9:$B$40,'ABT Transactions'!$G$9:$G$40,$C$215,'ABT Transactions'!$F$9:$F$40,$AD$148,'ABT Transactions'!$C$9:$C$40,AE217,'ABT Transactions'!$D$9:$D$40,$B$158)","v":0},{"$f":"SUMIFS('ABT Transactions'!$B$9:$B$40,'ABT Transactions'!$G$9:$G$40,$C$215,'ABT Transactions'!$F$9:$F$40,$AD$148,'ABT Transactions'!$C$9:$C$40,AF217,'ABT Transactions'!$D$9:$D$40,$B$158)","v":0},{"$f":"SUMIFS('ABT Transactions'!$B$9:$B$40,'ABT Transactions'!$G$9:$G$40,$C$215,'ABT Transactions'!$F$9:$F$40,$AG$148,'ABT Transactions'!$C$9:$C$40,AG217,'ABT Transactions'!$D$9:$D$40,$B$158)","v":0},{"$f":"SUMIFS('ABT Transactions'!$B$9:$B$40,'ABT Transactions'!$G$9:$G$40,$C$215,'ABT Transactions'!$F$9:$F$40,$AG$148,'ABT Transactions'!$C$9:$C$40,AH217,'ABT Transactions'!$D$9:$D$40,$B$158)","v":0},{"$f":"SUMIFS('ABT Transactions'!$B$9:$B$40,'ABT Transactions'!$G$9:$G$40,$C$215,'ABT Transactions'!$F$9:$F$40,$AG$148,'ABT Transactions'!$C$9:$C$40,AI217,'ABT Transactions'!$D$9:$D$40,$B$158)","v":0},{"$f":"SUMIFS('ABT Transactions'!$B$9:$B$40,'ABT Transactions'!$G$9:$G$40,$C$215,'ABT Transactions'!$F$9:$F$40,$AJ$148,'ABT Transactions'!$C$9:$C$40,AJ217,'ABT Transactions'!$D$9:$D$40,$B$158)","v":0},{"$f":"SUMIFS('ABT Transactions'!$B$9:$B$40,'ABT Transactions'!$G$9:$G$40,$C$215,'ABT Transactions'!$F$9:$F$40,$AJ$148,'ABT Transactions'!$C$9:$C$40,AK217,'ABT Transactions'!$D$9:$D$40,$B$158)","v":0},{"$f":"SUMIFS('ABT Transactions'!$B$9:$B$40,'ABT Transactions'!$G$9:$G$40,$C$215,'ABT Transactions'!$F$9:$F$40,$AJ$148,'ABT Transactions'!$C$9:$C$40,AL217,'ABT Transactions'!$D$9:$D$40,$B$158)","v":0},{"$f":"SUMIFS('ABT Transactions'!$B$9:$B$40,'ABT Transactions'!$G$9:$G$40,$C$215,'ABT Transactions'!$F$9:$F$40,$AM$148,'ABT Transactions'!$C$9:$C$40,AM217,'ABT Transactions'!$D$9:$D$40,$B$158)","v":0},{"$f":"SUMIFS('ABT Transactions'!$B$9:$B$40,'ABT Transactions'!$G$9:$G$40,$C$215,'ABT Transactions'!$F$9:$F$40,$AM$148,'ABT Transactions'!$C$9:$C$40,AN217,'ABT Transactions'!$D$9:$D$40,$B$158)","v":0},{"$f":"SUMIFS('ABT Transactions'!$B$9:$B$40,'ABT Transactions'!$G$9:$G$40,$C$215,'ABT Transactions'!$F$9:$F$40,$AM$148,'ABT Transactions'!$C$9:$C$40,AO217,'ABT Transactions'!$D$9:$D$40,$B$158)","v":0},{"$f":"SUMIFS('ABT Transactions'!$B$9:$B$40,'ABT Transactions'!$G$9:$G$40,$C$215,'ABT Transactions'!$F$9:$F$40,$AP$148,'ABT Transactions'!$C$9:$C$40,AP217,'ABT Transactions'!$D$9:$D$40,$B$158)","v":0},{"$f":"SUMIFS('ABT Transactions'!$B$9:$B$40,'ABT Transactions'!$G$9:$G$40,$C$215,'ABT Transactions'!$F$9:$F$40,$AP$148,'ABT Transactions'!$C$9:$C$40,AQ217,'ABT Transactions'!$D$9:$D$40,$B$158)","v":0},{"$f":"SUMIFS('ABT Transactions'!$B$9:$B$40,'ABT Transactions'!$G$9:$G$40,$C$215,'ABT Transactions'!$F$9:$F$40,$AP$148,'ABT Transactions'!$C$9:$C$40,AR217,'ABT Transactions'!$D$9:$D$40,$B$158)","v":0},{"$f":"SUMIFS('ABT Transactions'!$B$9:$B$40,'ABT Transactions'!$G$9:$G$40,$C$215,'ABT Transactions'!$F$9:$F$40,$AS$148,'ABT Transactions'!$C$9:$C$40,AS217,'ABT Transactions'!$D$9:$D$40,$B$158)","v":0},{"$f":"SUMIFS('ABT Transactions'!$B$9:$B$40,'ABT Transactions'!$G$9:$G$40,$C$215,'ABT Transactions'!$F$9:$F$40,$AS$148,'ABT Transactions'!$C$9:$C$40,AT217,'ABT Transactions'!$D$9:$D$40,$B$158)","v":0},{"$f":"SUMIFS('ABT Transactions'!$B$9:$B$40,'ABT Transactions'!$G$9:$G$40,$C$215,'ABT Transactions'!$F$9:$F$40,$AS$148,'ABT Transactions'!$C$9:$C$40,AU217,'ABT Transactions'!$D$9:$D$40,$B$158)","v":0}]
[null,"Expired Credits",{"$f":"SUMIFS('ABT Transactions'!$B$9:$B$40,'ABT Transactions'!$G$9:$G$40,$C$215,'ABT Transactions'!$F$9:$F$40,$C$148,'ABT Transactions'!$C$9:$C$40,C217,'ABT Transactions'!$D$9:$D$40,$B$159)","v":0},{"$f":"SUMIFS('ABT Transactions'!$B$9:$B$40,'ABT Transactions'!$G$9:$G$40,$C$215,'ABT Transactions'!$F$9:$F$40,$C$148,'ABT Transactions'!$C$9:$C$40,D217,'ABT Transactions'!$D$9:$D$40,$B$159)","v":0},{"$f":"SUMIFS('ABT Transactions'!$B$9:$B$40,'ABT Transactions'!$G$9:$G$40,$C$215,'ABT Transactions'!$F$9:$F$40,$C$148,'ABT Transactions'!$C$9:$C$40,E217,'ABT Transactions'!$D$9:$D$40,$B$159)","v":0},{"$f":"SUMIFS('ABT Transactions'!$B$9:$B$40,'ABT Transactions'!$G$9:$G$40,$C$215,'ABT Transactions'!$F$9:$F$40,$F$148,'ABT Transactions'!$C$9:$C$40,F217,'ABT Transactions'!$D$9:$D$40,$B$159)","v":0},{"$f":"SUMIFS('ABT Transactions'!$B$9:$B$40,'ABT Transactions'!$G$9:$G$40,$C$215,'ABT Transactions'!$F$9:$F$40,$F$148,'ABT Transactions'!$C$9:$C$40,G217,'ABT Transactions'!$D$9:$D$40,$B$159)","v":0},{"$f":"SUMIFS('ABT Transactions'!$B$9:$B$40,'ABT Transactions'!$G$9:$G$40,$C$215,'ABT Transactions'!$F$9:$F$40,$F$148,'ABT Transactions'!$C$9:$C$40,H217,'ABT Transactions'!$D$9:$D$40,$B$159)","v":0},{"$f":"SUMIFS('ABT Transactions'!$B$9:$B$40,'ABT Transactions'!$G$9:$G$40,$C$215,'ABT Transactions'!$F$9:$F$40,$I$148,'ABT Transactions'!$C$9:$C$40,I217,'ABT Transactions'!$D$9:$D$40,$B$159)","v":0},{"$f":"SUMIFS('ABT Transactions'!$B$9:$B$40,'ABT Transactions'!$G$9:$G$40,$C$215,'ABT Transactions'!$F$9:$F$40,$I$148,'ABT Transactions'!$C$9:$C$40,J217,'ABT Transactions'!$D$9:$D$40,$B$159)","v":0},{"$f":"SUMIFS('ABT Transactions'!$B$9:$B$40,'ABT Transactions'!$G$9:$G$40,$C$215,'ABT Transactions'!$F$9:$F$40,$I$148,'ABT Transactions'!$C$9:$C$40,K217,'ABT Transactions'!$D$9:$D$40,$B$159)","v":0},{"$f":"SUMIFS('ABT Transactions'!$B$9:$B$40,'ABT Transactions'!$G$9:$G$40,$C$215,'ABT Transactions'!$F$9:$F$40,$L$148,'ABT Transactions'!$C$9:$C$40,L217,'ABT Transactions'!$D$9:$D$40,$B$159)","v":0},{"$f":"SUMIFS('ABT Transactions'!$B$9:$B$40,'ABT Transactions'!$G$9:$G$40,$C$215,'ABT Transactions'!$F$9:$F$40,$L$148,'ABT Transactions'!$C$9:$C$40,M217,'ABT Transactions'!$D$9:$D$40,$B$159)","v":0},{"$f":"SUMIFS('ABT Transactions'!$B$9:$B$40,'ABT Transactions'!$G$9:$G$40,$C$215,'ABT Transactions'!$F$9:$F$40,$L$148,'ABT Transactions'!$C$9:$C$40,N217,'ABT Transactions'!$D$9:$D$40,$B$159)","v":0},{"$f":"SUMIFS('ABT Transactions'!$B$9:$B$40,'ABT Transactions'!$G$9:$G$40,$C$215,'ABT Transactions'!$F$9:$F$40,$O$148,'ABT Transactions'!$C$9:$C$40,O217,'ABT Transactions'!$D$9:$D$40,$B$159)","v":0},{"$f":"SUMIFS('ABT Transactions'!$B$9:$B$40,'ABT Transactions'!$G$9:$G$40,$C$215,'ABT Transactions'!$F$9:$F$40,$O$148,'ABT Transactions'!$C$9:$C$40,P217,'ABT Transactions'!$D$9:$D$40,$B$159)","v":0},{"$f":"SUMIFS('ABT Transactions'!$B$9:$B$40,'ABT Transactions'!$G$9:$G$40,$C$215,'ABT Transactions'!$F$9:$F$40,$O$148,'ABT Transactions'!$C$9:$C$40,Q217,'ABT Transactions'!$D$9:$D$40,$B$159)","v":0},{"$f":"SUMIFS('ABT Transactions'!$B$9:$B$40,'ABT Transactions'!$G$9:$G$40,$C$215,'ABT Transactions'!$F$9:$F$40,$R$148,'ABT Transactions'!$C$9:$C$40,R217,'ABT Transactions'!$D$9:$D$40,$B$159)","v":0},{"$f":"SUMIFS('ABT Transactions'!$B$9:$B$40,'ABT Transactions'!$G$9:$G$40,$C$215,'ABT Transactions'!$F$9:$F$40,$R$148,'ABT Transactions'!$C$9:$C$40,S217,'ABT Transactions'!$D$9:$D$40,$B$159)","v":0},{"$f":"SUMIFS('ABT Transactions'!$B$9:$B$40,'ABT Transactions'!$G$9:$G$40,$C$215,'ABT Transactions'!$F$9:$F$40,$R$148,'ABT Transactions'!$C$9:$C$40,T217,'ABT Transactions'!$D$9:$D$40,$B$159)","v":0},{"$f":"SUMIFS('ABT Transactions'!$B$9:$B$40,'ABT Transactions'!$G$9:$G$40,$C$215,'ABT Transactions'!$F$9:$F$40,$U$148,'ABT Transactions'!$C$9:$C$40,U217,'ABT Transactions'!$D$9:$D$40,$B$159)","v":0},{"$f":"SUMIFS('ABT Transactions'!$B$9:$B$40,'ABT Transactions'!$G$9:$G$40,$C$215,'ABT Transactions'!$F$9:$F$40,$U$148,'ABT Transactions'!$C$9:$C$40,V217,'ABT Transactions'!$D$9:$D$40,$B$159)","v":0},{"$f":"SUMIFS('ABT Transactions'!$B$9:$B$40,'ABT Transactions'!$G$9:$G$40,$C$215,'ABT Transactions'!$F$9:$F$40,U$148,'ABT Transactions'!$C$9:$C$40,W217,'ABT Transactions'!$D$9:$D$40,$B$159)","v":0},{"$f":"SUMIFS('ABT Transactions'!$B$9:$B$40,'ABT Transactions'!$G$9:$G$40,$C$215,'ABT Transactions'!$F$9:$F$40,$X$148,'ABT Transactions'!$C$9:$C$40,X217,'ABT Transactions'!$D$9:$D$40,$B$159)","v":0},{"$f":"SUMIFS('ABT Transactions'!$B$9:$B$40,'ABT Transactions'!$G$9:$G$40,$C$215,'ABT Transactions'!$F$9:$F$40,$X$148,'ABT Transactions'!$C$9:$C$40,Y217,'ABT Transactions'!$D$9:$D$40,$B$159)","v":0},{"$f":"SUMIFS('ABT Transactions'!$B$9:$B$40,'ABT Transactions'!$G$9:$G$40,$C$215,'ABT Transactions'!$F$9:$F$40,$X$148,'ABT Transactions'!$C$9:$C$40,Z217,'ABT Transactions'!$D$9:$D$40,$B$159)","v":0},{"$f":"SUMIFS('ABT Transactions'!$B$9:$B$40,'ABT Transactions'!$G$9:$G$40,$C$215,'ABT Transactions'!$F$9:$F$40,$AA$148,'ABT Transactions'!$C$9:$C$40,AA217,'ABT Transactions'!$D$9:$D$40,$B$159)","v":0},{"$f":"SUMIFS('ABT Transactions'!$B$9:$B$40,'ABT Transactions'!$G$9:$G$40,$C$215,'ABT Transactions'!$F$9:$F$40,$AA$148,'ABT Transactions'!$C$9:$C$40,AB217,'ABT Transactions'!$D$9:$D$40,$B$159)","v":0},{"$f":"SUMIFS('ABT Transactions'!$B$9:$B$40,'ABT Transactions'!$G$9:$G$40,$C$215,'ABT Transactions'!$F$9:$F$40,$AA$148,'ABT Transactions'!$C$9:$C$40,AC217,'ABT Transactions'!$D$9:$D$40,$B$159)","v":0},{"$f":"SUMIFS('ABT Transactions'!$B$9:$B$40,'ABT Transactions'!$G$9:$G$40,$C$215,'ABT Transactions'!$F$9:$F$40,$AD$148,'ABT Transactions'!$C$9:$C$40,AD217,'ABT Transactions'!$D$9:$D$40,$B$159)","v":0},{"$f":"SUMIFS('ABT Transactions'!$B$9:$B$40,'ABT Transactions'!$G$9:$G$40,$C$215,'ABT Transactions'!$F$9:$F$40,$AD$148,'ABT Transactions'!$C$9:$C$40,AE217,'ABT Transactions'!$D$9:$D$40,$B$159)","v":0},{"$f":"SUMIFS('ABT Transactions'!$B$9:$B$40,'ABT Transactions'!$G$9:$G$40,$C$215,'ABT Transactions'!$F$9:$F$40,$AD$148,'ABT Transactions'!$C$9:$C$40,AF217,'ABT Transactions'!$D$9:$D$40,$B$159)","v":0},{"$f":"SUMIFS('ABT Transactions'!$B$9:$B$40,'ABT Transactions'!$G$9:$G$40,$C$215,'ABT Transactions'!$F$9:$F$40,$AG$148,'ABT Transactions'!$C$9:$C$40,AG217,'ABT Transactions'!$D$9:$D$40,$B$159)","v":0},{"$f":"SUMIFS('ABT Transactions'!$B$9:$B$40,'ABT Transactions'!$G$9:$G$40,$C$215,'ABT Transactions'!$F$9:$F$40,$AG$148,'ABT Transactions'!$C$9:$C$40,AH217,'ABT Transactions'!$D$9:$D$40,$B$159)","v":0},{"$f":"SUMIFS('ABT Transactions'!$B$9:$B$40,'ABT Transactions'!$G$9:$G$40,$C$215,'ABT Transactions'!$F$9:$F$40,$AG$148,'ABT Transactions'!$C$9:$C$40,AI217,'ABT Transactions'!$D$9:$D$40,$B$159)","v":0},{"$f":"SUMIFS('ABT Transactions'!$B$9:$B$40,'ABT Transactions'!$G$9:$G$40,$C$215,'ABT Transactions'!$F$9:$F$40,$AJ$148,'ABT Transactions'!$C$9:$C$40,AJ217,'ABT Transactions'!$D$9:$D$40,$B$159)","v":0},{"$f":"SUMIFS('ABT Transactions'!$B$9:$B$40,'ABT Transactions'!$G$9:$G$40,$C$215,'ABT Transactions'!$F$9:$F$40,$AJ$148,'ABT Transactions'!$C$9:$C$40,AK217,'ABT Transactions'!$D$9:$D$40,$B$159)","v":0},{"$f":"SUMIFS('ABT Transactions'!$B$9:$B$40,'ABT Transactions'!$G$9:$G$40,$C$215,'ABT Transactions'!$F$9:$F$40,$AJ$148,'ABT Transactions'!$C$9:$C$40,AL217,'ABT Transactions'!$D$9:$D$40,$B$159)","v":0},{"$f":"SUMIFS('ABT Transactions'!$B$9:$B$40,'ABT Transactions'!$G$9:$G$40,$C$215,'ABT Transactions'!$F$9:$F$40,$AM$148,'ABT Transactions'!$C$9:$C$40,AM217,'ABT Transactions'!$D$9:$D$40,$B$159)","v":0},{"$f":"SUMIFS('ABT Transactions'!$B$9:$B$40,'ABT Transactions'!$G$9:$G$40,$C$215,'ABT Transactions'!$F$9:$F$40,$AM$148,'ABT Transactions'!$C$9:$C$40,AN217,'ABT Transactions'!$D$9:$D$40,$B$159)","v":0},{"$f":"SUMIFS('ABT Transactions'!$B$9:$B$40,'ABT Transactions'!$G$9:$G$40,$C$215,'ABT Transactions'!$F$9:$F$40,$AM$148,'ABT Transactions'!$C$9:$C$40,AO217,'ABT Transactions'!$D$9:$D$40,$B$159)","v":0},{"$f":"SUMIFS('ABT Transactions'!$B$9:$B$40,'ABT Transactions'!$G$9:$G$40,$C$215,'ABT Transactions'!$F$9:$F$40,$AP$148,'ABT Transactions'!$C$9:$C$40,AP217,'ABT Transactions'!$D$9:$D$40,$B$159)","v":0},{"$f":"SUMIFS('ABT Transactions'!$B$9:$B$40,'ABT Transactions'!$G$9:$G$40,$C$215,'ABT Transactions'!$F$9:$F$40,$AP$148,'ABT Transactions'!$C$9:$C$40,AQ217,'ABT Transactions'!$D$9:$D$40,$B$159)","v":0},{"$f":"SUMIFS('ABT Transactions'!$B$9:$B$40,'ABT Transactions'!$G$9:$G$40,$C$215,'ABT Transactions'!$F$9:$F$40,$AP$148,'ABT Transactions'!$C$9:$C$40,AR217,'ABT Transactions'!$D$9:$D$40,$B$159)","v":0},{"$f":"SUMIFS('ABT Transactions'!$B$9:$B$40,'ABT Transactions'!$G$9:$G$40,$C$215,'ABT Transactions'!$F$9:$F$40,$AS$148,'ABT Transactions'!$C$9:$C$40,AS217,'ABT Transactions'!$D$9:$D$40,$B$159)","v":0},{"$f":"SUMIFS('ABT Transactions'!$B$9:$B$40,'ABT Transactions'!$G$9:$G$40,$C$215,'ABT Transactions'!$F$9:$F$40,$AS$148,'ABT Transactions'!$C$9:$C$40,AT217,'ABT Transactions'!$D$9:$D$40,$B$159)","v":0},{"$f":"SUMIFS('ABT Transactions'!$B$9:$B$40,'ABT Transactions'!$G$9:$G$40,$C$215,'ABT Transactions'!$F$9:$F$40,$AS$148,'ABT Transactions'!$C$9:$C$40,AU217,'ABT Transactions'!$D$9:$D$40,$B$159)","v":0}]
[null,"Final Credit Balance",{"$f":"(C218+C219+C221+C223+C225+C226+C227)-(C220+C222+C224)","v":0},{"$f":"(D218+D219+D221+D223+D225+D226+D227)-(D220+D222+D224)","v":0},{"$f":"(E218+E219+E221+E223+E225+E226+E227)-(E220+E222+E224)","v":0},{"$f":"(F218+F219+F221+F223+F225+F226+F227)-(F220+F222+F224)","v":0},{"$f":"(G218+G219+G221+G223+G225+G226+G227)-(G220+G222+G224)","v":0},{"$f":"(H218+H219+H221+H223+H225+H226+H227)-(H220+H222+H224)","v":0},{"$f":"(I218+I219+I221+I223+I225+I226+I227)-(I220+I222+I224)","v":0},{"$f":"(J218+J219+J221+J223+J225+J226+J227)-(J220+J222+J224)","v":0},{"$f":"(K218+K219+K221+K223+K225+K226+K227)-(K220+K222+K224)","v":0},{"$f":"(L218+L219+L221+L223+L225+L226+L227)-(L220+L222+L224)","v":0},{"$f":"(M218+M219+M221+M223+M225+M226+M227)-(M220+M222+M224)","v":0},{"$f":"(N218+N219+N221+N223+N225+N226+N227)-(N220+N222+N224)","v":0},{"$f":"(O218+O219+O221+O223+O225+O226+O227)-(O220+O222+O224)","v":0},{"$f":"(P218+P219+P221+P223+P225+P226+P227)-(P220+P222+P224)","v":0},{"$f":"(Q218+Q219+Q221+Q223+Q225+Q226+Q227)-(Q220+Q222+Q224)","v":0},{"$f":"(R218+R219+R221+R223+R225+R226+R227)-(R220+R222+R224)","v":0},{"$f":"(S218+S219+S221+S223+S225+S226+S227)-(S220+S222+S224)","v":0},{"$f":"(T218+T219+T221+T223+T225+T226+T227)-(T220+T222+T224)","v":0},{"$f":"(U218+U219+U221+U223+U225+U226+U227)-(U220+U222+U224)","v":0},{"$f":"(V218+V219+V221+V223+V225+V226+V227)-(V220+V222+V224)","v":0},{"$f":"(W218+W219+W221+W223+W225+W226+W227)-(W220+W222+W224)","v":0},{"$f":"(X218+X219+X221+X223+X225+X226+X227)-(X220+X222+X224)","v":0},{"$f":"(Y218+Y219+Y221+Y223+Y225+Y226+Y227)-(Y220+Y222+Y224)","v":0},{"$f":"(Z218+Z219+Z221+Z223+Z225+Z226+Z227)-(Z220+Z222+Z224)","v":0},{"$f":"(AA218+AA219+AA221+AA223+AA225+AA226+AA227)-(AA220+AA222+AA224)","v":0},{"$f":"(AB218+AB219+AB221+AB223+AB225+AB226+AB227)-(AB220+AB222+AB224)","v":0},{"$f":"(AC218+AC219+AC221+AC223+AC225+AC226+AC227)-(AC220+AC222+AC224)","v":0},{"$f":"(AD218+AD219+AD221+AD223+AD225+AD226+AD227)-(AD220+AD222+AD224)","v":0},{"$f":"(AE218+AE219+AE221+AE223+AE225+AE226+AE227)-(AE220+AE222+AE224)","v":0},{"$f":"(AF218+AF219+AF221+AF223+AF225+AF226+AF227)-(AF220+AF222+AF224)","v":0},{"$f":"(AG218+AG219+AG221+AG223+AG225+AG226+AG227)-(AG220+AG222+AG224)","v":0},{"$f":"(AH218+AH219+AH221+AH223+AH225+AH226+AH227)-(AH220+AH222+AH224)","v":0},{"$f":"(AI218+AI219+AI221+AI223+AI225+AI226+AI227)-(AI220+AI222+AI224)","v":0},{"$f":"(AJ218+AJ219+AJ221+AJ223+AJ225+AJ226+AJ227)-(AJ220+AJ222+AJ224)","v":0},{"$f":"(AK218+AK219+AK221+AK223+AK225+AK226+AK227)-(AK220+AK222+AK224)","v":0},{"$f":"(AL218+AL219+AL221+AL223+AL225+AL226+AL227)-(AL220+AL222+AL224)","v":0},{"$f":"(AM218+AM219+AM221+AM223+AM225+AM226+AM227)-(AM220+AM222+AM224)","v":0},{"$f":"(AN218+AN219+AN221+AN223+AN225+AN226+AN227)-(AN220+AN222+AN224)","v":0},{"$f":"(AO218+AO219+AO221+AO223+AO225+AO226+AO227)-(AO220+AO222+AO224)","v":0},{"$f":"(AP218+AP219+AP221+AP223+AP225+AP226+AP227)-(AP220+AP222+AP224)","v":0},{"$f":"(AQ218+AQ219+AQ221+AQ223+AQ225+AQ226+AQ227)-(AQ220+AQ222+AQ224)","v":0},{"$f":"(AR218+AR219+AR221+AR223+AR225+AR226+AR227)-(AR220+AR222+AR224)","v":0},{"$f":"(AS218+AS219+AS221+AS223+AS225+AS226+AS227)-(AS220+AS222+AS224)","v":0},{"$f":"(AT218+AT219+AT221+AT223+AT225+AT226+AT227)-(AT220+AT222+AT224)","v":0},{"$f":"(AU218+AU219+AU221+AU223+AU225+AU226+AU227)-(AU220+AU222+AU224)","v":0}]
[null,"Averaging Set Credit Balance",{"$f":"SUM(C228:E228)","v":0},null,null,{"$f":"SUM(F228:H228)","v":0},null,null,{"$f":"SUM(I228:K228)","v":0},null,null,{"$f":"SUM(L228:N228)","v":0},null,null,{"$f":"SUM(O228:Q228)","v":0},null,null,{"$f":"SUM(R228:T228)","v":0},null,null,{"$f":"SUM(U228:W228)","v":0},null,null,{"$f":"SUM(X228:Z228)","v":0},null,null,{"$f":"SUM(AA228:AC228)","v":0},null,null,{"$f":"SUM(AD228:AF228)","v":0},null,null,{"$f":"SUM(AG228:AI228)","v":0},null,null,{"$f":"SUM(AJ228:AL228)","v":0},null,null,{"$f":"SUM(AM228:AO228)","v":0},null,null,{"$f":"SUM(AP228:AR228)","v":0},null,null,{"$f":"SUM(AS228:AU228)","v":0}]
[]
[]
[null,null,"Concrete mixer"]
[null,null,2013,null,null,2014,null,null,2015,null,null,2016,null,null,2017,null,null,2018,null,null,2019,null,null,2020,null,null,2021,null,null,2022,null,null,2023,null,null,2024,null,null,2025,null,null,2026,null,null,2027]
[null,"Credit Type","Conventional Credit","Innovative Technology Credit","Advanced Technology Credit","Conventional Credit","Innovative Technology Credit","Advanced Technology Credit","Conventional Credit","Innovative Technology Credit","Advanced Technology Credit","Conventional Credit","Innovative Technology Credit","Advanced Technology Credit","Conventional Credit","Innovative Technology Credit","Advanced Technology Credit","Conventional Credit","Innovative Technology Credit","Advanced Technology Credit","Conventional Credit","Innovative Technology Credit","Advanced Technology Credit","Conventional Credit","Innovative Technology Credit","Advanced Technology Credit","Conventional Credit","Innovative Technology Credit","Advanced Technology Credit","Conventional Credit","Innovative Technology Credit","Advanced Technology Credit","Conventional Credit","Innovative Technology Credit","Advanced Technology Credit","Conventional Credit","Innovative Technology Credit","Advanced Technology Credit","Conventional Credit","Innovative Technology Credit","Advanced Technology Credit","Conventional Credit","Innovative Technology Credit","Advanced Technology Credit","Conventional Credit","Innovative Technology Credit","Advanced Technology Credit"]
[null,"Earned Credits",{"$f":"SUMIFS('ABT Credit Balances'!$D$9:$D$208,'ABT Credit Balances'!$B$9:$B$208,$C$232,'ABT Credit Balances'!$F$9:$F$208,C234,'ABT Credit Balances'!$E$9:$E$208,$C$148,'ABT Credit Balances'!$C$9:$C$208,$B$150)","v":0},{"$f":"SUMIFS('ABT Credit Balances'!$D$9:$D$208,'ABT Credit Balances'!$B$9:$B$208,$C$232,'ABT Credit Balances'!$F$9:$F$208,D234,'ABT Credit Balances'!$E$9:$E$208,$C$148,'ABT Credit Balances'!$C$9:$C$208,$B$150)","v":0},{"$f":"SUMIFS('ABT Credit Balances'!$D$9:$D$208,'ABT Credit Balances'!$B$9:$B$208,$C$232,'ABT Credit Balances'!$F$9:$F$208,E234,'ABT Credit Balances'!$E$9:$E$208,$C$148,'ABT Credit Balances'!$C$9:$C$208,$B$150)","v":0},{"$f":"SUMIFS('ABT Credit Balances'!$D$9:$D$208,'ABT Credit Balances'!$B$9:$B$208,$C$232,'ABT Credit Balances'!$F$9:$F$208,F234,'ABT Credit Balances'!$E$9:$E$208,$F$148,'ABT Credit Balances'!$C$9:$C$208,$B$150)","v":0},{"$f":"SUMIFS('ABT Credit Balances'!$D$9:$D$208,'ABT Credit Balances'!$B$9:$B$208,$C$232,'ABT Credit Balances'!$F$9:$F$208,G234,'ABT Credit Balances'!$E$9:$E$208,$F$148,'ABT Credit Balances'!$C$9:$C$208,$B$150)","v":0},{"$f":"SUMIFS('ABT Credit Balances'!$D$9:$D$208,'ABT Credit Balances'!$B$9:$B$208,$C$232,'ABT Credit Balances'!$F$9:$F$208,H234,'ABT Credit Balances'!$E$9:$E$208,$F$148,'ABT Credit Balances'!$C$9:$C$208,$B$150)","v":0},{"$f":"SUMIFS('ABT Credit Balances'!$D$9:$D$208,'ABT Credit Balances'!$B$9:$B$208,$C$232,'ABT Credit Balances'!$F$9:$F$208,I234,'ABT Credit Balances'!$E$9:$E$208,$I$148,'ABT Credit Balances'!$C$9:$C$208,$B$150)","v":0},{"$f":"SUMIFS('ABT Credit Balances'!$D$9:$D$208,'ABT Credit Balances'!$B$9:$B$208,$C$232,'ABT Credit Balances'!$F$9:$F$208,J234,'ABT Credit Balances'!$E$9:$E$208,$I$148,'ABT Credit Balances'!$C$9:$C$208,$B$150)","v":0},{"$f":"SUMIFS('ABT Credit Balances'!$D$9:$D$208,'ABT Credit Balances'!$B$9:$B$208,$C$232,'ABT Credit Balances'!$F$9:$F$208,K234,'ABT Credit Balances'!$E$9:$E$208,$I$148,'ABT Credit Balances'!$C$9:$C$208,$B$150)","v":0},{"$f":"SUMIFS('ABT Credit Balances'!$D$9:$D$208,'ABT Credit Balances'!$B$9:$B$208,$C$232,'ABT Credit Balances'!$F$9:$F$208,L234,'ABT Credit Balances'!$E$9:$E$208,$L$148,'ABT Credit Balances'!$C$9:$C$208,$B$150)","v":0},{"$f":"SUMIFS('ABT Credit Balances'!$D$9:$D$208,'ABT Credit Balances'!$B$9:$B$208,$C$232,'ABT Credit Balances'!$F$9:$F$208,M234,'ABT Credit Balances'!$E$9:$E$208,$L$148,'ABT Credit Balances'!$C$9:$C$208,$B$150)","v":0},{"$f":"SUMIFS('ABT Credit Balances'!$D$9:$D$208,'ABT Credit Balances'!$B$9:$B$208,$C$232,'ABT Credit Balances'!$F$9:$F$208,N234,'ABT Credit Balances'!$E$9:$E$208,$L$148,'ABT Credit Balances'!$C$9:$C$208,$B$150)","v":0},{"$f":"SUMIFS('ABT Credit Balances'!$D$9:$D$208,'ABT Credit Balances'!$B$9:$B$208,$C$232,'ABT Credit Balances'!$F$9:$F$208,O234,'ABT Credit Balances'!$E$9:$E$208,$O$148,'ABT Credit Balances'!$C$9:$C$208,$B$150)","v":0},{"$f":"SUMIFS('ABT Credit Balances'!$D$9:$D$208,'ABT Credit Balances'!$B$9:$B$208,$C$232,'ABT Credit Balances'!$F$9:$F$208,P234,'ABT Credit Balances'!$E$9:$E$208,$O$148,'ABT Credit Balances'!$C$9:$C$208,$B$150)","v":0},{"$f":"SUMIFS('ABT Credit Balances'!$D$9:$D$208,'ABT Credit Balances'!$B$9:$B$208,$C$232,'ABT Credit Balances'!$F$9:$F$208,Q234,'ABT Credit Balances'!$E$9:$E$208,$O$148,'ABT Credit Balances'!$C$9:$C$208,$B$150)","v":0},{"$f":"SUMIFS('ABT Credit Balances'!$D$9:$D$208,'ABT Credit Balances'!$B$9:$B$208,$C$232,'ABT Credit Balances'!$F$9:$F$208,R234,'ABT Credit Balances'!$E$9:$E$208,$R$148,'ABT Credit Balances'!$C$9:$C$208,$B$150)","v":0},{"$f":"SUMIFS('ABT Credit Balances'!$D$9:$D$208,'ABT Credit Balances'!$B$9:$B$208,$C$232,'ABT Credit Balances'!$F$9:$F$208,S234,'ABT Credit Balances'!$E$9:$E$208,$R$148,'ABT Credit Balances'!$C$9:$C$208,$B$150)","v":0},{"$f":"SUMIFS('ABT Credit Balances'!$D$9:$D$208,'ABT Credit Balances'!$B$9:$B$208,$C$232,'ABT Credit Balances'!$F$9:$F$208,T234,'ABT Credit Balances'!$E$9:$E$208,$R$148,'ABT Credit Balances'!$C$9:$C$208,$B$150)","v":0},{"$f":"SUMIFS('ABT Credit Balances'!$D$9:$D$208,'ABT Credit Balances'!$B$9:$B$208,$C$232,'ABT Credit Balances'!$F$9:$F$208,U234,'ABT Credit Balances'!$E$9:$E$208,$U$148,'ABT Credit Balances'!$C$9:$C$208,$B$150)","v":0},{"$f":"SUMIFS('ABT Credit Balances'!$D$9:$D$208,'ABT Credit Balances'!$B$9:$B$208,$C$232,'ABT Credit Balances'!$F$9:$F$208,V234,'ABT Credit Balances'!$E$9:$E$208,$U$148,'ABT Credit Balances'!$C$9:$C$208,$B$150)","v":0},{"$f":"SUMIFS('ABT Credit Balances'!$D$9:$D$208,'ABT Credit Balances'!$B$9:$B$208,$C$232,'ABT Credit Balances'!$F$9:$F$208,W234,'ABT Credit Balances'!$E$9:$E$208,U$148,'ABT Credit Balances'!$C$9:$C$208,$B$150)","v":0},{"$f":"SUMIFS('ABT Credit Balances'!$D$9:$D$208,'ABT Credit Balances'!$B$9:$B$208,$C$232,'ABT Credit Balances'!$F$9:$F$208,X234,'ABT Credit Balances'!$E$9:$E$208,$X$148,'ABT Credit Balances'!$C$9:$C$208,$B$150)","v":0},{"$f":"SUMIFS('ABT Credit Balances'!$D$9:$D$208,'ABT Credit Balances'!$B$9:$B$208,$C$232,'ABT Credit Balances'!$F$9:$F$208,Y234,'ABT Credit Balances'!$E$9:$E$208,$X$148,'ABT Credit Balances'!$C$9:$C$208,$B$150)","v":0},{"$f":"SUMIFS('ABT Credit Balances'!$D$9:$D$208,'ABT Credit Balances'!$B$9:$B$208,$C$232,'ABT Credit Balances'!$F$9:$F$208,Z234,'ABT Credit Balances'!$E$9:$E$208,$X$148,'ABT Credit Balances'!$C$9:$C$208,$B$150)","v":0},{"$f":"SUMIFS('ABT Credit Balances'!$D$9:$D$208,'ABT Credit Balances'!$B$9:$B$208,$C$232,'ABT Credit Balances'!$F$9:$F$208,AA234,'ABT Credit Balances'!$E$9:$E$208,$AA$148,'ABT Credit Balances'!$C$9:$C$208,$B$150)","v":0},{"$f":"SUMIFS('ABT Credit Balances'!$D$9:$D$208,'ABT Credit Balances'!$B$9:$B$208,$C$232,'ABT Credit Balances'!$F$9:$F$208,AB234,'ABT Credit Balances'!$E$9:$E$208,$AA$148,'ABT Credit Balances'!$C$9:$C$208,$B$150)","v":0},{"$f":"SUMIFS('ABT Credit Balances'!$D$9:$D$208,'ABT Credit Balances'!$B$9:$B$208,$C$232,'ABT Credit Balances'!$F$9:$F$208,AC234,'ABT Credit Balances'!$E$9:$E$208,$AA$148,'ABT Credit Balances'!$C$9:$C$208,$B$150)","v":0},{"$f":"SUMIFS('ABT Credit Balances'!$D$9:$D$208,'ABT Credit Balances'!$B$9:$B$208,$C$232,'ABT Credit Balances'!$F$9:$F$208,AD234,'ABT Credit Balances'!$E$9:$E$208,$AD$148,'ABT Credit Balances'!$C$9:$C$208,$B$150)","v":0},{"$f":"SUMIFS('ABT Credit Balances'!$D$9:$D$208,'ABT Credit Balances'!$B$9:$B$208,$C$232,'ABT Credit Balances'!$F$9:$F$208,AE234,'ABT Credit Balances'!$E$9:$E$208,$AD$148,'ABT Credit Balances'!$C$9:$C$208,$B$150)","v":0},{"$f":"SUMIFS('ABT Credit Balances'!$D$9:$D$208,'ABT Credit Balances'!$B$9:$B$208,$C$232,'ABT Credit Balances'!$F$9:$F$208,AF234,'ABT Credit Balances'!$E$9:$E$208,$AD$148,'ABT Credit Balances'!$C$9:$C$208,$B$150)","v":0},{"$f":"SUMIFS('ABT Credit Balances'!$D$9:$D$208,'ABT Credit Balances'!$B$9:$B$208,$C$232,'ABT Credit Balances'!$F$9:$F$208,AG234,'ABT Credit Balances'!$E$9:$E$208,$AG$148,'ABT Credit Balances'!$C$9:$C$208,$B$150)","v":0},{"$f":"SUMIFS('ABT Credit Balances'!$D$9:$D$208,'ABT Credit Balances'!$B$9:$B$208,$C$232,'ABT Credit Balances'!$F$9:$F$208,AH234,'ABT Credit Balances'!$E$9:$E$208,$AG$148,'ABT Credit Balances'!$C$9:$C$208,$B$150)","v":0},{"$f":"SUMIFS('ABT Credit Balances'!$D$9:$D$208,'ABT Credit Balances'!$B$9:$B$208,$C$232,'ABT Credit Balances'!$F$9:$F$208,AI234,'ABT Credit Balances'!$E$9:$E$208,$AG$148,'ABT Credit Balances'!$C$9:$C$208,$B$150)","v":0},{"$f":"SUMIFS('ABT Credit Balances'!$D$9:$D$208,'ABT Credit Balances'!$B$9:$B$208,$C$232,'ABT Credit Balances'!$F$9:$F$208,AJ234,'ABT Credit Balances'!$E$9:$E$208,$AJ$148,'ABT Credit Balances'!$C$9:$C$208,$B$150)","v":0},{"$f":"SUMIFS('ABT Credit Balances'!$D$9:$D$208,'ABT Credit Balances'!$B$9:$B$208,$C$232,'ABT Credit Balances'!$F$9:$F$208,AK234,'ABT Credit Balances'!$E$9:$E$208,$AJ$148,'ABT Credit Balances'!$C$9:$C$208,$B$150)","v":0},{"$f":"SUMIFS('ABT Credit Balances'!$D$9:$D$208,'ABT Credit Balances'!$B$9:$B$208,$C$232,'ABT Credit Balances'!$F$9:$F$208,AL234,'ABT Credit Balances'!$E$9:$E$208,$AJ$148,'ABT Credit Balances'!$C$9:$C$208,$B$150)","v":0},{"$f":"SUMIFS('ABT Credit Balances'!$D$9:$D$208,'ABT Credit Balances'!$B$9:$B$208,$C$232,'ABT Credit Balances'!$F$9:$F$208,AM234,'ABT Credit Balances'!$E$9:$E$208,$AM$148,'ABT Credit Balances'!$C$9:$C$208,$B$150)","v":0},{"$f":"SUMIFS('ABT Credit Balances'!$D$9:$D$208,'ABT Credit Balances'!$B$9:$B$208,$C$232,'ABT Credit Balances'!$F$9:$F$208,AN234,'ABT Credit Balances'!$E$9:$E$208,$AM$148,'ABT Credit Balances'!$C$9:$C$208,$B$150)","v":0},{"$f":"SUMIFS('ABT Credit Balances'!$D$9:$D$208,'ABT Credit Balances'!$B$9:$B$208,$C$232,'ABT Credit Balances'!$F$9:$F$208,AO234,'ABT Credit Balances'!$E$9:$E$208,$AM$148,'ABT Credit Balances'!$C$9:$C$208,$B$150)","v":0},{"$f":"SUMIFS('ABT Credit Balances'!$D$9:$D$208,'ABT Credit Balances'!$B$9:$B$208,$C$232,'ABT Credit Balances'!$F$9:$F$208,AP234,'ABT Credit Balances'!$E$9:$E$208,$AP$148,'ABT Credit Balances'!$C$9:$C$208,$B$150)","v":0},{"$f":"SUMIFS('ABT Credit Balances'!$D$9:$D$208,'ABT Credit Balances'!$B$9:$B$208,$C$232,'ABT Credit Balances'!$F$9:$F$208,AQ234,'ABT Credit Balances'!$E$9:$E$208,$AP$148,'ABT Credit Balances'!$C$9:$C$208,$B$150)","v":0},{"$f":"SUMIFS('ABT Credit Balances'!$D$9:$D$208,'ABT Credit Balances'!$B$9:$B$208,$C$232,'ABT Credit Balances'!$F$9:$F$208,AR234,'ABT Credit Balances'!$E$9:$E$208,$AP$148,'ABT Credit Balances'!$C$9:$C$208,$B$150)","v":0},{"$f":"SUMIFS('ABT Credit Balances'!$D$9:$D$208,'ABT Credit Balances'!$B$9:$B$208,$C$232,'ABT Credit Balances'!$F$9:$F$208,AS234,'ABT Credit Balances'!$E$9:$E$208,$AS$148,'ABT Credit Balances'!$C$9:$C$208,$B$150)","v":0},{"$f":"SUMIFS('ABT Credit Balances'!$D$9:$D$208,'ABT Credit Balances'!$B$9:$B$208,$C$232,'ABT Credit Balances'!$F$9:$F$208,AT234,'ABT Credit Balances'!$E$9:$E$208,$AS$148,'ABT Credit Balances'!$C$9:$C$208,$B$150)","v":0},{"$f":"SUMIFS('ABT Credit Balances'!$D$9:$D$208,'ABT Credit Balances'!$B$9:$B$208,$C$232,'ABT Credit Balances'!$F$9:$F$208,AU234,'ABT Credit Balances'!$E$9:$E$208,$AS$148,'ABT Credit Balances'!$C$9:$C$208,$B$150)","v":0}]
[null,"Projected Credits",{"$f":"SUMIFS('ABT Credit Balances'!$D$9:$D$208,'ABT Credit Balances'!$B$9:$B$208,$C$232,'ABT Credit Balances'!$F$9:$F$208,C234,'ABT Credit Balances'!$E$9:$E$208,$C$148,'ABT Credit Balances'!$C$9:$C$208,$B$151)","v":0},{"$f":"SUMIFS('ABT Credit Balances'!$D$9:$D$208,'ABT Credit Balances'!$B$9:$B$208,$C$232,'ABT Credit Balances'!$F$9:$F$208,D234,'ABT Credit Balances'!$E$9:$E$208,$C$148,'ABT Credit Balances'!$C$9:$C$208,$B$151)","v":0},{"$f":"SUMIFS('ABT Credit Balances'!$D$9:$D$208,'ABT Credit Balances'!$B$9:$B$208,$C$232,'ABT Credit Balances'!$F$9:$F$208,E234,'ABT Credit Balances'!$E$9:$E$208,$C$148,'ABT Credit Balances'!$C$9:$C$208,$B$151)","v":0},{"$f":"SUMIFS('ABT Credit Balances'!$D$9:$D$208,'ABT Credit Balances'!$B$9:$B$208,$C$232,'ABT Credit Balances'!$F$9:$F$208,F234,'ABT Credit Balances'!$E$9:$E$208,$F$148,'ABT Credit Balances'!$C$9:$C$208,$B$151)","v":0},{"$f":"SUMIFS('ABT Credit Balances'!$D$9:$D$208,'ABT Credit Balances'!$B$9:$B$208,$C$232,'ABT Credit Balances'!$F$9:$F$208,G234,'ABT Credit Balances'!$E$9:$E$208,$F$148,'ABT Credit Balances'!$C$9:$C$208,$B$151)","v":0},{"$f":"SUMIFS('ABT Credit Balances'!$D$9:$D$208,'ABT Credit Balances'!$B$9:$B$208,$C$232,'ABT Credit Balances'!$F$9:$F$208,H234,'ABT Credit Balances'!$E$9:$E$208,$F$148,'ABT Credit Balances'!$C$9:$C$208,$B$151)","v":0},{"$f":"SUMIFS('ABT Credit Balances'!$D$9:$D$208,'ABT Credit Balances'!$B$9:$B$208,$C$232,'ABT Credit Balances'!$F$9:$F$208,I234,'ABT Credit Balances'!$E$9:$E$208,$I$148,'ABT Credit Balances'!$C$9:$C$208,$B$151)","v":0},{"$f":"SUMIFS('ABT Credit Balances'!$D$9:$D$208,'ABT Credit Balances'!$B$9:$B$208,$C$232,'ABT Credit Balances'!$F$9:$F$208,J234,'ABT Credit Balances'!$E$9:$E$208,$I$148,'ABT Credit Balances'!$C$9:$C$208,$B$151)","v":0},{"$f":"SUMIFS('ABT Credit Balances'!$D$9:$D$208,'ABT Credit Balances'!$B$9:$B$208,$C$232,'ABT Credit Balances'!$F$9:$F$208,K234,'ABT Credit Balances'!$E$9:$E$208,$I$148,'ABT Credit Balances'!$C$9:$C$208,$B$151)","v":0},{"$f":"SUMIFS('ABT Credit Balances'!$D$9:$D$208,'ABT Credit Balances'!$B$9:$B$208,$C$232,'ABT Credit Balances'!$F$9:$F$208,L234,'ABT Credit Balances'!$E$9:$E$208,$L$148,'ABT Credit Balances'!$C$9:$C$208,$B$151)","v":0},{"$f":"SUMIFS('ABT Credit Balances'!$D$9:$D$208,'ABT Credit Balances'!$B$9:$B$208,$C$232,'ABT Credit Balances'!$F$9:$F$208,M234,'ABT Credit Balances'!$E$9:$E$208,$L$148,'ABT Credit Balances'!$C$9:$C$208,$B$151)","v":0},{"$f":"SUMIFS('ABT Credit Balances'!$D$9:$D$208,'ABT Credit Balances'!$B$9:$B$208,$C$232,'ABT Credit Balances'!$F$9:$F$208,N234,'ABT Credit Balances'!$E$9:$E$208,$L$148,'ABT Credit Balances'!$C$9:$C$208,$B$151)","v":0},{"$f":"SUMIFS('ABT Credit Balances'!$D$9:$D$208,'ABT Credit Balances'!$B$9:$B$208,$C$232,'ABT Credit Balances'!$F$9:$F$208,O234,'ABT Credit Balances'!$E$9:$E$208,$O$148,'ABT Credit Balances'!$C$9:$C$208,$B$151)","v":0},{"$f":"SUMIFS('ABT Credit Balances'!$D$9:$D$208,'ABT Credit Balances'!$B$9:$B$208,$C$232,'ABT Credit Balances'!$F$9:$F$208,P234,'ABT Credit Balances'!$E$9:$E$208,$O$148,'ABT Credit Balances'!$C$9:$C$208,$B$151)","v":0},{"$f":"SUMIFS('ABT Credit Balances'!$D$9:$D$208,'ABT Credit Balances'!$B$9:$B$208,$C$232,'ABT Credit Balances'!$F$9:$F$208,Q234,'ABT Credit Balances'!$E$9:$E$208,$O$148,'ABT Credit Balances'!$C$9:$C$208,$B$151)","v":0},{"$f":"SUMIFS('ABT Credit Balances'!$D$9:$D$208,'ABT Credit Balances'!$B$9:$B$208,$C$232,'ABT Credit Balances'!$F$9:$F$208,R234,'ABT Credit Balances'!$E$9:$E$208,$R$148,'ABT Credit Balances'!$C$9:$C$208,$B$151)","v":0},{"$f":"SUMIFS('ABT Credit Balances'!$D$9:$D$208,'ABT Credit Balances'!$B$9:$B$208,$C$232,'ABT Credit Balances'!$F$9:$F$208,S234,'ABT Credit Balances'!$E$9:$E$208,$R$148,'ABT Credit Balances'!$C$9:$C$208,$B$151)","v":0},{"$f":"SUMIFS('ABT Credit Balances'!$D$9:$D$208,'ABT Credit Balances'!$B$9:$B$208,$C$232,'ABT Credit Balances'!$F$9:$F$208,T234,'ABT Credit Balances'!$E$9:$E$208,$R$148,'ABT Credit Balances'!$C$9:$C$208,$B$151)","v":0},{"$f":"SUMIFS('ABT Credit Balances'!$D$9:$D$208,'ABT Credit Balances'!$B$9:$B$208,$C$232,'ABT Credit Balances'!$F$9:$F$208,U234,'ABT Credit Balances'!$E$9:$E$208,$U$148,'ABT Credit Balances'!$C$9:$C$208,$B$151)","v":0},{"$f":"SUMIFS('ABT Credit Balances'!$D$9:$D$208,'ABT Credit Balances'!$B$9:$B$208,$C$232,'ABT Credit Balances'!$F$9:$F$208,V234,'ABT Credit Balances'!$E$9:$E$208,$U$148,'ABT Credit Balances'!$C$9:$C$208,$B$151)","v":0},{"$f":"SUMIFS('ABT Credit Balances'!$D$9:$D$208,'ABT Credit Balances'!$B$9:$B$208,$C$232,'ABT Credit Balances'!$F$9:$F$208,W234,'ABT Credit Balances'!$E$9:$E$208,U$148,'ABT Credit Balances'!$C$9:$C$208,$B$151)","v":0},{"$f":"SUMIFS('ABT Credit Balances'!$D$9:$D$208,'ABT Credit Balances'!$B$9:$B$208,$C$232,'ABT Credit Balances'!$F$9:$F$208,X234,'ABT Credit Balances'!$E$9:$E$208,$X$148,'ABT Credit Balances'!$C$9:$C$208,$B$151)","v":0},{"$f":"SUMIFS('ABT Credit Balances'!$D$9:$D$208,'ABT Credit Balances'!$B$9:$B$208,$C$232,'ABT Credit Balances'!$F$9:$F$208,Y234,'ABT Credit Balances'!$E$9:$E$208,$X$148,'ABT Credit Balances'!$C$9:$C$208,$B$151)","v":0},{"$f":"SUMIFS('ABT Credit Balances'!$D$9:$D$208,'ABT Credit Balances'!$B$9:$B$208,$C$232,'ABT Credit Balances'!$F$9:$F$208,Z234,'ABT Credit Balances'!$E$9:$E$208,$X$148,'ABT Credit Balances'!$C$9:$C$208,$B$151)","v":0},{"$f":"SUMIFS('ABT Credit Balances'!$D$9:$D$208,'ABT Credit Balances'!$B$9:$B$208,$C$232,'ABT Credit Balances'!$F$9:$F$208,AA234,'ABT Credit Balances'!$E$9:$E$208,$AA$148,'ABT Credit Balances'!$C$9:$C$208,$B$151)","v":0},{"$f":"SUMIFS('ABT Credit Balances'!$D$9:$D$208,'ABT Credit Balances'!$B$9:$B$208,$C$232,'ABT Credit Balances'!$F$9:$F$208,AB234,'ABT Credit Balances'!$E$9:$E$208,$AA$148,'ABT Credit Balances'!$C$9:$C$208,$B$151)","v":0},{"$f":"SUMIFS('ABT Credit Balances'!$D$9:$D$208,'ABT Credit Balances'!$B$9:$B$208,$C$232,'ABT Credit Balances'!$F$9:$F$208,AC234,'ABT Credit Balances'!$E$9:$E$208,$AA$148,'ABT Credit Balances'!$C$9:$C$208,$B$151)","v":0},{"$f":"SUMIFS('ABT Credit Balances'!$D$9:$D$208,'ABT Credit Balances'!$B$9:$B$208,$C$232,'ABT Credit Balances'!$F$9:$F$208,AD234,'ABT Credit Balances'!$E$9:$E$208,$AD$148,'ABT Credit Balances'!$C$9:$C$208,$B$151)","v":0},{"$f":"SUMIFS('ABT Credit Balances'!$D$9:$D$208,'ABT Credit Balances'!$B$9:$B$208,$C$232,'ABT Credit Balances'!$F$9:$F$208,AE234,'ABT Credit Balances'!$E$9:$E$208,$AD$148,'ABT Credit Balances'!$C$9:$C$208,$B$151)","v":0},{"$f":"SUMIFS('ABT Credit Balances'!$D$9:$D$208,'ABT Credit Balances'!$B$9:$B$208,$C$232,'ABT Credit Balances'!$F$9:$F$208,AF234,'ABT Credit Balances'!$E$9:$E$208,$AD$148,'ABT Credit Balances'!$C$9:$C$208,$B$151)","v":0},{"$f":"SUMIFS('ABT Credit Balances'!$D$9:$D$208,'ABT Credit Balances'!$B$9:$B$208,$C$232,'ABT Credit Balances'!$F$9:$F$208,AG234,'ABT Credit Balances'!$E$9:$E$208,$AG$148,'ABT Credit Balances'!$C$9:$C$208,$B$151)","v":0},{"$f":"SUMIFS('ABT Credit Balances'!$D$9:$D$208,'ABT Credit Balances'!$B$9:$B$208,$C$232,'ABT Credit Balances'!$F$9:$F$208,AH234,'ABT Credit Balances'!$E$9:$E$208,$AG$148,'ABT Credit Balances'!$C$9:$C$208,$B$151)","v":0},{"$f":"SUMIFS('ABT Credit Balances'!$D$9:$D$208,'ABT Credit Balances'!$B$9:$B$208,$C$232,'ABT Credit Balances'!$F$9:$F$208,AI234,'ABT Credit Balances'!$E$9:$E$208,$AG$148,'ABT Credit Balances'!$C$9:$C$208,$B$151)","v":0},{"$f":"SUMIFS('ABT Credit Balances'!$D$9:$D$208,'ABT Credit Balances'!$B$9:$B$208,$C$232,'ABT Credit Balances'!$F$9:$F$208,AJ234,'ABT Credit Balances'!$E$9:$E$208,$AJ$148,'ABT Credit Balances'!$C$9:$C$208,$B$151)","v":0},{"$f":"SUMIFS('ABT Credit Balances'!$D$9:$D$208,'ABT Credit Balances'!$B$9:$B$208,$C$232,'ABT Credit Balances'!$F$9:$F$208,AK234,'ABT Credit Balances'!$E$9:$E$208,$AJ$148,'ABT Credit Balances'!$C$9:$C$208,$B$151)","v":0},{"$f":"SUMIFS('ABT Credit Balances'!$D$9:$D$208,'ABT Credit Balances'!$B$9:$B$208,$C$232,'ABT Credit Balances'!$F$9:$F$208,AL234,'ABT Credit Balances'!$E$9:$E$208,$AJ$148,'ABT Credit Balances'!$C$9:$C$208,$B$151)","v":0},{"$f":"SUMIFS('ABT Credit Balances'!$D$9:$D$208,'ABT Credit Balances'!$B$9:$B$208,$C$232,'ABT Credit Balances'!$F$9:$F$208,AM234,'ABT Credit Balances'!$E$9:$E$208,$AM$148,'ABT Credit Balances'!$C$9:$C$208,$B$151)","v":0},{"$f":"SUMIFS('ABT Credit Balances'!$D$9:$D$208,'ABT Credit Balances'!$B$9:$B$208,$C$232,'ABT Credit Balances'!$F$9:$F$208,AN234,'ABT Credit Balances'!$E$9:$E$208,$AM$148,'ABT Credit Balances'!$C$9:$C$208,$B$151)","v":0},{"$f":"SUMIFS('ABT Credit Balances'!$D$9:$D$208,'ABT Credit Balances'!$B$9:$B$208,$C$232,'ABT Credit Balances'!$F$9:$F$208,AO234,'ABT Credit Balances'!$E$9:$E$208,$AM$148,'ABT Credit Balances'!$C$9:$C$208,$B$151)","v":0},{"$f":"SUMIFS('ABT Credit Balances'!$D$9:$D$208,'ABT Credit Balances'!$B$9:$B$208,$C$232,'ABT Credit Balances'!$F$9:$F$208,AP234,'ABT Credit Balances'!$E$9:$E$208,$AP$148,'ABT Credit Balances'!$C$9:$C$208,$B$151)","v":0},{"$f":"SUMIFS('ABT Credit Balances'!$D$9:$D$208,'ABT Credit Balances'!$B$9:$B$208,$C$232,'ABT Credit Balances'!$F$9:$F$208,AQ234,'ABT Credit Balances'!$E$9:$E$208,$AP$148,'ABT Credit Balances'!$C$9:$C$208,$B$151)","v":0},{"$f":"SUMIFS('ABT Credit Balances'!$D$9:$D$208,'ABT Credit Balances'!$B$9:$B$208,$C$232,'ABT Credit Balances'!$F$9:$F$208,AR234,'ABT Credit Balances'!$E$9:$E$208,$AP$148,'ABT Credit Balances'!$C$9:$C$208,$B$151)","v":0},{"$f":"SUMIFS('ABT Credit Balances'!$D$9:$D$208,'ABT Credit Balances'!$B$9:$B$208,$C$232,'ABT Credit Balances'!$F$9:$F$208,AS234,'ABT Credit Balances'!$E$9:$E$208,$AS$148,'ABT Credit Balances'!$C$9:$C$208,$B$151)","v":0},{"$f":"SUMIFS('ABT Credit Balances'!$D$9:$D$208,'ABT Credit Balances'!$B$9:$B$208,$C$232,'ABT Credit Balances'!$F$9:$F$208,AT234,'ABT Credit Balances'!$E$9:$E$208,$AS$148,'ABT Credit Balances'!$C$9:$C$208,$B$151)","v":0},{"$f":"SUMIFS('ABT Credit Balances'!$D$9:$D$208,'ABT Credit Balances'!$B$9:$B$208,$C$232,'ABT Credit Balances'!$F$9:$F$208,AU234,'ABT Credit Balances'!$E$9:$E$208,$AS$148,'ABT Credit Balances'!$C$9:$C$208,$B$151)","v":0}]
[null,"Applied Banked Credits (out)",{"$f":"SUMIFS('ABT Transactions'!$B$9:$B$40,'ABT Transactions'!$G$9:$G$40,$C$232,'ABT Transactions'!$F$9:$F$40,$C$148,'ABT Transactions'!$C$9:$C$40,C234,'ABT Transactions'!$D$9:$D$40,$B$152)","v":0},{"$f":"SUMIFS('ABT Transactions'!$B$9:$B$40,'ABT Transactions'!$G$9:$G$40,$C$232,'ABT Transactions'!$F$9:$F$40,$C$148,'ABT Transactions'!$C$9:$C$40,D234,'ABT Transactions'!$D$9:$D$40,$B$152)","v":0},{"$f":"SUMIFS('ABT Transactions'!$B$9:$B$40,'ABT Transactions'!$G$9:$G$40,$C$232,'ABT Transactions'!$F$9:$F$40,$C$148,'ABT Transactions'!$C$9:$C$40,E234,'ABT Transactions'!$D$9:$D$40,$B$152)","v":0},{"$f":"SUMIFS('ABT Transactions'!$B$9:$B$40,'ABT Transactions'!$G$9:$G$40,$C$232,'ABT Transactions'!$F$9:$F$40,$F$148,'ABT Transactions'!$C$9:$C$40,F234,'ABT Transactions'!$D$9:$D$40,$B$152)","v":0},{"$f":"SUMIFS('ABT Transactions'!$B$9:$B$40,'ABT Transactions'!$G$9:$G$40,$C$232,'ABT Transactions'!$F$9:$F$40,$F$148,'ABT Transactions'!$C$9:$C$40,G234,'ABT Transactions'!$D$9:$D$40,$B$152)","v":0},{"$f":"SUMIFS('ABT Transactions'!$B$9:$B$40,'ABT Transactions'!$G$9:$G$40,$C$232,'ABT Transactions'!$F$9:$F$40,$F$148,'ABT Transactions'!$C$9:$C$40,H234,'ABT Transactions'!$D$9:$D$40,$B$152)","v":0},{"$f":"SUMIFS('ABT Transactions'!$B$9:$B$40,'ABT Transactions'!$G$9:$G$40,$C$232,'ABT Transactions'!$F$9:$F$40,$I$148,'ABT Transactions'!$C$9:$C$40,I234,'ABT Transactions'!$D$9:$D$40,$B$152)","v":0},{"$f":"SUMIFS('ABT Transactions'!$B$9:$B$40,'ABT Transactions'!$G$9:$G$40,$C$232,'ABT Transactions'!$F$9:$F$40,$I$148,'ABT Transactions'!$C$9:$C$40,J234,'ABT Transactions'!$D$9:$D$40,$B$152)","v":0},{"$f":"SUMIFS('ABT Transactions'!$B$9:$B$40,'ABT Transactions'!$G$9:$G$40,$C$232,'ABT Transactions'!$F$9:$F$40,$I$148,'ABT Transactions'!$C$9:$C$40,K234,'ABT Transactions'!$D$9:$D$40,$B$152)","v":0},{"$f":"SUMIFS('ABT Transactions'!$B$9:$B$40,'ABT Transactions'!$G$9:$G$40,$C$232,'ABT Transactions'!$F$9:$F$40,$L$148,'ABT Transactions'!$C$9:$C$40,L234,'ABT Transactions'!$D$9:$D$40,$B$152)","v":0},{"$f":"SUMIFS('ABT Transactions'!$B$9:$B$40,'ABT Transactions'!$G$9:$G$40,$C$232,'ABT Transactions'!$F$9:$F$40,$L$148,'ABT Transactions'!$C$9:$C$40,M234,'ABT Transactions'!$D$9:$D$40,$B$152)","v":0},{"$f":"SUMIFS('ABT Transactions'!$B$9:$B$40,'ABT Transactions'!$G$9:$G$40,$C$232,'ABT Transactions'!$F$9:$F$40,$L$148,'ABT Transactions'!$C$9:$C$40,N234,'ABT Transactions'!$D$9:$D$40,$B$152)","v":0},{"$f":"SUMIFS('ABT Transactions'!$B$9:$B$40,'ABT Transactions'!$G$9:$G$40,$C$232,'ABT Transactions'!$F$9:$F$40,$O$148,'ABT Transactions'!$C$9:$C$40,O234,'ABT Transactions'!$D$9:$D$40,$B$152)","v":0},{"$f":"SUMIFS('ABT Transactions'!$B$9:$B$40,'ABT Transactions'!$G$9:$G$40,$C$232,'ABT Transactions'!$F$9:$F$40,$O$148,'ABT Transactions'!$C$9:$C$40,P234,'ABT Transactions'!$D$9:$D$40,$B$152)","v":0},{"$f":"SUMIFS('ABT Transactions'!$B$9:$B$40,'ABT Transactions'!$G$9:$G$40,$C$232,'ABT Transactions'!$F$9:$F$40,$O$148,'ABT Transactions'!$C$9:$C$40,Q234,'ABT Transactions'!$D$9:$D$40,$B$152)","v":0},{"$f":"SUMIFS('ABT Transactions'!$B$9:$B$40,'ABT Transactions'!$G$9:$G$40,$C$232,'ABT Transactions'!$F$9:$F$40,$R$148,'ABT Transactions'!$C$9:$C$40,R234,'ABT Transactions'!$D$9:$D$40,$B$152)","v":0},{"$f":"SUMIFS('ABT Transactions'!$B$9:$B$40,'ABT Transactions'!$G$9:$G$40,$C$232,'ABT Transactions'!$F$9:$F$40,$R$148,'ABT Transactions'!$C$9:$C$40,S234,'ABT Transactions'!$D$9:$D$40,$B$152)","v":0},{"$f":"SUMIFS('ABT Transactions'!$B$9:$B$40,'ABT Transactions'!$G$9:$G$40,$C$232,'ABT Transactions'!$F$9:$F$40,$R$148,'ABT Transactions'!$C$9:$C$40,T234,'ABT Transactions'!$D$9:$D$40,$B$152)","v":0},{"$f":"SUMIFS('ABT Transactions'!$B$9:$B$40,'ABT Transactions'!$G$9:$G$40,$C$232,'ABT Transactions'!$F$9:$F$40,$U$148,'ABT Transactions'!$C$9:$C$40,U234,'ABT Transactions'!$D$9:$D$40,$B$152)","v":0},{"$f":"SUMIFS('ABT Transactions'!$B$9:$B$40,'ABT Transactions'!$G$9:$G$40,$C$232,'ABT Transactions'!$F$9:$F$40,$U$148,'ABT Transactions'!$C$9:$C$40,V234,'ABT Transactions'!$D$9:$D$40,$B$152)","v":0},{"$f":"SUMIFS('ABT Transactions'!$B$9:$B$40,'ABT Transactions'!$G$9:$G$40,$C$232,'ABT Transactions'!$F$9:$F$40,U$148,'ABT Transactions'!$C$9:$C$40,W234,'ABT Transactions'!$D$9:$D$40,$B$152)","v":0},{"$f":"SUMIFS('ABT Transactions'!$B$9:$B$40,'ABT Transactions'!$G$9:$G$40,$C$232,'ABT Transactions'!$F$9:$F$40,$X$148,'ABT Transactions'!$C$9:$C$40,X234,'ABT Transactions'!$D$9:$D$40,$B$152)","v":0},{"$f":"SUMIFS('ABT Transactions'!$B$9:$B$40,'ABT Transactions'!$G$9:$G$40,$C$232,'ABT Transactions'!$F$9:$F$40,$X$148,'ABT Transactions'!$C$9:$C$40,Y234,'ABT Transactions'!$D$9:$D$40,$B$152)","v":0},{"$f":"SUMIFS('ABT Transactions'!$B$9:$B$40,'ABT Transactions'!$G$9:$G$40,$C$232,'ABT Transactions'!$F$9:$F$40,$X$148,'ABT Transactions'!$C$9:$C$40,Z234,'ABT Transactions'!$D$9:$D$40,$B$152)","v":0},{"$f":"SUMIFS('ABT Transactions'!$B$9:$B$40,'ABT Transactions'!$G$9:$G$40,$C$232,'ABT Transactions'!$F$9:$F$40,$AA$148,'ABT Transactions'!$C$9:$C$40,AA234,'ABT Transactions'!$D$9:$D$40,$B$152)","v":0},{"$f":"SUMIFS('ABT Transactions'!$B$9:$B$40,'ABT Transactions'!$G$9:$G$40,$C$232,'ABT Transactions'!$F$9:$F$40,$AA$148,'ABT Transactions'!$C$9:$C$40,AB234,'ABT Transactions'!$D$9:$D$40,$B$152)","v":0},{"$f":"SUMIFS('ABT Transactions'!$B$9:$B$40,'ABT Transactions'!$G$9:$G$40,$C$232,'ABT Transactions'!$F$9:$F$40,$AA$148,'ABT Transactions'!$C$9:$C$40,AC234,'ABT Transactions'!$D$9:$D$40,$B$152)","v":0},{"$f":"SUMIFS('ABT Transactions'!$B$9:$B$40,'ABT Transactions'!$G$9:$G$40,$C$232,'ABT Transactions'!$F$9:$F$40,$AD$148,'ABT Transactions'!$C$9:$C$40,AD234,'ABT Transactions'!$D$9:$D$40,$B$152)","v":0},{"$f":"SUMIFS('ABT Transactions'!$B$9:$B$40,'ABT Transactions'!$G$9:$G$40,$C$232,'ABT Transactions'!$F$9:$F$40,$AD$148,'ABT Transactions'!$C$9:$C$40,AE234,'ABT Transactions'!$D$9:$D$40,$B$152)","v":0},{"$f":"SUMIFS('ABT Transactions'!$B$9:$B$40,'ABT Transactions'!$G$9:$G$40,$C$232,'ABT Transactions'!$F$9:$F$40,$AD$148,'ABT Transactions'!$C$9:$C$40,AF234,'ABT Transactions'!$D$9:$D$40,$B$152)","v":0},{"$f":"SUMIFS('ABT Transactions'!$B$9:$B$40,'ABT Transactions'!$G$9:$G$40,$C$232,'ABT Transactions'!$F$9:$F$40,$AG$148,'ABT Transactions'!$C$9:$C$40,AG234,'ABT Transactions'!$D$9:$D$40,$B$152)","v":0},{"$f":"SUMIFS('ABT Transactions'!$B$9:$B$40,'ABT Transactions'!$G$9:$G$40,$C$232,'ABT Transactions'!$F$9:$F$40,$AG$148,'ABT Transactions'!$C$9:$C$40,AH234,'ABT Transactions'!$D$9:$D$40,$B$152)","v":0},{"$f":"SUMIFS('ABT Transactions'!$B$9:$B$40,'ABT Transactions'!$G$9:$G$40,$C$232,'ABT Transactions'!$F$9:$F$40,$AG$148,'ABT Transactions'!$C$9:$C$40,AI234,'ABT Transactions'!$D$9:$D$40,$B$152)","v":0},{"$f":"SUMIFS('ABT Transactions'!$B$9:$B$40,'ABT Transactions'!$G$9:$G$40,$C$232,'ABT Transactions'!$F$9:$F$40,$AJ$148,'ABT Transactions'!$C$9:$C$40,AJ234,'ABT Transactions'!$D$9:$D$40,$B$152)","v":0},{"$f":"SUMIFS('ABT Transactions'!$B$9:$B$40,'ABT Transactions'!$G$9:$G$40,$C$232,'ABT Transactions'!$F$9:$F$40,$AJ$148,'ABT Transactions'!$C$9:$C$40,AK234,'ABT Transactions'!$D$9:$D$40,$B$152)","v":0},{"$f":"SUMIFS('ABT Transactions'!$B$9:$B$40,'ABT Transactions'!$G$9:$G$40,$C$232,'ABT Transactions'!$F$9:$F$40,$AJ$148,'ABT Transactions'!$C$9:$C$40,AL234,'ABT Transactions'!$D$9:$D$40,$B$152)","v":0},{"$f":"SUMIFS('ABT Transactions'!$B$9:$B$40,'ABT Transactions'!$G$9:$G$40,$C$232,'ABT Transactions'!$F$9:$F$40,$AM$148,'ABT Transactions'!$C$9:$C$40,AM234,'ABT Transactions'!$D$9:$D$40,$B$152)","v":0},{"$f":"SUMIFS('ABT Transactions'!$B$9:$B$40,'ABT Transactions'!$G$9:$G$40,$C$232,'ABT Transactions'!$F$9:$F$40,$AM$148,'ABT Transactions'!$C$9:$C$40,AN234,'ABT Transactions'!$D$9:$D$40,$B$152)","v":0},{"$f":"SUMIFS('ABT Transactions'!$B$9:$B$40,'ABT Transactions'!$G$9:$G$40,$C$232,'ABT Transactions'!$F$9:$F$40,$AM$148,'ABT Transactions'!$C$9:$C$40,AO234,'ABT Transactions'!$D$9:$D$40,$B$152)","v":0},{"$f":"SUMIFS('ABT Transactions'!$B$9:$B$40,'ABT Transactions'!$G$9:$G$40,$C$232,'ABT Transactions'!$F$9:$F$40,$AP$148,'ABT Transactions'!$C$9:$C$40,AP234,'ABT Transactions'!$D$9:$D$40,$B$152)","v":0},{"$f":"SUMIFS('ABT Transactions'!$B$9:$B$40,'ABT Transactions'!$G$9:$G$40,$C$232,'ABT Transactions'!$F$9:$F$40,$AP$148,'ABT Transactions'!$C$9:$C$40,AQ234,'ABT Transactions'!$D$9:$D$40,$B$152)","v":0},{"$f":"SUMIFS('ABT Transactions'!$B$9:$B$40,'ABT Transactions'!$G$9:$G$40,$C$232,'ABT Transactions'!$F$9:$F$40,$AP$148,'ABT Transactions'!$C$9:$C$40,AR234,'ABT Transactions'!$D$9:$D$40,$B$152)","v":0},{"$f":"SUMIFS('ABT Transactions'!$B$9:$B$40,'ABT Transactions'!$G$9:$G$40,$C$232,'ABT Transactions'!$F$9:$F$40,$AS$148,'ABT Transactions'!$C$9:$C$40,AS234,'ABT Transactions'!$D$9:$D$40,$B$152)","v":0},{"$f":"SUMIFS('ABT Transactions'!$B$9:$B$40,'ABT Transactions'!$G$9:$G$40,$C$232,'ABT Transactions'!$F$9:$F$40,$AS$148,'ABT Transactions'!$C$9:$C$40,AT234,'ABT Transactions'!$D$9:$D$40,$B$152)","v":0},{"$f":"SUMIFS('ABT Transactions'!$B$9:$B$40,'ABT Transactions'!$G$9:$G$40,$C$232,'ABT Transactions'!$F$9:$F$40,$AS$148,'ABT Transactions'!$C$9:$C$40,AU234,'ABT Transactions'!$D$9:$D$40,$B$152)","v":0}]
[null,"Applied Banked Credits (in)",{"$f":"SUMIFS('ABT Transactions'!$B$9:$B$40,'ABT Transactions'!$J$9:$J$40,$C$232,'ABT Transactions'!$I$9:$I$40,$C$148,'ABT Transactions'!$C$9:$C$40,C234,'ABT Transactions'!$D$9:$D$40,$B$153)","v":0},{"$f":"SUMIFS('ABT Transactions'!$B$9:$B$40,'ABT Transactions'!$J$9:$J$40,$C$232,'ABT Transactions'!$I$9:$I$40,$C$148,'ABT Transactions'!$C$9:$C$40,D234,'ABT Transactions'!$D$9:$D$40,$B$153)","v":0},{"$f":"SUMIFS('ABT Transactions'!$B$9:$B$40,'ABT Transactions'!$J$9:$J$40,$C$232,'ABT Transactions'!$I$9:$I$40,$C$148,'ABT Transactions'!$C$9:$C$40,E234,'ABT Transactions'!$D$9:$D$40,$B$153)","v":0},{"$f":"SUMIFS('ABT Transactions'!$B$9:$B$40,'ABT Transactions'!$J$9:$J$40,$C$232,'ABT Transactions'!$I$9:$I$40,$F$148,'ABT Transactions'!$C$9:$C$40,F234,'ABT Transactions'!$D$9:$D$40,$B$153)","v":0},{"$f":"SUMIFS('ABT Transactions'!$B$9:$B$40,'ABT Transactions'!$J$9:$J$40,$C$232,'ABT Transactions'!$I$9:$I$40,$F$148,'ABT Transactions'!$C$9:$C$40,G234,'ABT Transactions'!$D$9:$D$40,$B$153)","v":0},{"$f":"SUMIFS('ABT Transactions'!$B$9:$B$40,'ABT Transactions'!$J$9:$J$40,$C$232,'ABT Transactions'!$I$9:$I$40,$F$148,'ABT Transactions'!$C$9:$C$40,H234,'ABT Transactions'!$D$9:$D$40,$B$153)","v":0},{"$f":"SUMIFS('ABT Transactions'!$B$9:$B$40,'ABT Transactions'!$J$9:$J$40,$C$232,'ABT Transactions'!$I$9:$I$40,$I$148,'ABT Transactions'!$C$9:$C$40,I234,'ABT Transactions'!$D$9:$D$40,$B$153)","v":0},{"$f":"SUMIFS('ABT Transactions'!$B$9:$B$40,'ABT Transactions'!$J$9:$J$40,$C$232,'ABT Transactions'!$I$9:$I$40,$I$148,'ABT Transactions'!$C$9:$C$40,J234,'ABT Transactions'!$D$9:$D$40,$B$153)","v":0},{"$f":"SUMIFS('ABT Transactions'!$B$9:$B$40,'ABT Transactions'!$J$9:$J$40,$C$232,'ABT Transactions'!$I$9:$I$40,$I$148,'ABT Transactions'!$C$9:$C$40,K234,'ABT Transactions'!$D$9:$D$40,$B$153)","v":0},{"$f":"SUMIFS('ABT Transactions'!$B$9:$B$40,'ABT Transactions'!$J$9:$J$40,$C$232,'ABT Transactions'!$I$9:$I$40,$L$148,'ABT Transactions'!$C$9:$C$40,L234,'ABT Transactions'!$D$9:$D$40,$B$153)","v":0},{"$f":"SUMIFS('ABT Transactions'!$B$9:$B$40,'ABT Transactions'!$J$9:$J$40,$C$232,'ABT Transactions'!$I$9:$I$40,$L$148,'ABT Transactions'!$C$9:$C$40,M234,'ABT Transactions'!$D$9:$D$40,$B$153)","v":0},{"$f":"SUMIFS('ABT Transactions'!$B$9:$B$40,'ABT Transactions'!$J$9:$J$40,$C$232,'ABT Transactions'!$I$9:$I$40,$L$148,'ABT Transactions'!$C$9:$C$40,N234,'ABT Transactions'!$D$9:$D$40,$B$153)","v":0},{"$f":"SUMIFS('ABT Transactions'!$B$9:$B$40,'ABT Transactions'!$J$9:$J$40,$C$232,'ABT Transactions'!$I$9:$I$40,$O$148,'ABT Transactions'!$C$9:$C$40,O234,'ABT Transactions'!$D$9:$D$40,$B$153)","v":0},{"$f":"SUMIFS('ABT Transactions'!$B$9:$B$40,'ABT Transactions'!$J$9:$J$40,$C$232,'ABT Transactions'!$I$9:$I$40,$O$148,'ABT Transactions'!$C$9:$C$40,P234,'ABT Transactions'!$D$9:$D$40,$B$153)","v":0},{"$f":"SUMIFS('ABT Transactions'!$B$9:$B$40,'ABT Transactions'!$J$9:$J$40,$C$232,'ABT Transactions'!$I$9:$I$40,$O$148,'ABT Transactions'!$C$9:$C$40,Q234,'ABT Transactions'!$D$9:$D$40,$B$153)","v":0},{"$f":"SUMIFS('ABT Transactions'!$B$9:$B$40,'ABT Transactions'!$J$9:$J$40,$C$232,'ABT Transactions'!$I$9:$I$40,$R$148,'ABT Transactions'!$C$9:$C$40,R234,'ABT Transactions'!$D$9:$D$40,$B$153)","v":0},{"$f":"SUMIFS('ABT Transactions'!$B$9:$B$40,'ABT Transactions'!$J$9:$J$40,$C$232,'ABT Transactions'!$I$9:$I$40,$R$148,'ABT Transactions'!$C$9:$C$40,S234,'ABT Transactions'!$D$9:$D$40,$B$153)","v":0},{"$f":"SUMIFS('ABT Transactions'!$B$9:$B$40,'ABT Transactions'!$J$9:$J$40,$C$232,'ABT Transactions'!$I$9:$I$40,$R$148,'ABT Transactions'!$C$9:$C$40,T234,'ABT Transactions'!$D$9:$D$40,$B$153)","v":0},{"$f":"SUMIFS('ABT Transactions'!$B$9:$B$40,'ABT Transactions'!$J$9:$J$40,$C$232,'ABT Transactions'!$I$9:$I$40,$U$148,'ABT Transactions'!$C$9:$C$40,U234,'ABT Transactions'!$D$9:$D$40,$B$153)","v":0},{"$f":"SUMIFS('ABT Transactions'!$B$9:$B$40,'ABT Transactions'!$J$9:$J$40,$C$232,'ABT Transactions'!$I$9:$I$40,$U$148,'ABT Transactions'!$C$9:$C$40,V234,'ABT Transactions'!$D$9:$D$40,$B$153)","v":0},{"$f":"SUMIFS('ABT Transactions'!$B$9:$B$40,'ABT Transactions'!$J$9:$J$40,$C$232,'ABT Transactions'!$I$9:$I$40,U$148,'ABT Transactions'!$C$9:$C$40,W234,'ABT Transactions'!$D$9:$D$40,$B$153)","v":0},{"$f":"SUMIFS('ABT Transactions'!$B$9:$B$40,'ABT Transactions'!$J$9:$J$40,$C$232,'ABT Transactions'!$I$9:$I$40,$X$148,'ABT Transactions'!$C$9:$C$40,X234,'ABT Transactions'!$D$9:$D$40,$B$153)","v":0},{"$f":"SUMIFS('ABT Transactions'!$B$9:$B$40,'ABT Transactions'!$J$9:$J$40,$C$232,'ABT Transactions'!$I$9:$I$40,$X$148,'ABT Transactions'!$C$9:$C$40,Y234,'ABT Transactions'!$D$9:$D$40,$B$153)","v":0},{"$f":"SUMIFS('ABT Transactions'!$B$9:$B$40,'ABT Transactions'!$J$9:$J$40,$C$232,'ABT Transactions'!$I$9:$I$40,$X$148,'ABT Transactions'!$C$9:$C$40,Z234,'ABT Transactions'!$D$9:$D$40,$B$153)","v":0},{"$f":"SUMIFS('ABT Transactions'!$B$9:$B$40,'ABT Transactions'!$J$9:$J$40,$C$232,'ABT Transactions'!$I$9:$I$40,$AA$148,'ABT Transactions'!$C$9:$C$40,AA234,'ABT Transactions'!$D$9:$D$40,$B$153)","v":0},{"$f":"SUMIFS('ABT Transactions'!$B$9:$B$40,'ABT Transactions'!$J$9:$J$40,$C$232,'ABT Transactions'!$I$9:$I$40,$AA$148,'ABT Transactions'!$C$9:$C$40,AB234,'ABT Transactions'!$D$9:$D$40,$B$153)","v":0},{"$f":"SUMIFS('ABT Transactions'!$B$9:$B$40,'ABT Transactions'!$J$9:$J$40,$C$232,'ABT Transactions'!$I$9:$I$40,$AA$148,'ABT Transactions'!$C$9:$C$40,AC234,'ABT Transactions'!$D$9:$D$40,$B$153)","v":0},{"$f":"SUMIFS('ABT Transactions'!$B$9:$B$40,'ABT Transactions'!$J$9:$J$40,$C$232,'ABT Transactions'!$I$9:$I$40,$AD$148,'ABT Transactions'!$C$9:$C$40,AD234,'ABT Transactions'!$D$9:$D$40,$B$153)","v":0},{"$f":"SUMIFS('ABT Transactions'!$B$9:$B$40,'ABT Transactions'!$J$9:$J$40,$C$232,'ABT Transactions'!$I$9:$I$40,$AD$148,'ABT Transactions'!$C$9:$C$40,AE234,'ABT Transactions'!$D$9:$D$40,$B$153)","v":0},{"$f":"SUMIFS('ABT Transactions'!$B$9:$B$40,'ABT Transactions'!$J$9:$J$40,$C$232,'ABT Transactions'!$I$9:$I$40,$AD$148,'ABT Transactions'!$C$9:$C$40,AF234,'ABT Transactions'!$D$9:$D$40,$B$153)","v":0},{"$f":"SUMIFS('ABT Transactions'!$B$9:$B$40,'ABT Transactions'!$J$9:$J$40,$C$232,'ABT Transactions'!$I$9:$I$40,$AG$148,'ABT Transactions'!$C$9:$C$40,AG234,'ABT Transactions'!$D$9:$D$40,$B$153)","v":0},{"$f":"SUMIFS('ABT Transactions'!$B$9:$B$40,'ABT Transactions'!$J$9:$J$40,$C$232,'ABT Transactions'!$I$9:$I$40,$AG$148,'ABT Transactions'!$C$9:$C$40,AH234,'ABT Transactions'!$D$9:$D$40,$B$153)","v":0},{"$f":"SUMIFS('ABT Transactions'!$B$9:$B$40,'ABT Transactions'!$J$9:$J$40,$C$232,'ABT Transactions'!$I$9:$I$40,$AG$148,'ABT Transactions'!$C$9:$C$40,AI234,'ABT Transactions'!$D$9:$D$40,$B$153)","v":0},{"$f":"SUMIFS('ABT Transactions'!$B$9:$B$40,'ABT Transactions'!$J$9:$J$40,$C$232,'ABT Transactions'!$I$9:$I$40,$AJ$148,'ABT Transactions'!$C$9:$C$40,AJ234,'ABT Transactions'!$D$9:$D$40,$B$153)","v":0},{"$f":"SUMIFS('ABT Transactions'!$B$9:$B$40,'ABT Transactions'!$J$9:$J$40,$C$232,'ABT Transactions'!$I$9:$I$40,$AJ$148,'ABT Transactions'!$C$9:$C$40,AK234,'ABT Transactions'!$D$9:$D$40,$B$153)","v":0},{"$f":"SUMIFS('ABT Transactions'!$B$9:$B$40,'ABT Transactions'!$J$9:$J$40,$C$232,'ABT Transactions'!$I$9:$I$40,$AJ$148,'ABT Transactions'!$C$9:$C$40,AL234,'ABT Transactions'!$D$9:$D$40,$B$153)","v":0},{"$f":"SUMIFS('ABT Transactions'!$B$9:$B$40,'ABT Transactions'!$J$9:$J$40,$C$232,'ABT Transactions'!$I$9:$I$40,$AM$148,'ABT Transactions'!$C$9:$C$40,AM234,'ABT Transactions'!$D$9:$D$40,$B$153)","v":0},{"$f":"SUMIFS('ABT Transactions'!$B$9:$B$40,'ABT Transactions'!$J$9:$J$40,$C$232,'ABT Transactions'!$I$9:$I$40,$AM$148,'ABT Transactions'!$C$9:$C$40,AN234,'ABT Transactions'!$D$9:$D$40,$B$153)","v":0},{"$f":"SUMIFS('ABT Transactions'!$B$9:$B$40,'ABT Transactions'!$J$9:$J$40,$C$232,'ABT Transactions'!$I$9:$I$40,$AM$148,'ABT Transactions'!$C$9:$C$40,AO234,'ABT Transactions'!$D$9:$D$40,$B$153)","v":0},{"$f":"SUMIFS('ABT Transactions'!$B$9:$B$40,'ABT Transactions'!$J$9:$J$40,$C$232,'ABT Transactions'!$I$9:$I$40,$AP$148,'ABT Transactions'!$C$9:$C$40,AP234,'ABT Transactions'!$D$9:$D$40,$B$153)","v":0},{"$f":"SUMIFS('ABT Transactions'!$B$9:$B$40,'ABT Transactions'!$J$9:$J$40,$C$232,'ABT Transactions'!$I$9:$I$40,$AP$148,'ABT Transactions'!$C$9:$C$40,AQ234,'ABT Transactions'!$D$9:$D$40,$B$153)","v":0},{"$f":"SUMIFS('ABT Transactions'!$B$9:$B$40,'ABT Transactions'!$J$9:$J$40,$C$232,'ABT Transactions'!$I$9:$I$40,$AP$148,'ABT Transactions'!$C$9:$C$40,AR234,'ABT Transactions'!$D$9:$D$40,$B$153)","v":0},{"$f":"SUMIFS('ABT Transactions'!$B$9:$B$40,'ABT Transactions'!$J$9:$J$40,$C$232,'ABT Transactions'!$I$9:$I$40,$AS$148,'ABT Transactions'!$C$9:$C$40,AS234,'ABT Transactions'!$D$9:$D$40,$B$153)","v":0},{"$f":"SUMIFS('ABT Transactions'!$B$9:$B$40,'ABT Transactions'!$J$9:$J$40,$C$232,'ABT Transactions'!$I$9:$I$40,$AS$148,'ABT Transactions'!$C$9:$C$40,AT234,'ABT Transactions'!$D$9:$D$40,$B$153)","v":0},{"$f":"SUMIFS('ABT Transactions'!$B$9:$B$40,'ABT Transactions'!$J$9:$J$40,$C$232,'ABT Transactions'!$I$9:$I$40,$AS$148,'ABT Transactions'!$C$9:$C$40,AU234,'ABT Transactions'!$D$9:$D$40,$B$153)","v":0}]
[null,"Trade Out",{"$f":"SUMIFS('ABT Transactions'!$B$9:$B$40,'ABT Transactions'!$G$9:$G$40,$C$232,'ABT Transactions'!$F$9:$F$40,$C$148,'ABT Transactions'!$C$9:$C$40,C234,'ABT Transactions'!$D$9:$D$40,$B$154)","v":0},{"$f":"SUMIFS('ABT Transactions'!$B$9:$B$40,'ABT Transactions'!$G$9:$G$40,$C$232,'ABT Transactions'!$F$9:$F$40,$C$148,'ABT Transactions'!$C$9:$C$40,D234,'ABT Transactions'!$D$9:$D$40,$B$154)","v":0},{"$f":"SUMIFS('ABT Transactions'!$B$9:$B$40,'ABT Transactions'!$G$9:$G$40,$C$232,'ABT Transactions'!$F$9:$F$40,$C$148,'ABT Transactions'!$C$9:$C$40,E234,'ABT Transactions'!$D$9:$D$40,$B$154)","v":0},{"$f":"SUMIFS('ABT Transactions'!$B$9:$B$40,'ABT Transactions'!$G$9:$G$40,$C$232,'ABT Transactions'!$F$9:$F$40,$F$148,'ABT Transactions'!$C$9:$C$40,F234,'ABT Transactions'!$D$9:$D$40,$B$154)","v":0},{"$f":"SUMIFS('ABT Transactions'!$B$9:$B$40,'ABT Transactions'!$G$9:$G$40,$C$232,'ABT Transactions'!$F$9:$F$40,$F$148,'ABT Transactions'!$C$9:$C$40,G234,'ABT Transactions'!$D$9:$D$40,$B$154)","v":0},{"$f":"SUMIFS('ABT Transactions'!$B$9:$B$40,'ABT Transactions'!$G$9:$G$40,$C$232,'ABT Transactions'!$F$9:$F$40,$F$148,'ABT Transactions'!$C$9:$C$40,H234,'ABT Transactions'!$D$9:$D$40,$B$154)","v":0},{"$f":"SUMIFS('ABT Transactions'!$B$9:$B$40,'ABT Transactions'!$G$9:$G$40,$C$232,'ABT Transactions'!$F$9:$F$40,$I$148,'ABT Transactions'!$C$9:$C$40,I234,'ABT Transactions'!$D$9:$D$40,$B$154)","v":0},{"$f":"SUMIFS('ABT Transactions'!$B$9:$B$40,'ABT Transactions'!$G$9:$G$40,$C$232,'ABT Transactions'!$F$9:$F$40,$I$148,'ABT Transactions'!$C$9:$C$40,J234,'ABT Transactions'!$D$9:$D$40,$B$154)","v":0},{"$f":"SUMIFS('ABT Transactions'!$B$9:$B$40,'ABT Transactions'!$G$9:$G$40,$C$232,'ABT Transactions'!$F$9:$F$40,$I$148,'ABT Transactions'!$C$9:$C$40,K234,'ABT Transactions'!$D$9:$D$40,$B$154)","v":0},{"$f":"SUMIFS('ABT Transactions'!$B$9:$B$40,'ABT Transactions'!$G$9:$G$40,$C$232,'ABT Transactions'!$F$9:$F$40,$L$148,'ABT Transactions'!$C$9:$C$40,L234,'ABT Transactions'!$D$9:$D$40,$B$154)","v":0},{"$f":"SUMIFS('ABT Transactions'!$B$9:$B$40,'ABT Transactions'!$G$9:$G$40,$C$232,'ABT Transactions'!$F$9:$F$40,$L$148,'ABT Transactions'!$C$9:$C$40,M234,'ABT Transactions'!$D$9:$D$40,$B$154)","v":0},{"$f":"SUMIFS('ABT Transactions'!$B$9:$B$40,'ABT Transactions'!$G$9:$G$40,$C$232,'ABT Transactions'!$F$9:$F$40,$L$148,'ABT Transactions'!$C$9:$C$40,N234,'ABT Transactions'!$D$9:$D$40,$B$154)","v":0},{"$f":"SUMIFS('ABT Transactions'!$B$9:$B$40,'ABT Transactions'!$G$9:$G$40,$C$232,'ABT Transactions'!$F$9:$F$40,$O$148,'ABT Transactions'!$C$9:$C$40,O234,'ABT Transactions'!$D$9:$D$40,$B$154)","v":0},{"$f":"SUMIFS('ABT Transactions'!$B$9:$B$40,'ABT Transactions'!$G$9:$G$40,$C$232,'ABT Transactions'!$F$9:$F$40,$O$148,'ABT Transactions'!$C$9:$C$40,P234,'ABT Transactions'!$D$9:$D$40,$B$154)","v":0},{"$f":"SUMIFS('ABT Transactions'!$B$9:$B$40,'ABT Transactions'!$G$9:$G$40,$C$232,'ABT Transactions'!$F$9:$F$40,$O$148,'ABT Transactions'!$C$9:$C$40,Q234,'ABT Transactions'!$D$9:$D$40,$B$154)","v":0},{"$f":"SUMIFS('ABT Transactions'!$B$9:$B$40,'ABT Transactions'!$G$9:$G$40,$C$232,'ABT Transactions'!$F$9:$F$40,$R$148,'ABT Transactions'!$C$9:$C$40,R234,'ABT Transactions'!$D$9:$D$40,$B$154)","v":0},{"$f":"SUMIFS('ABT Transactions'!$B$9:$B$40,'ABT Transactions'!$G$9:$G$40,$C$232,'ABT Transactions'!$F$9:$F$40,$R$148,'ABT Transactions'!$C$9:$C$40,S234,'ABT Transactions'!$D$9:$D$40,$B$154)","v":0},{"$f":"SUMIFS('ABT Transactions'!$B$9:$B$40,'ABT Transactions'!$G$9:$G$40,$C$232,'ABT Transactions'!$F$9:$F$40,$R$148,'ABT Transactions'!$C$9:$C$40,T234,'ABT Transactions'!$D$9:$D$40,$B$154)","v":0},{"$f":"SUMIFS('ABT Transactions'!$B$9:$B$40,'ABT Transactions'!$G$9:$G$40,$C$232,'ABT Transactions'!$F$9:$F$40,$U$148,'ABT Transactions'!$C$9:$C$40,U234,'ABT Transactions'!$D$9:$D$40,$B$154)","v":0},{"$f":"SUMIFS('ABT Transactions'!$B$9:$B$40,'ABT Transactions'!$G$9:$G$40,$C$232,'ABT Transactions'!$F$9:$F$40,$U$148,'ABT Transactions'!$C$9:$C$40,V234,'ABT Transactions'!$D$9:$D$40,$B$154)","v":0},{"$f":"SUMIFS('ABT Transactions'!$B$9:$B$40,'ABT Transactions'!$G$9:$G$40,$C$232,'ABT Transactions'!$F$9:$F$40,U$148,'ABT Transactions'!$C$9:$C$40,W234,'ABT Transactions'!$D$9:$D$40,$B$154)","v":0},{"$f":"SUMIFS('ABT Transactions'!$B$9:$B$40,'ABT Transactions'!$G$9:$G$40,$C$232,'ABT Transactions'!$F$9:$F$40,$X$148,'ABT Transactions'!$C$9:$C$40,X234,'ABT Transactions'!$D$9:$D$40,$B$154)","v":0},{"$f":"SUMIFS('ABT Transactions'!$B$9:$B$40,'ABT Transactions'!$G$9:$G$40,$C$232,'ABT Transactions'!$F$9:$F$40,$X$148,'ABT Transactions'!$C$9:$C$40,Y234,'ABT Transactions'!$D$9:$D$40,$B$154)","v":0},{"$f":"SUMIFS('ABT Transactions'!$B$9:$B$40,'ABT Transactions'!$G$9:$G$40,$C$232,'ABT Transactions'!$F$9:$F$40,$X$148,'ABT Transactions'!$C$9:$C$40,Z234,'ABT Transactions'!$D$9:$D$40,$B$154)","v":0},{"$f":"SUMIFS('ABT Transactions'!$B$9:$B$40,'ABT Transactions'!$G$9:$G$40,$C$232,'ABT Transactions'!$F$9:$F$40,$AA$148,'ABT Transactions'!$C$9:$C$40,AA234,'ABT Transactions'!$D$9:$D$40,$B$154)","v":0},{"$f":"SUMIFS('ABT Transactions'!$B$9:$B$40,'ABT Transactions'!$G$9:$G$40,$C$232,'ABT Transactions'!$F$9:$F$40,$AA$148,'ABT Transactions'!$C$9:$C$40,AB234,'ABT Transactions'!$D$9:$D$40,$B$154)","v":0},{"$f":"SUMIFS('ABT Transactions'!$B$9:$B$40,'ABT Transactions'!$G$9:$G$40,$C$232,'ABT Transactions'!$F$9:$F$40,$AA$148,'ABT Transactions'!$C$9:$C$40,AC234,'ABT Transactions'!$D$9:$D$40,$B$154)","v":0},{"$f":"SUMIFS('ABT Transactions'!$B$9:$B$40,'ABT Transactions'!$G$9:$G$40,$C$232,'ABT Transactions'!$F$9:$F$40,$AD$148,'ABT Transactions'!$C$9:$C$40,AD234,'ABT Transactions'!$D$9:$D$40,$B$154)","v":0},{"$f":"SUMIFS('ABT Transactions'!$B$9:$B$40,'ABT Transactions'!$G$9:$G$40,$C$232,'ABT Transactions'!$F$9:$F$40,$AD$148,'ABT Transactions'!$C$9:$C$40,AE234,'ABT Transactions'!$D$9:$D$40,$B$154)","v":0},{"$f":"SUMIFS('ABT Transactions'!$B$9:$B$40,'ABT Transactions'!$G$9:$G$40,$C$232,'ABT Transactions'!$F$9:$F$40,$AD$148,'ABT Transactions'!$C$9:$C$40,AF234,'ABT Transactions'!$D$9:$D$40,$B$154)","v":0},{"$f":"SUMIFS('ABT Transactions'!$B$9:$B$40,'ABT Transactions'!$G$9:$G$40,$C$232,'ABT Transactions'!$F$9:$F$40,$AG$148,'ABT Transactions'!$C$9:$C$40,AG234,'ABT Transactions'!$D$9:$D$40,$B$154)","v":0},{"$f":"SUMIFS('ABT Transactions'!$B$9:$B$40,'ABT Transactions'!$G$9:$G$40,$C$232,'ABT Transactions'!$F$9:$F$40,$AG$148,'ABT Transactions'!$C$9:$C$40,AH234,'ABT Transactions'!$D$9:$D$40,$B$154)","v":0},{"$f":"SUMIFS('ABT Transactions'!$B$9:$B$40,'ABT Transactions'!$G$9:$G$40,$C$232,'ABT Transactions'!$F$9:$F$40,$AG$148,'ABT Transactions'!$C$9:$C$40,AI234,'ABT Transactions'!$D$9:$D$40,$B$154)","v":0},{"$f":"SUMIFS('ABT Transactions'!$B$9:$B$40,'ABT Transactions'!$G$9:$G$40,$C$232,'ABT Transactions'!$F$9:$F$40,$AJ$148,'ABT Transactions'!$C$9:$C$40,AJ234,'ABT Transactions'!$D$9:$D$40,$B$154)","v":0},{"$f":"SUMIFS('ABT Transactions'!$B$9:$B$40,'ABT Transactions'!$G$9:$G$40,$C$232,'ABT Transactions'!$F$9:$F$40,$AJ$148,'ABT Transactions'!$C$9:$C$40,AK234,'ABT Transactions'!$D$9:$D$40,$B$154)","v":0},{"$f":"SUMIFS('ABT Transactions'!$B$9:$B$40,'ABT Transactions'!$G$9:$G$40,$C$232,'ABT Transactions'!$F$9:$F$40,$AJ$148,'ABT Transactions'!$C$9:$C$40,AL234,'ABT Transactions'!$D$9:$D$40,$B$154)","v":0},{"$f":"SUMIFS('ABT Transactions'!$B$9:$B$40,'ABT Transactions'!$G$9:$G$40,$C$232,'ABT Transactions'!$F$9:$F$40,$AM$148,'ABT Transactions'!$C$9:$C$40,AM234,'ABT Transactions'!$D$9:$D$40,$B$154)","v":0},{"$f":"SUMIFS('ABT Transactions'!$B$9:$B$40,'ABT Transactions'!$G$9:$G$40,$C$232,'ABT Transactions'!$F$9:$F$40,$AM$148,'ABT Transactions'!$C$9:$C$40,AN234,'ABT Transactions'!$D$9:$D$40,$B$154)","v":0},{"$f":"SUMIFS('ABT Transactions'!$B$9:$B$40,'ABT Transactions'!$G$9:$G$40,$C$232,'ABT Transactions'!$F$9:$F$40,$AM$148,'ABT Transactions'!$C$9:$C$40,AO234,'ABT Transactions'!$D$9:$D$40,$B$154)","v":0},{"$f":"SUMIFS('ABT Transactions'!$B$9:$B$40,'ABT Transactions'!$G$9:$G$40,$C$232,'ABT Transactions'!$F$9:$F$40,$AP$148,'ABT Transactions'!$C$9:$C$40,AP234,'ABT Transactions'!$D$9:$D$40,$B$154)","v":0},{"$f":"SUMIFS('ABT Transactions'!$B$9:$B$40,'ABT Transactions'!$G$9:$G$40,$C$232,'ABT Transactions'!$F$9:$F$40,$AP$148,'ABT Transactions'!$C$9:$C$40,AQ234,'ABT Transactions'!$D$9:$D$40,$B$154)","v":0},{"$f":"SUMIFS('ABT Transactions'!$B$9:$B$40,'ABT Transactions'!$G$9:$G$40,$C$232,'ABT Transactions'!$F$9:$F$40,$AP$148,'ABT Transactions'!$C$9:$C$40,AR234,'ABT Transactions'!$D$9:$D$40,$B$154)","v":0},{"$f":"SUMIFS('ABT Transactions'!$B$9:$B$40,'ABT Transactions'!$G$9:$G$40,$C$232,'ABT Transactions'!$F$9:$F$40,$AS$148,'ABT Transactions'!$C$9:$C$40,AS234,'ABT Transactions'!$D$9:$D$40,$B$154)","v":0},{"$f":"SUMIFS('ABT Transactions'!$B$9:$B$40,'ABT Transactions'!$G$9:$G$40,$C$232,'ABT Transactions'!$F$9:$F$40,$AS$148,'ABT Transactions'!$C$9:$C$40,AT234,'ABT Transactions'!$D$9:$D$40,$B$154)","v":0},{"$f":"SUMIFS('ABT Transactions'!$B$9:$B$40,'ABT Transactions'!$G$9:$G$40,$C$232,'ABT Transactions'!$F$9:$F$40,$AS$148,'ABT Transactions'!$C$9:$C$40,AU234,'ABT Transactions'!$D$9:$D$40,$B$154)","v":0}]
[null,"Trade In",{"$f":"SUMIFS('ABT Transactions'!$B$9:$B$40,'ABT Transactions'!$J$9:$J$40,$C$232,'ABT Transactions'!$I$9:$I$40,$C$148,'ABT Transactions'!$C$9:$C$40,C234,'ABT Transactions'!$D$9:$D$40,$B$155)","v":0},{"$f":"SUMIFS('ABT Transactions'!$B$9:$B$40,'ABT Transactions'!$J$9:$J$40,$C$232,'ABT Transactions'!$I$9:$I$40,$C$148,'ABT Transactions'!$C$9:$C$40,D234,'ABT Transactions'!$D$9:$D$40,$B$155)","v":0},{"$f":"SUMIFS('ABT Transactions'!$B$9:$B$40,'ABT Transactions'!$J$9:$J$40,$C$232,'ABT Transactions'!$I$9:$I$40,$C$148,'ABT Transactions'!$C$9:$C$40,E234,'ABT Transactions'!$D$9:$D$40,$B$155)","v":0},{"$f":"SUMIFS('ABT Transactions'!$B$9:$B$40,'ABT Transactions'!$J$9:$J$40,$C$232,'ABT Transactions'!$I$9:$I$40,$F$148,'ABT Transactions'!$C$9:$C$40,F234,'ABT Transactions'!$D$9:$D$40,$B$155)","v":0},{"$f":"SUMIFS('ABT Transactions'!$B$9:$B$40,'ABT Transactions'!$J$9:$J$40,$C$232,'ABT Transactions'!$I$9:$I$40,$F$148,'ABT Transactions'!$C$9:$C$40,G234,'ABT Transactions'!$D$9:$D$40,$B$155)","v":0},{"$f":"SUMIFS('ABT Transactions'!$B$9:$B$40,'ABT Transactions'!$J$9:$J$40,$C$232,'ABT Transactions'!$I$9:$I$40,$F$148,'ABT Transactions'!$C$9:$C$40,H234,'ABT Transactions'!$D$9:$D$40,$B$155)","v":0},{"$f":"SUMIFS('ABT Transactions'!$B$9:$B$40,'ABT Transactions'!$J$9:$J$40,$C$232,'ABT Transactions'!$I$9:$I$40,$I$148,'ABT Transactions'!$C$9:$C$40,I234,'ABT Transactions'!$D$9:$D$40,$B$155)","v":0},{"$f":"SUMIFS('ABT Transactions'!$B$9:$B$40,'ABT Transactions'!$J$9:$J$40,$C$232,'ABT Transactions'!$I$9:$I$40,$I$148,'ABT Transactions'!$C$9:$C$40,J234,'ABT Transactions'!$D$9:$D$40,$B$155)","v":0},{"$f":"SUMIFS('ABT Transactions'!$B$9:$B$40,'ABT Transactions'!$J$9:$J$40,$C$232,'ABT Transactions'!$I$9:$I$40,$I$148,'ABT Transactions'!$C$9:$C$40,K234,'ABT Transactions'!$D$9:$D$40,$B$155)","v":0},{"$f":"SUMIFS('ABT Transactions'!$B$9:$B$40,'ABT Transactions'!$J$9:$J$40,$C$232,'ABT Transactions'!$I$9:$I$40,$L$148,'ABT Transactions'!$C$9:$C$40,L234,'ABT Transactions'!$D$9:$D$40,$B$155)","v":0},{"$f":"SUMIFS('ABT Transactions'!$B$9:$B$40,'ABT Transactions'!$J$9:$J$40,$C$232,'ABT Transactions'!$I$9:$I$40,$L$148,'ABT Transactions'!$C$9:$C$40,M234,'ABT Transactions'!$D$9:$D$40,$B$155)","v":0},{"$f":"SUMIFS('ABT Transactions'!$B$9:$B$40,'ABT Transactions'!$J$9:$J$40,$C$232,'ABT Transactions'!$I$9:$I$40,$L$148,'ABT Transactions'!$C$9:$C$40,N234,'ABT Transactions'!$D$9:$D$40,$B$155)","v":0},{"$f":"SUMIFS('ABT Transactions'!$B$9:$B$40,'ABT Transactions'!$J$9:$J$40,$C$232,'ABT Transactions'!$I$9:$I$40,$O$148,'ABT Transactions'!$C$9:$C$40,O234,'ABT Transactions'!$D$9:$D$40,$B$155)","v":0},{"$f":"SUMIFS('ABT Transactions'!$B$9:$B$40,'ABT Transactions'!$J$9:$J$40,$C$232,'ABT Transactions'!$I$9:$I$40,$O$148,'ABT Transactions'!$C$9:$C$40,P234,'ABT Transactions'!$D$9:$D$40,$B$155)","v":0},{"$f":"SUMIFS('ABT Transactions'!$B$9:$B$40,'ABT Transactions'!$J$9:$J$40,$C$232,'ABT Transactions'!$I$9:$I$40,$O$148,'ABT Transactions'!$C$9:$C$40,Q234,'ABT Transactions'!$D$9:$D$40,$B$155)","v":0},{"$f":"SUMIFS('ABT Transactions'!$B$9:$B$40,'ABT Transactions'!$J$9:$J$40,$C$232,'ABT Transactions'!$I$9:$I$40,$R$148,'ABT Transactions'!$C$9:$C$40,R234,'ABT Transactions'!$D$9:$D$40,$B$155)","v":0},{"$f":"SUMIFS('ABT Transactions'!$B$9:$B$40,'ABT Transactions'!$J$9:$J$40,$C$232,'ABT Transactions'!$I$9:$I$40,$R$148,'ABT Transactions'!$C$9:$C$40,S234,'ABT Transactions'!$D$9:$D$40,$B$155)","v":0},{"$f":"SUMIFS('ABT Transactions'!$B$9:$B$40,'ABT Transactions'!$J$9:$J$40,$C$232,'ABT Transactions'!$I$9:$I$40,$R$148,'ABT Transactions'!$C$9:$C$40,T234,'ABT Transactions'!$D$9:$D$40,$B$155)","v":0},{"$f":"SUMIFS('ABT Transactions'!$B$9:$B$40,'ABT Transactions'!$J$9:$J$40,$C$232,'ABT Transactions'!$I$9:$I$40,$U$148,'ABT Transactions'!$C$9:$C$40,U234,'ABT Transactions'!$D$9:$D$40,$B$155)","v":0},{"$f":"SUMIFS('ABT Transactions'!$B$9:$B$40,'ABT Transactions'!$J$9:$J$40,$C$232,'ABT Transactions'!$I$9:$I$40,$U$148,'ABT Transactions'!$C$9:$C$40,V234,'ABT Transactions'!$D$9:$D$40,$B$155)","v":0},{"$f":"SUMIFS('ABT Transactions'!$B$9:$B$40,'ABT Transactions'!$J$9:$J$40,$C$232,'ABT Transactions'!$I$9:$I$40,U$148,'ABT Transactions'!$C$9:$C$40,W234,'ABT Transactions'!$D$9:$D$40,$B$155)","v":0},{"$f":"SUMIFS('ABT Transactions'!$B$9:$B$40,'ABT Transactions'!$J$9:$J$40,$C$232,'ABT Transactions'!$I$9:$I$40,$X$148,'ABT Transactions'!$C$9:$C$40,X234,'ABT Transactions'!$D$9:$D$40,$B$155)","v":0},{"$f":"SUMIFS('ABT Transactions'!$B$9:$B$40,'ABT Transactions'!$J$9:$J$40,$C$232,'ABT Transactions'!$I$9:$I$40,$X$148,'ABT Transactions'!$C$9:$C$40,Y234,'ABT Transactions'!$D$9:$D$40,$B$155)","v":0},{"$f":"SUMIFS('ABT Transactions'!$B$9:$B$40,'ABT Transactions'!$J$9:$J$40,$C$232,'ABT Transactions'!$I$9:$I$40,$X$148,'ABT Transactions'!$C$9:$C$40,Z234,'ABT Transactions'!$D$9:$D$40,$B$155)","v":0},{"$f":"SUMIFS('ABT Transactions'!$B$9:$B$40,'ABT Transactions'!$J$9:$J$40,$C$232,'ABT Transactions'!$I$9:$I$40,$AA$148,'ABT Transactions'!$C$9:$C$40,AA234,'ABT Transactions'!$D$9:$D$40,$B$155)","v":0},{"$f":"SUMIFS('ABT Transactions'!$B$9:$B$40,'ABT Transactions'!$J$9:$J$40,$C$232,'ABT Transactions'!$I$9:$I$40,$AA$148,'ABT Transactions'!$C$9:$C$40,AB234,'ABT Transactions'!$D$9:$D$40,$B$155)","v":0},{"$f":"SUMIFS('ABT Transactions'!$B$9:$B$40,'ABT Transactions'!$J$9:$J$40,$C$232,'ABT Transactions'!$I$9:$I$40,$AA$148,'ABT Transactions'!$C$9:$C$40,AC234,'ABT Transactions'!$D$9:$D$40,$B$155)","v":0},{"$f":"SUMIFS('ABT Transactions'!$B$9:$B$40,'ABT Transactions'!$J$9:$J$40,$C$232,'ABT Transactions'!$I$9:$I$40,$AD$148,'ABT Transactions'!$C$9:$C$40,AD234,'ABT Transactions'!$D$9:$D$40,$B$155)","v":0},{"$f":"SUMIFS('ABT Transactions'!$B$9:$B$40,'ABT Transactions'!$J$9:$J$40,$C$232,'ABT Transactions'!$I$9:$I$40,$AD$148,'ABT Transactions'!$C$9:$C$40,AE234,'ABT Transactions'!$D$9:$D$40,$B$155)","v":0},{"$f":"SUMIFS('ABT Transactions'!$B$9:$B$40,'ABT Transactions'!$J$9:$J$40,$C$232,'ABT Transactions'!$I$9:$I$40,$AD$148,'ABT Transactions'!$C$9:$C$40,AF234,'ABT Transactions'!$D$9:$D$40,$B$155)","v":0},{"$f":"SUMIFS('ABT Transactions'!$B$9:$B$40,'ABT Transactions'!$J$9:$J$40,$C$232,'ABT Transactions'!$I$9:$I$40,$AG$148,'ABT Transactions'!$C$9:$C$40,AG234,'ABT Transactions'!$D$9:$D$40,$B$155)","v":0},{"$f":"SUMIFS('ABT Transactions'!$B$9:$B$40,'ABT Transactions'!$J$9:$J$40,$C$232,'ABT Transactions'!$I$9:$I$40,$AG$148,'ABT Transactions'!$C$9:$C$40,AH234,'ABT Transactions'!$D$9:$D$40,$B$155)","v":0},{"$f":"SUMIFS('ABT Transactions'!$B$9:$B$40,'ABT Transactions'!$J$9:$J$40,$C$232,'ABT Transactions'!$I$9:$I$40,$AG$148,'ABT Transactions'!$C$9:$C$40,AI234,'ABT Transactions'!$D$9:$D$40,$B$155)","v":0},{"$f":"SUMIFS('ABT Transactions'!$B$9:$B$40,'ABT Transactions'!$J$9:$J$40,$C$232,'ABT Transactions'!$I$9:$I$40,$AJ$148,'ABT Transactions'!$C$9:$C$40,AJ234,'ABT Transactions'!$D$9:$D$40,$B$155)","v":0},{"$f":"SUMIFS('ABT Transactions'!$B$9:$B$40,'ABT Transactions'!$J$9:$J$40,$C$232,'ABT Transactions'!$I$9:$I$40,$AJ$148,'ABT Transactions'!$C$9:$C$40,AK234,'ABT Transactions'!$D$9:$D$40,$B$155)","v":0},{"$f":"SUMIFS('ABT Transactions'!$B$9:$B$40,'ABT Transactions'!$J$9:$J$40,$C$232,'ABT Transactions'!$I$9:$I$40,$AJ$148,'ABT Transactions'!$C$9:$C$40,AL234,'ABT Transactions'!$D$9:$D$40,$B$155)","v":0},{"$f":"SUMIFS('ABT Transactions'!$B$9:$B$40,'ABT Transactions'!$J$9:$J$40,$C$232,'ABT Transactions'!$I$9:$I$40,$AM$148,'ABT Transactions'!$C$9:$C$40,AM234,'ABT Transactions'!$D$9:$D$40,$B$155)","v":0},{"$f":"SUMIFS('ABT Transactions'!$B$9:$B$40,'ABT Transactions'!$J$9:$J$40,$C$232,'ABT Transactions'!$I$9:$I$40,$AM$148,'ABT Transactions'!$C$9:$C$40,AN234,'ABT Transactions'!$D$9:$D$40,$B$155)","v":0},{"$f":"SUMIFS('ABT Transactions'!$B$9:$B$40,'ABT Transactions'!$J$9:$J$40,$C$232,'ABT Transactions'!$I$9:$I$40,$AM$148,'ABT Transactions'!$C$9:$C$40,AO234,'ABT Transactions'!$D$9:$D$40,$B$155)","v":0},{"$f":"SUMIFS('ABT Transactions'!$B$9:$B$40,'ABT Transactions'!$J$9:$J$40,$C$232,'ABT Transactions'!$I$9:$I$40,$AP$148,'ABT Transactions'!$C$9:$C$40,AP234,'ABT Transactions'!$D$9:$D$40,$B$155)","v":0},{"$f":"SUMIFS('ABT Transactions'!$B$9:$B$40,'ABT Transactions'!$J$9:$J$40,$C$232,'ABT Transactions'!$I$9:$I$40,$AP$148,'ABT Transactions'!$C$9:$C$40,AQ234,'ABT Transactions'!$D$9:$D$40,$B$155)","v":0},{"$f":"SUMIFS('ABT Transactions'!$B$9:$B$40,'ABT Transactions'!$J$9:$J$40,$C$232,'ABT Transactions'!$I$9:$I$40,$AP$148,'ABT Transactions'!$C$9:$C$40,AR234,'ABT Transactions'!$D$9:$D$40,$B$155)","v":0},{"$f":"SUMIFS('ABT Transactions'!$B$9:$B$40,'ABT Transactions'!$J$9:$J$40,$C$232,'ABT Transactions'!$I$9:$I$40,$AS$148,'ABT Transactions'!$C$9:$C$40,AS234,'ABT Transactions'!$D$9:$D$40,$B$155)","v":0},{"$f":"SUMIFS('ABT Transactions'!$B$9:$B$40,'ABT Transactions'!$J$9:$J$40,$C$232,'ABT Transactions'!$I$9:$I$40,$AS$148,'ABT Transactions'!$C$9:$C$40,AT234,'ABT Transactions'!$D$9:$D$40,$B$155)","v":0},{"$f":"SUMIFS('ABT Transactions'!$B$9:$B$40,'ABT Transactions'!$J$9:$J$40,$C$232,'ABT Transactions'!$I$9:$I$40,$AS$148,'ABT Transactions'!$C$9:$C$40,AU234,'ABT Transactions'!$D$9:$D$40,$B$155)","v":0}]
[null,"Transfer ADV Credits (out)",{"$f":"SUMIFS('ABT Transactions'!$B$9:$B$40,'ABT Transactions'!$G$9:$G$40,$C$232,'ABT Transactions'!$F$9:$F$40,$C$148,'ABT Transactions'!$C$9:$C$40,C234,'ABT Transactions'!$D$9:$D$40,$B$156)","v":0},{"$f":"SUMIFS('ABT Transactions'!$B$9:$B$40,'ABT Transactions'!$G$9:$G$40,$C$232,'ABT Transactions'!$F$9:$F$40,$C$148,'ABT Transactions'!$C$9:$C$40,D234,'ABT Transactions'!$D$9:$D$40,$B$156)","v":0},{"$f":"SUMIFS('ABT Transactions'!$B$9:$B$40,'ABT Transactions'!$G$9:$G$40,$C$232,'ABT Transactions'!$F$9:$F$40,$C$148,'ABT Transactions'!$C$9:$C$40,E234,'ABT Transactions'!$D$9:$D$40,$B$156)","v":0},{"$f":"SUMIFS('ABT Transactions'!$B$9:$B$40,'ABT Transactions'!$G$9:$G$40,$C$232,'ABT Transactions'!$F$9:$F$40,$F$148,'ABT Transactions'!$C$9:$C$40,F234,'ABT Transactions'!$D$9:$D$40,$B$156)","v":0},{"$f":"SUMIFS('ABT Transactions'!$B$9:$B$40,'ABT Transactions'!$G$9:$G$40,$C$232,'ABT Transactions'!$F$9:$F$40,$F$148,'ABT Transactions'!$C$9:$C$40,G234,'ABT Transactions'!$D$9:$D$40,$B$156)","v":0},{"$f":"SUMIFS('ABT Transactions'!$B$9:$B$40,'ABT Transactions'!$G$9:$G$40,$C$232,'ABT Transactions'!$F$9:$F$40,$F$148,'ABT Transactions'!$C$9:$C$40,H234,'ABT Transactions'!$D$9:$D$40,$B$156)","v":0},{"$f":"SUMIFS('ABT Transactions'!$B$9:$B$40,'ABT Transactions'!$G$9:$G$40,$C$232,'ABT Transactions'!$F$9:$F$40,$I$148,'ABT Transactions'!$C$9:$C$40,I234,'ABT Transactions'!$D$9:$D$40,$B$156)","v":0},{"$f":"SUMIFS('ABT Transactions'!$B$9:$B$40,'ABT Transactions'!$G$9:$G$40,$C$232,'ABT Transactions'!$F$9:$F$40,$I$148,'ABT Transactions'!$C$9:$C$40,J234,'ABT Transactions'!$D$9:$D$40,$B$156)","v":0},{"$f":"SUMIFS('ABT Transactions'!$B$9:$B$40,'ABT Transactions'!$G$9:$G$40,$C$232,'ABT Transactions'!$F$9:$F$40,$I$148,'ABT Transactions'!$C$9:$C$40,K234,'ABT Transactions'!$D$9:$D$40,$B$156)","v":0},{"$f":"SUMIFS('ABT Transactions'!$B$9:$B$40,'ABT Transactions'!$G$9:$G$40,$C$232,'ABT Transactions'!$F$9:$F$40,$L$148,'ABT Transactions'!$C$9:$C$40,L234,'ABT Transactions'!$D$9:$D$40,$B$156)","v":0},{"$f":"SUMIFS('ABT Transactions'!$B$9:$B$40,'ABT Transactions'!$G$9:$G$40,$C$232,'ABT Transactions'!$F$9:$F$40,$L$148,'ABT Transactions'!$C$9:$C$40,M234,'ABT Transactions'!$D$9:$D$40,$B$156)","v":0},{"$f":"SUMIFS('ABT Transactions'!$B$9:$B$40,'ABT Transactions'!$G$9:$G$40,$C$232,'ABT Transactions'!$F$9:$F$40,$L$148,'ABT Transactions'!$C$9:$C$40,N234,'ABT Transactions'!$D$9:$D$40,$B$156)","v":0},{"$f":"SUMIFS('ABT Transactions'!$B$9:$B$40,'ABT Transactions'!$G$9:$G$40,$C$232,'ABT Transactions'!$F$9:$F$40,$O$148,'ABT Transactions'!$C$9:$C$40,O234,'ABT Transactions'!$D$9:$D$40,$B$156)","v":0},{"$f":"SUMIFS('ABT Transactions'!$B$9:$B$40,'ABT Transactions'!$G$9:$G$40,$C$232,'ABT Transactions'!$F$9:$F$40,$O$148,'ABT Transactions'!$C$9:$C$40,P234,'ABT Transactions'!$D$9:$D$40,$B$156)","v":0},{"$f":"SUMIFS('ABT Transactions'!$B$9:$B$40,'ABT Transactions'!$G$9:$G$40,$C$232,'ABT Transactions'!$F$9:$F$40,$O$148,'ABT Transactions'!$C$9:$C$40,Q234,'ABT Transactions'!$D$9:$D$40,$B$156)","v":0},{"$f":"SUMIFS('ABT Transactions'!$B$9:$B$40,'ABT Transactions'!$G$9:$G$40,$C$232,'ABT Transactions'!$F$9:$F$40,$R$148,'ABT Transactions'!$C$9:$C$40,R234,'ABT Transactions'!$D$9:$D$40,$B$156)","v":0},{"$f":"SUMIFS('ABT Transactions'!$B$9:$B$40,'ABT Transactions'!$G$9:$G$40,$C$232,'ABT Transactions'!$F$9:$F$40,$R$148,'ABT Transactions'!$C$9:$C$40,S234,'ABT Transactions'!$D$9:$D$40,$B$156)","v":0},{"$f":"SUMIFS('ABT Transactions'!$B$9:$B$40,'ABT Transactions'!$G$9:$G$40,$C$232,'ABT Transactions'!$F$9:$F$40,$R$148,'ABT Transactions'!$C$9:$C$40,T234,'ABT Transactions'!$D$9:$D$40,$B$156)","v":0},{"$f":"SUMIFS('ABT Transactions'!$B$9:$B$40,'ABT Transactions'!$G$9:$G$40,$C$232,'ABT Transactions'!$F$9:$F$40,$U$148,'ABT Transactions'!$C$9:$C$40,U234,'ABT Transactions'!$D$9:$D$40,$B$156)","v":0},{"$f":"SUMIFS('ABT Transactions'!$B$9:$B$40,'ABT Transactions'!$G$9:$G$40,$C$232,'ABT Transactions'!$F$9:$F$40,$U$148,'ABT Transactions'!$C$9:$C$40,V234,'ABT Transactions'!$D$9:$D$40,$B$156)","v":0},{"$f":"SUMIFS('ABT Transactions'!$B$9:$B$40,'ABT Transactions'!$G$9:$G$40,$C$232,'ABT Transactions'!$F$9:$F$40,U$148,'ABT Transactions'!$C$9:$C$40,W234,'ABT Transactions'!$D$9:$D$40,$B$156)","v":0},{"$f":"SUMIFS('ABT Transactions'!$B$9:$B$40,'ABT Transactions'!$G$9:$G$40,$C$232,'ABT Transactions'!$F$9:$F$40,$X$148,'ABT Transactions'!$C$9:$C$40,X234,'ABT Transactions'!$D$9:$D$40,$B$156)","v":0},{"$f":"SUMIFS('ABT Transactions'!$B$9:$B$40,'ABT Transactions'!$G$9:$G$40,$C$232,'ABT Transactions'!$F$9:$F$40,$X$148,'ABT Transactions'!$C$9:$C$40,Y234,'ABT Transactions'!$D$9:$D$40,$B$156)","v":0},{"$f":"SUMIFS('ABT Transactions'!$B$9:$B$40,'ABT Transactions'!$G$9:$G$40,$C$232,'ABT Transactions'!$F$9:$F$40,$X$148,'ABT Transactions'!$C$9:$C$40,Z234,'ABT Transactions'!$D$9:$D$40,$B$156)","v":0},{"$f":"SUMIFS('ABT Transactions'!$B$9:$B$40,'ABT Transactions'!$G$9:$G$40,$C$232,'ABT Transactions'!$F$9:$F$40,$AA$148,'ABT Transactions'!$C$9:$C$40,AA234,'ABT Transactions'!$D$9:$D$40,$B$156)","v":0},{"$f":"SUMIFS('ABT Transactions'!$B$9:$B$40,'ABT Transactions'!$G$9:$G$40,$C$232,'ABT Transactions'!$F$9:$F$40,$AA$148,'ABT Transactions'!$C$9:$C$40,AB234,'ABT Transactions'!$D$9:$D$40,$B$156)","v":0},{"$f":"SUMIFS('ABT Transactions'!$B$9:$B$40,'ABT Transactions'!$G$9:$G$40,$C$232,'ABT Transactions'!$F$9:$F$40,$AA$148,'ABT Transactions'!$C$9:$C$40,AC234,'ABT Transactions'!$D$9:$D$40,$B$156)","v":0},{"$f":"SUMIFS('ABT Transactions'!$B$9:$B$40,'ABT Transactions'!$G$9:$G$40,$C$232,'ABT Transactions'!$F$9:$F$40,$AD$148,'ABT Transactions'!$C$9:$C$40,AD234,'ABT Transactions'!$D$9:$D$40,$B$156)","v":0},{"$f":"SUMIFS('ABT Transactions'!$B$9:$B$40,'ABT Transactions'!$G$9:$G$40,$C$232,'ABT Transactions'!$F$9:$F$40,$AD$148,'ABT Transactions'!$C$9:$C$40,AE234,'ABT Transactions'!$D$9:$D$40,$B$156)","v":0},{"$f":"SUMIFS('ABT Transactions'!$B$9:$B$40,'ABT Transactions'!$G$9:$G$40,$C$232,'ABT Transactions'!$F$9:$F$40,$AD$148,'ABT Transactions'!$C$9:$C$40,AF234,'ABT Transactions'!$D$9:$D$40,$B$156)","v":0},{"$f":"SUMIFS('ABT Transactions'!$B$9:$B$40,'ABT Transactions'!$G$9:$G$40,$C$232,'ABT Transactions'!$F$9:$F$40,$AG$148,'ABT Transactions'!$C$9:$C$40,AG234,'ABT Transactions'!$D$9:$D$40,$B$156)","v":0},{"$f":"SUMIFS('ABT Transactions'!$B$9:$B$40,'ABT Transactions'!$G$9:$G$40,$C$232,'ABT Transactions'!$F$9:$F$40,$AG$148,'ABT Transactions'!$C$9:$C$40,AH234,'ABT Transactions'!$D$9:$D$40,$B$156)","v":0},{"$f":"SUMIFS('ABT Transactions'!$B$9:$B$40,'ABT Transactions'!$G$9:$G$40,$C$232,'ABT Transactions'!$F$9:$F$40,$AG$148,'ABT Transactions'!$C$9:$C$40,AI234,'ABT Transactions'!$D$9:$D$40,$B$156)","v":0},{"$f":"SUMIFS('ABT Transactions'!$B$9:$B$40,'ABT Transactions'!$G$9:$G$40,$C$232,'ABT Transactions'!$F$9:$F$40,$AJ$148,'ABT Transactions'!$C$9:$C$40,AJ234,'ABT Transactions'!$D$9:$D$40,$B$156)","v":0},{"$f":"SUMIFS('ABT Transactions'!$B$9:$B$40,'ABT Transactions'!$G$9:$G$40,$C$232,'ABT Transactions'!$F$9:$F$40,$AJ$148,'ABT Transactions'!$C$9:$C$40,AK234,'ABT Transactions'!$D$9:$D$40,$B$156)","v":0},{"$f":"SUMIFS('ABT Transactions'!$B$9:$B$40,'ABT Transactions'!$G$9:$G$40,$C$232,'ABT Transactions'!$F$9:$F$40,$AJ$148,'ABT Transactions'!$C$9:$C$40,AL234,'ABT Transactions'!$D$9:$D$40,$B$156)","v":0},{"$f":"SUMIFS('ABT Transactions'!$B$9:$B$40,'ABT Transactions'!$G$9:$G$40,$C$232,'ABT Transactions'!$F$9:$F$40,$AM$148,'ABT Transactions'!$C$9:$C$40,AM234,'ABT Transactions'!$D$9:$D$40,$B$156)","v":0},{"$f":"SUMIFS('ABT Transactions'!$B$9:$B$40,'ABT Transactions'!$G$9:$G$40,$C$232,'ABT Transactions'!$F$9:$F$40,$AM$148,'ABT Transactions'!$C$9:$C$40,AN234,'ABT Transactions'!$D$9:$D$40,$B$156)","v":0},{"$f":"SUMIFS('ABT Transactions'!$B$9:$B$40,'ABT Transactions'!$G$9:$G$40,$C$232,'ABT Transactions'!$F$9:$F$40,$AM$148,'ABT Transactions'!$C$9:$C$40,AO234,'ABT Transactions'!$D$9:$D$40,$B$156)","v":0},{"$f":"SUMIFS('ABT Transactions'!$B$9:$B$40,'ABT Transactions'!$G$9:$G$40,$C$232,'ABT Transactions'!$F$9:$F$40,$AP$148,'ABT Transactions'!$C$9:$C$40,AP234,'ABT Transactions'!$D$9:$D$40,$B$156)","v":0},{"$f":"SUMIFS('ABT Transactions'!$B$9:$B$40,'ABT Transactions'!$G$9:$G$40,$C$232,'ABT Transactions'!$F$9:$F$40,$AP$148,'ABT Transactions'!$C$9:$C$40,AQ234,'ABT Transactions'!$D$9:$D$40,$B$156)","v":0},{"$f":"SUMIFS('ABT Transactions'!$B$9:$B$40,'ABT Transactions'!$G$9:$G$40,$C$232,'ABT Transactions'!$F$9:$F$40,$AP$148,'ABT Transactions'!$C$9:$C$40,AR234,'ABT Transactions'!$D$9:$D$40,$B$156)","v":0},{"$f":"SUMIFS('ABT Transactions'!$B$9:$B$40,'ABT Transactions'!$G$9:$G$40,$C$232,'ABT Transactions'!$F$9:$F$40,$AS$148,'ABT Transactions'!$C$9:$C$40,AS234,'ABT Transactions'!$D$9:$D$40,$B$156)","v":0},{"$f":"SUMIFS('ABT Transactions'!$B$9:$B$40,'ABT Transactions'!$G$9:$G$40,$C$232,'ABT Transactions'!$F$9:$F$40,$AS$148,'ABT Transactions'!$C$9:$C$40,AT234,'ABT Transactions'!$D$9:$D$40,$B$156)","v":0},{"$f":"SUMIFS('ABT Transactions'!$B$9:$B$40,'ABT Transactions'!$G$9:$G$40,$C$232,'ABT Transactions'!$F$9:$F$40,$AS$148,'ABT Transactions'!$C$9:$C$40,AU234,'ABT Transactions'!$D$9:$D$40,$B$156)","v":0}]
[null,"Transfer ADV Credits (in)",{"$f":"SUMIFS('ABT Transactions'!$B$9:$B$40,'ABT Transactions'!$J$9:$J$40,$C$232,'ABT Transactions'!$I$9:$I$40,$C$148,'ABT Transactions'!$C$9:$C$40,C234,'ABT Transactions'!$D$9:$D$40,$B$157)","v":0},{"$f":"SUMIFS('ABT Transactions'!$B$9:$B$40,'ABT Transactions'!$J$9:$J$40,$C$232,'ABT Transactions'!$I$9:$I$40,$C$148,'ABT Transactions'!$C$9:$C$40,D234,'ABT Transactions'!$D$9:$D$40,$B$157)","v":0},{"$f":"SUMIFS('ABT Transactions'!$B$9:$B$40,'ABT Transactions'!$J$9:$J$40,$C$232,'ABT Transactions'!$I$9:$I$40,$C$148,'ABT Transactions'!$C$9:$C$40,E234,'ABT Transactions'!$D$9:$D$40,$B$157)","v":0},{"$f":"SUMIFS('ABT Transactions'!$B$9:$B$40,'ABT Transactions'!$J$9:$J$40,$C$232,'ABT Transactions'!$I$9:$I$40,$F$148,'ABT Transactions'!$C$9:$C$40,F234,'ABT Transactions'!$D$9:$D$40,$B$157)","v":0},{"$f":"SUMIFS('ABT Transactions'!$B$9:$B$40,'ABT Transactions'!$J$9:$J$40,$C$232,'ABT Transactions'!$I$9:$I$40,$F$148,'ABT Transactions'!$C$9:$C$40,G234,'ABT Transactions'!$D$9:$D$40,$B$157)","v":0},{"$f":"SUMIFS('ABT Transactions'!$B$9:$B$40,'ABT Transactions'!$J$9:$J$40,$C$232,'ABT Transactions'!$I$9:$I$40,$F$148,'ABT Transactions'!$C$9:$C$40,H234,'ABT Transactions'!$D$9:$D$40,$B$157)","v":0},{"$f":"SUMIFS('ABT Transactions'!$B$9:$B$40,'ABT Transactions'!$J$9:$J$40,$C$232,'ABT Transactions'!$I$9:$I$40,$I$148,'ABT Transactions'!$C$9:$C$40,I234,'ABT Transactions'!$D$9:$D$40,$B$157)","v":0},{"$f":"SUMIFS('ABT Transactions'!$B$9:$B$40,'ABT Transactions'!$J$9:$J$40,$C$232,'ABT Transactions'!$I$9:$I$40,$I$148,'ABT Transactions'!$C$9:$C$40,J234,'ABT Transactions'!$D$9:$D$40,$B$157)","v":0},{"$f":"SUMIFS('ABT Transactions'!$B$9:$B$40,'ABT Transactions'!$J$9:$J$40,$C$232,'ABT Transactions'!$I$9:$I$40,$I$148,'ABT Transactions'!$C$9:$C$40,K234,'ABT Transactions'!$D$9:$D$40,$B$157)","v":0},{"$f":"SUMIFS('ABT Transactions'!$B$9:$B$40,'ABT Transactions'!$J$9:$J$40,$C$232,'ABT Transactions'!$I$9:$I$40,$L$148,'ABT Transactions'!$C$9:$C$40,L234,'ABT Transactions'!$D$9:$D$40,$B$157)","v":0},{"$f":"SUMIFS('ABT Transactions'!$B$9:$B$40,'ABT Transactions'!$J$9:$J$40,$C$232,'ABT Transactions'!$I$9:$I$40,$L$148,'ABT Transactions'!$C$9:$C$40,M234,'ABT Transactions'!$D$9:$D$40,$B$157)","v":0},{"$f":"SUMIFS('ABT Transactions'!$B$9:$B$40,'ABT Transactions'!$J$9:$J$40,$C$232,'ABT Transactions'!$I$9:$I$40,$L$148,'ABT Transactions'!$C$9:$C$40,N234,'ABT Transactions'!$D$9:$D$40,$B$157)","v":0},{"$f":"SUMIFS('ABT Transactions'!$B$9:$B$40,'ABT Transactions'!$J$9:$J$40,$C$232,'ABT Transactions'!$I$9:$I$40,$O$148,'ABT Transactions'!$C$9:$C$40,O234,'ABT Transactions'!$D$9:$D$40,$B$157)","v":0},{"$f":"SUMIFS('ABT Transactions'!$B$9:$B$40,'ABT Transactions'!$J$9:$J$40,$C$232,'ABT Transactions'!$I$9:$I$40,$O$148,'ABT Transactions'!$C$9:$C$40,P234,'ABT Transactions'!$D$9:$D$40,$B$157)","v":0},{"$f":"SUMIFS('ABT Transactions'!$B$9:$B$40,'ABT Transactions'!$J$9:$J$40,$C$232,'ABT Transactions'!$I$9:$I$40,$O$148,'ABT Transactions'!$C$9:$C$40,Q234,'ABT Transactions'!$D$9:$D$40,$B$157)","v":0},{"$f":"SUMIFS('ABT Transactions'!$B$9:$B$40,'ABT Transactions'!$J$9:$J$40,$C$232,'ABT Transactions'!$I$9:$I$40,$R$148,'ABT Transactions'!$C$9:$C$40,R234,'ABT Transactions'!$D$9:$D$40,$B$157)","v":0},{"$f":"SUMIFS('ABT Transactions'!$B$9:$B$40,'ABT Transactions'!$J$9:$J$40,$C$232,'ABT Transactions'!$I$9:$I$40,$R$148,'ABT Transactions'!$C$9:$C$40,S234,'ABT Transactions'!$D$9:$D$40,$B$157)","v":0},{"$f":"SUMIFS('ABT Transactions'!$B$9:$B$40,'ABT Transactions'!$J$9:$J$40,$C$232,'ABT Transactions'!$I$9:$I$40,$R$148,'ABT Transactions'!$C$9:$C$40,T234,'ABT Transactions'!$D$9:$D$40,$B$157)","v":0},{"$f":"SUMIFS('ABT Transactions'!$B$9:$B$40,'ABT Transactions'!$J$9:$J$40,$C$232,'ABT Transactions'!$I$9:$I$40,$U$148,'ABT Transactions'!$C$9:$C$40,U234,'ABT Transactions'!$D$9:$D$40,$B$157)","v":0},{"$f":"SUMIFS('ABT Transactions'!$B$9:$B$40,'ABT Transactions'!$J$9:$J$40,$C$232,'ABT Transactions'!$I$9:$I$40,$U$148,'ABT Transactions'!$C$9:$C$40,V234,'ABT Transactions'!$D$9:$D$40,$B$157)","v":0},{"$f":"SUMIFS('ABT Transactions'!$B$9:$B$40,'ABT Transactions'!$J$9:$J$40,$C$232,'ABT Transactions'!$I$9:$I$40,U$148,'ABT Transactions'!$C$9:$C$40,W234,'ABT Transactions'!$D$9:$D$40,$B$157)","v":0},{"$f":"SUMIFS('ABT Transactions'!$B$9:$B$40,'ABT Transactions'!$J$9:$J$40,$C$232,'ABT Transactions'!$I$9:$I$40,$X$148,'ABT Transactions'!$C$9:$C$40,X234,'ABT Transactions'!$D$9:$D$40,$B$157)","v":0},{"$f":"SUMIFS('ABT Transactions'!$B$9:$B$40,'ABT Transactions'!$J$9:$J$40,$C$232,'ABT Transactions'!$I$9:$I$40,$X$148,'ABT Transactions'!$C$9:$C$40,Y234,'ABT Transactions'!$D$9:$D$40,$B$157)","v":0},{"$f":"SUMIFS('ABT Transactions'!$B$9:$B$40,'ABT Transactions'!$J$9:$J$40,$C$232,'ABT Transactions'!$I$9:$I$40,$X$148,'ABT Transactions'!$C$9:$C$40,Z234,'ABT Transactions'!$D$9:$D$40,$B$157)","v":0},{"$f":"SUMIFS('ABT Transactions'!$B$9:$B$40,'ABT Transactions'!$J$9:$J$40,$C$232,'ABT Transactions'!$I$9:$I$40,$AA$148,'ABT Transactions'!$C$9:$C$40,AA234,'ABT Transactions'!$D$9:$D$40,$B$157)","v":0},{"$f":"SUMIFS('ABT Transactions'!$B$9:$B$40,'ABT Transactions'!$J$9:$J$40,$C$232,'ABT Transactions'!$I$9:$I$40,$AA$148,'ABT Transactions'!$C$9:$C$40,AB234,'ABT Transactions'!$D$9:$D$40,$B$157)","v":0},{"$f":"SUMIFS('ABT Transactions'!$B$9:$B$40,'ABT Transactions'!$J$9:$J$40,$C$232,'ABT Transactions'!$I$9:$I$40,$AA$148,'ABT Transactions'!$C$9:$C$40,AC234,'ABT Transactions'!$D$9:$D$40,$B$157)","v":0},{"$f":"SUMIFS('ABT Transactions'!$B$9:$B$40,'ABT Transactions'!$J$9:$J$40,$C$232,'ABT Transactions'!$I$9:$I$40,$AD$148,'ABT Transactions'!$C$9:$C$40,AD234,'ABT Transactions'!$D$9:$D$40,$B$157)","v":0},{"$f":"SUMIFS('ABT Transactions'!$B$9:$B$40,'ABT Transactions'!$J$9:$J$40,$C$232,'ABT Transactions'!$I$9:$I$40,$AD$148,'ABT Transactions'!$C$9:$C$40,AE234,'ABT Transactions'!$D$9:$D$40,$B$157)","v":0},{"$f":"SUMIFS('ABT Transactions'!$B$9:$B$40,'ABT Transactions'!$J$9:$J$40,$C$232,'ABT Transactions'!$I$9:$I$40,$AD$148,'ABT Transactions'!$C$9:$C$40,AF234,'ABT Transactions'!$D$9:$D$40,$B$157)","v":0},{"$f":"SUMIFS('ABT Transactions'!$B$9:$B$40,'ABT Transactions'!$J$9:$J$40,$C$232,'ABT Transactions'!$I$9:$I$40,$AG$148,'ABT Transactions'!$C$9:$C$40,AG234,'ABT Transactions'!$D$9:$D$40,$B$157)","v":0},{"$f":"SUMIFS('ABT Transactions'!$B$9:$B$40,'ABT Transactions'!$J$9:$J$40,$C$232,'ABT Transactions'!$I$9:$I$40,$AG$148,'ABT Transactions'!$C$9:$C$40,AH234,'ABT Transactions'!$D$9:$D$40,$B$157)","v":0},{"$f":"SUMIFS('ABT Transactions'!$B$9:$B$40,'ABT Transactions'!$J$9:$J$40,$C$232,'ABT Transactions'!$I$9:$I$40,$AG$148,'ABT Transactions'!$C$9:$C$40,AI234,'ABT Transactions'!$D$9:$D$40,$B$157)","v":0},{"$f":"SUMIFS('ABT Transactions'!$B$9:$B$40,'ABT Transactions'!$J$9:$J$40,$C$232,'ABT Transactions'!$I$9:$I$40,$AJ$148,'ABT Transactions'!$C$9:$C$40,AJ234,'ABT Transactions'!$D$9:$D$40,$B$157)","v":0},{"$f":"SUMIFS('ABT Transactions'!$B$9:$B$40,'ABT Transactions'!$J$9:$J$40,$C$232,'ABT Transactions'!$I$9:$I$40,$AJ$148,'ABT Transactions'!$C$9:$C$40,AK234,'ABT Transactions'!$D$9:$D$40,$B$157)","v":0},{"$f":"SUMIFS('ABT Transactions'!$B$9:$B$40,'ABT Transactions'!$J$9:$J$40,$C$232,'ABT Transactions'!$I$9:$I$40,$AJ$148,'ABT Transactions'!$C$9:$C$40,AL234,'ABT Transactions'!$D$9:$D$40,$B$157)","v":0},{"$f":"SUMIFS('ABT Transactions'!$B$9:$B$40,'ABT Transactions'!$J$9:$J$40,$C$232,'ABT Transactions'!$I$9:$I$40,$AM$148,'ABT Transactions'!$C$9:$C$40,AM234,'ABT Transactions'!$D$9:$D$40,$B$157)","v":0},{"$f":"SUMIFS('ABT Transactions'!$B$9:$B$40,'ABT Transactions'!$J$9:$J$40,$C$232,'ABT Transactions'!$I$9:$I$40,$AM$148,'ABT Transactions'!$C$9:$C$40,AN234,'ABT Transactions'!$D$9:$D$40,$B$157)","v":0},{"$f":"SUMIFS('ABT Transactions'!$B$9:$B$40,'ABT Transactions'!$J$9:$J$40,$C$232,'ABT Transactions'!$I$9:$I$40,$AM$148,'ABT Transactions'!$C$9:$C$40,AO234,'ABT Transactions'!$D$9:$D$40,$B$157)","v":0},{"$f":"SUMIFS('ABT Transactions'!$B$9:$B$40,'ABT Transactions'!$J$9:$J$40,$C$232,'ABT Transactions'!$I$9:$I$40,$AP$148,'ABT Transactions'!$C$9:$C$40,AP234,'ABT Transactions'!$D$9:$D$40,$B$157)","v":0},{"$f":"SUMIFS('ABT Transactions'!$B$9:$B$40,'ABT Transactions'!$J$9:$J$40,$C$232,'ABT Transactions'!$I$9:$I$40,$AP$148,'ABT Transactions'!$C$9:$C$40,AQ234,'ABT Transactions'!$D$9:$D$40,$B$157)","v":0},{"$f":"SUMIFS('ABT Transactions'!$B$9:$B$40,'ABT Transactions'!$J$9:$J$40,$C$232,'ABT Transactions'!$I$9:$I$40,$AP$148,'ABT Transactions'!$C$9:$C$40,AR234,'ABT Transactions'!$D$9:$D$40,$B$157)","v":0},{"$f":"SUMIFS('ABT Transactions'!$B$9:$B$40,'ABT Transactions'!$J$9:$J$40,$C$232,'ABT Transactions'!$I$9:$I$40,$AS$148,'ABT Transactions'!$C$9:$C$40,AS234,'ABT Transactions'!$D$9:$D$40,$B$157)","v":0},{"$f":"SUMIFS('ABT Transactions'!$B$9:$B$40,'ABT Transactions'!$J$9:$J$40,$C$232,'ABT Transactions'!$I$9:$I$40,$AS$148,'ABT Transactions'!$C$9:$C$40,AT234,'ABT Transactions'!$D$9:$D$40,$B$157)","v":0},{"$f":"SUMIFS('ABT Transactions'!$B$9:$B$40,'ABT Transactions'!$J$9:$J$40,$C$232,'ABT Transactions'!$I$9:$I$40,$AS$148,'ABT Transactions'!$C$9:$C$40,AU234,'ABT Transactions'!$D$9:$D$40,$B$157)","v":0}]
[null,"Retired Credits",{"$f":"SUMIFS('ABT Transactions'!$B$9:$B$40,'ABT Transactions'!$G$9:$G$40,$C$232,'ABT Transactions'!$F$9:$F$40,$C$148,'ABT Transactions'!$C$9:$C$40,C234,'ABT Transactions'!$D$9:$D$40,$B$158)","v":0},{"$f":"SUMIFS('ABT Transactions'!$B$9:$B$40,'ABT Transactions'!$G$9:$G$40,$C$232,'ABT Transactions'!$F$9:$F$40,$C$148,'ABT Transactions'!$C$9:$C$40,D234,'ABT Transactions'!$D$9:$D$40,$B$158)","v":0},{"$f":"SUMIFS('ABT Transactions'!$B$9:$B$40,'ABT Transactions'!$G$9:$G$40,$C$232,'ABT Transactions'!$F$9:$F$40,$C$148,'ABT Transactions'!$C$9:$C$40,E234,'ABT Transactions'!$D$9:$D$40,$B$158)","v":0},{"$f":"SUMIFS('ABT Transactions'!$B$9:$B$40,'ABT Transactions'!$G$9:$G$40,$C$232,'ABT Transactions'!$F$9:$F$40,$F$148,'ABT Transactions'!$C$9:$C$40,F234,'ABT Transactions'!$D$9:$D$40,$B$158)","v":0},{"$f":"SUMIFS('ABT Transactions'!$B$9:$B$40,'ABT Transactions'!$G$9:$G$40,$C$232,'ABT Transactions'!$F$9:$F$40,$F$148,'ABT Transactions'!$C$9:$C$40,G234,'ABT Transactions'!$D$9:$D$40,$B$158)","v":0},{"$f":"SUMIFS('ABT Transactions'!$B$9:$B$40,'ABT Transactions'!$G$9:$G$40,$C$232,'ABT Transactions'!$F$9:$F$40,$F$148,'ABT Transactions'!$C$9:$C$40,H234,'ABT Transactions'!$D$9:$D$40,$B$158)","v":0},{"$f":"SUMIFS('ABT Transactions'!$B$9:$B$40,'ABT Transactions'!$G$9:$G$40,$C$232,'ABT Transactions'!$F$9:$F$40,$I$148,'ABT Transactions'!$C$9:$C$40,I234,'ABT Transactions'!$D$9:$D$40,$B$158)","v":0},{"$f":"SUMIFS('ABT Transactions'!$B$9:$B$40,'ABT Transactions'!$G$9:$G$40,$C$232,'ABT Transactions'!$F$9:$F$40,$I$148,'ABT Transactions'!$C$9:$C$40,J234,'ABT Transactions'!$D$9:$D$40,$B$158)","v":0},{"$f":"SUMIFS('ABT Transactions'!$B$9:$B$40,'ABT Transactions'!$G$9:$G$40,$C$232,'ABT Transactions'!$F$9:$F$40,$I$148,'ABT Transactions'!$C$9:$C$40,K234,'ABT Transactions'!$D$9:$D$40,$B$158)","v":0},{"$f":"SUMIFS('ABT Transactions'!$B$9:$B$40,'ABT Transactions'!$G$9:$G$40,$C$232,'ABT Transactions'!$F$9:$F$40,$L$148,'ABT Transactions'!$C$9:$C$40,L234,'ABT Transactions'!$D$9:$D$40,$B$158)","v":0},{"$f":"SUMIFS('ABT Transactions'!$B$9:$B$40,'ABT Transactions'!$G$9:$G$40,$C$232,'ABT Transactions'!$F$9:$F$40,$L$148,'ABT Transactions'!$C$9:$C$40,M234,'ABT Transactions'!$D$9:$D$40,$B$158)","v":0},{"$f":"SUMIFS('ABT Transactions'!$B$9:$B$40,'ABT Transactions'!$G$9:$G$40,$C$232,'ABT Transactions'!$F$9:$F$40,$L$148,'ABT Transactions'!$C$9:$C$40,N234,'ABT Transactions'!$D$9:$D$40,$B$158)","v":0},{"$f":"SUMIFS('ABT Transactions'!$B$9:$B$40,'ABT Transactions'!$G$9:$G$40,$C$232,'ABT Transactions'!$F$9:$F$40,$O$148,'ABT Transactions'!$C$9:$C$40,O234,'ABT Transactions'!$D$9:$D$40,$B$158)","v":0},{"$f":"SUMIFS('ABT Transactions'!$B$9:$B$40,'ABT Transactions'!$G$9:$G$40,$C$232,'ABT Transactions'!$F$9:$F$40,$O$148,'ABT Transactions'!$C$9:$C$40,P234,'ABT Transactions'!$D$9:$D$40,$B$158)","v":0},{"$f":"SUMIFS('ABT Transactions'!$B$9:$B$40,'ABT Transactions'!$G$9:$G$40,$C$232,'ABT Transactions'!$F$9:$F$40,$O$148,'ABT Transactions'!$C$9:$C$40,Q234,'ABT Transactions'!$D$9:$D$40,$B$158)","v":0},{"$f":"SUMIFS('ABT Transactions'!$B$9:$B$40,'ABT Transactions'!$G$9:$G$40,$C$232,'ABT Transactions'!$F$9:$F$40,$R$148,'ABT Transactions'!$C$9:$C$40,R234,'ABT Transactions'!$D$9:$D$40,$B$158)","v":0},{"$f":"SUMIFS('ABT Transactions'!$B$9:$B$40,'ABT Transactions'!$G$9:$G$40,$C$232,'ABT Transactions'!$F$9:$F$40,$R$148,'ABT Transactions'!$C$9:$C$40,S234,'ABT Transactions'!$D$9:$D$40,$B$158)","v":0},{"$f":"SUMIFS('ABT Transactions'!$B$9:$B$40,'ABT Transactions'!$G$9:$G$40,$C$232,'ABT Transactions'!$F$9:$F$40,$R$148,'ABT Transactions'!$C$9:$C$40,T234,'ABT Transactions'!$D$9:$D$40,$B$158)","v":0},{"$f":"SUMIFS('ABT Transactions'!$B$9:$B$40,'ABT Transactions'!$G$9:$G$40,$C$232,'ABT Transactions'!$F$9:$F$40,$U$148,'ABT Transactions'!$C$9:$C$40,U234,'ABT Transactions'!$D$9:$D$40,$B$158)","v":0},{"$f":"SUMIFS('ABT Transactions'!$B$9:$B$40,'ABT Transactions'!$G$9:$G$40,$C$232,'ABT Transactions'!$F$9:$F$40,$U$148,'ABT Transactions'!$C$9:$C$40,V234,'ABT Transactions'!$D$9:$D$40,$B$158)","v":0},{"$f":"SUMIFS('ABT Transactions'!$B$9:$B$40,'ABT Transactions'!$G$9:$G$40,$C$232,'ABT Transactions'!$F$9:$F$40,U$148,'ABT Transactions'!$C$9:$C$40,W234,'ABT Transactions'!$D$9:$D$40,$B$158)","v":0},{"$f":"SUMIFS('ABT Transactions'!$B$9:$B$40,'ABT Transactions'!$G$9:$G$40,$C$232,'ABT Transactions'!$F$9:$F$40,$X$148,'ABT Transactions'!$C$9:$C$40,X234,'ABT Transactions'!$D$9:$D$40,$B$158)","v":0},{"$f":"SUMIFS('ABT Transactions'!$B$9:$B$40,'ABT Transactions'!$G$9:$G$40,$C$232,'ABT Transactions'!$F$9:$F$40,$X$148,'ABT Transactions'!$C$9:$C$40,Y234,'ABT Transactions'!$D$9:$D$40,$B$158)","v":0},{"$f":"SUMIFS('ABT Transactions'!$B$9:$B$40,'ABT Transactions'!$G$9:$G$40,$C$232,'ABT Transactions'!$F$9:$F$40,$X$148,'ABT Transactions'!$C$9:$C$40,Z234,'ABT Transactions'!$D$9:$D$40,$B$158)","v":0},{"$f":"SUMIFS('ABT Transactions'!$B$9:$B$40,'ABT Transactions'!$G$9:$G$40,$C$232,'ABT Transactions'!$F$9:$F$40,$AA$148,'ABT Transactions'!$C$9:$C$40,AA234,'ABT Transactions'!$D$9:$D$40,$B$158)","v":0},{"$f":"SUMIFS('ABT Transactions'!$B$9:$B$40,'ABT Transactions'!$G$9:$G$40,$C$232,'ABT Transactions'!$F$9:$F$40,$AA$148,'ABT Transactions'!$C$9:$C$40,AB234,'ABT Transactions'!$D$9:$D$40,$B$158)","v":0},{"$f":"SUMIFS('ABT Transactions'!$B$9:$B$40,'ABT Transactions'!$G$9:$G$40,$C$232,'ABT Transactions'!$F$9:$F$40,$AA$148,'ABT Transactions'!$C$9:$C$40,AC234,'ABT Transactions'!$D$9:$D$40,$B$158)","v":0},{"$f":"SUMIFS('ABT Transactions'!$B$9:$B$40,'ABT Transactions'!$G$9:$G$40,$C$232,'ABT Transactions'!$F$9:$F$40,$AD$148,'ABT Transactions'!$C$9:$C$40,AD234,'ABT Transactions'!$D$9:$D$40,$B$158)","v":0},{"$f":"SUMIFS('ABT Transactions'!$B$9:$B$40,'ABT Transactions'!$G$9:$G$40,$C$232,'ABT Transactions'!$F$9:$F$40,$AD$148,'ABT Transactions'!$C$9:$C$40,AE234,'ABT Transactions'!$D$9:$D$40,$B$158)","v":0},{"$f":"SUMIFS('ABT Transactions'!$B$9:$B$40,'ABT Transactions'!$G$9:$G$40,$C$232,'ABT Transactions'!$F$9:$F$40,$AD$148,'ABT Transactions'!$C$9:$C$40,AF234,'ABT Transactions'!$D$9:$D$40,$B$158)","v":0},{"$f":"SUMIFS('ABT Transactions'!$B$9:$B$40,'ABT Transactions'!$G$9:$G$40,$C$232,'ABT Transactions'!$F$9:$F$40,$AG$148,'ABT Transactions'!$C$9:$C$40,AG234,'ABT Transactions'!$D$9:$D$40,$B$158)","v":0},{"$f":"SUMIFS('ABT Transactions'!$B$9:$B$40,'ABT Transactions'!$G$9:$G$40,$C$232,'ABT Transactions'!$F$9:$F$40,$AG$148,'ABT Transactions'!$C$9:$C$40,AH234,'ABT Transactions'!$D$9:$D$40,$B$158)","v":0},{"$f":"SUMIFS('ABT Transactions'!$B$9:$B$40,'ABT Transactions'!$G$9:$G$40,$C$232,'ABT Transactions'!$F$9:$F$40,$AG$148,'ABT Transactions'!$C$9:$C$40,AI234,'ABT Transactions'!$D$9:$D$40,$B$158)","v":0},{"$f":"SUMIFS('ABT Transactions'!$B$9:$B$40,'ABT Transactions'!$G$9:$G$40,$C$232,'ABT Transactions'!$F$9:$F$40,$AJ$148,'ABT Transactions'!$C$9:$C$40,AJ234,'ABT Transactions'!$D$9:$D$40,$B$158)","v":0},{"$f":"SUMIFS('ABT Transactions'!$B$9:$B$40,'ABT Transactions'!$G$9:$G$40,$C$232,'ABT Transactions'!$F$9:$F$40,$AJ$148,'ABT Transactions'!$C$9:$C$40,AK234,'ABT Transactions'!$D$9:$D$40,$B$158)","v":0},{"$f":"SUMIFS('ABT Transactions'!$B$9:$B$40,'ABT Transactions'!$G$9:$G$40,$C$232,'ABT Transactions'!$F$9:$F$40,$AJ$148,'ABT Transactions'!$C$9:$C$40,AL234,'ABT Transactions'!$D$9:$D$40,$B$158)","v":0},{"$f":"SUMIFS('ABT Transactions'!$B$9:$B$40,'ABT Transactions'!$G$9:$G$40,$C$232,'ABT Transactions'!$F$9:$F$40,$AM$148,'ABT Transactions'!$C$9:$C$40,AM234,'ABT Transactions'!$D$9:$D$40,$B$158)","v":0},{"$f":"SUMIFS('ABT Transactions'!$B$9:$B$40,'ABT Transactions'!$G$9:$G$40,$C$232,'ABT Transactions'!$F$9:$F$40,$AM$148,'ABT Transactions'!$C$9:$C$40,AN234,'ABT Transactions'!$D$9:$D$40,$B$158)","v":0},{"$f":"SUMIFS('ABT Transactions'!$B$9:$B$40,'ABT Transactions'!$G$9:$G$40,$C$232,'ABT Transactions'!$F$9:$F$40,$AM$148,'ABT Transactions'!$C$9:$C$40,AO234,'ABT Transactions'!$D$9:$D$40,$B$158)","v":0},{"$f":"SUMIFS('ABT Transactions'!$B$9:$B$40,'ABT Transactions'!$G$9:$G$40,$C$232,'ABT Transactions'!$F$9:$F$40,$AP$148,'ABT Transactions'!$C$9:$C$40,AP234,'ABT Transactions'!$D$9:$D$40,$B$158)","v":0},{"$f":"SUMIFS('ABT Transactions'!$B$9:$B$40,'ABT Transactions'!$G$9:$G$40,$C$232,'ABT Transactions'!$F$9:$F$40,$AP$148,'ABT Transactions'!$C$9:$C$40,AQ234,'ABT Transactions'!$D$9:$D$40,$B$158)","v":0},{"$f":"SUMIFS('ABT Transactions'!$B$9:$B$40,'ABT Transactions'!$G$9:$G$40,$C$232,'ABT Transactions'!$F$9:$F$40,$AP$148,'ABT Transactions'!$C$9:$C$40,AR234,'ABT Transactions'!$D$9:$D$40,$B$158)","v":0},{"$f":"SUMIFS('ABT Transactions'!$B$9:$B$40,'ABT Transactions'!$G$9:$G$40,$C$232,'ABT Transactions'!$F$9:$F$40,$AS$148,'ABT Transactions'!$C$9:$C$40,AS234,'ABT Transactions'!$D$9:$D$40,$B$158)","v":0},{"$f":"SUMIFS('ABT Transactions'!$B$9:$B$40,'ABT Transactions'!$G$9:$G$40,$C$232,'ABT Transactions'!$F$9:$F$40,$AS$148,'ABT Transactions'!$C$9:$C$40,AT234,'ABT Transactions'!$D$9:$D$40,$B$158)","v":0},{"$f":"SUMIFS('ABT Transactions'!$B$9:$B$40,'ABT Transactions'!$G$9:$G$40,$C$232,'ABT Transactions'!$F$9:$F$40,$AS$148,'ABT Transactions'!$C$9:$C$40,AU234,'ABT Transactions'!$D$9:$D$40,$B$158)","v":0}]
[null,"Expired Credits",{"$f":"SUMIFS('ABT Transactions'!$B$9:$B$40,'ABT Transactions'!$G$9:$G$40,$C$232,'ABT Transactions'!$F$9:$F$40,$C$148,'ABT Transactions'!$C$9:$C$40,C234,'ABT Transactions'!$D$9:$D$40,$B$159)","v":0},{"$f":"SUMIFS('ABT Transactions'!$B$9:$B$40,'ABT Transactions'!$G$9:$G$40,$C$232,'ABT Transactions'!$F$9:$F$40,$C$148,'ABT Transactions'!$C$9:$C$40,D234,'ABT Transactions'!$D$9:$D$40,$B$159)","v":0},{"$f":"SUMIFS('ABT Transactions'!$B$9:$B$40,'ABT Transactions'!$G$9:$G$40,$C$232,'ABT Transactions'!$F$9:$F$40,$C$148,'ABT Transactions'!$C$9:$C$40,E234,'ABT Transactions'!$D$9:$D$40,$B$159)","v":0},{"$f":"SUMIFS('ABT Transactions'!$B$9:$B$40,'ABT Transactions'!$G$9:$G$40,$C$232,'ABT Transactions'!$F$9:$F$40,$F$148,'ABT Transactions'!$C$9:$C$40,F234,'ABT Transactions'!$D$9:$D$40,$B$159)","v":0},{"$f":"SUMIFS('ABT Transactions'!$B$9:$B$40,'ABT Transactions'!$G$9:$G$40,$C$232,'ABT Transactions'!$F$9:$F$40,$F$148,'ABT Transactions'!$C$9:$C$40,G234,'ABT Transactions'!$D$9:$D$40,$B$159)","v":0},{"$f":"SUMIFS('ABT Transactions'!$B$9:$B$40,'ABT Transactions'!$G$9:$G$40,$C$232,'ABT Transactions'!$F$9:$F$40,$F$148,'ABT Transactions'!$C$9:$C$40,H234,'ABT Transactions'!$D$9:$D$40,$B$159)","v":0},{"$f":"SUMIFS('ABT Transactions'!$B$9:$B$40,'ABT Transactions'!$G$9:$G$40,$C$232,'ABT Transactions'!$F$9:$F$40,$I$148,'ABT Transactions'!$C$9:$C$40,I234,'ABT Transactions'!$D$9:$D$40,$B$159)","v":0},{"$f":"SUMIFS('ABT Transactions'!$B$9:$B$40,'ABT Transactions'!$G$9:$G$40,$C$232,'ABT Transactions'!$F$9:$F$40,$I$148,'ABT Transactions'!$C$9:$C$40,J234,'ABT Transactions'!$D$9:$D$40,$B$159)","v":0},{"$f":"SUMIFS('ABT Transactions'!$B$9:$B$40,'ABT Transactions'!$G$9:$G$40,$C$232,'ABT Transactions'!$F$9:$F$40,$I$148,'ABT Transactions'!$C$9:$C$40,K234,'ABT Transactions'!$D$9:$D$40,$B$159)","v":0},{"$f":"SUMIFS('ABT Transactions'!$B$9:$B$40,'ABT Transactions'!$G$9:$G$40,$C$232,'ABT Transactions'!$F$9:$F$40,$L$148,'ABT Transactions'!$C$9:$C$40,L234,'ABT Transactions'!$D$9:$D$40,$B$159)","v":0},{"$f":"SUMIFS('ABT Transactions'!$B$9:$B$40,'ABT Transactions'!$G$9:$G$40,$C$232,'ABT Transactions'!$F$9:$F$40,$L$148,'ABT Transactions'!$C$9:$C$40,M234,'ABT Transactions'!$D$9:$D$40,$B$159)","v":0},{"$f":"SUMIFS('ABT Transactions'!$B$9:$B$40,'ABT Transactions'!$G$9:$G$40,$C$232,'ABT Transactions'!$F$9:$F$40,$L$148,'ABT Transactions'!$C$9:$C$40,N234,'ABT Transactions'!$D$9:$D$40,$B$159)","v":0},{"$f":"SUMIFS('ABT Transactions'!$B$9:$B$40,'ABT Transactions'!$G$9:$G$40,$C$232,'ABT Transactions'!$F$9:$F$40,$O$148,'ABT Transactions'!$C$9:$C$40,O234,'ABT Transactions'!$D$9:$D$40,$B$159)","v":0},{"$f":"SUMIFS('ABT Transactions'!$B$9:$B$40,'ABT Transactions'!$G$9:$G$40,$C$232,'ABT Transactions'!$F$9:$F$40,$O$148,'ABT Transactions'!$C$9:$C$40,P234,'ABT Transactions'!$D$9:$D$40,$B$159)","v":0},{"$f":"SUMIFS('ABT Transactions'!$B$9:$B$40,'ABT Transactions'!$G$9:$G$40,$C$232,'ABT Transactions'!$F$9:$F$40,$O$148,'ABT Transactions'!$C$9:$C$40,Q234,'ABT Transactions'!$D$9:$D$40,$B$159)","v":0},{"$f":"SUMIFS('ABT Transactions'!$B$9:$B$40,'ABT Transactions'!$G$9:$G$40,$C$232,'ABT Transactions'!$F$9:$F$40,$R$148,'ABT Transactions'!$C$9:$C$40,R234,'ABT Transactions'!$D$9:$D$40,$B$159)","v":0},{"$f":"SUMIFS('ABT Transactions'!$B$9:$B$40,'ABT Transactions'!$G$9:$G$40,$C$232,'ABT Transactions'!$F$9:$F$40,$R$148,'ABT Transactions'!$C$9:$C$40,S234,'ABT Transactions'!$D$9:$D$40,$B$159)","v":0},{"$f":"SUMIFS('ABT Transactions'!$B$9:$B$40,'ABT Transactions'!$G$9:$G$40,$C$232,'ABT Transactions'!$F$9:$F$40,$R$148,'ABT Transactions'!$C$9:$C$40,T234,'ABT Transactions'!$D$9:$D$40,$B$159)","v":0},{"$f":"SUMIFS('ABT Transactions'!$B$9:$B$40,'ABT Transactions'!$G$9:$G$40,$C$232,'ABT Transactions'!$F$9:$F$40,$U$148,'ABT Transactions'!$C$9:$C$40,U234,'ABT Transactions'!$D$9:$D$40,$B$159)","v":0},{"$f":"SUMIFS('ABT Transactions'!$B$9:$B$40,'ABT Transactions'!$G$9:$G$40,$C$232,'ABT Transactions'!$F$9:$F$40,$U$148,'ABT Transactions'!$C$9:$C$40,V234,'ABT Transactions'!$D$9:$D$40,$B$159)","v":0},{"$f":"SUMIFS('ABT Transactions'!$B$9:$B$40,'ABT Transactions'!$G$9:$G$40,$C$232,'ABT Transactions'!$F$9:$F$40,U$148,'ABT Transactions'!$C$9:$C$40,W234,'ABT Transactions'!$D$9:$D$40,$B$159)","v":0},{"$f":"SUMIFS('ABT Transactions'!$B$9:$B$40,'ABT Transactions'!$G$9:$G$40,$C$232,'ABT Transactions'!$F$9:$F$40,$X$148,'ABT Transactions'!$C$9:$C$40,X234,'ABT Transactions'!$D$9:$D$40,$B$159)","v":0},{"$f":"SUMIFS('ABT Transactions'!$B$9:$B$40,'ABT Transactions'!$G$9:$G$40,$C$232,'ABT Transactions'!$F$9:$F$40,$X$148,'ABT Transactions'!$C$9:$C$40,Y234,'ABT Transactions'!$D$9:$D$40,$B$159)","v":0},{"$f":"SUMIFS('ABT Transactions'!$B$9:$B$40,'ABT Transactions'!$G$9:$G$40,$C$232,'ABT Transactions'!$F$9:$F$40,$X$148,'ABT Transactions'!$C$9:$C$40,Z234,'ABT Transactions'!$D$9:$D$40,$B$159)","v":0},{"$f":"SUMIFS('ABT Transactions'!$B$9:$B$40,'ABT Transactions'!$G$9:$G$40,$C$232,'ABT Transactions'!$F$9:$F$40,$AA$148,'ABT Transactions'!$C$9:$C$40,AA234,'ABT Transactions'!$D$9:$D$40,$B$159)","v":0},{"$f":"SUMIFS('ABT Transactions'!$B$9:$B$40,'ABT Transactions'!$G$9:$G$40,$C$232,'ABT Transactions'!$F$9:$F$40,$AA$148,'ABT Transactions'!$C$9:$C$40,AB234,'ABT Transactions'!$D$9:$D$40,$B$159)","v":0},{"$f":"SUMIFS('ABT Transactions'!$B$9:$B$40,'ABT Transactions'!$G$9:$G$40,$C$232,'ABT Transactions'!$F$9:$F$40,$AA$148,'ABT Transactions'!$C$9:$C$40,AC234,'ABT Transactions'!$D$9:$D$40,$B$159)","v":0},{"$f":"SUMIFS('ABT Transactions'!$B$9:$B$40,'ABT Transactions'!$G$9:$G$40,$C$232,'ABT Transactions'!$F$9:$F$40,$AD$148,'ABT Transactions'!$C$9:$C$40,AD234,'ABT Transactions'!$D$9:$D$40,$B$159)","v":0},{"$f":"SUMIFS('ABT Transactions'!$B$9:$B$40,'ABT Transactions'!$G$9:$G$40,$C$232,'ABT Transactions'!$F$9:$F$40,$AD$148,'ABT Transactions'!$C$9:$C$40,AE234,'ABT Transactions'!$D$9:$D$40,$B$159)","v":0},{"$f":"SUMIFS('ABT Transactions'!$B$9:$B$40,'ABT Transactions'!$G$9:$G$40,$C$232,'ABT Transactions'!$F$9:$F$40,$AD$148,'ABT Transactions'!$C$9:$C$40,AF234,'ABT Transactions'!$D$9:$D$40,$B$159)","v":0},{"$f":"SUMIFS('ABT Transactions'!$B$9:$B$40,'ABT Transactions'!$G$9:$G$40,$C$232,'ABT Transactions'!$F$9:$F$40,$AG$148,'ABT Transactions'!$C$9:$C$40,AG234,'ABT Transactions'!$D$9:$D$40,$B$159)","v":0},{"$f":"SUMIFS('ABT Transactions'!$B$9:$B$40,'ABT Transactions'!$G$9:$G$40,$C$232,'ABT Transactions'!$F$9:$F$40,$AG$148,'ABT Transactions'!$C$9:$C$40,AH234,'ABT Transactions'!$D$9:$D$40,$B$159)","v":0},{"$f":"SUMIFS('ABT Transactions'!$B$9:$B$40,'ABT Transactions'!$G$9:$G$40,$C$232,'ABT Transactions'!$F$9:$F$40,$AG$148,'ABT Transactions'!$C$9:$C$40,AI234,'ABT Transactions'!$D$9:$D$40,$B$159)","v":0},{"$f":"SUMIFS('ABT Transactions'!$B$9:$B$40,'ABT Transactions'!$G$9:$G$40,$C$232,'ABT Transactions'!$F$9:$F$40,$AJ$148,'ABT Transactions'!$C$9:$C$40,AJ234,'ABT Transactions'!$D$9:$D$40,$B$159)","v":0},{"$f":"SUMIFS('ABT Transactions'!$B$9:$B$40,'ABT Transactions'!$G$9:$G$40,$C$232,'ABT Transactions'!$F$9:$F$40,$AJ$148,'ABT Transactions'!$C$9:$C$40,AK234,'ABT Transactions'!$D$9:$D$40,$B$159)","v":0},{"$f":"SUMIFS('ABT Transactions'!$B$9:$B$40,'ABT Transactions'!$G$9:$G$40,$C$232,'ABT Transactions'!$F$9:$F$40,$AJ$148,'ABT Transactions'!$C$9:$C$40,AL234,'ABT Transactions'!$D$9:$D$40,$B$159)","v":0},{"$f":"SUMIFS('ABT Transactions'!$B$9:$B$40,'ABT Transactions'!$G$9:$G$40,$C$232,'ABT Transactions'!$F$9:$F$40,$AM$148,'ABT Transactions'!$C$9:$C$40,AM234,'ABT Transactions'!$D$9:$D$40,$B$159)","v":0},{"$f":"SUMIFS('ABT Transactions'!$B$9:$B$40,'ABT Transactions'!$G$9:$G$40,$C$232,'ABT Transactions'!$F$9:$F$40,$AM$148,'ABT Transactions'!$C$9:$C$40,AN234,'ABT Transactions'!$D$9:$D$40,$B$159)","v":0},{"$f":"SUMIFS('ABT Transactions'!$B$9:$B$40,'ABT Transactions'!$G$9:$G$40,$C$232,'ABT Transactions'!$F$9:$F$40,$AM$148,'ABT Transactions'!$C$9:$C$40,AO234,'ABT Transactions'!$D$9:$D$40,$B$159)","v":0},{"$f":"SUMIFS('ABT Transactions'!$B$9:$B$40,'ABT Transactions'!$G$9:$G$40,$C$232,'ABT Transactions'!$F$9:$F$40,$AP$148,'ABT Transactions'!$C$9:$C$40,AP234,'ABT Transactions'!$D$9:$D$40,$B$159)","v":0},{"$f":"SUMIFS('ABT Transactions'!$B$9:$B$40,'ABT Transactions'!$G$9:$G$40,$C$232,'ABT Transactions'!$F$9:$F$40,$AP$148,'ABT Transactions'!$C$9:$C$40,AQ234,'ABT Transactions'!$D$9:$D$40,$B$159)","v":0},{"$f":"SUMIFS('ABT Transactions'!$B$9:$B$40,'ABT Transactions'!$G$9:$G$40,$C$232,'ABT Transactions'!$F$9:$F$40,$AP$148,'ABT Transactions'!$C$9:$C$40,AR234,'ABT Transactions'!$D$9:$D$40,$B$159)","v":0},{"$f":"SUMIFS('ABT Transactions'!$B$9:$B$40,'ABT Transactions'!$G$9:$G$40,$C$232,'ABT Transactions'!$F$9:$F$40,$AS$148,'ABT Transactions'!$C$9:$C$40,AS234,'ABT Transactions'!$D$9:$D$40,$B$159)","v":0},{"$f":"SUMIFS('ABT Transactions'!$B$9:$B$40,'ABT Transactions'!$G$9:$G$40,$C$232,'ABT Transactions'!$F$9:$F$40,$AS$148,'ABT Transactions'!$C$9:$C$40,AT234,'ABT Transactions'!$D$9:$D$40,$B$159)","v":0},{"$f":"SUMIFS('ABT Transactions'!$B$9:$B$40,'ABT Transactions'!$G$9:$G$40,$C$232,'ABT Transactions'!$F$9:$F$40,$AS$148,'ABT Transactions'!$C$9:$C$40,AU234,'ABT Transactions'!$D$9:$D$40,$B$159)","v":0}]
[null,"Final Credit Balance",{"$f":"(C235+C236+C238+C240+C242+C243+C244)-(C237+C239+C241)","v":0},{"$f":"(D235+D236+D238+D240+D242+D243+D244)-(D237+D239+D241)","v":0},{"$f":"(E235+E236+E238+E240+E242+E243+E244)-(E237+E239+E241)","v":0},{"$f":"(F235+F236+F238+F240+F242+F243+F244)-(F237+F239+F241)","v":0},{"$f":"(G235+G236+G238+G240+G242+G243+G244)-(G237+G239+G241)","v":0},{"$f":"(H235+H236+H238+H240+H242+H243+H244)-(H237+H239+H241)","v":0},{"$f":"(I235+I236+I238+I240+I242+I243+I244)-(I237+I239+I241)","v":0},{"$f":"(J235+J236+J238+J240+J242+J243+J244)-(J237+J239+J241)","v":0},{"$f":"(K235+K236+K238+K240+K242+K243+K244)-(K237+K239+K241)","v":0},{"$f":"(L235+L236+L238+L240+L242+L243+L244)-(L237+L239+L241)","v":0},{"$f":"(M235+M236+M238+M240+M242+M243+M244)-(M237+M239+M241)","v":0},{"$f":"(N235+N236+N238+N240+N242+N243+N244)-(N237+N239+N241)","v":0},{"$f":"(O235+O236+O238+O240+O242+O243+O244)-(O237+O239+O241)","v":0},{"$f":"(P235+P236+P238+P240+P242+P243+P244)-(P237+P239+P241)","v":0},{"$f":"(Q235+Q236+Q238+Q240+Q242+Q243+Q244)-(Q237+Q239+Q241)","v":0},{"$f":"(R235+R236+R238+R240+R242+R243+R244)-(R237+R239+R241)","v":0},{"$f":"(S235+S236+S238+S240+S242+S243+S244)-(S237+S239+S241)","v":0},{"$f":"(T235+T236+T238+T240+T242+T243+T244)-(T237+T239+T241)","v":0},{"$f":"(U235+U236+U238+U240+U242+U243+U244)-(U237+U239+U241)","v":0},{"$f":"(V235+V236+V238+V240+V242+V243+V244)-(V237+V239+V241)","v":0},{"$f":"(W235+W236+W238+W240+W242+W243+W244)-(W237+W239+W241)","v":0},{"$f":"(X235+X236+X238+X240+X242+X243+X244)-(X237+X239+X241)","v":0},{"$f":"(Y235+Y236+Y238+Y240+Y242+Y243+Y244)-(Y237+Y239+Y241)","v":0},{"$f":"(Z235+Z236+Z238+Z240+Z242+Z243+Z244)-(Z237+Z239+Z241)","v":0},{"$f":"(AA235+AA236+AA238+AA240+AA242+AA243+AA244)-(AA237+AA239+AA241)","v":0},{"$f":"(AB235+AB236+AB238+AB240+AB242+AB243+AB244)-(AB237+AB239+AB241)","v":0},{"$f":"(AC235+AC236+AC238+AC240+AC242+AC243+AC244)-(AC237+AC239+AC241)","v":0},{"$f":"(AD235+AD236+AD238+AD240+AD242+AD243+AD244)-(AD237+AD239+AD241)","v":0},{"$f":"(AE235+AE236+AE238+AE240+AE242+AE243+AE244)-(AE237+AE239+AE241)","v":0},{"$f":"(AF235+AF236+AF238+AF240+AF242+AF243+AF244)-(AF237+AF239+AF241)","v":0},{"$f":"(AG235+AG236+AG238+AG240+AG242+AG243+AG244)-(AG237+AG239+AG241)","v":0},{"$f":"(AH235+AH236+AH238+AH240+AH242+AH243+AH244)-(AH237+AH239+AH241)","v":0},{"$f":"(AI235+AI236+AI238+AI240+AI242+AI243+AI244)-(AI237+AI239+AI241)","v":0},{"$f":"(AJ235+AJ236+AJ238+AJ240+AJ242+AJ243+AJ244)-(AJ237+AJ239+AJ241)","v":0},{"$f":"(AK235+AK236+AK238+AK240+AK242+AK243+AK244)-(AK237+AK239+AK241)","v":0},{"$f":"(AL235+AL236+AL238+AL240+AL242+AL243+AL244)-(AL237+AL239+AL241)","v":0},{"$f":"(AM235+AM236+AM238+AM240+AM242+AM243+AM244)-(AM237+AM239+AM241)","v":0},{"$f":"(AN235+AN236+AN238+AN240+AN242+AN243+AN244)-(AN237+AN239+AN241)","v":0},{"$f":"(AO235+AO236+AO238+AO240+AO242+AO243+AO244)-(AO237+AO239+AO241)","v":0},{"$f":"(AP235+AP236+AP238+AP240+AP242+AP243+AP244)-(AP237+AP239+AP241)","v":0},{"$f":"(AQ235+AQ236+AQ238+AQ240+AQ242+AQ243+AQ244)-(AQ237+AQ239+AQ241)","v":0},{"$f":"(AR235+AR236+AR238+AR240+AR242+AR243+AR244)-(AR237+AR239+AR241)","v":0},{"$f":"(AS235+AS236+AS238+AS240+AS242+AS243+AS244)-(AS237+AS239+AS241)","v":0},{"$f":"(AT235+AT236+AT238+AT240+AT242+AT243+AT244)-(AT237+AT239+AT241)","v":0},{"$f":"(AU235+AU236+AU238+AU240+AU242+AU243+AU244)-(AU237+AU239+AU241)","v":0}]
[null,"Averaging Set Credit Balance",{"$f":"SUM(C245:E245)","v":0},null,null,{"$f":"SUM(F245:H245)","v":0},null,null,{"$f":"SUM(I245:K245)","v":0},null,null,{"$f":"SUM(L245:N245)","v":0},null,null,{"$f":"SUM(O245:Q245)","v":0},null,null,{"$f":"SUM(R245:T245)","v":0},null,null,{"$f":"SUM(U245:W245)","v":0},null,null,{"$f":"SUM(X245:Z245)","v":0},null,null,{"$f":"SUM(AA245:AC245)","v":0},null,null,{"$f":"SUM(AD245:AF245)","v":0},null,null,{"$f":"SUM(AG245:AI245)","v":0},null,null,{"$f":"SUM(AJ245:AL245)","v":0},null,null,{"$f":"SUM(AM245:AO245)","v":0},null,null,{"$f":"SUM(AP245:AR245)","v":0},null,null,{"$f":"SUM(AS245:AU245)","v":0}]
[]
[]
[null,null,"Mixed-use vehicle"]
[null,null,2013,null,null,2014,null,null,2015,null,null,2016,null,null,2017,null,null,2018,null,null,2019,null,null,2020,null,null,2021,null,null,2022,null,null,2023,null,null,2024,null,null,2025,null,null,2026,null,null,2027]
[null,"Credit Type","Conventional Credit","Innovative Technology Credit","Advanced Technology Credit","Conventional Credit","Innovative Technology Credit","Advanced Technology Credit","Conventional Credit","Innovative Technology Credit","Advanced Technology Credit","Conventional Credit","Innovative Technology Credit","Advanced Technology Credit","Conventional Credit","Innovative Technology Credit","Advanced Technology Credit","Conventional Credit","Innovative Technology Credit","Advanced Technology Credit","Conventional Credit","Innovative Technology Credit","Advanced Technology Credit","Conventional Credit","Innovative Technology Credit","Advanced Technology Credit","Conventional Credit","Innovative Technology Credit","Advanced Technology Credit","Conventional Credit","Innovative Technology Credit","Advanced Technology Credit","Conventional Credit","Innovative Technology Credit","Advanced Technology Credit","Conventional Credit","Innovative Technology Credit","Advanced Technology Credit","Conventional Credit","Innovative Technology Credit","Advanced Technology Credit","Conventional Credit","Innovative Technology Credit","Advanced Technology Credit","Conventional Credit","Innovative Technology Credit","Advanced Technology Credit"]
[null,"Earned Credits",{"$f":"SUMIFS('ABT Credit Balances'!$D$9:$D$208,'ABT Credit Balances'!$B$9:$B$208,$C$249,'ABT Credit Balances'!$F$9:$F$208,C251,'ABT Credit Balances'!$E$9:$E$208,$C$148,'ABT Credit Balances'!$C$9:$C$208,$B$150)","v":0},{"$f":"SUMIFS('ABT Credit Balances'!$D$9:$D$208,'ABT Credit Balances'!$B$9:$B$208,$C$249,'ABT Credit Balances'!$F$9:$F$208,D251,'ABT Credit Balances'!$E$9:$E$208,$C$148,'ABT Credit Balances'!$C$9:$C$208,$B$150)","v":0},{"$f":"SUMIFS('ABT Credit Balances'!$D$9:$D$208,'ABT Credit Balances'!$B$9:$B$208,$C$249,'ABT Credit Balances'!$F$9:$F$208,E251,'ABT Credit Balances'!$E$9:$E$208,$C$148,'ABT Credit Balances'!$C$9:$C$208,$B$150)","v":0},{"$f":"SUMIFS('ABT Credit Balances'!$D$9:$D$208,'ABT Credit Balances'!$B$9:$B$208,$C$249,'ABT Credit Balances'!$F$9:$F$208,F251,'ABT Credit Balances'!$E$9:$E$208,$F$148,'ABT Credit Balances'!$C$9:$C$208,$B$150)","v":0},{"$f":"SUMIFS('ABT Credit Balances'!$D$9:$D$208,'ABT Credit Balances'!$B$9:$B$208,$C$249,'ABT Credit Balances'!$F$9:$F$208,G251,'ABT Credit Balances'!$E$9:$E$208,$F$148,'ABT Credit Balances'!$C$9:$C$208,$B$150)","v":0},{"$f":"SUMIFS('ABT Credit Balances'!$D$9:$D$208,'ABT Credit Balances'!$B$9:$B$208,$C$249,'ABT Credit Balances'!$F$9:$F$208,H251,'ABT Credit Balances'!$E$9:$E$208,$F$148,'ABT Credit Balances'!$C$9:$C$208,$B$150)","v":0},{"$f":"SUMIFS('ABT Credit Balances'!$D$9:$D$208,'ABT Credit Balances'!$B$9:$B$208,$C$249,'ABT Credit Balances'!$F$9:$F$208,I251,'ABT Credit Balances'!$E$9:$E$208,$I$148,'ABT Credit Balances'!$C$9:$C$208,$B$150)","v":0},{"$f":"SUMIFS('ABT Credit Balances'!$D$9:$D$208,'ABT Credit Balances'!$B$9:$B$208,$C$249,'ABT Credit Balances'!$F$9:$F$208,J251,'ABT Credit Balances'!$E$9:$E$208,$I$148,'ABT Credit Balances'!$C$9:$C$208,$B$150)","v":0},{"$f":"SUMIFS('ABT Credit Balances'!$D$9:$D$208,'ABT Credit Balances'!$B$9:$B$208,$C$249,'ABT Credit Balances'!$F$9:$F$208,K251,'ABT Credit Balances'!$E$9:$E$208,$I$148,'ABT Credit Balances'!$C$9:$C$208,$B$150)","v":0},{"$f":"SUMIFS('ABT Credit Balances'!$D$9:$D$208,'ABT Credit Balances'!$B$9:$B$208,$C$249,'ABT Credit Balances'!$F$9:$F$208,L251,'ABT Credit Balances'!$E$9:$E$208,$L$148,'ABT Credit Balances'!$C$9:$C$208,$B$150)","v":0},{"$f":"SUMIFS('ABT Credit Balances'!$D$9:$D$208,'ABT Credit Balances'!$B$9:$B$208,$C$249,'ABT Credit Balances'!$F$9:$F$208,M251,'ABT Credit Balances'!$E$9:$E$208,$L$148,'ABT Credit Balances'!$C$9:$C$208,$B$150)","v":0},{"$f":"SUMIFS('ABT Credit Balances'!$D$9:$D$208,'ABT Credit Balances'!$B$9:$B$208,$C$249,'ABT Credit Balances'!$F$9:$F$208,N251,'ABT Credit Balances'!$E$9:$E$208,$L$148,'ABT Credit Balances'!$C$9:$C$208,$B$150)","v":0},{"$f":"SUMIFS('ABT Credit Balances'!$D$9:$D$208,'ABT Credit Balances'!$B$9:$B$208,$C$249,'ABT Credit Balances'!$F$9:$F$208,O251,'ABT Credit Balances'!$E$9:$E$208,$O$148,'ABT Credit Balances'!$C$9:$C$208,$B$150)","v":0},{"$f":"SUMIFS('ABT Credit Balances'!$D$9:$D$208,'ABT Credit Balances'!$B$9:$B$208,$C$249,'ABT Credit Balances'!$F$9:$F$208,P251,'ABT Credit Balances'!$E$9:$E$208,$O$148,'ABT Credit Balances'!$C$9:$C$208,$B$150)","v":0},{"$f":"SUMIFS('ABT Credit Balances'!$D$9:$D$208,'ABT Credit Balances'!$B$9:$B$208,$C$249,'ABT Credit Balances'!$F$9:$F$208,Q251,'ABT Credit Balances'!$E$9:$E$208,$O$148,'ABT Credit Balances'!$C$9:$C$208,$B$150)","v":0},{"$f":"SUMIFS('ABT Credit Balances'!$D$9:$D$208,'ABT Credit Balances'!$B$9:$B$208,$C$249,'ABT Credit Balances'!$F$9:$F$208,R251,'ABT Credit Balances'!$E$9:$E$208,$R$148,'ABT Credit Balances'!$C$9:$C$208,$B$150)","v":0},{"$f":"SUMIFS('ABT Credit Balances'!$D$9:$D$208,'ABT Credit Balances'!$B$9:$B$208,$C$249,'ABT Credit Balances'!$F$9:$F$208,S251,'ABT Credit Balances'!$E$9:$E$208,$R$148,'ABT Credit Balances'!$C$9:$C$208,$B$150)","v":0},{"$f":"SUMIFS('ABT Credit Balances'!$D$9:$D$208,'ABT Credit Balances'!$B$9:$B$208,$C$249,'ABT Credit Balances'!$F$9:$F$208,T251,'ABT Credit Balances'!$E$9:$E$208,$R$148,'ABT Credit Balances'!$C$9:$C$208,$B$150)","v":0},{"$f":"SUMIFS('ABT Credit Balances'!$D$9:$D$208,'ABT Credit Balances'!$B$9:$B$208,$C$249,'ABT Credit Balances'!$F$9:$F$208,U251,'ABT Credit Balances'!$E$9:$E$208,$U$148,'ABT Credit Balances'!$C$9:$C$208,$B$150)","v":0},{"$f":"SUMIFS('ABT Credit Balances'!$D$9:$D$208,'ABT Credit Balances'!$B$9:$B$208,$C$249,'ABT Credit Balances'!$F$9:$F$208,V251,'ABT Credit Balances'!$E$9:$E$208,$U$148,'ABT Credit Balances'!$C$9:$C$208,$B$150)","v":0},{"$f":"SUMIFS('ABT Credit Balances'!$D$9:$D$208,'ABT Credit Balances'!$B$9:$B$208,$C$249,'ABT Credit Balances'!$F$9:$F$208,W251,'ABT Credit Balances'!$E$9:$E$208,U$148,'ABT Credit Balances'!$C$9:$C$208,$B$150)","v":0},{"$f":"SUMIFS('ABT Credit Balances'!$D$9:$D$208,'ABT Credit Balances'!$B$9:$B$208,$C$249,'ABT Credit Balances'!$F$9:$F$208,X251,'ABT Credit Balances'!$E$9:$E$208,$X$148,'ABT Credit Balances'!$C$9:$C$208,$B$150)","v":0},{"$f":"SUMIFS('ABT Credit Balances'!$D$9:$D$208,'ABT Credit Balances'!$B$9:$B$208,$C$249,'ABT Credit Balances'!$F$9:$F$208,Y251,'ABT Credit Balances'!$E$9:$E$208,$X$148,'ABT Credit Balances'!$C$9:$C$208,$B$150)","v":0},{"$f":"SUMIFS('ABT Credit Balances'!$D$9:$D$208,'ABT Credit Balances'!$B$9:$B$208,$C$249,'ABT Credit Balances'!$F$9:$F$208,Z251,'ABT Credit Balances'!$E$9:$E$208,$X$148,'ABT Credit Balances'!$C$9:$C$208,$B$150)","v":0},{"$f":"SUMIFS('ABT Credit Balances'!$D$9:$D$208,'ABT Credit Balances'!$B$9:$B$208,$C$249,'ABT Credit Balances'!$F$9:$F$208,AA251,'ABT Credit Balances'!$E$9:$E$208,$AA$148,'ABT Credit Balances'!$C$9:$C$208,$B$150)","v":0},{"$f":"SUMIFS('ABT Credit Balances'!$D$9:$D$208,'ABT Credit Balances'!$B$9:$B$208,$C$249,'ABT Credit Balances'!$F$9:$F$208,AB251,'ABT Credit Balances'!$E$9:$E$208,$AA$148,'ABT Credit Balances'!$C$9:$C$208,$B$150)","v":0},{"$f":"SUMIFS('ABT Credit Balances'!$D$9:$D$208,'ABT Credit Balances'!$B$9:$B$208,$C$249,'ABT Credit Balances'!$F$9:$F$208,AC251,'ABT Credit Balances'!$E$9:$E$208,$AA$148,'ABT Credit Balances'!$C$9:$C$208,$B$150)","v":0},{"$f":"SUMIFS('ABT Credit Balances'!$D$9:$D$208,'ABT Credit Balances'!$B$9:$B$208,$C$249,'ABT Credit Balances'!$F$9:$F$208,AD251,'ABT Credit Balances'!$E$9:$E$208,$AD$148,'ABT Credit Balances'!$C$9:$C$208,$B$150)","v":0},{"$f":"SUMIFS('ABT Credit Balances'!$D$9:$D$208,'ABT Credit Balances'!$B$9:$B$208,$C$249,'ABT Credit Balances'!$F$9:$F$208,AE251,'ABT Credit Balances'!$E$9:$E$208,$AD$148,'ABT Credit Balances'!$C$9:$C$208,$B$150)","v":0},{"$f":"SUMIFS('ABT Credit Balances'!$D$9:$D$208,'ABT Credit Balances'!$B$9:$B$208,$C$249,'ABT Credit Balances'!$F$9:$F$208,AF251,'ABT Credit Balances'!$E$9:$E$208,$AD$148,'ABT Credit Balances'!$C$9:$C$208,$B$150)","v":0},{"$f":"SUMIFS('ABT Credit Balances'!$D$9:$D$208,'ABT Credit Balances'!$B$9:$B$208,$C$249,'ABT Credit Balances'!$F$9:$F$208,AG251,'ABT Credit Balances'!$E$9:$E$208,$AG$148,'ABT Credit Balances'!$C$9:$C$208,$B$150)","v":0},{"$f":"SUMIFS('ABT Credit Balances'!$D$9:$D$208,'ABT Credit Balances'!$B$9:$B$208,$C$249,'ABT Credit Balances'!$F$9:$F$208,AH251,'ABT Credit Balances'!$E$9:$E$208,$AG$148,'ABT Credit Balances'!$C$9:$C$208,$B$150)","v":0},{"$f":"SUMIFS('ABT Credit Balances'!$D$9:$D$208,'ABT Credit Balances'!$B$9:$B$208,$C$249,'ABT Credit Balances'!$F$9:$F$208,AI251,'ABT Credit Balances'!$E$9:$E$208,$AG$148,'ABT Credit Balances'!$C$9:$C$208,$B$150)","v":0},{"$f":"SUMIFS('ABT Credit Balances'!$D$9:$D$208,'ABT Credit Balances'!$B$9:$B$208,$C$249,'ABT Credit Balances'!$F$9:$F$208,AJ251,'ABT Credit Balances'!$E$9:$E$208,$AJ$148,'ABT Credit Balances'!$C$9:$C$208,$B$150)","v":0},{"$f":"SUMIFS('ABT Credit Balances'!$D$9:$D$208,'ABT Credit Balances'!$B$9:$B$208,$C$249,'ABT Credit Balances'!$F$9:$F$208,AK251,'ABT Credit Balances'!$E$9:$E$208,$AJ$148,'ABT Credit Balances'!$C$9:$C$208,$B$150)","v":0},{"$f":"SUMIFS('ABT Credit Balances'!$D$9:$D$208,'ABT Credit Balances'!$B$9:$B$208,$C$249,'ABT Credit Balances'!$F$9:$F$208,AL251,'ABT Credit Balances'!$E$9:$E$208,$AJ$148,'ABT Credit Balances'!$C$9:$C$208,$B$150)","v":0},{"$f":"SUMIFS('ABT Credit Balances'!$D$9:$D$208,'ABT Credit Balances'!$B$9:$B$208,$C$249,'ABT Credit Balances'!$F$9:$F$208,AM251,'ABT Credit Balances'!$E$9:$E$208,$AM$148,'ABT Credit Balances'!$C$9:$C$208,$B$150)","v":0},{"$f":"SUMIFS('ABT Credit Balances'!$D$9:$D$208,'ABT Credit Balances'!$B$9:$B$208,$C$249,'ABT Credit Balances'!$F$9:$F$208,AN251,'ABT Credit Balances'!$E$9:$E$208,$AM$148,'ABT Credit Balances'!$C$9:$C$208,$B$150)","v":0},{"$f":"SUMIFS('ABT Credit Balances'!$D$9:$D$208,'ABT Credit Balances'!$B$9:$B$208,$C$249,'ABT Credit Balances'!$F$9:$F$208,AO251,'ABT Credit Balances'!$E$9:$E$208,$AM$148,'ABT Credit Balances'!$C$9:$C$208,$B$150)","v":0},{"$f":"SUMIFS('ABT Credit Balances'!$D$9:$D$208,'ABT Credit Balances'!$B$9:$B$208,$C$249,'ABT Credit Balances'!$F$9:$F$208,AP251,'ABT Credit Balances'!$E$9:$E$208,$AP$148,'ABT Credit Balances'!$C$9:$C$208,$B$150)","v":0},{"$f":"SUMIFS('ABT Credit Balances'!$D$9:$D$208,'ABT Credit Balances'!$B$9:$B$208,$C$249,'ABT Credit Balances'!$F$9:$F$208,AQ251,'ABT Credit Balances'!$E$9:$E$208,$AP$148,'ABT Credit Balances'!$C$9:$C$208,$B$150)","v":0},{"$f":"SUMIFS('ABT Credit Balances'!$D$9:$D$208,'ABT Credit Balances'!$B$9:$B$208,$C$249,'ABT Credit Balances'!$F$9:$F$208,AR251,'ABT Credit Balances'!$E$9:$E$208,$AP$148,'ABT Credit Balances'!$C$9:$C$208,$B$150)","v":0},{"$f":"SUMIFS('ABT Credit Balances'!$D$9:$D$208,'ABT Credit Balances'!$B$9:$B$208,$C$249,'ABT Credit Balances'!$F$9:$F$208,AS251,'ABT Credit Balances'!$E$9:$E$208,$AS$148,'ABT Credit Balances'!$C$9:$C$208,$B$150)","v":0},{"$f":"SUMIFS('ABT Credit Balances'!$D$9:$D$208,'ABT Credit Balances'!$B$9:$B$208,$C$249,'ABT Credit Balances'!$F$9:$F$208,AT251,'ABT Credit Balances'!$E$9:$E$208,$AS$148,'ABT Credit Balances'!$C$9:$C$208,$B$150)","v":0},{"$f":"SUMIFS('ABT Credit Balances'!$D$9:$D$208,'ABT Credit Balances'!$B$9:$B$208,$C$249,'ABT Credit Balances'!$F$9:$F$208,AU251,'ABT Credit Balances'!$E$9:$E$208,$AS$148,'ABT Credit Balances'!$C$9:$C$208,$B$150)","v":0}]
[null,"Projected Credits",{"$f":"SUMIFS('ABT Credit Balances'!$D$9:$D$208,'ABT Credit Balances'!$B$9:$B$208,$C$249,'ABT Credit Balances'!$F$9:$F$208,C251,'ABT Credit Balances'!$E$9:$E$208,$C$148,'ABT Credit Balances'!$C$9:$C$208,$B$151)","v":0},{"$f":"SUMIFS('ABT Credit Balances'!$D$9:$D$208,'ABT Credit Balances'!$B$9:$B$208,$C$249,'ABT Credit Balances'!$F$9:$F$208,D251,'ABT Credit Balances'!$E$9:$E$208,$C$148,'ABT Credit Balances'!$C$9:$C$208,$B$151)","v":0},{"$f":"SUMIFS('ABT Credit Balances'!$D$9:$D$208,'ABT Credit Balances'!$B$9:$B$208,$C$249,'ABT Credit Balances'!$F$9:$F$208,E251,'ABT Credit Balances'!$E$9:$E$208,$C$148,'ABT Credit Balances'!$C$9:$C$208,$B$151)","v":0},{"$f":"SUMIFS('ABT Credit Balances'!$D$9:$D$208,'ABT Credit Balances'!$B$9:$B$208,$C$249,'ABT Credit Balances'!$F$9:$F$208,F251,'ABT Credit Balances'!$E$9:$E$208,$F$148,'ABT Credit Balances'!$C$9:$C$208,$B$151)","v":0},{"$f":"SUMIFS('ABT Credit Balances'!$D$9:$D$208,'ABT Credit Balances'!$B$9:$B$208,$C$249,'ABT Credit Balances'!$F$9:$F$208,G251,'ABT Credit Balances'!$E$9:$E$208,$F$148,'ABT Credit Balances'!$C$9:$C$208,$B$151)","v":0},{"$f":"SUMIFS('ABT Credit Balances'!$D$9:$D$208,'ABT Credit Balances'!$B$9:$B$208,$C$249,'ABT Credit Balances'!$F$9:$F$208,H251,'ABT Credit Balances'!$E$9:$E$208,$F$148,'ABT Credit Balances'!$C$9:$C$208,$B$151)","v":0},{"$f":"SUMIFS('ABT Credit Balances'!$D$9:$D$208,'ABT Credit Balances'!$B$9:$B$208,$C$249,'ABT Credit Balances'!$F$9:$F$208,I251,'ABT Credit Balances'!$E$9:$E$208,$I$148,'ABT Credit Balances'!$C$9:$C$208,$B$151)","v":0},{"$f":"SUMIFS('ABT Credit Balances'!$D$9:$D$208,'ABT Credit Balances'!$B$9:$B$208,$C$249,'ABT Credit Balances'!$F$9:$F$208,J251,'ABT Credit Balances'!$E$9:$E$208,$I$148,'ABT Credit Balances'!$C$9:$C$208,$B$151)","v":0},{"$f":"SUMIFS('ABT Credit Balances'!$D$9:$D$208,'ABT Credit Balances'!$B$9:$B$208,$C$249,'ABT Credit Balances'!$F$9:$F$208,K251,'ABT Credit Balances'!$E$9:$E$208,$I$148,'ABT Credit Balances'!$C$9:$C$208,$B$151)","v":0},{"$f":"SUMIFS('ABT Credit Balances'!$D$9:$D$208,'ABT Credit Balances'!$B$9:$B$208,$C$249,'ABT Credit Balances'!$F$9:$F$208,L251,'ABT Credit Balances'!$E$9:$E$208,$L$148,'ABT Credit Balances'!$C$9:$C$208,$B$151)","v":0},{"$f":"SUMIFS('ABT Credit Balances'!$D$9:$D$208,'ABT Credit Balances'!$B$9:$B$208,$C$249,'ABT Credit Balances'!$F$9:$F$208,M251,'ABT Credit Balances'!$E$9:$E$208,$L$148,'ABT Credit Balances'!$C$9:$C$208,$B$151)","v":0},{"$f":"SUMIFS('ABT Credit Balances'!$D$9:$D$208,'ABT Credit Balances'!$B$9:$B$208,$C$249,'ABT Credit Balances'!$F$9:$F$208,N251,'ABT Credit Balances'!$E$9:$E$208,$L$148,'ABT Credit Balances'!$C$9:$C$208,$B$151)","v":0},{"$f":"SUMIFS('ABT Credit Balances'!$D$9:$D$208,'ABT Credit Balances'!$B$9:$B$208,$C$249,'ABT Credit Balances'!$F$9:$F$208,O251,'ABT Credit Balances'!$E$9:$E$208,$O$148,'ABT Credit Balances'!$C$9:$C$208,$B$151)","v":0},{"$f":"SUMIFS('ABT Credit Balances'!$D$9:$D$208,'ABT Credit Balances'!$B$9:$B$208,$C$249,'ABT Credit Balances'!$F$9:$F$208,P251,'ABT Credit Balances'!$E$9:$E$208,$O$148,'ABT Credit Balances'!$C$9:$C$208,$B$151)","v":0},{"$f":"SUMIFS('ABT Credit Balances'!$D$9:$D$208,'ABT Credit Balances'!$B$9:$B$208,$C$249,'ABT Credit Balances'!$F$9:$F$208,Q251,'ABT Credit Balances'!$E$9:$E$208,$O$148,'ABT Credit Balances'!$C$9:$C$208,$B$151)","v":0},{"$f":"SUMIFS('ABT Credit Balances'!$D$9:$D$208,'ABT Credit Balances'!$B$9:$B$208,$C$249,'ABT Credit Balances'!$F$9:$F$208,R251,'ABT Credit Balances'!$E$9:$E$208,$R$148,'ABT Credit Balances'!$C$9:$C$208,$B$151)","v":0},{"$f":"SUMIFS('ABT Credit Balances'!$D$9:$D$208,'ABT Credit Balances'!$B$9:$B$208,$C$249,'ABT Credit Balances'!$F$9:$F$208,S251,'ABT Credit Balances'!$E$9:$E$208,$R$148,'ABT Credit Balances'!$C$9:$C$208,$B$151)","v":0},{"$f":"SUMIFS('ABT Credit Balances'!$D$9:$D$208,'ABT Credit Balances'!$B$9:$B$208,$C$249,'ABT Credit Balances'!$F$9:$F$208,T251,'ABT Credit Balances'!$E$9:$E$208,$R$148,'ABT Credit Balances'!$C$9:$C$208,$B$151)","v":0},{"$f":"SUMIFS('ABT Credit Balances'!$D$9:$D$208,'ABT Credit Balances'!$B$9:$B$208,$C$249,'ABT Credit Balances'!$F$9:$F$208,U251,'ABT Credit Balances'!$E$9:$E$208,$U$148,'ABT Credit Balances'!$C$9:$C$208,$B$151)","v":0},{"$f":"SUMIFS('ABT Credit Balances'!$D$9:$D$208,'ABT Credit Balances'!$B$9:$B$208,$C$249,'ABT Credit Balances'!$F$9:$F$208,V251,'ABT Credit Balances'!$E$9:$E$208,$U$148,'ABT Credit Balances'!$C$9:$C$208,$B$151)","v":0},{"$f":"SUMIFS('ABT Credit Balances'!$D$9:$D$208,'ABT Credit Balances'!$B$9:$B$208,$C$249,'ABT Credit Balances'!$F$9:$F$208,W251,'ABT Credit Balances'!$E$9:$E$208,U$148,'ABT Credit Balances'!$C$9:$C$208,$B$151)","v":0},{"$f":"SUMIFS('ABT Credit Balances'!$D$9:$D$208,'ABT Credit Balances'!$B$9:$B$208,$C$249,'ABT Credit Balances'!$F$9:$F$208,X251,'ABT Credit Balances'!$E$9:$E$208,$X$148,'ABT Credit Balances'!$C$9:$C$208,$B$151)","v":0},{"$f":"SUMIFS('ABT Credit Balances'!$D$9:$D$208,'ABT Credit Balances'!$B$9:$B$208,$C$249,'ABT Credit Balances'!$F$9:$F$208,Y251,'ABT Credit Balances'!$E$9:$E$208,$X$148,'ABT Credit Balances'!$C$9:$C$208,$B$151)","v":0},{"$f":"SUMIFS('ABT Credit Balances'!$D$9:$D$208,'ABT Credit Balances'!$B$9:$B$208,$C$249,'ABT Credit Balances'!$F$9:$F$208,Z251,'ABT Credit Balances'!$E$9:$E$208,$X$148,'ABT Credit Balances'!$C$9:$C$208,$B$151)","v":0},{"$f":"SUMIFS('ABT Credit Balances'!$D$9:$D$208,'ABT Credit Balances'!$B$9:$B$208,$C$249,'ABT Credit Balances'!$F$9:$F$208,AA251,'ABT Credit Balances'!$E$9:$E$208,$AA$148,'ABT Credit Balances'!$C$9:$C$208,$B$151)","v":0},{"$f":"SUMIFS('ABT Credit Balances'!$D$9:$D$208,'ABT Credit Balances'!$B$9:$B$208,$C$249,'ABT Credit Balances'!$F$9:$F$208,AB251,'ABT Credit Balances'!$E$9:$E$208,$AA$148,'ABT Credit Balances'!$C$9:$C$208,$B$151)","v":0},{"$f":"SUMIFS('ABT Credit Balances'!$D$9:$D$208,'ABT Credit Balances'!$B$9:$B$208,$C$249,'ABT Credit Balances'!$F$9:$F$208,AC251,'ABT Credit Balances'!$E$9:$E$208,$AA$148,'ABT Credit Balances'!$C$9:$C$208,$B$151)","v":0},{"$f":"SUMIFS('ABT Credit Balances'!$D$9:$D$208,'ABT Credit Balances'!$B$9:$B$208,$C$249,'ABT Credit Balances'!$F$9:$F$208,AD251,'ABT Credit Balances'!$E$9:$E$208,$AD$148,'ABT Credit Balances'!$C$9:$C$208,$B$151)","v":0},{"$f":"SUMIFS('ABT Credit Balances'!$D$9:$D$208,'ABT Credit Balances'!$B$9:$B$208,$C$249,'ABT Credit Balances'!$F$9:$F$208,AE251,'ABT Credit Balances'!$E$9:$E$208,$AD$148,'ABT Credit Balances'!$C$9:$C$208,$B$151)","v":0},{"$f":"SUMIFS('ABT Credit Balances'!$D$9:$D$208,'ABT Credit Balances'!$B$9:$B$208,$C$249,'ABT Credit Balances'!$F$9:$F$208,AF251,'ABT Credit Balances'!$E$9:$E$208,$AD$148,'ABT Credit Balances'!$C$9:$C$208,$B$151)","v":0},{"$f":"SUMIFS('ABT Credit Balances'!$D$9:$D$208,'ABT Credit Balances'!$B$9:$B$208,$C$249,'ABT Credit Balances'!$F$9:$F$208,AG251,'ABT Credit Balances'!$E$9:$E$208,$AG$148,'ABT Credit Balances'!$C$9:$C$208,$B$151)","v":0},{"$f":"SUMIFS('ABT Credit Balances'!$D$9:$D$208,'ABT Credit Balances'!$B$9:$B$208,$C$249,'ABT Credit Balances'!$F$9:$F$208,AH251,'ABT Credit Balances'!$E$9:$E$208,$AG$148,'ABT Credit Balances'!$C$9:$C$208,$B$151)","v":0},{"$f":"SUMIFS('ABT Credit Balances'!$D$9:$D$208,'ABT Credit Balances'!$B$9:$B$208,$C$249,'ABT Credit Balances'!$F$9:$F$208,AI251,'ABT Credit Balances'!$E$9:$E$208,$AG$148,'ABT Credit Balances'!$C$9:$C$208,$B$151)","v":0},{"$f":"SUMIFS('ABT Credit Balances'!$D$9:$D$208,'ABT Credit Balances'!$B$9:$B$208,$C$249,'ABT Credit Balances'!$F$9:$F$208,AJ251,'ABT Credit Balances'!$E$9:$E$208,$AJ$148,'ABT Credit Balances'!$C$9:$C$208,$B$151)","v":0},{"$f":"SUMIFS('ABT Credit Balances'!$D$9:$D$208,'ABT Credit Balances'!$B$9:$B$208,$C$249,'ABT Credit Balances'!$F$9:$F$208,AK251,'ABT Credit Balances'!$E$9:$E$208,$AJ$148,'ABT Credit Balances'!$C$9:$C$208,$B$151)","v":0},{"$f":"SUMIFS('ABT Credit Balances'!$D$9:$D$208,'ABT Credit Balances'!$B$9:$B$208,$C$249,'ABT Credit Balances'!$F$9:$F$208,AL251,'ABT Credit Balances'!$E$9:$E$208,$AJ$148,'ABT Credit Balances'!$C$9:$C$208,$B$151)","v":0},{"$f":"SUMIFS('ABT Credit Balances'!$D$9:$D$208,'ABT Credit Balances'!$B$9:$B$208,$C$249,'ABT Credit Balances'!$F$9:$F$208,AM251,'ABT Credit Balances'!$E$9:$E$208,$AM$148,'ABT Credit Balances'!$C$9:$C$208,$B$151)","v":0},{"$f":"SUMIFS('ABT Credit Balances'!$D$9:$D$208,'ABT Credit Balances'!$B$9:$B$208,$C$249,'ABT Credit Balances'!$F$9:$F$208,AN251,'ABT Credit Balances'!$E$9:$E$208,$AM$148,'ABT Credit Balances'!$C$9:$C$208,$B$151)","v":0},{"$f":"SUMIFS('ABT Credit Balances'!$D$9:$D$208,'ABT Credit Balances'!$B$9:$B$208,$C$249,'ABT Credit Balances'!$F$9:$F$208,AO251,'ABT Credit Balances'!$E$9:$E$208,$AM$148,'ABT Credit Balances'!$C$9:$C$208,$B$151)","v":0},{"$f":"SUMIFS('ABT Credit Balances'!$D$9:$D$208,'ABT Credit Balances'!$B$9:$B$208,$C$249,'ABT Credit Balances'!$F$9:$F$208,AP251,'ABT Credit Balances'!$E$9:$E$208,$AP$148,'ABT Credit Balances'!$C$9:$C$208,$B$151)","v":0},{"$f":"SUMIFS('ABT Credit Balances'!$D$9:$D$208,'ABT Credit Balances'!$B$9:$B$208,$C$249,'ABT Credit Balances'!$F$9:$F$208,AQ251,'ABT Credit Balances'!$E$9:$E$208,$AP$148,'ABT Credit Balances'!$C$9:$C$208,$B$151)","v":0},{"$f":"SUMIFS('ABT Credit Balances'!$D$9:$D$208,'ABT Credit Balances'!$B$9:$B$208,$C$249,'ABT Credit Balances'!$F$9:$F$208,AR251,'ABT Credit Balances'!$E$9:$E$208,$AP$148,'ABT Credit Balances'!$C$9:$C$208,$B$151)","v":0},{"$f":"SUMIFS('ABT Credit Balances'!$D$9:$D$208,'ABT Credit Balances'!$B$9:$B$208,$C$249,'ABT Credit Balances'!$F$9:$F$208,AS251,'ABT Credit Balances'!$E$9:$E$208,$AS$148,'ABT Credit Balances'!$C$9:$C$208,$B$151)","v":0},{"$f":"SUMIFS('ABT Credit Balances'!$D$9:$D$208,'ABT Credit Balances'!$B$9:$B$208,$C$249,'ABT Credit Balances'!$F$9:$F$208,AT251,'ABT Credit Balances'!$E$9:$E$208,$AS$148,'ABT Credit Balances'!$C$9:$C$208,$B$151)","v":0},{"$f":"SUMIFS('ABT Credit Balances'!$D$9:$D$208,'ABT Credit Balances'!$B$9:$B$208,$C$249,'ABT Credit Balances'!$F$9:$F$208,AU251,'ABT Credit Balances'!$E$9:$E$208,$AS$148,'ABT Credit Balances'!$C$9:$C$208,$B$151)","v":0}]
[null,"Applied Banked Credits (out)",{"$f":"SUMIFS('ABT Transactions'!$B$9:$B$40,'ABT Transactions'!$G$9:$G$40,$C$249,'ABT Transactions'!$F$9:$F$40,$C$148,'ABT Transactions'!$C$9:$C$40,C251,'ABT Transactions'!$D$9:$D$40,$B$152)","v":0},{"$f":"SUMIFS('ABT Transactions'!$B$9:$B$40,'ABT Transactions'!$G$9:$G$40,$C$249,'ABT Transactions'!$F$9:$F$40,$C$148,'ABT Transactions'!$C$9:$C$40,D251,'ABT Transactions'!$D$9:$D$40,$B$152)","v":0},{"$f":"SUMIFS('ABT Transactions'!$B$9:$B$40,'ABT Transactions'!$G$9:$G$40,$C$249,'ABT Transactions'!$F$9:$F$40,$C$148,'ABT Transactions'!$C$9:$C$40,E251,'ABT Transactions'!$D$9:$D$40,$B$152)","v":0},{"$f":"SUMIFS('ABT Transactions'!$B$9:$B$40,'ABT Transactions'!$G$9:$G$40,$C$249,'ABT Transactions'!$F$9:$F$40,$F$148,'ABT Transactions'!$C$9:$C$40,F251,'ABT Transactions'!$D$9:$D$40,$B$152)","v":0},{"$f":"SUMIFS('ABT Transactions'!$B$9:$B$40,'ABT Transactions'!$G$9:$G$40,$C$249,'ABT Transactions'!$F$9:$F$40,$F$148,'ABT Transactions'!$C$9:$C$40,G251,'ABT Transactions'!$D$9:$D$40,$B$152)","v":0},{"$f":"SUMIFS('ABT Transactions'!$B$9:$B$40,'ABT Transactions'!$G$9:$G$40,$C$249,'ABT Transactions'!$F$9:$F$40,$F$148,'ABT Transactions'!$C$9:$C$40,H251,'ABT Transactions'!$D$9:$D$40,$B$152)","v":0},{"$f":"SUMIFS('ABT Transactions'!$B$9:$B$40,'ABT Transactions'!$G$9:$G$40,$C$249,'ABT Transactions'!$F$9:$F$40,$I$148,'ABT Transactions'!$C$9:$C$40,I251,'ABT Transactions'!$D$9:$D$40,$B$152)","v":0},{"$f":"SUMIFS('ABT Transactions'!$B$9:$B$40,'ABT Transactions'!$G$9:$G$40,$C$249,'ABT Transactions'!$F$9:$F$40,$I$148,'ABT Transactions'!$C$9:$C$40,J251,'ABT Transactions'!$D$9:$D$40,$B$152)","v":0},{"$f":"SUMIFS('ABT Transactions'!$B$9:$B$40,'ABT Transactions'!$G$9:$G$40,$C$249,'ABT Transactions'!$F$9:$F$40,$I$148,'ABT Transactions'!$C$9:$C$40,K251,'ABT Transactions'!$D$9:$D$40,$B$152)","v":0},{"$f":"SUMIFS('ABT Transactions'!$B$9:$B$40,'ABT Transactions'!$G$9:$G$40,$C$249,'ABT Transactions'!$F$9:$F$40,$L$148,'ABT Transactions'!$C$9:$C$40,L251,'ABT Transactions'!$D$9:$D$40,$B$152)","v":0},{"$f":"SUMIFS('ABT Transactions'!$B$9:$B$40,'ABT Transactions'!$G$9:$G$40,$C$249,'ABT Transactions'!$F$9:$F$40,$L$148,'ABT Transactions'!$C$9:$C$40,M251,'ABT Transactions'!$D$9:$D$40,$B$152)","v":0},{"$f":"SUMIFS('ABT Transactions'!$B$9:$B$40,'ABT Transactions'!$G$9:$G$40,$C$249,'ABT Transactions'!$F$9:$F$40,$L$148,'ABT Transactions'!$C$9:$C$40,N251,'ABT Transactions'!$D$9:$D$40,$B$152)","v":0},{"$f":"SUMIFS('ABT Transactions'!$B$9:$B$40,'ABT Transactions'!$G$9:$G$40,$C$249,'ABT Transactions'!$F$9:$F$40,$O$148,'ABT Transactions'!$C$9:$C$40,O251,'ABT Transactions'!$D$9:$D$40,$B$152)","v":0},{"$f":"SUMIFS('ABT Transactions'!$B$9:$B$40,'ABT Transactions'!$G$9:$G$40,$C$249,'ABT Transactions'!$F$9:$F$40,$O$148,'ABT Transactions'!$C$9:$C$40,P251,'ABT Transactions'!$D$9:$D$40,$B$152)","v":0},{"$f":"SUMIFS('ABT Transactions'!$B$9:$B$40,'ABT Transactions'!$G$9:$G$40,$C$249,'ABT Transactions'!$F$9:$F$40,$O$148,'ABT Transactions'!$C$9:$C$40,Q251,'ABT Transactions'!$D$9:$D$40,$B$152)","v":0},{"$f":"SUMIFS('ABT Transactions'!$B$9:$B$40,'ABT Transactions'!$G$9:$G$40,$C$249,'ABT Transactions'!$F$9:$F$40,$R$148,'ABT Transactions'!$C$9:$C$40,R251,'ABT Transactions'!$D$9:$D$40,$B$152)","v":0},{"$f":"SUMIFS('ABT Transactions'!$B$9:$B$40,'ABT Transactions'!$G$9:$G$40,$C$249,'ABT Transactions'!$F$9:$F$40,$R$148,'ABT Transactions'!$C$9:$C$40,S251,'ABT Transactions'!$D$9:$D$40,$B$152)","v":0},{"$f":"SUMIFS('ABT Transactions'!$B$9:$B$40,'ABT Transactions'!$G$9:$G$40,$C$249,'ABT Transactions'!$F$9:$F$40,$R$148,'ABT Transactions'!$C$9:$C$40,T251,'ABT Transactions'!$D$9:$D$40,$B$152)","v":0},{"$f":"SUMIFS('ABT Transactions'!$B$9:$B$40,'ABT Transactions'!$G$9:$G$40,$C$249,'ABT Transactions'!$F$9:$F$40,$U$148,'ABT Transactions'!$C$9:$C$40,U251,'ABT Transactions'!$D$9:$D$40,$B$152)","v":0},{"$f":"SUMIFS('ABT Transactions'!$B$9:$B$40,'ABT Transactions'!$G$9:$G$40,$C$249,'ABT Transactions'!$F$9:$F$40,$U$148,'ABT Transactions'!$C$9:$C$40,V251,'ABT Transactions'!$D$9:$D$40,$B$152)","v":0},{"$f":"SUMIFS('ABT Transactions'!$B$9:$B$40,'ABT Transactions'!$G$9:$G$40,$C$249,'ABT Transactions'!$F$9:$F$40,U$148,'ABT Transactions'!$C$9:$C$40,W251,'ABT Transactions'!$D$9:$D$40,$B$152)","v":0},{"$f":"SUMIFS('ABT Transactions'!$B$9:$B$40,'ABT Transactions'!$G$9:$G$40,$C$249,'ABT Transactions'!$F$9:$F$40,$X$148,'ABT Transactions'!$C$9:$C$40,X251,'ABT Transactions'!$D$9:$D$40,$B$152)","v":0},{"$f":"SUMIFS('ABT Transactions'!$B$9:$B$40,'ABT Transactions'!$G$9:$G$40,$C$249,'ABT Transactions'!$F$9:$F$40,$X$148,'ABT Transactions'!$C$9:$C$40,Y251,'ABT Transactions'!$D$9:$D$40,$B$152)","v":0},{"$f":"SUMIFS('ABT Transactions'!$B$9:$B$40,'ABT Transactions'!$G$9:$G$40,$C$249,'ABT Transactions'!$F$9:$F$40,$X$148,'ABT Transactions'!$C$9:$C$40,Z251,'ABT Transactions'!$D$9:$D$40,$B$152)","v":0},{"$f":"SUMIFS('ABT Transactions'!$B$9:$B$40,'ABT Transactions'!$G$9:$G$40,$C$249,'ABT Transactions'!$F$9:$F$40,$AA$148,'ABT Transactions'!$C$9:$C$40,AA251,'ABT Transactions'!$D$9:$D$40,$B$152)","v":0},{"$f":"SUMIFS('ABT Transactions'!$B$9:$B$40,'ABT Transactions'!$G$9:$G$40,$C$249,'ABT Transactions'!$F$9:$F$40,$AA$148,'ABT Transactions'!$C$9:$C$40,AB251,'ABT Transactions'!$D$9:$D$40,$B$152)","v":0},{"$f":"SUMIFS('ABT Transactions'!$B$9:$B$40,'ABT Transactions'!$G$9:$G$40,$C$249,'ABT Transactions'!$F$9:$F$40,$AA$148,'ABT Transactions'!$C$9:$C$40,AC251,'ABT Transactions'!$D$9:$D$40,$B$152)","v":0},{"$f":"SUMIFS('ABT Transactions'!$B$9:$B$40,'ABT Transactions'!$G$9:$G$40,$C$249,'ABT Transactions'!$F$9:$F$40,$AD$148,'ABT Transactions'!$C$9:$C$40,AD251,'ABT Transactions'!$D$9:$D$40,$B$152)","v":0},{"$f":"SUMIFS('ABT Transactions'!$B$9:$B$40,'ABT Transactions'!$G$9:$G$40,$C$249,'ABT Transactions'!$F$9:$F$40,$AD$148,'ABT Transactions'!$C$9:$C$40,AE251,'ABT Transactions'!$D$9:$D$40,$B$152)","v":0},{"$f":"SUMIFS('ABT Transactions'!$B$9:$B$40,'ABT Transactions'!$G$9:$G$40,$C$249,'ABT Transactions'!$F$9:$F$40,$AD$148,'ABT Transactions'!$C$9:$C$40,AF251,'ABT Transactions'!$D$9:$D$40,$B$152)","v":0},{"$f":"SUMIFS('ABT Transactions'!$B$9:$B$40,'ABT Transactions'!$G$9:$G$40,$C$249,'ABT Transactions'!$F$9:$F$40,$AG$148,'ABT Transactions'!$C$9:$C$40,AG251,'ABT Transactions'!$D$9:$D$40,$B$152)","v":0},{"$f":"SUMIFS('ABT Transactions'!$B$9:$B$40,'ABT Transactions'!$G$9:$G$40,$C$249,'ABT Transactions'!$F$9:$F$40,$AG$148,'ABT Transactions'!$C$9:$C$40,AH251,'ABT Transactions'!$D$9:$D$40,$B$152)","v":0},{"$f":"SUMIFS('ABT Transactions'!$B$9:$B$40,'ABT Transactions'!$G$9:$G$40,$C$249,'ABT Transactions'!$F$9:$F$40,$AG$148,'ABT Transactions'!$C$9:$C$40,AI251,'ABT Transactions'!$D$9:$D$40,$B$152)","v":0},{"$f":"SUMIFS('ABT Transactions'!$B$9:$B$40,'ABT Transactions'!$G$9:$G$40,$C$249,'ABT Transactions'!$F$9:$F$40,$AJ$148,'ABT Transactions'!$C$9:$C$40,AJ251,'ABT Transactions'!$D$9:$D$40,$B$152)","v":0},{"$f":"SUMIFS('ABT Transactions'!$B$9:$B$40,'ABT Transactions'!$G$9:$G$40,$C$249,'ABT Transactions'!$F$9:$F$40,$AJ$148,'ABT Transactions'!$C$9:$C$40,AK251,'ABT Transactions'!$D$9:$D$40,$B$152)","v":0},{"$f":"SUMIFS('ABT Transactions'!$B$9:$B$40,'ABT Transactions'!$G$9:$G$40,$C$249,'ABT Transactions'!$F$9:$F$40,$AJ$148,'ABT Transactions'!$C$9:$C$40,AL251,'ABT Transactions'!$D$9:$D$40,$B$152)","v":0},{"$f":"SUMIFS('ABT Transactions'!$B$9:$B$40,'ABT Transactions'!$G$9:$G$40,$C$249,'ABT Transactions'!$F$9:$F$40,$AM$148,'ABT Transactions'!$C$9:$C$40,AM251,'ABT Transactions'!$D$9:$D$40,$B$152)","v":0},{"$f":"SUMIFS('ABT Transactions'!$B$9:$B$40,'ABT Transactions'!$G$9:$G$40,$C$249,'ABT Transactions'!$F$9:$F$40,$AM$148,'ABT Transactions'!$C$9:$C$40,AN251,'ABT Transactions'!$D$9:$D$40,$B$152)","v":0},{"$f":"SUMIFS('ABT Transactions'!$B$9:$B$40,'ABT Transactions'!$G$9:$G$40,$C$249,'ABT Transactions'!$F$9:$F$40,$AM$148,'ABT Transactions'!$C$9:$C$40,AO251,'ABT Transactions'!$D$9:$D$40,$B$152)","v":0},{"$f":"SUMIFS('ABT Transactions'!$B$9:$B$40,'ABT Transactions'!$G$9:$G$40,$C$249,'ABT Transactions'!$F$9:$F$40,$AP$148,'ABT Transactions'!$C$9:$C$40,AP251,'ABT Transactions'!$D$9:$D$40,$B$152)","v":0},{"$f":"SUMIFS('ABT Transactions'!$B$9:$B$40,'ABT Transactions'!$G$9:$G$40,$C$249,'ABT Transactions'!$F$9:$F$40,$AP$148,'ABT Transactions'!$C$9:$C$40,AQ251,'ABT Transactions'!$D$9:$D$40,$B$152)","v":0},{"$f":"SUMIFS('ABT Transactions'!$B$9:$B$40,'ABT Transactions'!$G$9:$G$40,$C$249,'ABT Transactions'!$F$9:$F$40,$AP$148,'ABT Transactions'!$C$9:$C$40,AR251,'ABT Transactions'!$D$9:$D$40,$B$152)","v":0},{"$f":"SUMIFS('ABT Transactions'!$B$9:$B$40,'ABT Transactions'!$G$9:$G$40,$C$249,'ABT Transactions'!$F$9:$F$40,$AS$148,'ABT Transactions'!$C$9:$C$40,AS251,'ABT Transactions'!$D$9:$D$40,$B$152)","v":0},{"$f":"SUMIFS('ABT Transactions'!$B$9:$B$40,'ABT Transactions'!$G$9:$G$40,$C$249,'ABT Transactions'!$F$9:$F$40,$AS$148,'ABT Transactions'!$C$9:$C$40,AT251,'ABT Transactions'!$D$9:$D$40,$B$152)","v":0},{"$f":"SUMIFS('ABT Transactions'!$B$9:$B$40,'ABT Transactions'!$G$9:$G$40,$C$249,'ABT Transactions'!$F$9:$F$40,$AS$148,'ABT Transactions'!$C$9:$C$40,AU251,'ABT Transactions'!$D$9:$D$40,$B$152)","v":0}]
[null,"Applied Banked Credits (in)",{"$f":"SUMIFS('ABT Transactions'!$B$9:$B$40,'ABT Transactions'!$J$9:$J$40,$C$249,'ABT Transactions'!$I$9:$I$40,$C$148,'ABT Transactions'!$C$9:$C$40,C251,'ABT Transactions'!$D$9:$D$40,$B$153)","v":0},{"$f":"SUMIFS('ABT Transactions'!$B$9:$B$40,'ABT Transactions'!$J$9:$J$40,$C$249,'ABT Transactions'!$I$9:$I$40,$C$148,'ABT Transactions'!$C$9:$C$40,D251,'ABT Transactions'!$D$9:$D$40,$B$153)","v":0},{"$f":"SUMIFS('ABT Transactions'!$B$9:$B$40,'ABT Transactions'!$J$9:$J$40,$C$249,'ABT Transactions'!$I$9:$I$40,$C$148,'ABT Transactions'!$C$9:$C$40,E251,'ABT Transactions'!$D$9:$D$40,$B$153)","v":0},{"$f":"SUMIFS('ABT Transactions'!$B$9:$B$40,'ABT Transactions'!$J$9:$J$40,$C$249,'ABT Transactions'!$I$9:$I$40,$F$148,'ABT Transactions'!$C$9:$C$40,F251,'ABT Transactions'!$D$9:$D$40,$B$153)","v":0},{"$f":"SUMIFS('ABT Transactions'!$B$9:$B$40,'ABT Transactions'!$J$9:$J$40,$C$249,'ABT Transactions'!$I$9:$I$40,$F$148,'ABT Transactions'!$C$9:$C$40,G251,'ABT Transactions'!$D$9:$D$40,$B$153)","v":0},{"$f":"SUMIFS('ABT Transactions'!$B$9:$B$40,'ABT Transactions'!$J$9:$J$40,$C$249,'ABT Transactions'!$I$9:$I$40,$F$148,'ABT Transactions'!$C$9:$C$40,H251,'ABT Transactions'!$D$9:$D$40,$B$153)","v":0},{"$f":"SUMIFS('ABT Transactions'!$B$9:$B$40,'ABT Transactions'!$J$9:$J$40,$C$249,'ABT Transactions'!$I$9:$I$40,$I$148,'ABT Transactions'!$C$9:$C$40,I251,'ABT Transactions'!$D$9:$D$40,$B$153)","v":0},{"$f":"SUMIFS('ABT Transactions'!$B$9:$B$40,'ABT Transactions'!$J$9:$J$40,$C$249,'ABT Transactions'!$I$9:$I$40,$I$148,'ABT Transactions'!$C$9:$C$40,J251,'ABT Transactions'!$D$9:$D$40,$B$153)","v":0},{"$f":"SUMIFS('ABT Transactions'!$B$9:$B$40,'ABT Transactions'!$J$9:$J$40,$C$249,'ABT Transactions'!$I$9:$I$40,$I$148,'ABT Transactions'!$C$9:$C$40,K251,'ABT Transactions'!$D$9:$D$40,$B$153)","v":0},{"$f":"SUMIFS('ABT Transactions'!$B$9:$B$40,'ABT Transactions'!$J$9:$J$40,$C$249,'ABT Transactions'!$I$9:$I$40,$L$148,'ABT Transactions'!$C$9:$C$40,L251,'ABT Transactions'!$D$9:$D$40,$B$153)","v":0},{"$f":"SUMIFS('ABT Transactions'!$B$9:$B$40,'ABT Transactions'!$J$9:$J$40,$C$249,'ABT Transactions'!$I$9:$I$40,$L$148,'ABT Transactions'!$C$9:$C$40,M251,'ABT Transactions'!$D$9:$D$40,$B$153)","v":0},{"$f":"SUMIFS('ABT Transactions'!$B$9:$B$40,'ABT Transactions'!$J$9:$J$40,$C$249,'ABT Transactions'!$I$9:$I$40,$L$148,'ABT Transactions'!$C$9:$C$40,N251,'ABT Transactions'!$D$9:$D$40,$B$153)","v":0},{"$f":"SUMIFS('ABT Transactions'!$B$9:$B$40,'ABT Transactions'!$J$9:$J$40,$C$249,'ABT Transactions'!$I$9:$I$40,$O$148,'ABT Transactions'!$C$9:$C$40,O251,'ABT Transactions'!$D$9:$D$40,$B$153)","v":0},{"$f":"SUMIFS('ABT Transactions'!$B$9:$B$40,'ABT Transactions'!$J$9:$J$40,$C$249,'ABT Transactions'!$I$9:$I$40,$O$148,'ABT Transactions'!$C$9:$C$40,P251,'ABT Transactions'!$D$9:$D$40,$B$153)","v":0},{"$f":"SUMIFS('ABT Transactions'!$B$9:$B$40,'ABT Transactions'!$J$9:$J$40,$C$249,'ABT Transactions'!$I$9:$I$40,$O$148,'ABT Transactions'!$C$9:$C$40,Q251,'ABT Transactions'!$D$9:$D$40,$B$153)","v":0},{"$f":"SUMIFS('ABT Transactions'!$B$9:$B$40,'ABT Transactions'!$J$9:$J$40,$C$249,'ABT Transactions'!$I$9:$I$40,$R$148,'ABT Transactions'!$C$9:$C$40,R251,'ABT Transactions'!$D$9:$D$40,$B$153)","v":0},{"$f":"SUMIFS('ABT Transactions'!$B$9:$B$40,'ABT Transactions'!$J$9:$J$40,$C$249,'ABT Transactions'!$I$9:$I$40,$R$148,'ABT Transactions'!$C$9:$C$40,S251,'ABT Transactions'!$D$9:$D$40,$B$153)","v":0},{"$f":"SUMIFS('ABT Transactions'!$B$9:$B$40,'ABT Transactions'!$J$9:$J$40,$C$249,'ABT Transactions'!$I$9:$I$40,$R$148,'ABT Transactions'!$C$9:$C$40,T251,'ABT Transactions'!$D$9:$D$40,$B$153)","v":0},{"$f":"SUMIFS('ABT Transactions'!$B$9:$B$40,'ABT Transactions'!$J$9:$J$40,$C$249,'ABT Transactions'!$I$9:$I$40,$U$148,'ABT Transactions'!$C$9:$C$40,U251,'ABT Transactions'!$D$9:$D$40,$B$153)","v":0},{"$f":"SUMIFS('ABT Transactions'!$B$9:$B$40,'ABT Transactions'!$J$9:$J$40,$C$249,'ABT Transactions'!$I$9:$I$40,$U$148,'ABT Transactions'!$C$9:$C$40,V251,'ABT Transactions'!$D$9:$D$40,$B$153)","v":0},{"$f":"SUMIFS('ABT Transactions'!$B$9:$B$40,'ABT Transactions'!$J$9:$J$40,$C$249,'ABT Transactions'!$I$9:$I$40,U$148,'ABT Transactions'!$C$9:$C$40,W251,'ABT Transactions'!$D$9:$D$40,$B$153)","v":0},{"$f":"SUMIFS('ABT Transactions'!$B$9:$B$40,'ABT Transactions'!$J$9:$J$40,$C$249,'ABT Transactions'!$I$9:$I$40,$X$148,'ABT Transactions'!$C$9:$C$40,X251,'ABT Transactions'!$D$9:$D$40,$B$153)","v":0},{"$f":"SUMIFS('ABT Transactions'!$B$9:$B$40,'ABT Transactions'!$J$9:$J$40,$C$249,'ABT Transactions'!$I$9:$I$40,$X$148,'ABT Transactions'!$C$9:$C$40,Y251,'ABT Transactions'!$D$9:$D$40,$B$153)","v":0},{"$f":"SUMIFS('ABT Transactions'!$B$9:$B$40,'ABT Transactions'!$J$9:$J$40,$C$249,'ABT Transactions'!$I$9:$I$40,$X$148,'ABT Transactions'!$C$9:$C$40,Z251,'ABT Transactions'!$D$9:$D$40,$B$153)","v":0},{"$f":"SUMIFS('ABT Transactions'!$B$9:$B$40,'ABT Transactions'!$J$9:$J$40,$C$249,'ABT Transactions'!$I$9:$I$40,$AA$148,'ABT Transactions'!$C$9:$C$40,AA251,'ABT Transactions'!$D$9:$D$40,$B$153)","v":0},{"$f":"SUMIFS('ABT Transactions'!$B$9:$B$40,'ABT Transactions'!$J$9:$J$40,$C$249,'ABT Transactions'!$I$9:$I$40,$AA$148,'ABT Transactions'!$C$9:$C$40,AB251,'ABT Transactions'!$D$9:$D$40,$B$153)","v":0},{"$f":"SUMIFS('ABT Transactions'!$B$9:$B$40,'ABT Transactions'!$J$9:$J$40,$C$249,'ABT Transactions'!$I$9:$I$40,$AA$148,'ABT Transactions'!$C$9:$C$40,AC251,'ABT Transactions'!$D$9:$D$40,$B$153)","v":0},{"$f":"SUMIFS('ABT Transactions'!$B$9:$B$40,'ABT Transactions'!$J$9:$J$40,$C$249,'ABT Transactions'!$I$9:$I$40,$AD$148,'ABT Transactions'!$C$9:$C$40,AD251,'ABT Transactions'!$D$9:$D$40,$B$153)","v":0},{"$f":"SUMIFS('ABT Transactions'!$B$9:$B$40,'ABT Transactions'!$J$9:$J$40,$C$249,'ABT Transactions'!$I$9:$I$40,$AD$148,'ABT Transactions'!$C$9:$C$40,AE251,'ABT Transactions'!$D$9:$D$40,$B$153)","v":0},{"$f":"SUMIFS('ABT Transactions'!$B$9:$B$40,'ABT Transactions'!$J$9:$J$40,$C$249,'ABT Transactions'!$I$9:$I$40,$AD$148,'ABT Transactions'!$C$9:$C$40,AF251,'ABT Transactions'!$D$9:$D$40,$B$153)","v":0},{"$f":"SUMIFS('ABT Transactions'!$B$9:$B$40,'ABT Transactions'!$J$9:$J$40,$C$249,'ABT Transactions'!$I$9:$I$40,$AG$148,'ABT Transactions'!$C$9:$C$40,AG251,'ABT Transactions'!$D$9:$D$40,$B$153)","v":0},{"$f":"SUMIFS('ABT Transactions'!$B$9:$B$40,'ABT Transactions'!$J$9:$J$40,$C$249,'ABT Transactions'!$I$9:$I$40,$AG$148,'ABT Transactions'!$C$9:$C$40,AH251,'ABT Transactions'!$D$9:$D$40,$B$153)","v":0},{"$f":"SUMIFS('ABT Transactions'!$B$9:$B$40,'ABT Transactions'!$J$9:$J$40,$C$249,'ABT Transactions'!$I$9:$I$40,$AG$148,'ABT Transactions'!$C$9:$C$40,AI251,'ABT Transactions'!$D$9:$D$40,$B$153)","v":0},{"$f":"SUMIFS('ABT Transactions'!$B$9:$B$40,'ABT Transactions'!$J$9:$J$40,$C$249,'ABT Transactions'!$I$9:$I$40,$AJ$148,'ABT Transactions'!$C$9:$C$40,AJ251,'ABT Transactions'!$D$9:$D$40,$B$153)","v":0},{"$f":"SUMIFS('ABT Transactions'!$B$9:$B$40,'ABT Transactions'!$J$9:$J$40,$C$249,'ABT Transactions'!$I$9:$I$40,$AJ$148,'ABT Transactions'!$C$9:$C$40,AK251,'ABT Transactions'!$D$9:$D$40,$B$153)","v":0},{"$f":"SUMIFS('ABT Transactions'!$B$9:$B$40,'ABT Transactions'!$J$9:$J$40,$C$249,'ABT Transactions'!$I$9:$I$40,$AJ$148,'ABT Transactions'!$C$9:$C$40,AL251,'ABT Transactions'!$D$9:$D$40,$B$153)","v":0},{"$f":"SUMIFS('ABT Transactions'!$B$9:$B$40,'ABT Transactions'!$J$9:$J$40,$C$249,'ABT Transactions'!$I$9:$I$40,$AM$148,'ABT Transactions'!$C$9:$C$40,AM251,'ABT Transactions'!$D$9:$D$40,$B$153)","v":0},{"$f":"SUMIFS('ABT Transactions'!$B$9:$B$40,'ABT Transactions'!$J$9:$J$40,$C$249,'ABT Transactions'!$I$9:$I$40,$AM$148,'ABT Transactions'!$C$9:$C$40,AN251,'ABT Transactions'!$D$9:$D$40,$B$153)","v":0},{"$f":"SUMIFS('ABT Transactions'!$B$9:$B$40,'ABT Transactions'!$J$9:$J$40,$C$249,'ABT Transactions'!$I$9:$I$40,$AM$148,'ABT Transactions'!$C$9:$C$40,AO251,'ABT Transactions'!$D$9:$D$40,$B$153)","v":0},{"$f":"SUMIFS('ABT Transactions'!$B$9:$B$40,'ABT Transactions'!$J$9:$J$40,$C$249,'ABT Transactions'!$I$9:$I$40,$AP$148,'ABT Transactions'!$C$9:$C$40,AP251,'ABT Transactions'!$D$9:$D$40,$B$153)","v":0},{"$f":"SUMIFS('ABT Transactions'!$B$9:$B$40,'ABT Transactions'!$J$9:$J$40,$C$249,'ABT Transactions'!$I$9:$I$40,$AP$148,'ABT Transactions'!$C$9:$C$40,AQ251,'ABT Transactions'!$D$9:$D$40,$B$153)","v":0},{"$f":"SUMIFS('ABT Transactions'!$B$9:$B$40,'ABT Transactions'!$J$9:$J$40,$C$249,'ABT Transactions'!$I$9:$I$40,$AP$148,'ABT Transactions'!$C$9:$C$40,AR251,'ABT Transactions'!$D$9:$D$40,$B$153)","v":0},{"$f":"SUMIFS('ABT Transactions'!$B$9:$B$40,'ABT Transactions'!$J$9:$J$40,$C$249,'ABT Transactions'!$I$9:$I$40,$AS$148,'ABT Transactions'!$C$9:$C$40,AS251,'ABT Transactions'!$D$9:$D$40,$B$153)","v":0},{"$f":"SUMIFS('ABT Transactions'!$B$9:$B$40,'ABT Transactions'!$J$9:$J$40,$C$249,'ABT Transactions'!$I$9:$I$40,$AS$148,'ABT Transactions'!$C$9:$C$40,AT251,'ABT Transactions'!$D$9:$D$40,$B$153)","v":0},{"$f":"SUMIFS('ABT Transactions'!$B$9:$B$40,'ABT Transactions'!$J$9:$J$40,$C$249,'ABT Transactions'!$I$9:$I$40,$AS$148,'ABT Transactions'!$C$9:$C$40,AU251,'ABT Transactions'!$D$9:$D$40,$B$153)","v":0}]
[null,"Trade Out",{"$f":"SUMIFS('ABT Transactions'!$B$9:$B$40,'ABT Transactions'!$G$9:$G$40,$C$249,'ABT Transactions'!$F$9:$F$40,$C$148,'ABT Transactions'!$C$9:$C$40,C251,'ABT Transactions'!$D$9:$D$40,$B$154)","v":0},{"$f":"SUMIFS('ABT Transactions'!$B$9:$B$40,'ABT Transactions'!$G$9:$G$40,$C$249,'ABT Transactions'!$F$9:$F$40,$C$148,'ABT Transactions'!$C$9:$C$40,D251,'ABT Transactions'!$D$9:$D$40,$B$154)","v":0},{"$f":"SUMIFS('ABT Transactions'!$B$9:$B$40,'ABT Transactions'!$G$9:$G$40,$C$249,'ABT Transactions'!$F$9:$F$40,$C$148,'ABT Transactions'!$C$9:$C$40,E251,'ABT Transactions'!$D$9:$D$40,$B$154)","v":0},{"$f":"SUMIFS('ABT Transactions'!$B$9:$B$40,'ABT Transactions'!$G$9:$G$40,$C$249,'ABT Transactions'!$F$9:$F$40,$F$148,'ABT Transactions'!$C$9:$C$40,F251,'ABT Transactions'!$D$9:$D$40,$B$154)","v":0},{"$f":"SUMIFS('ABT Transactions'!$B$9:$B$40,'ABT Transactions'!$G$9:$G$40,$C$249,'ABT Transactions'!$F$9:$F$40,$F$148,'ABT Transactions'!$C$9:$C$40,G251,'ABT Transactions'!$D$9:$D$40,$B$154)","v":0},{"$f":"SUMIFS('ABT Transactions'!$B$9:$B$40,'ABT Transactions'!$G$9:$G$40,$C$249,'ABT Transactions'!$F$9:$F$40,$F$148,'ABT Transactions'!$C$9:$C$40,H251,'ABT Transactions'!$D$9:$D$40,$B$154)","v":0},{"$f":"SUMIFS('ABT Transactions'!$B$9:$B$40,'ABT Transactions'!$G$9:$G$40,$C$249,'ABT Transactions'!$F$9:$F$40,$I$148,'ABT Transactions'!$C$9:$C$40,I251,'ABT Transactions'!$D$9:$D$40,$B$154)","v":0},{"$f":"SUMIFS('ABT Transactions'!$B$9:$B$40,'ABT Transactions'!$G$9:$G$40,$C$249,'ABT Transactions'!$F$9:$F$40,$I$148,'ABT Transactions'!$C$9:$C$40,J251,'ABT Transactions'!$D$9:$D$40,$B$154)","v":0},{"$f":"SUMIFS('ABT Transactions'!$B$9:$B$40,'ABT Transactions'!$G$9:$G$40,$C$249,'ABT Transactions'!$F$9:$F$40,$I$148,'ABT Transactions'!$C$9:$C$40,K251,'ABT Transactions'!$D$9:$D$40,$B$154)","v":0},{"$f":"SUMIFS('ABT Transactions'!$B$9:$B$40,'ABT Transactions'!$G$9:$G$40,$C$249,'ABT Transactions'!$F$9:$F$40,$L$148,'ABT Transactions'!$C$9:$C$40,L251,'ABT Transactions'!$D$9:$D$40,$B$154)","v":0},{"$f":"SUMIFS('ABT Transactions'!$B$9:$B$40,'ABT Transactions'!$G$9:$G$40,$C$249,'ABT Transactions'!$F$9:$F$40,$L$148,'ABT Transactions'!$C$9:$C$40,M251,'ABT Transactions'!$D$9:$D$40,$B$154)","v":0},{"$f":"SUMIFS('ABT Transactions'!$B$9:$B$40,'ABT Transactions'!$G$9:$G$40,$C$249,'ABT Transactions'!$F$9:$F$40,$L$148,'ABT Transactions'!$C$9:$C$40,N251,'ABT Transactions'!$D$9:$D$40,$B$154)","v":0},{"$f":"SUMIFS('ABT Transactions'!$B$9:$B$40,'ABT Transactions'!$G$9:$G$40,$C$249,'ABT Transactions'!$F$9:$F$40,$O$148,'ABT Transactions'!$C$9:$C$40,O251,'ABT Transactions'!$D$9:$D$40,$B$154)","v":0},{"$f":"SUMIFS('ABT Transactions'!$B$9:$B$40,'ABT Transactions'!$G$9:$G$40,$C$249,'ABT Transactions'!$F$9:$F$40,$O$148,'ABT Transactions'!$C$9:$C$40,P251,'ABT Transactions'!$D$9:$D$40,$B$154)","v":0},{"$f":"SUMIFS('ABT Transactions'!$B$9:$B$40,'ABT Transactions'!$G$9:$G$40,$C$249,'ABT Transactions'!$F$9:$F$40,$O$148,'ABT Transactions'!$C$9:$C$40,Q251,'ABT Transactions'!$D$9:$D$40,$B$154)","v":0},{"$f":"SUMIFS('ABT Transactions'!$B$9:$B$40,'ABT Transactions'!$G$9:$G$40,$C$249,'ABT Transactions'!$F$9:$F$40,$R$148,'ABT Transactions'!$C$9:$C$40,R251,'ABT Transactions'!$D$9:$D$40,$B$154)","v":0},{"$f":"SUMIFS('ABT Transactions'!$B$9:$B$40,'ABT Transactions'!$G$9:$G$40,$C$249,'ABT Transactions'!$F$9:$F$40,$R$148,'ABT Transactions'!$C$9:$C$40,S251,'ABT Transactions'!$D$9:$D$40,$B$154)","v":0},{"$f":"SUMIFS('ABT Transactions'!$B$9:$B$40,'ABT Transactions'!$G$9:$G$40,$C$249,'ABT Transactions'!$F$9:$F$40,$R$148,'ABT Transactions'!$C$9:$C$40,T251,'ABT Transactions'!$D$9:$D$40,$B$154)","v":0},{"$f":"SUMIFS('ABT Transactions'!$B$9:$B$40,'ABT Transactions'!$G$9:$G$40,$C$249,'ABT Transactions'!$F$9:$F$40,$U$148,'ABT Transactions'!$C$9:$C$40,U251,'ABT Transactions'!$D$9:$D$40,$B$154)","v":0},{"$f":"SUMIFS('ABT Transactions'!$B$9:$B$40,'ABT Transactions'!$G$9:$G$40,$C$249,'ABT Transactions'!$F$9:$F$40,$U$148,'ABT Transactions'!$C$9:$C$40,V251,'ABT Transactions'!$D$9:$D$40,$B$154)","v":0},{"$f":"SUMIFS('ABT Transactions'!$B$9:$B$40,'ABT Transactions'!$G$9:$G$40,$C$249,'ABT Transactions'!$F$9:$F$40,U$148,'ABT Transactions'!$C$9:$C$40,W251,'ABT Transactions'!$D$9:$D$40,$B$154)","v":0},{"$f":"SUMIFS('ABT Transactions'!$B$9:$B$40,'ABT Transactions'!$G$9:$G$40,$C$249,'ABT Transactions'!$F$9:$F$40,$X$148,'ABT Transactions'!$C$9:$C$40,X251,'ABT Transactions'!$D$9:$D$40,$B$154)","v":0},{"$f":"SUMIFS('ABT Transactions'!$B$9:$B$40,'ABT Transactions'!$G$9:$G$40,$C$249,'ABT Transactions'!$F$9:$F$40,$X$148,'ABT Transactions'!$C$9:$C$40,Y251,'ABT Transactions'!$D$9:$D$40,$B$154)","v":0},{"$f":"SUMIFS('ABT Transactions'!$B$9:$B$40,'ABT Transactions'!$G$9:$G$40,$C$249,'ABT Transactions'!$F$9:$F$40,$X$148,'ABT Transactions'!$C$9:$C$40,Z251,'ABT Transactions'!$D$9:$D$40,$B$154)","v":0},{"$f":"SUMIFS('ABT Transactions'!$B$9:$B$40,'ABT Transactions'!$G$9:$G$40,$C$249,'ABT Transactions'!$F$9:$F$40,$AA$148,'ABT Transactions'!$C$9:$C$40,AA251,'ABT Transactions'!$D$9:$D$40,$B$154)","v":0},{"$f":"SUMIFS('ABT Transactions'!$B$9:$B$40,'ABT Transactions'!$G$9:$G$40,$C$249,'ABT Transactions'!$F$9:$F$40,$AA$148,'ABT Transactions'!$C$9:$C$40,AB251,'ABT Transactions'!$D$9:$D$40,$B$154)","v":0},{"$f":"SUMIFS('ABT Transactions'!$B$9:$B$40,'ABT Transactions'!$G$9:$G$40,$C$249,'ABT Transactions'!$F$9:$F$40,$AA$148,'ABT Transactions'!$C$9:$C$40,AC251,'ABT Transactions'!$D$9:$D$40,$B$154)","v":0},{"$f":"SUMIFS('ABT Transactions'!$B$9:$B$40,'ABT Transactions'!$G$9:$G$40,$C$249,'ABT Transactions'!$F$9:$F$40,$AD$148,'ABT Transactions'!$C$9:$C$40,AD251,'ABT Transactions'!$D$9:$D$40,$B$154)","v":0},{"$f":"SUMIFS('ABT Transactions'!$B$9:$B$40,'ABT Transactions'!$G$9:$G$40,$C$249,'ABT Transactions'!$F$9:$F$40,$AD$148,'ABT Transactions'!$C$9:$C$40,AE251,'ABT Transactions'!$D$9:$D$40,$B$154)","v":0},{"$f":"SUMIFS('ABT Transactions'!$B$9:$B$40,'ABT Transactions'!$G$9:$G$40,$C$249,'ABT Transactions'!$F$9:$F$40,$AD$148,'ABT Transactions'!$C$9:$C$40,AF251,'ABT Transactions'!$D$9:$D$40,$B$154)","v":0},{"$f":"SUMIFS('ABT Transactions'!$B$9:$B$40,'ABT Transactions'!$G$9:$G$40,$C$249,'ABT Transactions'!$F$9:$F$40,$AG$148,'ABT Transactions'!$C$9:$C$40,AG251,'ABT Transactions'!$D$9:$D$40,$B$154)","v":0},{"$f":"SUMIFS('ABT Transactions'!$B$9:$B$40,'ABT Transactions'!$G$9:$G$40,$C$249,'ABT Transactions'!$F$9:$F$40,$AG$148,'ABT Transactions'!$C$9:$C$40,AH251,'ABT Transactions'!$D$9:$D$40,$B$154)","v":0},{"$f":"SUMIFS('ABT Transactions'!$B$9:$B$40,'ABT Transactions'!$G$9:$G$40,$C$249,'ABT Transactions'!$F$9:$F$40,$AG$148,'ABT Transactions'!$C$9:$C$40,AI251,'ABT Transactions'!$D$9:$D$40,$B$154)","v":0},{"$f":"SUMIFS('ABT Transactions'!$B$9:$B$40,'ABT Transactions'!$G$9:$G$40,$C$249,'ABT Transactions'!$F$9:$F$40,$AJ$148,'ABT Transactions'!$C$9:$C$40,AJ251,'ABT Transactions'!$D$9:$D$40,$B$154)","v":0},{"$f":"SUMIFS('ABT Transactions'!$B$9:$B$40,'ABT Transactions'!$G$9:$G$40,$C$249,'ABT Transactions'!$F$9:$F$40,$AJ$148,'ABT Transactions'!$C$9:$C$40,AK251,'ABT Transactions'!$D$9:$D$40,$B$154)","v":0},{"$f":"SUMIFS('ABT Transactions'!$B$9:$B$40,'ABT Transactions'!$G$9:$G$40,$C$249,'ABT Transactions'!$F$9:$F$40,$AJ$148,'ABT Transactions'!$C$9:$C$40,AL251,'ABT Transactions'!$D$9:$D$40,$B$154)","v":0},{"$f":"SUMIFS('ABT Transactions'!$B$9:$B$40,'ABT Transactions'!$G$9:$G$40,$C$249,'ABT Transactions'!$F$9:$F$40,$AM$148,'ABT Transactions'!$C$9:$C$40,AM251,'ABT Transactions'!$D$9:$D$40,$B$154)","v":0},{"$f":"SUMIFS('ABT Transactions'!$B$9:$B$40,'ABT Transactions'!$G$9:$G$40,$C$249,'ABT Transactions'!$F$9:$F$40,$AM$148,'ABT Transactions'!$C$9:$C$40,AN251,'ABT Transactions'!$D$9:$D$40,$B$154)","v":0},{"$f":"SUMIFS('ABT Transactions'!$B$9:$B$40,'ABT Transactions'!$G$9:$G$40,$C$249,'ABT Transactions'!$F$9:$F$40,$AM$148,'ABT Transactions'!$C$9:$C$40,AO251,'ABT Transactions'!$D$9:$D$40,$B$154)","v":0},{"$f":"SUMIFS('ABT Transactions'!$B$9:$B$40,'ABT Transactions'!$G$9:$G$40,$C$249,'ABT Transactions'!$F$9:$F$40,$AP$148,'ABT Transactions'!$C$9:$C$40,AP251,'ABT Transactions'!$D$9:$D$40,$B$154)","v":0},{"$f":"SUMIFS('ABT Transactions'!$B$9:$B$40,'ABT Transactions'!$G$9:$G$40,$C$249,'ABT Transactions'!$F$9:$F$40,$AP$148,'ABT Transactions'!$C$9:$C$40,AQ251,'ABT Transactions'!$D$9:$D$40,$B$154)","v":0},{"$f":"SUMIFS('ABT Transactions'!$B$9:$B$40,'ABT Transactions'!$G$9:$G$40,$C$249,'ABT Transactions'!$F$9:$F$40,$AP$148,'ABT Transactions'!$C$9:$C$40,AR251,'ABT Transactions'!$D$9:$D$40,$B$154)","v":0},{"$f":"SUMIFS('ABT Transactions'!$B$9:$B$40,'ABT Transactions'!$G$9:$G$40,$C$249,'ABT Transactions'!$F$9:$F$40,$AS$148,'ABT Transactions'!$C$9:$C$40,AS251,'ABT Transactions'!$D$9:$D$40,$B$154)","v":0},{"$f":"SUMIFS('ABT Transactions'!$B$9:$B$40,'ABT Transactions'!$G$9:$G$40,$C$249,'ABT Transactions'!$F$9:$F$40,$AS$148,'ABT Transactions'!$C$9:$C$40,AT251,'ABT Transactions'!$D$9:$D$40,$B$154)","v":0},{"$f":"SUMIFS('ABT Transactions'!$B$9:$B$40,'ABT Transactions'!$G$9:$G$40,$C$249,'ABT Transactions'!$F$9:$F$40,$AS$148,'ABT Transactions'!$C$9:$C$40,AU251,'ABT Transactions'!$D$9:$D$40,$B$154)","v":0}]
[null,"Trade In",{"$f":"SUMIFS('ABT Transactions'!$B$9:$B$40,'ABT Transactions'!$J$9:$J$40,$C$249,'ABT Transactions'!$I$9:$I$40,$C$148,'ABT Transactions'!$C$9:$C$40,C251,'ABT Transactions'!$D$9:$D$40,$B$155)","v":0},{"$f":"SUMIFS('ABT Transactions'!$B$9:$B$40,'ABT Transactions'!$J$9:$J$40,$C$249,'ABT Transactions'!$I$9:$I$40,$C$148,'ABT Transactions'!$C$9:$C$40,D251,'ABT Transactions'!$D$9:$D$40,$B$155)","v":0},{"$f":"SUMIFS('ABT Transactions'!$B$9:$B$40,'ABT Transactions'!$J$9:$J$40,$C$249,'ABT Transactions'!$I$9:$I$40,$C$148,'ABT Transactions'!$C$9:$C$40,E251,'ABT Transactions'!$D$9:$D$40,$B$155)","v":0},{"$f":"SUMIFS('ABT Transactions'!$B$9:$B$40,'ABT Transactions'!$J$9:$J$40,$C$249,'ABT Transactions'!$I$9:$I$40,$F$148,'ABT Transactions'!$C$9:$C$40,F251,'ABT Transactions'!$D$9:$D$40,$B$155)","v":0},{"$f":"SUMIFS('ABT Transactions'!$B$9:$B$40,'ABT Transactions'!$J$9:$J$40,$C$249,'ABT Transactions'!$I$9:$I$40,$F$148,'ABT Transactions'!$C$9:$C$40,G251,'ABT Transactions'!$D$9:$D$40,$B$155)","v":0},{"$f":"SUMIFS('ABT Transactions'!$B$9:$B$40,'ABT Transactions'!$J$9:$J$40,$C$249,'ABT Transactions'!$I$9:$I$40,$F$148,'ABT Transactions'!$C$9:$C$40,H251,'ABT Transactions'!$D$9:$D$40,$B$155)","v":0},{"$f":"SUMIFS('ABT Transactions'!$B$9:$B$40,'ABT Transactions'!$J$9:$J$40,$C$249,'ABT Transactions'!$I$9:$I$40,$I$148,'ABT Transactions'!$C$9:$C$40,I251,'ABT Transactions'!$D$9:$D$40,$B$155)","v":0},{"$f":"SUMIFS('ABT Transactions'!$B$9:$B$40,'ABT Transactions'!$J$9:$J$40,$C$249,'ABT Transactions'!$I$9:$I$40,$I$148,'ABT Transactions'!$C$9:$C$40,J251,'ABT Transactions'!$D$9:$D$40,$B$155)","v":0},{"$f":"SUMIFS('ABT Transactions'!$B$9:$B$40,'ABT Transactions'!$J$9:$J$40,$C$249,'ABT Transactions'!$I$9:$I$40,$I$148,'ABT Transactions'!$C$9:$C$40,K251,'ABT Transactions'!$D$9:$D$40,$B$155)","v":0},{"$f":"SUMIFS('ABT Transactions'!$B$9:$B$40,'ABT Transactions'!$J$9:$J$40,$C$249,'ABT Transactions'!$I$9:$I$40,$L$148,'ABT Transactions'!$C$9:$C$40,L251,'ABT Transactions'!$D$9:$D$40,$B$155)","v":0},{"$f":"SUMIFS('ABT Transactions'!$B$9:$B$40,'ABT Transactions'!$J$9:$J$40,$C$249,'ABT Transactions'!$I$9:$I$40,$L$148,'ABT Transactions'!$C$9:$C$40,M251,'ABT Transactions'!$D$9:$D$40,$B$155)","v":0},{"$f":"SUMIFS('ABT Transactions'!$B$9:$B$40,'ABT Transactions'!$J$9:$J$40,$C$249,'ABT Transactions'!$I$9:$I$40,$L$148,'ABT Transactions'!$C$9:$C$40,N251,'ABT Transactions'!$D$9:$D$40,$B$155)","v":0},{"$f":"SUMIFS('ABT Transactions'!$B$9:$B$40,'ABT Transactions'!$J$9:$J$40,$C$249,'ABT Transactions'!$I$9:$I$40,$O$148,'ABT Transactions'!$C$9:$C$40,O251,'ABT Transactions'!$D$9:$D$40,$B$155)","v":0},{"$f":"SUMIFS('ABT Transactions'!$B$9:$B$40,'ABT Transactions'!$J$9:$J$40,$C$249,'ABT Transactions'!$I$9:$I$40,$O$148,'ABT Transactions'!$C$9:$C$40,P251,'ABT Transactions'!$D$9:$D$40,$B$155)","v":0},{"$f":"SUMIFS('ABT Transactions'!$B$9:$B$40,'ABT Transactions'!$J$9:$J$40,$C$249,'ABT Transactions'!$I$9:$I$40,$O$148,'ABT Transactions'!$C$9:$C$40,Q251,'ABT Transactions'!$D$9:$D$40,$B$155)","v":0},{"$f":"SUMIFS('ABT Transactions'!$B$9:$B$40,'ABT Transactions'!$J$9:$J$40,$C$249,'ABT Transactions'!$I$9:$I$40,$R$148,'ABT Transactions'!$C$9:$C$40,R251,'ABT Transactions'!$D$9:$D$40,$B$155)","v":0},{"$f":"SUMIFS('ABT Transactions'!$B$9:$B$40,'ABT Transactions'!$J$9:$J$40,$C$249,'ABT Transactions'!$I$9:$I$40,$R$148,'ABT Transactions'!$C$9:$C$40,S251,'ABT Transactions'!$D$9:$D$40,$B$155)","v":0},{"$f":"SUMIFS('ABT Transactions'!$B$9:$B$40,'ABT Transactions'!$J$9:$J$40,$C$249,'ABT Transactions'!$I$9:$I$40,$R$148,'ABT Transactions'!$C$9:$C$40,T251,'ABT Transactions'!$D$9:$D$40,$B$155)","v":0},{"$f":"SUMIFS('ABT Transactions'!$B$9:$B$40,'ABT Transactions'!$J$9:$J$40,$C$249,'ABT Transactions'!$I$9:$I$40,$U$148,'ABT Transactions'!$C$9:$C$40,U251,'ABT Transactions'!$D$9:$D$40,$B$155)","v":0},{"$f":"SUMIFS('ABT Transactions'!$B$9:$B$40,'ABT Transactions'!$J$9:$J$40,$C$249,'ABT Transactions'!$I$9:$I$40,$U$148,'ABT Transactions'!$C$9:$C$40,V251,'ABT Transactions'!$D$9:$D$40,$B$155)","v":0},{"$f":"SUMIFS('ABT Transactions'!$B$9:$B$40,'ABT Transactions'!$J$9:$J$40,$C$249,'ABT Transactions'!$I$9:$I$40,U$148,'ABT Transactions'!$C$9:$C$40,W251,'ABT Transactions'!$D$9:$D$40,$B$155)","v":0},{"$f":"SUMIFS('ABT Transactions'!$B$9:$B$40,'ABT Transactions'!$J$9:$J$40,$C$249,'ABT Transactions'!$I$9:$I$40,$X$148,'ABT Transactions'!$C$9:$C$40,X251,'ABT Transactions'!$D$9:$D$40,$B$155)","v":0},{"$f":"SUMIFS('ABT Transactions'!$B$9:$B$40,'ABT Transactions'!$J$9:$J$40,$C$249,'ABT Transactions'!$I$9:$I$40,$X$148,'ABT Transactions'!$C$9:$C$40,Y251,'ABT Transactions'!$D$9:$D$40,$B$155)","v":0},{"$f":"SUMIFS('ABT Transactions'!$B$9:$B$40,'ABT Transactions'!$J$9:$J$40,$C$249,'ABT Transactions'!$I$9:$I$40,$X$148,'ABT Transactions'!$C$9:$C$40,Z251,'ABT Transactions'!$D$9:$D$40,$B$155)","v":0},{"$f":"SUMIFS('ABT Transactions'!$B$9:$B$40,'ABT Transactions'!$J$9:$J$40,$C$249,'ABT Transactions'!$I$9:$I$40,$AA$148,'ABT Transactions'!$C$9:$C$40,AA251,'ABT Transactions'!$D$9:$D$40,$B$155)","v":0},{"$f":"SUMIFS('ABT Transactions'!$B$9:$B$40,'ABT Transactions'!$J$9:$J$40,$C$249,'ABT Transactions'!$I$9:$I$40,$AA$148,'ABT Transactions'!$C$9:$C$40,AB251,'ABT Transactions'!$D$9:$D$40,$B$155)","v":0},{"$f":"SUMIFS('ABT Transactions'!$B$9:$B$40,'ABT Transactions'!$J$9:$J$40,$C$249,'ABT Transactions'!$I$9:$I$40,$AA$148,'ABT Transactions'!$C$9:$C$40,AC251,'ABT Transactions'!$D$9:$D$40,$B$155)","v":0},{"$f":"SUMIFS('ABT Transactions'!$B$9:$B$40,'ABT Transactions'!$J$9:$J$40,$C$249,'ABT Transactions'!$I$9:$I$40,$AD$148,'ABT Transactions'!$C$9:$C$40,AD251,'ABT Transactions'!$D$9:$D$40,$B$155)","v":0},{"$f":"SUMIFS('ABT Transactions'!$B$9:$B$40,'ABT Transactions'!$J$9:$J$40,$C$249,'ABT Transactions'!$I$9:$I$40,$AD$148,'ABT Transactions'!$C$9:$C$40,AE251,'ABT Transactions'!$D$9:$D$40,$B$155)","v":0},{"$f":"SUMIFS('ABT Transactions'!$B$9:$B$40,'ABT Transactions'!$J$9:$J$40,$C$249,'ABT Transactions'!$I$9:$I$40,$AD$148,'ABT Transactions'!$C$9:$C$40,AF251,'ABT Transactions'!$D$9:$D$40,$B$155)","v":0},{"$f":"SUMIFS('ABT Transactions'!$B$9:$B$40,'ABT Transactions'!$J$9:$J$40,$C$249,'ABT Transactions'!$I$9:$I$40,$AG$148,'ABT Transactions'!$C$9:$C$40,AG251,'ABT Transactions'!$D$9:$D$40,$B$155)","v":0},{"$f":"SUMIFS('ABT Transactions'!$B$9:$B$40,'ABT Transactions'!$J$9:$J$40,$C$249,'ABT Transactions'!$I$9:$I$40,$AG$148,'ABT Transactions'!$C$9:$C$40,AH251,'ABT Transactions'!$D$9:$D$40,$B$155)","v":0},{"$f":"SUMIFS('ABT Transactions'!$B$9:$B$40,'ABT Transactions'!$J$9:$J$40,$C$249,'ABT Transactions'!$I$9:$I$40,$AG$148,'ABT Transactions'!$C$9:$C$40,AI251,'ABT Transactions'!$D$9:$D$40,$B$155)","v":0},{"$f":"SUMIFS('ABT Transactions'!$B$9:$B$40,'ABT Transactions'!$J$9:$J$40,$C$249,'ABT Transactions'!$I$9:$I$40,$AJ$148,'ABT Transactions'!$C$9:$C$40,AJ251,'ABT Transactions'!$D$9:$D$40,$B$155)","v":0},{"$f":"SUMIFS('ABT Transactions'!$B$9:$B$40,'ABT Transactions'!$J$9:$J$40,$C$249,'ABT Transactions'!$I$9:$I$40,$AJ$148,'ABT Transactions'!$C$9:$C$40,AK251,'ABT Transactions'!$D$9:$D$40,$B$155)","v":0},{"$f":"SUMIFS('ABT Transactions'!$B$9:$B$40,'ABT Transactions'!$J$9:$J$40,$C$249,'ABT Transactions'!$I$9:$I$40,$AJ$148,'ABT Transactions'!$C$9:$C$40,AL251,'ABT Transactions'!$D$9:$D$40,$B$155)","v":0},{"$f":"SUMIFS('ABT Transactions'!$B$9:$B$40,'ABT Transactions'!$J$9:$J$40,$C$249,'ABT Transactions'!$I$9:$I$40,$AM$148,'ABT Transactions'!$C$9:$C$40,AM251,'ABT Transactions'!$D$9:$D$40,$B$155)","v":0},{"$f":"SUMIFS('ABT Transactions'!$B$9:$B$40,'ABT Transactions'!$J$9:$J$40,$C$249,'ABT Transactions'!$I$9:$I$40,$AM$148,'ABT Transactions'!$C$9:$C$40,AN251,'ABT Transactions'!$D$9:$D$40,$B$155)","v":0},{"$f":"SUMIFS('ABT Transactions'!$B$9:$B$40,'ABT Transactions'!$J$9:$J$40,$C$249,'ABT Transactions'!$I$9:$I$40,$AM$148,'ABT Transactions'!$C$9:$C$40,AO251,'ABT Transactions'!$D$9:$D$40,$B$155)","v":0},{"$f":"SUMIFS('ABT Transactions'!$B$9:$B$40,'ABT Transactions'!$J$9:$J$40,$C$249,'ABT Transactions'!$I$9:$I$40,$AP$148,'ABT Transactions'!$C$9:$C$40,AP251,'ABT Transactions'!$D$9:$D$40,$B$155)","v":0},{"$f":"SUMIFS('ABT Transactions'!$B$9:$B$40,'ABT Transactions'!$J$9:$J$40,$C$249,'ABT Transactions'!$I$9:$I$40,$AP$148,'ABT Transactions'!$C$9:$C$40,AQ251,'ABT Transactions'!$D$9:$D$40,$B$155)","v":0},{"$f":"SUMIFS('ABT Transactions'!$B$9:$B$40,'ABT Transactions'!$J$9:$J$40,$C$249,'ABT Transactions'!$I$9:$I$40,$AP$148,'ABT Transactions'!$C$9:$C$40,AR251,'ABT Transactions'!$D$9:$D$40,$B$155)","v":0},{"$f":"SUMIFS('ABT Transactions'!$B$9:$B$40,'ABT Transactions'!$J$9:$J$40,$C$249,'ABT Transactions'!$I$9:$I$40,$AS$148,'ABT Transactions'!$C$9:$C$40,AS251,'ABT Transactions'!$D$9:$D$40,$B$155)","v":0},{"$f":"SUMIFS('ABT Transactions'!$B$9:$B$40,'ABT Transactions'!$J$9:$J$40,$C$249,'ABT Transactions'!$I$9:$I$40,$AS$148,'ABT Transactions'!$C$9:$C$40,AT251,'ABT Transactions'!$D$9:$D$40,$B$155)","v":0},{"$f":"SUMIFS('ABT Transactions'!$B$9:$B$40,'ABT Transactions'!$J$9:$J$40,$C$249,'ABT Transactions'!$I$9:$I$40,$AS$148,'ABT Transactions'!$C$9:$C$40,AU251,'ABT Transactions'!$D$9:$D$40,$B$155)","v":0}]
[null,"Transfer ADV Credits (out)",{"$f":"SUMIFS('ABT Transactions'!$B$9:$B$40,'ABT Transactions'!$G$9:$G$40,$C$249,'ABT Transactions'!$F$9:$F$40,$C$148,'ABT Transactions'!$C$9:$C$40,C251,'ABT Transactions'!$D$9:$D$40,$B$156)","v":0},{"$f":"SUMIFS('ABT Transactions'!$B$9:$B$40,'ABT Transactions'!$G$9:$G$40,$C$249,'ABT Transactions'!$F$9:$F$40,$C$148,'ABT Transactions'!$C$9:$C$40,D251,'ABT Transactions'!$D$9:$D$40,$B$156)","v":0},{"$f":"SUMIFS('ABT Transactions'!$B$9:$B$40,'ABT Transactions'!$G$9:$G$40,$C$249,'ABT Transactions'!$F$9:$F$40,$C$148,'ABT Transactions'!$C$9:$C$40,E251,'ABT Transactions'!$D$9:$D$40,$B$156)","v":0},{"$f":"SUMIFS('ABT Transactions'!$B$9:$B$40,'ABT Transactions'!$G$9:$G$40,$C$249,'ABT Transactions'!$F$9:$F$40,$F$148,'ABT Transactions'!$C$9:$C$40,F251,'ABT Transactions'!$D$9:$D$40,$B$156)","v":0},{"$f":"SUMIFS('ABT Transactions'!$B$9:$B$40,'ABT Transactions'!$G$9:$G$40,$C$249,'ABT Transactions'!$F$9:$F$40,$F$148,'ABT Transactions'!$C$9:$C$40,G251,'ABT Transactions'!$D$9:$D$40,$B$156)","v":0},{"$f":"SUMIFS('ABT Transactions'!$B$9:$B$40,'ABT Transactions'!$G$9:$G$40,$C$249,'ABT Transactions'!$F$9:$F$40,$F$148,'ABT Transactions'!$C$9:$C$40,H251,'ABT Transactions'!$D$9:$D$40,$B$156)","v":0},{"$f":"SUMIFS('ABT Transactions'!$B$9:$B$40,'ABT Transactions'!$G$9:$G$40,$C$249,'ABT Transactions'!$F$9:$F$40,$I$148,'ABT Transactions'!$C$9:$C$40,I251,'ABT Transactions'!$D$9:$D$40,$B$156)","v":0},{"$f":"SUMIFS('ABT Transactions'!$B$9:$B$40,'ABT Transactions'!$G$9:$G$40,$C$249,'ABT Transactions'!$F$9:$F$40,$I$148,'ABT Transactions'!$C$9:$C$40,J251,'ABT Transactions'!$D$9:$D$40,$B$156)","v":0},{"$f":"SUMIFS('ABT Transactions'!$B$9:$B$40,'ABT Transactions'!$G$9:$G$40,$C$249,'ABT Transactions'!$F$9:$F$40,$I$148,'ABT Transactions'!$C$9:$C$40,K251,'ABT Transactions'!$D$9:$D$40,$B$156)","v":0},{"$f":"SUMIFS('ABT Transactions'!$B$9:$B$40,'ABT Transactions'!$G$9:$G$40,$C$249,'ABT Transactions'!$F$9:$F$40,$L$148,'ABT Transactions'!$C$9:$C$40,L251,'ABT Transactions'!$D$9:$D$40,$B$156)","v":0},{"$f":"SUMIFS('ABT Transactions'!$B$9:$B$40,'ABT Transactions'!$G$9:$G$40,$C$249,'ABT Transactions'!$F$9:$F$40,$L$148,'ABT Transactions'!$C$9:$C$40,M251,'ABT Transactions'!$D$9:$D$40,$B$156)","v":0},{"$f":"SUMIFS('ABT Transactions'!$B$9:$B$40,'ABT Transactions'!$G$9:$G$40,$C$249,'ABT Transactions'!$F$9:$F$40,$L$148,'ABT Transactions'!$C$9:$C$40,N251,'ABT Transactions'!$D$9:$D$40,$B$156)","v":0},{"$f":"SUMIFS('ABT Transactions'!$B$9:$B$40,'ABT Transactions'!$G$9:$G$40,$C$249,'ABT Transactions'!$F$9:$F$40,$O$148,'ABT Transactions'!$C$9:$C$40,O251,'ABT Transactions'!$D$9:$D$40,$B$156)","v":0},{"$f":"SUMIFS('ABT Transactions'!$B$9:$B$40,'ABT Transactions'!$G$9:$G$40,$C$249,'ABT Transactions'!$F$9:$F$40,$O$148,'ABT Transactions'!$C$9:$C$40,P251,'ABT Transactions'!$D$9:$D$40,$B$156)","v":0},{"$f":"SUMIFS('ABT Transactions'!$B$9:$B$40,'ABT Transactions'!$G$9:$G$40,$C$249,'ABT Transactions'!$F$9:$F$40,$O$148,'ABT Transactions'!$C$9:$C$40,Q251,'ABT Transactions'!$D$9:$D$40,$B$156)","v":0},{"$f":"SUMIFS('ABT Transactions'!$B$9:$B$40,'ABT Transactions'!$G$9:$G$40,$C$249,'ABT Transactions'!$F$9:$F$40,$R$148,'ABT Transactions'!$C$9:$C$40,R251,'ABT Transactions'!$D$9:$D$40,$B$156)","v":0},{"$f":"SUMIFS('ABT Transactions'!$B$9:$B$40,'ABT Transactions'!$G$9:$G$40,$C$249,'ABT Transactions'!$F$9:$F$40,$R$148,'ABT Transactions'!$C$9:$C$40,S251,'ABT Transactions'!$D$9:$D$40,$B$156)","v":0},{"$f":"SUMIFS('ABT Transactions'!$B$9:$B$40,'ABT Transactions'!$G$9:$G$40,$C$249,'ABT Transactions'!$F$9:$F$40,$R$148,'ABT Transactions'!$C$9:$C$40,T251,'ABT Transactions'!$D$9:$D$40,$B$156)","v":0},{"$f":"SUMIFS('ABT Transactions'!$B$9:$B$40,'ABT Transactions'!$G$9:$G$40,$C$249,'ABT Transactions'!$F$9:$F$40,$U$148,'ABT Transactions'!$C$9:$C$40,U251,'ABT Transactions'!$D$9:$D$40,$B$156)","v":0},{"$f":"SUMIFS('ABT Transactions'!$B$9:$B$40,'ABT Transactions'!$G$9:$G$40,$C$249,'ABT Transactions'!$F$9:$F$40,$U$148,'ABT Transactions'!$C$9:$C$40,V251,'ABT Transactions'!$D$9:$D$40,$B$156)","v":0},{"$f":"SUMIFS('ABT Transactions'!$B$9:$B$40,'ABT Transactions'!$G$9:$G$40,$C$249,'ABT Transactions'!$F$9:$F$40,U$148,'ABT Transactions'!$C$9:$C$40,W251,'ABT Transactions'!$D$9:$D$40,$B$156)","v":0},{"$f":"SUMIFS('ABT Transactions'!$B$9:$B$40,'ABT Transactions'!$G$9:$G$40,$C$249,'ABT Transactions'!$F$9:$F$40,$X$148,'ABT Transactions'!$C$9:$C$40,X251,'ABT Transactions'!$D$9:$D$40,$B$156)","v":0},{"$f":"SUMIFS('ABT Transactions'!$B$9:$B$40,'ABT Transactions'!$G$9:$G$40,$C$249,'ABT Transactions'!$F$9:$F$40,$X$148,'ABT Transactions'!$C$9:$C$40,Y251,'ABT Transactions'!$D$9:$D$40,$B$156)","v":0},{"$f":"SUMIFS('ABT Transactions'!$B$9:$B$40,'ABT Transactions'!$G$9:$G$40,$C$249,'ABT Transactions'!$F$9:$F$40,$X$148,'ABT Transactions'!$C$9:$C$40,Z251,'ABT Transactions'!$D$9:$D$40,$B$156)","v":0},{"$f":"SUMIFS('ABT Transactions'!$B$9:$B$40,'ABT Transactions'!$G$9:$G$40,$C$249,'ABT Transactions'!$F$9:$F$40,$AA$148,'ABT Transactions'!$C$9:$C$40,AA251,'ABT Transactions'!$D$9:$D$40,$B$156)","v":0},{"$f":"SUMIFS('ABT Transactions'!$B$9:$B$40,'ABT Transactions'!$G$9:$G$40,$C$249,'ABT Transactions'!$F$9:$F$40,$AA$148,'ABT Transactions'!$C$9:$C$40,AB251,'ABT Transactions'!$D$9:$D$40,$B$156)","v":0},{"$f":"SUMIFS('ABT Transactions'!$B$9:$B$40,'ABT Transactions'!$G$9:$G$40,$C$249,'ABT Transactions'!$F$9:$F$40,$AA$148,'ABT Transactions'!$C$9:$C$40,AC251,'ABT Transactions'!$D$9:$D$40,$B$156)","v":0},{"$f":"SUMIFS('ABT Transactions'!$B$9:$B$40,'ABT Transactions'!$G$9:$G$40,$C$249,'ABT Transactions'!$F$9:$F$40,$AD$148,'ABT Transactions'!$C$9:$C$40,AD251,'ABT Transactions'!$D$9:$D$40,$B$156)","v":0},{"$f":"SUMIFS('ABT Transactions'!$B$9:$B$40,'ABT Transactions'!$G$9:$G$40,$C$249,'ABT Transactions'!$F$9:$F$40,$AD$148,'ABT Transactions'!$C$9:$C$40,AE251,'ABT Transactions'!$D$9:$D$40,$B$156)","v":0},{"$f":"SUMIFS('ABT Transactions'!$B$9:$B$40,'ABT Transactions'!$G$9:$G$40,$C$249,'ABT Transactions'!$F$9:$F$40,$AD$148,'ABT Transactions'!$C$9:$C$40,AF251,'ABT Transactions'!$D$9:$D$40,$B$156)","v":0},{"$f":"SUMIFS('ABT Transactions'!$B$9:$B$40,'ABT Transactions'!$G$9:$G$40,$C$249,'ABT Transactions'!$F$9:$F$40,$AG$148,'ABT Transactions'!$C$9:$C$40,AG251,'ABT Transactions'!$D$9:$D$40,$B$156)","v":0},{"$f":"SUMIFS('ABT Transactions'!$B$9:$B$40,'ABT Transactions'!$G$9:$G$40,$C$249,'ABT Transactions'!$F$9:$F$40,$AG$148,'ABT Transactions'!$C$9:$C$40,AH251,'ABT Transactions'!$D$9:$D$40,$B$156)","v":0},{"$f":"SUMIFS('ABT Transactions'!$B$9:$B$40,'ABT Transactions'!$G$9:$G$40,$C$249,'ABT Transactions'!$F$9:$F$40,$AG$148,'ABT Transactions'!$C$9:$C$40,AI251,'ABT Transactions'!$D$9:$D$40,$B$156)","v":0},{"$f":"SUMIFS('ABT Transactions'!$B$9:$B$40,'ABT Transactions'!$G$9:$G$40,$C$249,'ABT Transactions'!$F$9:$F$40,$AJ$148,'ABT Transactions'!$C$9:$C$40,AJ251,'ABT Transactions'!$D$9:$D$40,$B$156)","v":0},{"$f":"SUMIFS('ABT Transactions'!$B$9:$B$40,'ABT Transactions'!$G$9:$G$40,$C$249,'ABT Transactions'!$F$9:$F$40,$AJ$148,'ABT Transactions'!$C$9:$C$40,AK251,'ABT Transactions'!$D$9:$D$40,$B$156)","v":0},{"$f":"SUMIFS('ABT Transactions'!$B$9:$B$40,'ABT Transactions'!$G$9:$G$40,$C$249,'ABT Transactions'!$F$9:$F$40,$AJ$148,'ABT Transactions'!$C$9:$C$40,AL251,'ABT Transactions'!$D$9:$D$40,$B$156)","v":0},{"$f":"SUMIFS('ABT Transactions'!$B$9:$B$40,'ABT Transactions'!$G$9:$G$40,$C$249,'ABT Transactions'!$F$9:$F$40,$AM$148,'ABT Transactions'!$C$9:$C$40,AM251,'ABT Transactions'!$D$9:$D$40,$B$156)","v":0},{"$f":"SUMIFS('ABT Transactions'!$B$9:$B$40,'ABT Transactions'!$G$9:$G$40,$C$249,'ABT Transactions'!$F$9:$F$40,$AM$148,'ABT Transactions'!$C$9:$C$40,AN251,'ABT Transactions'!$D$9:$D$40,$B$156)","v":0},{"$f":"SUMIFS('ABT Transactions'!$B$9:$B$40,'ABT Transactions'!$G$9:$G$40,$C$249,'ABT Transactions'!$F$9:$F$40,$AM$148,'ABT Transactions'!$C$9:$C$40,AO251,'ABT Transactions'!$D$9:$D$40,$B$156)","v":0},{"$f":"SUMIFS('ABT Transactions'!$B$9:$B$40,'ABT Transactions'!$G$9:$G$40,$C$249,'ABT Transactions'!$F$9:$F$40,$AP$148,'ABT Transactions'!$C$9:$C$40,AP251,'ABT Transactions'!$D$9:$D$40,$B$156)","v":0},{"$f":"SUMIFS('ABT Transactions'!$B$9:$B$40,'ABT Transactions'!$G$9:$G$40,$C$249,'ABT Transactions'!$F$9:$F$40,$AP$148,'ABT Transactions'!$C$9:$C$40,AQ251,'ABT Transactions'!$D$9:$D$40,$B$156)","v":0},{"$f":"SUMIFS('ABT Transactions'!$B$9:$B$40,'ABT Transactions'!$G$9:$G$40,$C$249,'ABT Transactions'!$F$9:$F$40,$AP$148,'ABT Transactions'!$C$9:$C$40,AR251,'ABT Transactions'!$D$9:$D$40,$B$156)","v":0},{"$f":"SUMIFS('ABT Transactions'!$B$9:$B$40,'ABT Transactions'!$G$9:$G$40,$C$249,'ABT Transactions'!$F$9:$F$40,$AS$148,'ABT Transactions'!$C$9:$C$40,AS251,'ABT Transactions'!$D$9:$D$40,$B$156)","v":0},{"$f":"SUMIFS('ABT Transactions'!$B$9:$B$40,'ABT Transactions'!$G$9:$G$40,$C$249,'ABT Transactions'!$F$9:$F$40,$AS$148,'ABT Transactions'!$C$9:$C$40,AT251,'ABT Transactions'!$D$9:$D$40,$B$156)","v":0},{"$f":"SUMIFS('ABT Transactions'!$B$9:$B$40,'ABT Transactions'!$G$9:$G$40,$C$249,'ABT Transactions'!$F$9:$F$40,$AS$148,'ABT Transactions'!$C$9:$C$40,AU251,'ABT Transactions'!$D$9:$D$40,$B$156)","v":0}]
[null,"Transfer ADV Credits (in)",{"$f":"SUMIFS('ABT Transactions'!$B$9:$B$40,'ABT Transactions'!$J$9:$J$40,$C$249,'ABT Transactions'!$I$9:$I$40,$C$148,'ABT Transactions'!$C$9:$C$40,C251,'ABT Transactions'!$D$9:$D$40,$B$157)","v":0},{"$f":"SUMIFS('ABT Transactions'!$B$9:$B$40,'ABT Transactions'!$J$9:$J$40,$C$249,'ABT Transactions'!$I$9:$I$40,$C$148,'ABT Transactions'!$C$9:$C$40,D251,'ABT Transactions'!$D$9:$D$40,$B$157)","v":0},{"$f":"SUMIFS('ABT Transactions'!$B$9:$B$40,'ABT Transactions'!$J$9:$J$40,$C$249,'ABT Transactions'!$I$9:$I$40,$C$148,'ABT Transactions'!$C$9:$C$40,E251,'ABT Transactions'!$D$9:$D$40,$B$157)","v":0},{"$f":"SUMIFS('ABT Transactions'!$B$9:$B$40,'ABT Transactions'!$J$9:$J$40,$C$249,'ABT Transactions'!$I$9:$I$40,$F$148,'ABT Transactions'!$C$9:$C$40,F251,'ABT Transactions'!$D$9:$D$40,$B$157)","v":0},{"$f":"SUMIFS('ABT Transactions'!$B$9:$B$40,'ABT Transactions'!$J$9:$J$40,$C$249,'ABT Transactions'!$I$9:$I$40,$F$148,'ABT Transactions'!$C$9:$C$40,G251,'ABT Transactions'!$D$9:$D$40,$B$157)","v":0},{"$f":"SUMIFS('ABT Transactions'!$B$9:$B$40,'ABT Transactions'!$J$9:$J$40,$C$249,'ABT Transactions'!$I$9:$I$40,$F$148,'ABT Transactions'!$C$9:$C$40,H251,'ABT Transactions'!$D$9:$D$40,$B$157)","v":0},{"$f":"SUMIFS('ABT Transactions'!$B$9:$B$40,'ABT Transactions'!$J$9:$J$40,$C$249,'ABT Transactions'!$I$9:$I$40,$I$148,'ABT Transactions'!$C$9:$C$40,I251,'ABT Transactions'!$D$9:$D$40,$B$157)","v":0},{"$f":"SUMIFS('ABT Transactions'!$B$9:$B$40,'ABT Transactions'!$J$9:$J$40,$C$249,'ABT Transactions'!$I$9:$I$40,$I$148,'ABT Transactions'!$C$9:$C$40,J251,'ABT Transactions'!$D$9:$D$40,$B$157)","v":0},{"$f":"SUMIFS('ABT Transactions'!$B$9:$B$40,'ABT Transactions'!$J$9:$J$40,$C$249,'ABT Transactions'!$I$9:$I$40,$I$148,'ABT Transactions'!$C$9:$C$40,K251,'ABT Transactions'!$D$9:$D$40,$B$157)","v":0},{"$f":"SUMIFS('ABT Transactions'!$B$9:$B$40,'ABT Transactions'!$J$9:$J$40,$C$249,'ABT Transactions'!$I$9:$I$40,$L$148,'ABT Transactions'!$C$9:$C$40,L251,'ABT Transactions'!$D$9:$D$40,$B$157)","v":0},{"$f":"SUMIFS('ABT Transactions'!$B$9:$B$40,'ABT Transactions'!$J$9:$J$40,$C$249,'ABT Transactions'!$I$9:$I$40,$L$148,'ABT Transactions'!$C$9:$C$40,M251,'ABT Transactions'!$D$9:$D$40,$B$157)","v":0},{"$f":"SUMIFS('ABT Transactions'!$B$9:$B$40,'ABT Transactions'!$J$9:$J$40,$C$249,'ABT Transactions'!$I$9:$I$40,$L$148,'ABT Transactions'!$C$9:$C$40,N251,'ABT Transactions'!$D$9:$D$40,$B$157)","v":0},{"$f":"SUMIFS('ABT Transactions'!$B$9:$B$40,'ABT Transactions'!$J$9:$J$40,$C$249,'ABT Transactions'!$I$9:$I$40,$O$148,'ABT Transactions'!$C$9:$C$40,O251,'ABT Transactions'!$D$9:$D$40,$B$157)","v":0},{"$f":"SUMIFS('ABT Transactions'!$B$9:$B$40,'ABT Transactions'!$J$9:$J$40,$C$249,'ABT Transactions'!$I$9:$I$40,$O$148,'ABT Transactions'!$C$9:$C$40,P251,'ABT Transactions'!$D$9:$D$40,$B$157)","v":0},{"$f":"SUMIFS('ABT Transactions'!$B$9:$B$40,'ABT Transactions'!$J$9:$J$40,$C$249,'ABT Transactions'!$I$9:$I$40,$O$148,'ABT Transactions'!$C$9:$C$40,Q251,'ABT Transactions'!$D$9:$D$40,$B$157)","v":0},{"$f":"SUMIFS('ABT Transactions'!$B$9:$B$40,'ABT Transactions'!$J$9:$J$40,$C$249,'ABT Transactions'!$I$9:$I$40,$R$148,'ABT Transactions'!$C$9:$C$40,R251,'ABT Transactions'!$D$9:$D$40,$B$157)","v":0},{"$f":"SUMIFS('ABT Transactions'!$B$9:$B$40,'ABT Transactions'!$J$9:$J$40,$C$249,'ABT Transactions'!$I$9:$I$40,$R$148,'ABT Transactions'!$C$9:$C$40,S251,'ABT Transactions'!$D$9:$D$40,$B$157)","v":0},{"$f":"SUMIFS('ABT Transactions'!$B$9:$B$40,'ABT Transactions'!$J$9:$J$40,$C$249,'ABT Transactions'!$I$9:$I$40,$R$148,'ABT Transactions'!$C$9:$C$40,T251,'ABT Transactions'!$D$9:$D$40,$B$157)","v":0},{"$f":"SUMIFS('ABT Transactions'!$B$9:$B$40,'ABT Transactions'!$J$9:$J$40,$C$249,'ABT Transactions'!$I$9:$I$40,$U$148,'ABT Transactions'!$C$9:$C$40,U251,'ABT Transactions'!$D$9:$D$40,$B$157)","v":0},{"$f":"SUMIFS('ABT Transactions'!$B$9:$B$40,'ABT Transactions'!$J$9:$J$40,$C$249,'ABT Transactions'!$I$9:$I$40,$U$148,'ABT Transactions'!$C$9:$C$40,V251,'ABT Transactions'!$D$9:$D$40,$B$157)","v":0},{"$f":"SUMIFS('ABT Transactions'!$B$9:$B$40,'ABT Transactions'!$J$9:$J$40,$C$249,'ABT Transactions'!$I$9:$I$40,U$148,'ABT Transactions'!$C$9:$C$40,W251,'ABT Transactions'!$D$9:$D$40,$B$157)","v":0},{"$f":"SUMIFS('ABT Transactions'!$B$9:$B$40,'ABT Transactions'!$J$9:$J$40,$C$249,'ABT Transactions'!$I$9:$I$40,$X$148,'ABT Transactions'!$C$9:$C$40,X251,'ABT Transactions'!$D$9:$D$40,$B$157)","v":0},{"$f":"SUMIFS('ABT Transactions'!$B$9:$B$40,'ABT Transactions'!$J$9:$J$40,$C$249,'ABT Transactions'!$I$9:$I$40,$X$148,'ABT Transactions'!$C$9:$C$40,Y251,'ABT Transactions'!$D$9:$D$40,$B$157)","v":0},{"$f":"SUMIFS('ABT Transactions'!$B$9:$B$40,'ABT Transactions'!$J$9:$J$40,$C$249,'ABT Transactions'!$I$9:$I$40,$X$148,'ABT Transactions'!$C$9:$C$40,Z251,'ABT Transactions'!$D$9:$D$40,$B$157)","v":0},{"$f":"SUMIFS('ABT Transactions'!$B$9:$B$40,'ABT Transactions'!$J$9:$J$40,$C$249,'ABT Transactions'!$I$9:$I$40,$AA$148,'ABT Transactions'!$C$9:$C$40,AA251,'ABT Transactions'!$D$9:$D$40,$B$157)","v":0},{"$f":"SUMIFS('ABT Transactions'!$B$9:$B$40,'ABT Transactions'!$J$9:$J$40,$C$249,'ABT Transactions'!$I$9:$I$40,$AA$148,'ABT Transactions'!$C$9:$C$40,AB251,'ABT Transactions'!$D$9:$D$40,$B$157)","v":0},{"$f":"SUMIFS('ABT Transactions'!$B$9:$B$40,'ABT Transactions'!$J$9:$J$40,$C$249,'ABT Transactions'!$I$9:$I$40,$AA$148,'ABT Transactions'!$C$9:$C$40,AC251,'ABT Transactions'!$D$9:$D$40,$B$157)","v":0},{"$f":"SUMIFS('ABT Transactions'!$B$9:$B$40,'ABT Transactions'!$J$9:$J$40,$C$249,'ABT Transactions'!$I$9:$I$40,$AD$148,'ABT Transactions'!$C$9:$C$40,AD251,'ABT Transactions'!$D$9:$D$40,$B$157)","v":0},{"$f":"SUMIFS('ABT Transactions'!$B$9:$B$40,'ABT Transactions'!$J$9:$J$40,$C$249,'ABT Transactions'!$I$9:$I$40,$AD$148,'ABT Transactions'!$C$9:$C$40,AE251,'ABT Transactions'!$D$9:$D$40,$B$157)","v":0},{"$f":"SUMIFS('ABT Transactions'!$B$9:$B$40,'ABT Transactions'!$J$9:$J$40,$C$249,'ABT Transactions'!$I$9:$I$40,$AD$148,'ABT Transactions'!$C$9:$C$40,AF251,'ABT Transactions'!$D$9:$D$40,$B$157)","v":0},{"$f":"SUMIFS('ABT Transactions'!$B$9:$B$40,'ABT Transactions'!$J$9:$J$40,$C$249,'ABT Transactions'!$I$9:$I$40,$AG$148,'ABT Transactions'!$C$9:$C$40,AG251,'ABT Transactions'!$D$9:$D$40,$B$157)","v":0},{"$f":"SUMIFS('ABT Transactions'!$B$9:$B$40,'ABT Transactions'!$J$9:$J$40,$C$249,'ABT Transactions'!$I$9:$I$40,$AG$148,'ABT Transactions'!$C$9:$C$40,AH251,'ABT Transactions'!$D$9:$D$40,$B$157)","v":0},{"$f":"SUMIFS('ABT Transactions'!$B$9:$B$40,'ABT Transactions'!$J$9:$J$40,$C$249,'ABT Transactions'!$I$9:$I$40,$AG$148,'ABT Transactions'!$C$9:$C$40,AI251,'ABT Transactions'!$D$9:$D$40,$B$157)","v":0},{"$f":"SUMIFS('ABT Transactions'!$B$9:$B$40,'ABT Transactions'!$J$9:$J$40,$C$249,'ABT Transactions'!$I$9:$I$40,$AJ$148,'ABT Transactions'!$C$9:$C$40,AJ251,'ABT Transactions'!$D$9:$D$40,$B$157)","v":0},{"$f":"SUMIFS('ABT Transactions'!$B$9:$B$40,'ABT Transactions'!$J$9:$J$40,$C$249,'ABT Transactions'!$I$9:$I$40,$AJ$148,'ABT Transactions'!$C$9:$C$40,AK251,'ABT Transactions'!$D$9:$D$40,$B$157)","v":0},{"$f":"SUMIFS('ABT Transactions'!$B$9:$B$40,'ABT Transactions'!$J$9:$J$40,$C$249,'ABT Transactions'!$I$9:$I$40,$AJ$148,'ABT Transactions'!$C$9:$C$40,AL251,'ABT Transactions'!$D$9:$D$40,$B$157)","v":0},{"$f":"SUMIFS('ABT Transactions'!$B$9:$B$40,'ABT Transactions'!$J$9:$J$40,$C$249,'ABT Transactions'!$I$9:$I$40,$AM$148,'ABT Transactions'!$C$9:$C$40,AM251,'ABT Transactions'!$D$9:$D$40,$B$157)","v":0},{"$f":"SUMIFS('ABT Transactions'!$B$9:$B$40,'ABT Transactions'!$J$9:$J$40,$C$249,'ABT Transactions'!$I$9:$I$40,$AM$148,'ABT Transactions'!$C$9:$C$40,AN251,'ABT Transactions'!$D$9:$D$40,$B$157)","v":0},{"$f":"SUMIFS('ABT Transactions'!$B$9:$B$40,'ABT Transactions'!$J$9:$J$40,$C$249,'ABT Transactions'!$I$9:$I$40,$AM$148,'ABT Transactions'!$C$9:$C$40,AO251,'ABT Transactions'!$D$9:$D$40,$B$157)","v":0},{"$f":"SUMIFS('ABT Transactions'!$B$9:$B$40,'ABT Transactions'!$J$9:$J$40,$C$249,'ABT Transactions'!$I$9:$I$40,$AP$148,'ABT Transactions'!$C$9:$C$40,AP251,'ABT Transactions'!$D$9:$D$40,$B$157)","v":0},{"$f":"SUMIFS('ABT Transactions'!$B$9:$B$40,'ABT Transactions'!$J$9:$J$40,$C$249,'ABT Transactions'!$I$9:$I$40,$AP$148,'ABT Transactions'!$C$9:$C$40,AQ251,'ABT Transactions'!$D$9:$D$40,$B$157)","v":0},{"$f":"SUMIFS('ABT Transactions'!$B$9:$B$40,'ABT Transactions'!$J$9:$J$40,$C$249,'ABT Transactions'!$I$9:$I$40,$AP$148,'ABT Transactions'!$C$9:$C$40,AR251,'ABT Transactions'!$D$9:$D$40,$B$157)","v":0},{"$f":"SUMIFS('ABT Transactions'!$B$9:$B$40,'ABT Transactions'!$J$9:$J$40,$C$249,'ABT Transactions'!$I$9:$I$40,$AS$148,'ABT Transactions'!$C$9:$C$40,AS251,'ABT Transactions'!$D$9:$D$40,$B$157)","v":0},{"$f":"SUMIFS('ABT Transactions'!$B$9:$B$40,'ABT Transactions'!$J$9:$J$40,$C$249,'ABT Transactions'!$I$9:$I$40,$AS$148,'ABT Transactions'!$C$9:$C$40,AT251,'ABT Transactions'!$D$9:$D$40,$B$157)","v":0},{"$f":"SUMIFS('ABT Transactions'!$B$9:$B$40,'ABT Transactions'!$J$9:$J$40,$C$249,'ABT Transactions'!$I$9:$I$40,$AS$148,'ABT Transactions'!$C$9:$C$40,AU251,'ABT Transactions'!$D$9:$D$40,$B$157)","v":0}]
[null,"Retired Credits",{"$f":"SUMIFS('ABT Transactions'!$B$9:$B$40,'ABT Transactions'!$G$9:$G$40,$C$249,'ABT Transactions'!$F$9:$F$40,$C$148,'ABT Transactions'!$C$9:$C$40,C251,'ABT Transactions'!$D$9:$D$40,$B$158)","v":0},{"$f":"SUMIFS('ABT Transactions'!$B$9:$B$40,'ABT Transactions'!$G$9:$G$40,$C$249,'ABT Transactions'!$F$9:$F$40,$C$148,'ABT Transactions'!$C$9:$C$40,D251,'ABT Transactions'!$D$9:$D$40,$B$158)","v":0},{"$f":"SUMIFS('ABT Transactions'!$B$9:$B$40,'ABT Transactions'!$G$9:$G$40,$C$249,'ABT Transactions'!$F$9:$F$40,$C$148,'ABT Transactions'!$C$9:$C$40,E251,'ABT Transactions'!$D$9:$D$40,$B$158)","v":0},{"$f":"SUMIFS('ABT Transactions'!$B$9:$B$40,'ABT Transactions'!$G$9:$G$40,$C$249,'ABT Transactions'!$F$9:$F$40,$F$148,'ABT Transactions'!$C$9:$C$40,F251,'ABT Transactions'!$D$9:$D$40,$B$158)","v":0},{"$f":"SUMIFS('ABT Transactions'!$B$9:$B$40,'ABT Transactions'!$G$9:$G$40,$C$249,'ABT Transactions'!$F$9:$F$40,$F$148,'ABT Transactions'!$C$9:$C$40,G251,'ABT Transactions'!$D$9:$D$40,$B$158)","v":0},{"$f":"SUMIFS('ABT Transactions'!$B$9:$B$40,'ABT Transactions'!$G$9:$G$40,$C$249,'ABT Transactions'!$F$9:$F$40,$F$148,'ABT Transactions'!$C$9:$C$40,H251,'ABT Transactions'!$D$9:$D$40,$B$158)","v":0},{"$f":"SUMIFS('ABT Transactions'!$B$9:$B$40,'ABT Transactions'!$G$9:$G$40,$C$249,'ABT Transactions'!$F$9:$F$40,$I$148,'ABT Transactions'!$C$9:$C$40,I251,'ABT Transactions'!$D$9:$D$40,$B$158)","v":0},{"$f":"SUMIFS('ABT Transactions'!$B$9:$B$40,'ABT Transactions'!$G$9:$G$40,$C$249,'ABT Transactions'!$F$9:$F$40,$I$148,'ABT Transactions'!$C$9:$C$40,J251,'ABT Transactions'!$D$9:$D$40,$B$158)","v":0},{"$f":"SUMIFS('ABT Transactions'!$B$9:$B$40,'ABT Transactions'!$G$9:$G$40,$C$249,'ABT Transactions'!$F$9:$F$40,$I$148,'ABT Transactions'!$C$9:$C$40,K251,'ABT Transactions'!$D$9:$D$40,$B$158)","v":0},{"$f":"SUMIFS('ABT Transactions'!$B$9:$B$40,'ABT Transactions'!$G$9:$G$40,$C$249,'ABT Transactions'!$F$9:$F$40,$L$148,'ABT Transactions'!$C$9:$C$40,L251,'ABT Transactions'!$D$9:$D$40,$B$158)","v":0},{"$f":"SUMIFS('ABT Transactions'!$B$9:$B$40,'ABT Transactions'!$G$9:$G$40,$C$249,'ABT Transactions'!$F$9:$F$40,$L$148,'ABT Transactions'!$C$9:$C$40,M251,'ABT Transactions'!$D$9:$D$40,$B$158)","v":0},{"$f":"SUMIFS('ABT Transactions'!$B$9:$B$40,'ABT Transactions'!$G$9:$G$40,$C$249,'ABT Transactions'!$F$9:$F$40,$L$148,'ABT Transactions'!$C$9:$C$40,N251,'ABT Transactions'!$D$9:$D$40,$B$158)","v":0},{"$f":"SUMIFS('ABT Transactions'!$B$9:$B$40,'ABT Transactions'!$G$9:$G$40,$C$249,'ABT Transactions'!$F$9:$F$40,$O$148,'ABT Transactions'!$C$9:$C$40,O251,'ABT Transactions'!$D$9:$D$40,$B$158)","v":0},{"$f":"SUMIFS('ABT Transactions'!$B$9:$B$40,'ABT Transactions'!$G$9:$G$40,$C$249,'ABT Transactions'!$F$9:$F$40,$O$148,'ABT Transactions'!$C$9:$C$40,P251,'ABT Transactions'!$D$9:$D$40,$B$158)","v":0},{"$f":"SUMIFS('ABT Transactions'!$B$9:$B$40,'ABT Transactions'!$G$9:$G$40,$C$249,'ABT Transactions'!$F$9:$F$40,$O$148,'ABT Transactions'!$C$9:$C$40,Q251,'ABT Transactions'!$D$9:$D$40,$B$158)","v":0},{"$f":"SUMIFS('ABT Transactions'!$B$9:$B$40,'ABT Transactions'!$G$9:$G$40,$C$249,'ABT Transactions'!$F$9:$F$40,$R$148,'ABT Transactions'!$C$9:$C$40,R251,'ABT Transactions'!$D$9:$D$40,$B$158)","v":0},{"$f":"SUMIFS('ABT Transactions'!$B$9:$B$40,'ABT Transactions'!$G$9:$G$40,$C$249,'ABT Transactions'!$F$9:$F$40,$R$148,'ABT Transactions'!$C$9:$C$40,S251,'ABT Transactions'!$D$9:$D$40,$B$158)","v":0},{"$f":"SUMIFS('ABT Transactions'!$B$9:$B$40,'ABT Transactions'!$G$9:$G$40,$C$249,'ABT Transactions'!$F$9:$F$40,$R$148,'ABT Transactions'!$C$9:$C$40,T251,'ABT Transactions'!$D$9:$D$40,$B$158)","v":0},{"$f":"SUMIFS('ABT Transactions'!$B$9:$B$40,'ABT Transactions'!$G$9:$G$40,$C$249,'ABT Transactions'!$F$9:$F$40,$U$148,'ABT Transactions'!$C$9:$C$40,U251,'ABT Transactions'!$D$9:$D$40,$B$158)","v":0},{"$f":"SUMIFS('ABT Transactions'!$B$9:$B$40,'ABT Transactions'!$G$9:$G$40,$C$249,'ABT Transactions'!$F$9:$F$40,$U$148,'ABT Transactions'!$C$9:$C$40,V251,'ABT Transactions'!$D$9:$D$40,$B$158)","v":0},{"$f":"SUMIFS('ABT Transactions'!$B$9:$B$40,'ABT Transactions'!$G$9:$G$40,$C$249,'ABT Transactions'!$F$9:$F$40,U$148,'ABT Transactions'!$C$9:$C$40,W251,'ABT Transactions'!$D$9:$D$40,$B$158)","v":0},{"$f":"SUMIFS('ABT Transactions'!$B$9:$B$40,'ABT Transactions'!$G$9:$G$40,$C$249,'ABT Transactions'!$F$9:$F$40,$X$148,'ABT Transactions'!$C$9:$C$40,X251,'ABT Transactions'!$D$9:$D$40,$B$158)","v":0},{"$f":"SUMIFS('ABT Transactions'!$B$9:$B$40,'ABT Transactions'!$G$9:$G$40,$C$249,'ABT Transactions'!$F$9:$F$40,$X$148,'ABT Transactions'!$C$9:$C$40,Y251,'ABT Transactions'!$D$9:$D$40,$B$158)","v":0},{"$f":"SUMIFS('ABT Transactions'!$B$9:$B$40,'ABT Transactions'!$G$9:$G$40,$C$249,'ABT Transactions'!$F$9:$F$40,$X$148,'ABT Transactions'!$C$9:$C$40,Z251,'ABT Transactions'!$D$9:$D$40,$B$158)","v":0},{"$f":"SUMIFS('ABT Transactions'!$B$9:$B$40,'ABT Transactions'!$G$9:$G$40,$C$249,'ABT Transactions'!$F$9:$F$40,$AA$148,'ABT Transactions'!$C$9:$C$40,AA251,'ABT Transactions'!$D$9:$D$40,$B$158)","v":0},{"$f":"SUMIFS('ABT Transactions'!$B$9:$B$40,'ABT Transactions'!$G$9:$G$40,$C$249,'ABT Transactions'!$F$9:$F$40,$AA$148,'ABT Transactions'!$C$9:$C$40,AB251,'ABT Transactions'!$D$9:$D$40,$B$158)","v":0},{"$f":"SUMIFS('ABT Transactions'!$B$9:$B$40,'ABT Transactions'!$G$9:$G$40,$C$249,'ABT Transactions'!$F$9:$F$40,$AA$148,'ABT Transactions'!$C$9:$C$40,AC251,'ABT Transactions'!$D$9:$D$40,$B$158)","v":0},{"$f":"SUMIFS('ABT Transactions'!$B$9:$B$40,'ABT Transactions'!$G$9:$G$40,$C$249,'ABT Transactions'!$F$9:$F$40,$AD$148,'ABT Transactions'!$C$9:$C$40,AD251,'ABT Transactions'!$D$9:$D$40,$B$158)","v":0},{"$f":"SUMIFS('ABT Transactions'!$B$9:$B$40,'ABT Transactions'!$G$9:$G$40,$C$249,'ABT Transactions'!$F$9:$F$40,$AD$148,'ABT Transactions'!$C$9:$C$40,AE251,'ABT Transactions'!$D$9:$D$40,$B$158)","v":0},{"$f":"SUMIFS('ABT Transactions'!$B$9:$B$40,'ABT Transactions'!$G$9:$G$40,$C$249,'ABT Transactions'!$F$9:$F$40,$AD$148,'ABT Transactions'!$C$9:$C$40,AF251,'ABT Transactions'!$D$9:$D$40,$B$158)","v":0},{"$f":"SUMIFS('ABT Transactions'!$B$9:$B$40,'ABT Transactions'!$G$9:$G$40,$C$249,'ABT Transactions'!$F$9:$F$40,$AG$148,'ABT Transactions'!$C$9:$C$40,AG251,'ABT Transactions'!$D$9:$D$40,$B$158)","v":0},{"$f":"SUMIFS('ABT Transactions'!$B$9:$B$40,'ABT Transactions'!$G$9:$G$40,$C$249,'ABT Transactions'!$F$9:$F$40,$AG$148,'ABT Transactions'!$C$9:$C$40,AH251,'ABT Transactions'!$D$9:$D$40,$B$158)","v":0},{"$f":"SUMIFS('ABT Transactions'!$B$9:$B$40,'ABT Transactions'!$G$9:$G$40,$C$249,'ABT Transactions'!$F$9:$F$40,$AG$148,'ABT Transactions'!$C$9:$C$40,AI251,'ABT Transactions'!$D$9:$D$40,$B$158)","v":0},{"$f":"SUMIFS('ABT Transactions'!$B$9:$B$40,'ABT Transactions'!$G$9:$G$40,$C$249,'ABT Transactions'!$F$9:$F$40,$AJ$148,'ABT Transactions'!$C$9:$C$40,AJ251,'ABT Transactions'!$D$9:$D$40,$B$158)","v":0},{"$f":"SUMIFS('ABT Transactions'!$B$9:$B$40,'ABT Transactions'!$G$9:$G$40,$C$249,'ABT Transactions'!$F$9:$F$40,$AJ$148,'ABT Transactions'!$C$9:$C$40,AK251,'ABT Transactions'!$D$9:$D$40,$B$158)","v":0},{"$f":"SUMIFS('ABT Transactions'!$B$9:$B$40,'ABT Transactions'!$G$9:$G$40,$C$249,'ABT Transactions'!$F$9:$F$40,$AJ$148,'ABT Transactions'!$C$9:$C$40,AL251,'ABT Transactions'!$D$9:$D$40,$B$158)","v":0},{"$f":"SUMIFS('ABT Transactions'!$B$9:$B$40,'ABT Transactions'!$G$9:$G$40,$C$249,'ABT Transactions'!$F$9:$F$40,$AM$148,'ABT Transactions'!$C$9:$C$40,AM251,'ABT Transactions'!$D$9:$D$40,$B$158)","v":0},{"$f":"SUMIFS('ABT Transactions'!$B$9:$B$40,'ABT Transactions'!$G$9:$G$40,$C$249,'ABT Transactions'!$F$9:$F$40,$AM$148,'ABT Transactions'!$C$9:$C$40,AN251,'ABT Transactions'!$D$9:$D$40,$B$158)","v":0},{"$f":"SUMIFS('ABT Transactions'!$B$9:$B$40,'ABT Transactions'!$G$9:$G$40,$C$249,'ABT Transactions'!$F$9:$F$40,$AM$148,'ABT Transactions'!$C$9:$C$40,AO251,'ABT Transactions'!$D$9:$D$40,$B$158)","v":0},{"$f":"SUMIFS('ABT Transactions'!$B$9:$B$40,'ABT Transactions'!$G$9:$G$40,$C$249,'ABT Transactions'!$F$9:$F$40,$AP$148,'ABT Transactions'!$C$9:$C$40,AP251,'ABT Transactions'!$D$9:$D$40,$B$158)","v":0},{"$f":"SUMIFS('ABT Transactions'!$B$9:$B$40,'ABT Transactions'!$G$9:$G$40,$C$249,'ABT Transactions'!$F$9:$F$40,$AP$148,'ABT Transactions'!$C$9:$C$40,AQ251,'ABT Transactions'!$D$9:$D$40,$B$158)","v":0},{"$f":"SUMIFS('ABT Transactions'!$B$9:$B$40,'ABT Transactions'!$G$9:$G$40,$C$249,'ABT Transactions'!$F$9:$F$40,$AP$148,'ABT Transactions'!$C$9:$C$40,AR251,'ABT Transactions'!$D$9:$D$40,$B$158)","v":0},{"$f":"SUMIFS('ABT Transactions'!$B$9:$B$40,'ABT Transactions'!$G$9:$G$40,$C$249,'ABT Transactions'!$F$9:$F$40,$AS$148,'ABT Transactions'!$C$9:$C$40,AS251,'ABT Transactions'!$D$9:$D$40,$B$158)","v":0},{"$f":"SUMIFS('ABT Transactions'!$B$9:$B$40,'ABT Transactions'!$G$9:$G$40,$C$249,'ABT Transactions'!$F$9:$F$40,$AS$148,'ABT Transactions'!$C$9:$C$40,AT251,'ABT Transactions'!$D$9:$D$40,$B$158)","v":0},{"$f":"SUMIFS('ABT Transactions'!$B$9:$B$40,'ABT Transactions'!$G$9:$G$40,$C$249,'ABT Transactions'!$F$9:$F$40,$AS$148,'ABT Transactions'!$C$9:$C$40,AU251,'ABT Transactions'!$D$9:$D$40,$B$158)","v":0}]
[null,"Expired Credits",{"$f":"SUMIFS('ABT Transactions'!$B$9:$B$40,'ABT Transactions'!$G$9:$G$40,$C$249,'ABT Transactions'!$F$9:$F$40,$C$148,'ABT Transactions'!$C$9:$C$40,C251,'ABT Transactions'!$D$9:$D$40,$B$159)","v":0},{"$f":"SUMIFS('ABT Transactions'!$B$9:$B$40,'ABT Transactions'!$G$9:$G$40,$C$249,'ABT Transactions'!$F$9:$F$40,$C$148,'ABT Transactions'!$C$9:$C$40,D251,'ABT Transactions'!$D$9:$D$40,$B$159)","v":0},{"$f":"SUMIFS('ABT Transactions'!$B$9:$B$40,'ABT Transactions'!$G$9:$G$40,$C$249,'ABT Transactions'!$F$9:$F$40,$C$148,'ABT Transactions'!$C$9:$C$40,E251,'ABT Transactions'!$D$9:$D$40,$B$159)","v":0},{"$f":"SUMIFS('ABT Transactions'!$B$9:$B$40,'ABT Transactions'!$G$9:$G$40,$C$249,'ABT Transactions'!$F$9:$F$40,$F$148,'ABT Transactions'!$C$9:$C$40,F251,'ABT Transactions'!$D$9:$D$40,$B$159)","v":0},{"$f":"SUMIFS('ABT Transactions'!$B$9:$B$40,'ABT Transactions'!$G$9:$G$40,$C$249,'ABT Transactions'!$F$9:$F$40,$F$148,'ABT Transactions'!$C$9:$C$40,G251,'ABT Transactions'!$D$9:$D$40,$B$159)","v":0},{"$f":"SUMIFS('ABT Transactions'!$B$9:$B$40,'ABT Transactions'!$G$9:$G$40,$C$249,'ABT Transactions'!$F$9:$F$40,$F$148,'ABT Transactions'!$C$9:$C$40,H251,'ABT Transactions'!$D$9:$D$40,$B$159)","v":0},{"$f":"SUMIFS('ABT Transactions'!$B$9:$B$40,'ABT Transactions'!$G$9:$G$40,$C$249,'ABT Transactions'!$F$9:$F$40,$I$148,'ABT Transactions'!$C$9:$C$40,I251,'ABT Transactions'!$D$9:$D$40,$B$159)","v":0},{"$f":"SUMIFS('ABT Transactions'!$B$9:$B$40,'ABT Transactions'!$G$9:$G$40,$C$249,'ABT Transactions'!$F$9:$F$40,$I$148,'ABT Transactions'!$C$9:$C$40,J251,'ABT Transactions'!$D$9:$D$40,$B$159)","v":0},{"$f":"SUMIFS('ABT Transactions'!$B$9:$B$40,'ABT Transactions'!$G$9:$G$40,$C$249,'ABT Transactions'!$F$9:$F$40,$I$148,'ABT Transactions'!$C$9:$C$40,K251,'ABT Transactions'!$D$9:$D$40,$B$159)","v":0},{"$f":"SUMIFS('ABT Transactions'!$B$9:$B$40,'ABT Transactions'!$G$9:$G$40,$C$249,'ABT Transactions'!$F$9:$F$40,$L$148,'ABT Transactions'!$C$9:$C$40,L251,'ABT Transactions'!$D$9:$D$40,$B$159)","v":0},{"$f":"SUMIFS('ABT Transactions'!$B$9:$B$40,'ABT Transactions'!$G$9:$G$40,$C$249,'ABT Transactions'!$F$9:$F$40,$L$148,'ABT Transactions'!$C$9:$C$40,M251,'ABT Transactions'!$D$9:$D$40,$B$159)","v":0},{"$f":"SUMIFS('ABT Transactions'!$B$9:$B$40,'ABT Transactions'!$G$9:$G$40,$C$249,'ABT Transactions'!$F$9:$F$40,$L$148,'ABT Transactions'!$C$9:$C$40,N251,'ABT Transactions'!$D$9:$D$40,$B$159)","v":0},{"$f":"SUMIFS('ABT Transactions'!$B$9:$B$40,'ABT Transactions'!$G$9:$G$40,$C$249,'ABT Transactions'!$F$9:$F$40,$O$148,'ABT Transactions'!$C$9:$C$40,O251,'ABT Transactions'!$D$9:$D$40,$B$159)","v":0},{"$f":"SUMIFS('ABT Transactions'!$B$9:$B$40,'ABT Transactions'!$G$9:$G$40,$C$249,'ABT Transactions'!$F$9:$F$40,$O$148,'ABT Transactions'!$C$9:$C$40,P251,'ABT Transactions'!$D$9:$D$40,$B$159)","v":0},{"$f":"SUMIFS('ABT Transactions'!$B$9:$B$40,'ABT Transactions'!$G$9:$G$40,$C$249,'ABT Transactions'!$F$9:$F$40,$O$148,'ABT Transactions'!$C$9:$C$40,Q251,'ABT Transactions'!$D$9:$D$40,$B$159)","v":0},{"$f":"SUMIFS('ABT Transactions'!$B$9:$B$40,'ABT Transactions'!$G$9:$G$40,$C$249,'ABT Transactions'!$F$9:$F$40,$R$148,'ABT Transactions'!$C$9:$C$40,R251,'ABT Transactions'!$D$9:$D$40,$B$159)","v":0},{"$f":"SUMIFS('ABT Transactions'!$B$9:$B$40,'ABT Transactions'!$G$9:$G$40,$C$249,'ABT Transactions'!$F$9:$F$40,$R$148,'ABT Transactions'!$C$9:$C$40,S251,'ABT Transactions'!$D$9:$D$40,$B$159)","v":0},{"$f":"SUMIFS('ABT Transactions'!$B$9:$B$40,'ABT Transactions'!$G$9:$G$40,$C$249,'ABT Transactions'!$F$9:$F$40,$R$148,'ABT Transactions'!$C$9:$C$40,T251,'ABT Transactions'!$D$9:$D$40,$B$159)","v":0},{"$f":"SUMIFS('ABT Transactions'!$B$9:$B$40,'ABT Transactions'!$G$9:$G$40,$C$249,'ABT Transactions'!$F$9:$F$40,$U$148,'ABT Transactions'!$C$9:$C$40,U251,'ABT Transactions'!$D$9:$D$40,$B$159)","v":0},{"$f":"SUMIFS('ABT Transactions'!$B$9:$B$40,'ABT Transactions'!$G$9:$G$40,$C$249,'ABT Transactions'!$F$9:$F$40,$U$148,'ABT Transactions'!$C$9:$C$40,V251,'ABT Transactions'!$D$9:$D$40,$B$159)","v":0},{"$f":"SUMIFS('ABT Transactions'!$B$9:$B$40,'ABT Transactions'!$G$9:$G$40,$C$249,'ABT Transactions'!$F$9:$F$40,U$148,'ABT Transactions'!$C$9:$C$40,W251,'ABT Transactions'!$D$9:$D$40,$B$159)","v":0},{"$f":"SUMIFS('ABT Transactions'!$B$9:$B$40,'ABT Transactions'!$G$9:$G$40,$C$249,'ABT Transactions'!$F$9:$F$40,$X$148,'ABT Transactions'!$C$9:$C$40,X251,'ABT Transactions'!$D$9:$D$40,$B$159)","v":0},{"$f":"SUMIFS('ABT Transactions'!$B$9:$B$40,'ABT Transactions'!$G$9:$G$40,$C$249,'ABT Transactions'!$F$9:$F$40,$X$148,'ABT Transactions'!$C$9:$C$40,Y251,'ABT Transactions'!$D$9:$D$40,$B$159)","v":0},{"$f":"SUMIFS('ABT Transactions'!$B$9:$B$40,'ABT Transactions'!$G$9:$G$40,$C$249,'ABT Transactions'!$F$9:$F$40,$X$148,'ABT Transactions'!$C$9:$C$40,Z251,'ABT Transactions'!$D$9:$D$40,$B$159)","v":0},{"$f":"SUMIFS('ABT Transactions'!$B$9:$B$40,'ABT Transactions'!$G$9:$G$40,$C$249,'ABT Transactions'!$F$9:$F$40,$AA$148,'ABT Transactions'!$C$9:$C$40,AA251,'ABT Transactions'!$D$9:$D$40,$B$159)","v":0},{"$f":"SUMIFS('ABT Transactions'!$B$9:$B$40,'ABT Transactions'!$G$9:$G$40,$C$249,'ABT Transactions'!$F$9:$F$40,$AA$148,'ABT Transactions'!$C$9:$C$40,AB251,'ABT Transactions'!$D$9:$D$40,$B$159)","v":0},{"$f":"SUMIFS('ABT Transactions'!$B$9:$B$40,'ABT Transactions'!$G$9:$G$40,$C$249,'ABT Transactions'!$F$9:$F$40,$AA$148,'ABT Transactions'!$C$9:$C$40,AC251,'ABT Transactions'!$D$9:$D$40,$B$159)","v":0},{"$f":"SUMIFS('ABT Transactions'!$B$9:$B$40,'ABT Transactions'!$G$9:$G$40,$C$249,'ABT Transactions'!$F$9:$F$40,$AD$148,'ABT Transactions'!$C$9:$C$40,AD251,'ABT Transactions'!$D$9:$D$40,$B$159)","v":0},{"$f":"SUMIFS('ABT Transactions'!$B$9:$B$40,'ABT Transactions'!$G$9:$G$40,$C$249,'ABT Transactions'!$F$9:$F$40,$AD$148,'ABT Transactions'!$C$9:$C$40,AE251,'ABT Transactions'!$D$9:$D$40,$B$159)","v":0},{"$f":"SUMIFS('ABT Transactions'!$B$9:$B$40,'ABT Transactions'!$G$9:$G$40,$C$249,'ABT Transactions'!$F$9:$F$40,$AD$148,'ABT Transactions'!$C$9:$C$40,AF251,'ABT Transactions'!$D$9:$D$40,$B$159)","v":0},{"$f":"SUMIFS('ABT Transactions'!$B$9:$B$40,'ABT Transactions'!$G$9:$G$40,$C$249,'ABT Transactions'!$F$9:$F$40,$AG$148,'ABT Transactions'!$C$9:$C$40,AG251,'ABT Transactions'!$D$9:$D$40,$B$159)","v":0},{"$f":"SUMIFS('ABT Transactions'!$B$9:$B$40,'ABT Transactions'!$G$9:$G$40,$C$249,'ABT Transactions'!$F$9:$F$40,$AG$148,'ABT Transactions'!$C$9:$C$40,AH251,'ABT Transactions'!$D$9:$D$40,$B$159)","v":0},{"$f":"SUMIFS('ABT Transactions'!$B$9:$B$40,'ABT Transactions'!$G$9:$G$40,$C$249,'ABT Transactions'!$F$9:$F$40,$AG$148,'ABT Transactions'!$C$9:$C$40,AI251,'ABT Transactions'!$D$9:$D$40,$B$159)","v":0},{"$f":"SUMIFS('ABT Transactions'!$B$9:$B$40,'ABT Transactions'!$G$9:$G$40,$C$249,'ABT Transactions'!$F$9:$F$40,$AJ$148,'ABT Transactions'!$C$9:$C$40,AJ251,'ABT Transactions'!$D$9:$D$40,$B$159)","v":0},{"$f":"SUMIFS('ABT Transactions'!$B$9:$B$40,'ABT Transactions'!$G$9:$G$40,$C$249,'ABT Transactions'!$F$9:$F$40,$AJ$148,'ABT Transactions'!$C$9:$C$40,AK251,'ABT Transactions'!$D$9:$D$40,$B$159)","v":0},{"$f":"SUMIFS('ABT Transactions'!$B$9:$B$40,'ABT Transactions'!$G$9:$G$40,$C$249,'ABT Transactions'!$F$9:$F$40,$AJ$148,'ABT Transactions'!$C$9:$C$40,AL251,'ABT Transactions'!$D$9:$D$40,$B$159)","v":0},{"$f":"SUMIFS('ABT Transactions'!$B$9:$B$40,'ABT Transactions'!$G$9:$G$40,$C$249,'ABT Transactions'!$F$9:$F$40,$AM$148,'ABT Transactions'!$C$9:$C$40,AM251,'ABT Transactions'!$D$9:$D$40,$B$159)","v":0},{"$f":"SUMIFS('ABT Transactions'!$B$9:$B$40,'ABT Transactions'!$G$9:$G$40,$C$249,'ABT Transactions'!$F$9:$F$40,$AM$148,'ABT Transactions'!$C$9:$C$40,AN251,'ABT Transactions'!$D$9:$D$40,$B$159)","v":0},{"$f":"SUMIFS('ABT Transactions'!$B$9:$B$40,'ABT Transactions'!$G$9:$G$40,$C$249,'ABT Transactions'!$F$9:$F$40,$AM$148,'ABT Transactions'!$C$9:$C$40,AO251,'ABT Transactions'!$D$9:$D$40,$B$159)","v":0},{"$f":"SUMIFS('ABT Transactions'!$B$9:$B$40,'ABT Transactions'!$G$9:$G$40,$C$249,'ABT Transactions'!$F$9:$F$40,$AP$148,'ABT Transactions'!$C$9:$C$40,AP251,'ABT Transactions'!$D$9:$D$40,$B$159)","v":0},{"$f":"SUMIFS('ABT Transactions'!$B$9:$B$40,'ABT Transactions'!$G$9:$G$40,$C$249,'ABT Transactions'!$F$9:$F$40,$AP$148,'ABT Transactions'!$C$9:$C$40,AQ251,'ABT Transactions'!$D$9:$D$40,$B$159)","v":0},{"$f":"SUMIFS('ABT Transactions'!$B$9:$B$40,'ABT Transactions'!$G$9:$G$40,$C$249,'ABT Transactions'!$F$9:$F$40,$AP$148,'ABT Transactions'!$C$9:$C$40,AR251,'ABT Transactions'!$D$9:$D$40,$B$159)","v":0},{"$f":"SUMIFS('ABT Transactions'!$B$9:$B$40,'ABT Transactions'!$G$9:$G$40,$C$249,'ABT Transactions'!$F$9:$F$40,$AS$148,'ABT Transactions'!$C$9:$C$40,AS251,'ABT Transactions'!$D$9:$D$40,$B$159)","v":0},{"$f":"SUMIFS('ABT Transactions'!$B$9:$B$40,'ABT Transactions'!$G$9:$G$40,$C$249,'ABT Transactions'!$F$9:$F$40,$AS$148,'ABT Transactions'!$C$9:$C$40,AT251,'ABT Transactions'!$D$9:$D$40,$B$159)","v":0},{"$f":"SUMIFS('ABT Transactions'!$B$9:$B$40,'ABT Transactions'!$G$9:$G$40,$C$249,'ABT Transactions'!$F$9:$F$40,$AS$148,'ABT Transactions'!$C$9:$C$40,AU251,'ABT Transactions'!$D$9:$D$40,$B$159)","v":0}]
[null,"Final Credit Balance",{"$f":"(C252+C253+C255+C257+C259+C260+C261)-(C254+C256+C258)","v":0},{"$f":"(D252+D253+D255+D257+D259+D260+D261)-(D254+D256+D258)","v":0},{"$f":"(E252+E253+E255+E257+E259+E260+E261)-(E254+E256+E258)","v":0},{"$f":"(F252+F253+F255+F257+F259+F260+F261)-(F254+F256+F258)","v":0},{"$f":"(G252+G253+G255+G257+G259+G260+G261)-(G254+G256+G258)","v":0},{"$f":"(H252+H253+H255+H257+H259+H260+H261)-(H254+H256+H258)","v":0},{"$f":"(I252+I253+I255+I257+I259+I260+I261)-(I254+I256+I258)","v":0},{"$f":"(J252+J253+J255+J257+J259+J260+J261)-(J254+J256+J258)","v":0},{"$f":"(K252+K253+K255+K257+K259+K260+K261)-(K254+K256+K258)","v":0},{"$f":"(L252+L253+L255+L257+L259+L260+L261)-(L254+L256+L258)","v":0},{"$f":"(M252+M253+M255+M257+M259+M260+M261)-(M254+M256+M258)","v":0},{"$f":"(N252+N253+N255+N257+N259+N260+N261)-(N254+N256+N258)","v":0},{"$f":"(O252+O253+O255+O257+O259+O260+O261)-(O254+O256+O258)","v":0},{"$f":"(P252+P253+P255+P257+P259+P260+P261)-(P254+P256+P258)","v":0},{"$f":"(Q252+Q253+Q255+Q257+Q259+Q260+Q261)-(Q254+Q256+Q258)","v":0},{"$f":"(R252+R253+R255+R257+R259+R260+R261)-(R254+R256+R258)","v":0},{"$f":"(S252+S253+S255+S257+S259+S260+S261)-(S254+S256+S258)","v":0},{"$f":"(T252+T253+T255+T257+T259+T260+T261)-(T254+T256+T258)","v":0},{"$f":"(U252+U253+U255+U257+U259+U260+U261)-(U254+U256+U258)","v":0},{"$f":"(V252+V253+V255+V257+V259+V260+V261)-(V254+V256+V258)","v":0},{"$f":"(W252+W253+W255+W257+W259+W260+W261)-(W254+W256+W258)","v":0},{"$f":"(X252+X253+X255+X257+X259+X260+X261)-(X254+X256+X258)","v":0},{"$f":"(Y252+Y253+Y255+Y257+Y259+Y260+Y261)-(Y254+Y256+Y258)","v":0},{"$f":"(Z252+Z253+Z255+Z257+Z259+Z260+Z261)-(Z254+Z256+Z258)","v":0},{"$f":"(AA252+AA253+AA255+AA257+AA259+AA260+AA261)-(AA254+AA256+AA258)","v":0},{"$f":"(AB252+AB253+AB255+AB257+AB259+AB260+AB261)-(AB254+AB256+AB258)","v":0},{"$f":"(AC252+AC253+AC255+AC257+AC259+AC260+AC261)-(AC254+AC256+AC258)","v":0},{"$f":"(AD252+AD253+AD255+AD257+AD259+AD260+AD261)-(AD254+AD256+AD258)","v":0},{"$f":"(AE252+AE253+AE255+AE257+AE259+AE260+AE261)-(AE254+AE256+AE258)","v":0},{"$f":"(AF252+AF253+AF255+AF257+AF259+AF260+AF261)-(AF254+AF256+AF258)","v":0},{"$f":"(AG252+AG253+AG255+AG257+AG259+AG260+AG261)-(AG254+AG256+AG258)","v":0},{"$f":"(AH252+AH253+AH255+AH257+AH259+AH260+AH261)-(AH254+AH256+AH258)","v":0},{"$f":"(AI252+AI253+AI255+AI257+AI259+AI260+AI261)-(AI254+AI256+AI258)","v":0},{"$f":"(AJ252+AJ253+AJ255+AJ257+AJ259+AJ260+AJ261)-(AJ254+AJ256+AJ258)","v":0},{"$f":"(AK252+AK253+AK255+AK257+AK259+AK260+AK261)-(AK254+AK256+AK258)","v":0},{"$f":"(AL252+AL253+AL255+AL257+AL259+AL260+AL261)-(AL254+AL256+AL258)","v":0},{"$f":"(AM252+AM253+AM255+AM257+AM259+AM260+AM261)-(AM254+AM256+AM258)","v":0},{"$f":"(AN252+AN253+AN255+AN257+AN259+AN260+AN261)-(AN254+AN256+AN258)","v":0},{"$f":"(AO252+AO253+AO255+AO257+AO259+AO260+AO261)-(AO254+AO256+AO258)","v":0},{"$f":"(AP252+AP253+AP255+AP257+AP259+AP260+AP261)-(AP254+AP256+AP258)","v":0},{"$f":"(AQ252+AQ253+AQ255+AQ257+AQ259+AQ260+AQ261)-(AQ254+AQ256+AQ258)","v":0},{"$f":"(AR252+AR253+AR255+AR257+AR259+AR260+AR261)-(AR254+AR256+AR258)","v":0},{"$f":"(AS252+AS253+AS255+AS257+AS259+AS260+AS261)-(AS254+AS256+AS258)","v":0},{"$f":"(AT252+AT253+AT255+AT257+AT259+AT260+AT261)-(AT254+AT256+AT258)","v":0},{"$f":"(AU252+AU253+AU255+AU257+AU259+AU260+AU261)-(AU254+AU256+AU258)","v":0}]
[null,"Averaging Set Credit Balance",{"$f":"SUM(C262:E262)","v":0},null,null,{"$f":"SUM(F262:H262)","v":0},null,null,{"$f":"SUM(I262:K262)","v":0},null,null,{"$f":"SUM(L262:N262)","v":0},null,null,{"$f":"SUM(O262:Q262)","v":0},null,null,{"$f":"SUM(R262:T262)","v":0},null,null,{"$f":"SUM(U262:W262)","v":0},null,null,{"$f":"SUM(X262:Z262)","v":0},null,null,{"$f":"SUM(AA262:AC262)","v":0},null,null,{"$f":"SUM(AD262:AF262)","v":0},null,null,{"$f":"SUM(AG262:AI262)","v":0},null,null,{"$f":"SUM(AJ262:AL262)","v":0},null,null,{"$f":"SUM(AM262:AO262)","v":0},null,null,{"$f":"SUM(AP262:AR262)","v":0},null,null,{"$f":"SUM(AS262:AU262)","v":0}]
[]
[]
[null,null,"Emergency Vehicle"]
[null,null,2013,null,null,2014,null,null,2015,null,null,2016,null,null,2017,null,null,2018,null,null,2019,null,null,2020,null,null,2021,null,null,2022,null,null,2023,null,null,2024,null,null,2025,null,null,2026,null,null,2027]
[null,"Credit Type","Conventional Credit","Innovative Technology Credit","Advanced Technology Credit","Conventional Credit","Innovative Technology Credit","Advanced Technology Credit","Conventional Credit","Innovative Technology Credit","Advanced Technology Credit","Conventional Credit","Innovative Technology Credit","Advanced Technology Credit","Conventional Credit","Innovative Technology Credit","Advanced Technology Credit","Conventional Credit","Innovative Technology Credit","Advanced Technology Credit","Conventional Credit","Innovative Technology Credit","Advanced Technology Credit","Conventional Credit","Innovative Technology Credit","Advanced Technology Credit","Conventional Credit","Innovative Technology Credit","Advanced Technology Credit","Conventional Credit","Innovative Technology Credit","Advanced Technology Credit","Conventional Credit","Innovative Technology Credit","Advanced Technology Credit","Conventional Credit","Innovative Technology Credit","Advanced Technology Credit","Conventional Credit","Innovative Technology Credit","Advanced Technology Credit","Conventional Credit","Innovative Technology Credit","Advanced Technology Credit","Conventional Credit","Innovative Technology Credit","Advanced Technology Credit"]
[null,"Earned Credits",{"$f":"SUMIFS('ABT Credit Balances'!$D$9:$D$208,'ABT Credit Balances'!$B$9:$B$208,$C$266,'ABT Credit Balances'!$F$9:$F$208,C268,'ABT Credit Balances'!$E$9:$E$208,$C$148,'ABT Credit Balances'!$C$9:$C$208,$B$150)","v":0},{"$f":"SUMIFS('ABT Credit Balances'!$D$9:$D$208,'ABT Credit Balances'!$B$9:$B$208,$C$266,'ABT Credit Balances'!$F$9:$F$208,D268,'ABT Credit Balances'!$E$9:$E$208,$C$148,'ABT Credit Balances'!$C$9:$C$208,$B$150)","v":0},{"$f":"SUMIFS('ABT Credit Balances'!$D$9:$D$208,'ABT Credit Balances'!$B$9:$B$208,$C$266,'ABT Credit Balances'!$F$9:$F$208,E268,'ABT Credit Balances'!$E$9:$E$208,$C$148,'ABT Credit Balances'!$C$9:$C$208,$B$150)","v":0},{"$f":"SUMIFS('ABT Credit Balances'!$D$9:$D$208,'ABT Credit Balances'!$B$9:$B$208,$C$266,'ABT Credit Balances'!$F$9:$F$208,F268,'ABT Credit Balances'!$E$9:$E$208,$F$148,'ABT Credit Balances'!$C$9:$C$208,$B$150)","v":0},{"$f":"SUMIFS('ABT Credit Balances'!$D$9:$D$208,'ABT Credit Balances'!$B$9:$B$208,$C$266,'ABT Credit Balances'!$F$9:$F$208,G268,'ABT Credit Balances'!$E$9:$E$208,$F$148,'ABT Credit Balances'!$C$9:$C$208,$B$150)","v":0},{"$f":"SUMIFS('ABT Credit Balances'!$D$9:$D$208,'ABT Credit Balances'!$B$9:$B$208,$C$266,'ABT Credit Balances'!$F$9:$F$208,H268,'ABT Credit Balances'!$E$9:$E$208,$F$148,'ABT Credit Balances'!$C$9:$C$208,$B$150)","v":0},{"$f":"SUMIFS('ABT Credit Balances'!$D$9:$D$208,'ABT Credit Balances'!$B$9:$B$208,$C$266,'ABT Credit Balances'!$F$9:$F$208,I268,'ABT Credit Balances'!$E$9:$E$208,$I$148,'ABT Credit Balances'!$C$9:$C$208,$B$150)","v":0},{"$f":"SUMIFS('ABT Credit Balances'!$D$9:$D$208,'ABT Credit Balances'!$B$9:$B$208,$C$266,'ABT Credit Balances'!$F$9:$F$208,J268,'ABT Credit Balances'!$E$9:$E$208,$I$148,'ABT Credit Balances'!$C$9:$C$208,$B$150)","v":0},{"$f":"SUMIFS('ABT Credit Balances'!$D$9:$D$208,'ABT Credit Balances'!$B$9:$B$208,$C$266,'ABT Credit Balances'!$F$9:$F$208,K268,'ABT Credit Balances'!$E$9:$E$208,$I$148,'ABT Credit Balances'!$C$9:$C$208,$B$150)","v":0},{"$f":"SUMIFS('ABT Credit Balances'!$D$9:$D$208,'ABT Credit Balances'!$B$9:$B$208,$C$266,'ABT Credit Balances'!$F$9:$F$208,L268,'ABT Credit Balances'!$E$9:$E$208,$L$148,'ABT Credit Balances'!$C$9:$C$208,$B$150)","v":0},{"$f":"SUMIFS('ABT Credit Balances'!$D$9:$D$208,'ABT Credit Balances'!$B$9:$B$208,$C$266,'ABT Credit Balances'!$F$9:$F$208,M268,'ABT Credit Balances'!$E$9:$E$208,$L$148,'ABT Credit Balances'!$C$9:$C$208,$B$150)","v":0},{"$f":"SUMIFS('ABT Credit Balances'!$D$9:$D$208,'ABT Credit Balances'!$B$9:$B$208,$C$266,'ABT Credit Balances'!$F$9:$F$208,N268,'ABT Credit Balances'!$E$9:$E$208,$L$148,'ABT Credit Balances'!$C$9:$C$208,$B$150)","v":0},{"$f":"SUMIFS('ABT Credit Balances'!$D$9:$D$208,'ABT Credit Balances'!$B$9:$B$208,$C$266,'ABT Credit Balances'!$F$9:$F$208,O268,'ABT Credit Balances'!$E$9:$E$208,$O$148,'ABT Credit Balances'!$C$9:$C$208,$B$150)","v":0},{"$f":"SUMIFS('ABT Credit Balances'!$D$9:$D$208,'ABT Credit Balances'!$B$9:$B$208,$C$266,'ABT Credit Balances'!$F$9:$F$208,P268,'ABT Credit Balances'!$E$9:$E$208,$O$148,'ABT Credit Balances'!$C$9:$C$208,$B$150)","v":0},{"$f":"SUMIFS('ABT Credit Balances'!$D$9:$D$208,'ABT Credit Balances'!$B$9:$B$208,$C$266,'ABT Credit Balances'!$F$9:$F$208,Q268,'ABT Credit Balances'!$E$9:$E$208,$O$148,'ABT Credit Balances'!$C$9:$C$208,$B$150)","v":0},{"$f":"SUMIFS('ABT Credit Balances'!$D$9:$D$208,'ABT Credit Balances'!$B$9:$B$208,$C$266,'ABT Credit Balances'!$F$9:$F$208,R268,'ABT Credit Balances'!$E$9:$E$208,$R$148,'ABT Credit Balances'!$C$9:$C$208,$B$150)","v":0},{"$f":"SUMIFS('ABT Credit Balances'!$D$9:$D$208,'ABT Credit Balances'!$B$9:$B$208,$C$266,'ABT Credit Balances'!$F$9:$F$208,S268,'ABT Credit Balances'!$E$9:$E$208,$R$148,'ABT Credit Balances'!$C$9:$C$208,$B$150)","v":0},{"$f":"SUMIFS('ABT Credit Balances'!$D$9:$D$208,'ABT Credit Balances'!$B$9:$B$208,$C$266,'ABT Credit Balances'!$F$9:$F$208,T268,'ABT Credit Balances'!$E$9:$E$208,$R$148,'ABT Credit Balances'!$C$9:$C$208,$B$150)","v":0},{"$f":"SUMIFS('ABT Credit Balances'!$D$9:$D$208,'ABT Credit Balances'!$B$9:$B$208,$C$266,'ABT Credit Balances'!$F$9:$F$208,U268,'ABT Credit Balances'!$E$9:$E$208,$U$148,'ABT Credit Balances'!$C$9:$C$208,$B$150)","v":0},{"$f":"SUMIFS('ABT Credit Balances'!$D$9:$D$208,'ABT Credit Balances'!$B$9:$B$208,$C$266,'ABT Credit Balances'!$F$9:$F$208,V268,'ABT Credit Balances'!$E$9:$E$208,$U$148,'ABT Credit Balances'!$C$9:$C$208,$B$150)","v":0},{"$f":"SUMIFS('ABT Credit Balances'!$D$9:$D$208,'ABT Credit Balances'!$B$9:$B$208,$C$266,'ABT Credit Balances'!$F$9:$F$208,W268,'ABT Credit Balances'!$E$9:$E$208,U$148,'ABT Credit Balances'!$C$9:$C$208,$B$150)","v":0},{"$f":"SUMIFS('ABT Credit Balances'!$D$9:$D$208,'ABT Credit Balances'!$B$9:$B$208,$C$266,'ABT Credit Balances'!$F$9:$F$208,X268,'ABT Credit Balances'!$E$9:$E$208,$X$148,'ABT Credit Balances'!$C$9:$C$208,$B$150)","v":0},{"$f":"SUMIFS('ABT Credit Balances'!$D$9:$D$208,'ABT Credit Balances'!$B$9:$B$208,$C$266,'ABT Credit Balances'!$F$9:$F$208,Y268,'ABT Credit Balances'!$E$9:$E$208,$X$148,'ABT Credit Balances'!$C$9:$C$208,$B$150)","v":0},{"$f":"SUMIFS('ABT Credit Balances'!$D$9:$D$208,'ABT Credit Balances'!$B$9:$B$208,$C$266,'ABT Credit Balances'!$F$9:$F$208,Z268,'ABT Credit Balances'!$E$9:$E$208,$X$148,'ABT Credit Balances'!$C$9:$C$208,$B$150)","v":0},{"$f":"SUMIFS('ABT Credit Balances'!$D$9:$D$208,'ABT Credit Balances'!$B$9:$B$208,$C$266,'ABT Credit Balances'!$F$9:$F$208,AA268,'ABT Credit Balances'!$E$9:$E$208,$AA$148,'ABT Credit Balances'!$C$9:$C$208,$B$150)","v":0},{"$f":"SUMIFS('ABT Credit Balances'!$D$9:$D$208,'ABT Credit Balances'!$B$9:$B$208,$C$266,'ABT Credit Balances'!$F$9:$F$208,AB268,'ABT Credit Balances'!$E$9:$E$208,$AA$148,'ABT Credit Balances'!$C$9:$C$208,$B$150)","v":0},{"$f":"SUMIFS('ABT Credit Balances'!$D$9:$D$208,'ABT Credit Balances'!$B$9:$B$208,$C$266,'ABT Credit Balances'!$F$9:$F$208,AC268,'ABT Credit Balances'!$E$9:$E$208,$AA$148,'ABT Credit Balances'!$C$9:$C$208,$B$150)","v":0},{"$f":"SUMIFS('ABT Credit Balances'!$D$9:$D$208,'ABT Credit Balances'!$B$9:$B$208,$C$266,'ABT Credit Balances'!$F$9:$F$208,AD268,'ABT Credit Balances'!$E$9:$E$208,$AD$148,'ABT Credit Balances'!$C$9:$C$208,$B$150)","v":0},{"$f":"SUMIFS('ABT Credit Balances'!$D$9:$D$208,'ABT Credit Balances'!$B$9:$B$208,$C$266,'ABT Credit Balances'!$F$9:$F$208,AE268,'ABT Credit Balances'!$E$9:$E$208,$AD$148,'ABT Credit Balances'!$C$9:$C$208,$B$150)","v":0},{"$f":"SUMIFS('ABT Credit Balances'!$D$9:$D$208,'ABT Credit Balances'!$B$9:$B$208,$C$266,'ABT Credit Balances'!$F$9:$F$208,AF268,'ABT Credit Balances'!$E$9:$E$208,$AD$148,'ABT Credit Balances'!$C$9:$C$208,$B$150)","v":0},{"$f":"SUMIFS('ABT Credit Balances'!$D$9:$D$208,'ABT Credit Balances'!$B$9:$B$208,$C$266,'ABT Credit Balances'!$F$9:$F$208,AG268,'ABT Credit Balances'!$E$9:$E$208,$AG$148,'ABT Credit Balances'!$C$9:$C$208,$B$150)","v":0},{"$f":"SUMIFS('ABT Credit Balances'!$D$9:$D$208,'ABT Credit Balances'!$B$9:$B$208,$C$266,'ABT Credit Balances'!$F$9:$F$208,AH268,'ABT Credit Balances'!$E$9:$E$208,$AG$148,'ABT Credit Balances'!$C$9:$C$208,$B$150)","v":0},{"$f":"SUMIFS('ABT Credit Balances'!$D$9:$D$208,'ABT Credit Balances'!$B$9:$B$208,$C$266,'ABT Credit Balances'!$F$9:$F$208,AI268,'ABT Credit Balances'!$E$9:$E$208,$AG$148,'ABT Credit Balances'!$C$9:$C$208,$B$150)","v":0},{"$f":"SUMIFS('ABT Credit Balances'!$D$9:$D$208,'ABT Credit Balances'!$B$9:$B$208,$C$266,'ABT Credit Balances'!$F$9:$F$208,AJ268,'ABT Credit Balances'!$E$9:$E$208,$AJ$148,'ABT Credit Balances'!$C$9:$C$208,$B$150)","v":0},{"$f":"SUMIFS('ABT Credit Balances'!$D$9:$D$208,'ABT Credit Balances'!$B$9:$B$208,$C$266,'ABT Credit Balances'!$F$9:$F$208,AK268,'ABT Credit Balances'!$E$9:$E$208,$AJ$148,'ABT Credit Balances'!$C$9:$C$208,$B$150)","v":0},{"$f":"SUMIFS('ABT Credit Balances'!$D$9:$D$208,'ABT Credit Balances'!$B$9:$B$208,$C$266,'ABT Credit Balances'!$F$9:$F$208,AL268,'ABT Credit Balances'!$E$9:$E$208,$AJ$148,'ABT Credit Balances'!$C$9:$C$208,$B$150)","v":0},{"$f":"SUMIFS('ABT Credit Balances'!$D$9:$D$208,'ABT Credit Balances'!$B$9:$B$208,$C$266,'ABT Credit Balances'!$F$9:$F$208,AM268,'ABT Credit Balances'!$E$9:$E$208,$AM$148,'ABT Credit Balances'!$C$9:$C$208,$B$150)","v":0},{"$f":"SUMIFS('ABT Credit Balances'!$D$9:$D$208,'ABT Credit Balances'!$B$9:$B$208,$C$266,'ABT Credit Balances'!$F$9:$F$208,AN268,'ABT Credit Balances'!$E$9:$E$208,$AM$148,'ABT Credit Balances'!$C$9:$C$208,$B$150)","v":0},{"$f":"SUMIFS('ABT Credit Balances'!$D$9:$D$208,'ABT Credit Balances'!$B$9:$B$208,$C$266,'ABT Credit Balances'!$F$9:$F$208,AO268,'ABT Credit Balances'!$E$9:$E$208,$AM$148,'ABT Credit Balances'!$C$9:$C$208,$B$150)","v":0},{"$f":"SUMIFS('ABT Credit Balances'!$D$9:$D$208,'ABT Credit Balances'!$B$9:$B$208,$C$266,'ABT Credit Balances'!$F$9:$F$208,AP268,'ABT Credit Balances'!$E$9:$E$208,$AP$148,'ABT Credit Balances'!$C$9:$C$208,$B$150)","v":0},{"$f":"SUMIFS('ABT Credit Balances'!$D$9:$D$208,'ABT Credit Balances'!$B$9:$B$208,$C$266,'ABT Credit Balances'!$F$9:$F$208,AQ268,'ABT Credit Balances'!$E$9:$E$208,$AP$148,'ABT Credit Balances'!$C$9:$C$208,$B$150)","v":0},{"$f":"SUMIFS('ABT Credit Balances'!$D$9:$D$208,'ABT Credit Balances'!$B$9:$B$208,$C$266,'ABT Credit Balances'!$F$9:$F$208,AR268,'ABT Credit Balances'!$E$9:$E$208,$AP$148,'ABT Credit Balances'!$C$9:$C$208,$B$150)","v":0},{"$f":"SUMIFS('ABT Credit Balances'!$D$9:$D$208,'ABT Credit Balances'!$B$9:$B$208,$C$266,'ABT Credit Balances'!$F$9:$F$208,AS268,'ABT Credit Balances'!$E$9:$E$208,$AS$148,'ABT Credit Balances'!$C$9:$C$208,$B$150)","v":0},{"$f":"SUMIFS('ABT Credit Balances'!$D$9:$D$208,'ABT Credit Balances'!$B$9:$B$208,$C$266,'ABT Credit Balances'!$F$9:$F$208,AT268,'ABT Credit Balances'!$E$9:$E$208,$AS$148,'ABT Credit Balances'!$C$9:$C$208,$B$150)","v":0},{"$f":"SUMIFS('ABT Credit Balances'!$D$9:$D$208,'ABT Credit Balances'!$B$9:$B$208,$C$266,'ABT Credit Balances'!$F$9:$F$208,AU268,'ABT Credit Balances'!$E$9:$E$208,$AS$148,'ABT Credit Balances'!$C$9:$C$208,$B$150)","v":0}]
[null,"Projected Credits",{"$f":"SUMIFS('ABT Credit Balances'!$D$9:$D$208,'ABT Credit Balances'!$B$9:$B$208,$C$266,'ABT Credit Balances'!$F$9:$F$208,C268,'ABT Credit Balances'!$E$9:$E$208,$C$148,'ABT Credit Balances'!$C$9:$C$208,$B$151)","v":0},{"$f":"SUMIFS('ABT Credit Balances'!$D$9:$D$208,'ABT Credit Balances'!$B$9:$B$208,$C$266,'ABT Credit Balances'!$F$9:$F$208,D268,'ABT Credit Balances'!$E$9:$E$208,$C$148,'ABT Credit Balances'!$C$9:$C$208,$B$151)","v":0},{"$f":"SUMIFS('ABT Credit Balances'!$D$9:$D$208,'ABT Credit Balances'!$B$9:$B$208,$C$266,'ABT Credit Balances'!$F$9:$F$208,E268,'ABT Credit Balances'!$E$9:$E$208,$C$148,'ABT Credit Balances'!$C$9:$C$208,$B$151)","v":0},{"$f":"SUMIFS('ABT Credit Balances'!$D$9:$D$208,'ABT Credit Balances'!$B$9:$B$208,$C$266,'ABT Credit Balances'!$F$9:$F$208,F268,'ABT Credit Balances'!$E$9:$E$208,$F$148,'ABT Credit Balances'!$C$9:$C$208,$B$151)","v":0},{"$f":"SUMIFS('ABT Credit Balances'!$D$9:$D$208,'ABT Credit Balances'!$B$9:$B$208,$C$266,'ABT Credit Balances'!$F$9:$F$208,G268,'ABT Credit Balances'!$E$9:$E$208,$F$148,'ABT Credit Balances'!$C$9:$C$208,$B$151)","v":0},{"$f":"SUMIFS('ABT Credit Balances'!$D$9:$D$208,'ABT Credit Balances'!$B$9:$B$208,$C$266,'ABT Credit Balances'!$F$9:$F$208,H268,'ABT Credit Balances'!$E$9:$E$208,$F$148,'ABT Credit Balances'!$C$9:$C$208,$B$151)","v":0},{"$f":"SUMIFS('ABT Credit Balances'!$D$9:$D$208,'ABT Credit Balances'!$B$9:$B$208,$C$266,'ABT Credit Balances'!$F$9:$F$208,I268,'ABT Credit Balances'!$E$9:$E$208,$I$148,'ABT Credit Balances'!$C$9:$C$208,$B$151)","v":0},{"$f":"SUMIFS('ABT Credit Balances'!$D$9:$D$208,'ABT Credit Balances'!$B$9:$B$208,$C$266,'ABT Credit Balances'!$F$9:$F$208,J268,'ABT Credit Balances'!$E$9:$E$208,$I$148,'ABT Credit Balances'!$C$9:$C$208,$B$151)","v":0},{"$f":"SUMIFS('ABT Credit Balances'!$D$9:$D$208,'ABT Credit Balances'!$B$9:$B$208,$C$266,'ABT Credit Balances'!$F$9:$F$208,K268,'ABT Credit Balances'!$E$9:$E$208,$I$148,'ABT Credit Balances'!$C$9:$C$208,$B$151)","v":0},{"$f":"SUMIFS('ABT Credit Balances'!$D$9:$D$208,'ABT Credit Balances'!$B$9:$B$208,$C$266,'ABT Credit Balances'!$F$9:$F$208,L268,'ABT Credit Balances'!$E$9:$E$208,$L$148,'ABT Credit Balances'!$C$9:$C$208,$B$151)","v":0},{"$f":"SUMIFS('ABT Credit Balances'!$D$9:$D$208,'ABT Credit Balances'!$B$9:$B$208,$C$266,'ABT Credit Balances'!$F$9:$F$208,M268,'ABT Credit Balances'!$E$9:$E$208,$L$148,'ABT Credit Balances'!$C$9:$C$208,$B$151)","v":0},{"$f":"SUMIFS('ABT Credit Balances'!$D$9:$D$208,'ABT Credit Balances'!$B$9:$B$208,$C$266,'ABT Credit Balances'!$F$9:$F$208,N268,'ABT Credit Balances'!$E$9:$E$208,$L$148,'ABT Credit Balances'!$C$9:$C$208,$B$151)","v":0},{"$f":"SUMIFS('ABT Credit Balances'!$D$9:$D$208,'ABT Credit Balances'!$B$9:$B$208,$C$266,'ABT Credit Balances'!$F$9:$F$208,O268,'ABT Credit Balances'!$E$9:$E$208,$O$148,'ABT Credit Balances'!$C$9:$C$208,$B$151)","v":0},{"$f":"SUMIFS('ABT Credit Balances'!$D$9:$D$208,'ABT Credit Balances'!$B$9:$B$208,$C$266,'ABT Credit Balances'!$F$9:$F$208,P268,'ABT Credit Balances'!$E$9:$E$208,$O$148,'ABT Credit Balances'!$C$9:$C$208,$B$151)","v":0},{"$f":"SUMIFS('ABT Credit Balances'!$D$9:$D$208,'ABT Credit Balances'!$B$9:$B$208,$C$266,'ABT Credit Balances'!$F$9:$F$208,Q268,'ABT Credit Balances'!$E$9:$E$208,$O$148,'ABT Credit Balances'!$C$9:$C$208,$B$151)","v":0},{"$f":"SUMIFS('ABT Credit Balances'!$D$9:$D$208,'ABT Credit Balances'!$B$9:$B$208,$C$266,'ABT Credit Balances'!$F$9:$F$208,R268,'ABT Credit Balances'!$E$9:$E$208,$R$148,'ABT Credit Balances'!$C$9:$C$208,$B$151)","v":0},{"$f":"SUMIFS('ABT Credit Balances'!$D$9:$D$208,'ABT Credit Balances'!$B$9:$B$208,$C$266,'ABT Credit Balances'!$F$9:$F$208,S268,'ABT Credit Balances'!$E$9:$E$208,$R$148,'ABT Credit Balances'!$C$9:$C$208,$B$151)","v":0},{"$f":"SUMIFS('ABT Credit Balances'!$D$9:$D$208,'ABT Credit Balances'!$B$9:$B$208,$C$266,'ABT Credit Balances'!$F$9:$F$208,T268,'ABT Credit Balances'!$E$9:$E$208,$R$148,'ABT Credit Balances'!$C$9:$C$208,$B$151)","v":0},{"$f":"SUMIFS('ABT Credit Balances'!$D$9:$D$208,'ABT Credit Balances'!$B$9:$B$208,$C$266,'ABT Credit Balances'!$F$9:$F$208,U268,'ABT Credit Balances'!$E$9:$E$208,$U$148,'ABT Credit Balances'!$C$9:$C$208,$B$151)","v":0},{"$f":"SUMIFS('ABT Credit Balances'!$D$9:$D$208,'ABT Credit Balances'!$B$9:$B$208,$C$266,'ABT Credit Balances'!$F$9:$F$208,V268,'ABT Credit Balances'!$E$9:$E$208,$U$148,'ABT Credit Balances'!$C$9:$C$208,$B$151)","v":0},{"$f":"SUMIFS('ABT Credit Balances'!$D$9:$D$208,'ABT Credit Balances'!$B$9:$B$208,$C$266,'ABT Credit Balances'!$F$9:$F$208,W268,'ABT Credit Balances'!$E$9:$E$208,U$148,'ABT Credit Balances'!$C$9:$C$208,$B$151)","v":0},{"$f":"SUMIFS('ABT Credit Balances'!$D$9:$D$208,'ABT Credit Balances'!$B$9:$B$208,$C$266,'ABT Credit Balances'!$F$9:$F$208,X268,'ABT Credit Balances'!$E$9:$E$208,$X$148,'ABT Credit Balances'!$C$9:$C$208,$B$151)","v":0},{"$f":"SUMIFS('ABT Credit Balances'!$D$9:$D$208,'ABT Credit Balances'!$B$9:$B$208,$C$266,'ABT Credit Balances'!$F$9:$F$208,Y268,'ABT Credit Balances'!$E$9:$E$208,$X$148,'ABT Credit Balances'!$C$9:$C$208,$B$151)","v":0},{"$f":"SUMIFS('ABT Credit Balances'!$D$9:$D$208,'ABT Credit Balances'!$B$9:$B$208,$C$266,'ABT Credit Balances'!$F$9:$F$208,Z268,'ABT Credit Balances'!$E$9:$E$208,$X$148,'ABT Credit Balances'!$C$9:$C$208,$B$151)","v":0},{"$f":"SUMIFS('ABT Credit Balances'!$D$9:$D$208,'ABT Credit Balances'!$B$9:$B$208,$C$266,'ABT Credit Balances'!$F$9:$F$208,AA268,'ABT Credit Balances'!$E$9:$E$208,$AA$148,'ABT Credit Balances'!$C$9:$C$208,$B$151)","v":0},{"$f":"SUMIFS('ABT Credit Balances'!$D$9:$D$208,'ABT Credit Balances'!$B$9:$B$208,$C$266,'ABT Credit Balances'!$F$9:$F$208,AB268,'ABT Credit Balances'!$E$9:$E$208,$AA$148,'ABT Credit Balances'!$C$9:$C$208,$B$151)","v":0},{"$f":"SUMIFS('ABT Credit Balances'!$D$9:$D$208,'ABT Credit Balances'!$B$9:$B$208,$C$266,'ABT Credit Balances'!$F$9:$F$208,AC268,'ABT Credit Balances'!$E$9:$E$208,$AA$148,'ABT Credit Balances'!$C$9:$C$208,$B$151)","v":0},{"$f":"SUMIFS('ABT Credit Balances'!$D$9:$D$208,'ABT Credit Balances'!$B$9:$B$208,$C$266,'ABT Credit Balances'!$F$9:$F$208,AD268,'ABT Credit Balances'!$E$9:$E$208,$AD$148,'ABT Credit Balances'!$C$9:$C$208,$B$151)","v":0},{"$f":"SUMIFS('ABT Credit Balances'!$D$9:$D$208,'ABT Credit Balances'!$B$9:$B$208,$C$266,'ABT Credit Balances'!$F$9:$F$208,AE268,'ABT Credit Balances'!$E$9:$E$208,$AD$148,'ABT Credit Balances'!$C$9:$C$208,$B$151)","v":0},{"$f":"SUMIFS('ABT Credit Balances'!$D$9:$D$208,'ABT Credit Balances'!$B$9:$B$208,$C$266,'ABT Credit Balances'!$F$9:$F$208,AF268,'ABT Credit Balances'!$E$9:$E$208,$AD$148,'ABT Credit Balances'!$C$9:$C$208,$B$151)","v":0},{"$f":"SUMIFS('ABT Credit Balances'!$D$9:$D$208,'ABT Credit Balances'!$B$9:$B$208,$C$266,'ABT Credit Balances'!$F$9:$F$208,AG268,'ABT Credit Balances'!$E$9:$E$208,$AG$148,'ABT Credit Balances'!$C$9:$C$208,$B$151)","v":0},{"$f":"SUMIFS('ABT Credit Balances'!$D$9:$D$208,'ABT Credit Balances'!$B$9:$B$208,$C$266,'ABT Credit Balances'!$F$9:$F$208,AH268,'ABT Credit Balances'!$E$9:$E$208,$AG$148,'ABT Credit Balances'!$C$9:$C$208,$B$151)","v":0},{"$f":"SUMIFS('ABT Credit Balances'!$D$9:$D$208,'ABT Credit Balances'!$B$9:$B$208,$C$266,'ABT Credit Balances'!$F$9:$F$208,AI268,'ABT Credit Balances'!$E$9:$E$208,$AG$148,'ABT Credit Balances'!$C$9:$C$208,$B$151)","v":0},{"$f":"SUMIFS('ABT Credit Balances'!$D$9:$D$208,'ABT Credit Balances'!$B$9:$B$208,$C$266,'ABT Credit Balances'!$F$9:$F$208,AJ268,'ABT Credit Balances'!$E$9:$E$208,$AJ$148,'ABT Credit Balances'!$C$9:$C$208,$B$151)","v":0},{"$f":"SUMIFS('ABT Credit Balances'!$D$9:$D$208,'ABT Credit Balances'!$B$9:$B$208,$C$266,'ABT Credit Balances'!$F$9:$F$208,AK268,'ABT Credit Balances'!$E$9:$E$208,$AJ$148,'ABT Credit Balances'!$C$9:$C$208,$B$151)","v":0},{"$f":"SUMIFS('ABT Credit Balances'!$D$9:$D$208,'ABT Credit Balances'!$B$9:$B$208,$C$266,'ABT Credit Balances'!$F$9:$F$208,AL268,'ABT Credit Balances'!$E$9:$E$208,$AJ$148,'ABT Credit Balances'!$C$9:$C$208,$B$151)","v":0},{"$f":"SUMIFS('ABT Credit Balances'!$D$9:$D$208,'ABT Credit Balances'!$B$9:$B$208,$C$266,'ABT Credit Balances'!$F$9:$F$208,AM268,'ABT Credit Balances'!$E$9:$E$208,$AM$148,'ABT Credit Balances'!$C$9:$C$208,$B$151)","v":0},{"$f":"SUMIFS('ABT Credit Balances'!$D$9:$D$208,'ABT Credit Balances'!$B$9:$B$208,$C$266,'ABT Credit Balances'!$F$9:$F$208,AN268,'ABT Credit Balances'!$E$9:$E$208,$AM$148,'ABT Credit Balances'!$C$9:$C$208,$B$151)","v":0},{"$f":"SUMIFS('ABT Credit Balances'!$D$9:$D$208,'ABT Credit Balances'!$B$9:$B$208,$C$266,'ABT Credit Balances'!$F$9:$F$208,AO268,'ABT Credit Balances'!$E$9:$E$208,$AM$148,'ABT Credit Balances'!$C$9:$C$208,$B$151)","v":0},{"$f":"SUMIFS('ABT Credit Balances'!$D$9:$D$208,'ABT Credit Balances'!$B$9:$B$208,$C$266,'ABT Credit Balances'!$F$9:$F$208,AP268,'ABT Credit Balances'!$E$9:$E$208,$AP$148,'ABT Credit Balances'!$C$9:$C$208,$B$151)","v":0},{"$f":"SUMIFS('ABT Credit Balances'!$D$9:$D$208,'ABT Credit Balances'!$B$9:$B$208,$C$266,'ABT Credit Balances'!$F$9:$F$208,AQ268,'ABT Credit Balances'!$E$9:$E$208,$AP$148,'ABT Credit Balances'!$C$9:$C$208,$B$151)","v":0},{"$f":"SUMIFS('ABT Credit Balances'!$D$9:$D$208,'ABT Credit Balances'!$B$9:$B$208,$C$266,'ABT Credit Balances'!$F$9:$F$208,AR268,'ABT Credit Balances'!$E$9:$E$208,$AP$148,'ABT Credit Balances'!$C$9:$C$208,$B$151)","v":0},{"$f":"SUMIFS('ABT Credit Balances'!$D$9:$D$208,'ABT Credit Balances'!$B$9:$B$208,$C$266,'ABT Credit Balances'!$F$9:$F$208,AS268,'ABT Credit Balances'!$E$9:$E$208,$AS$148,'ABT Credit Balances'!$C$9:$C$208,$B$151)","v":0},{"$f":"SUMIFS('ABT Credit Balances'!$D$9:$D$208,'ABT Credit Balances'!$B$9:$B$208,$C$266,'ABT Credit Balances'!$F$9:$F$208,AT268,'ABT Credit Balances'!$E$9:$E$208,$AS$148,'ABT Credit Balances'!$C$9:$C$208,$B$151)","v":0},{"$f":"SUMIFS('ABT Credit Balances'!$D$9:$D$208,'ABT Credit Balances'!$B$9:$B$208,$C$266,'ABT Credit Balances'!$F$9:$F$208,AU268,'ABT Credit Balances'!$E$9:$E$208,$AS$148,'ABT Credit Balances'!$C$9:$C$208,$B$151)","v":0}]
[null,"Applied Banked Credits (out)",{"$f":"SUMIFS('ABT Transactions'!$B$9:$B$40,'ABT Transactions'!$G$9:$G$40,$C$266,'ABT Transactions'!$F$9:$F$40,$C$148,'ABT Transactions'!$C$9:$C$40,C268,'ABT Transactions'!$D$9:$D$40,$B$152)","v":0},{"$f":"SUMIFS('ABT Transactions'!$B$9:$B$40,'ABT Transactions'!$G$9:$G$40,$C$266,'ABT Transactions'!$F$9:$F$40,$C$148,'ABT Transactions'!$C$9:$C$40,D268,'ABT Transactions'!$D$9:$D$40,$B$152)","v":0},{"$f":"SUMIFS('ABT Transactions'!$B$9:$B$40,'ABT Transactions'!$G$9:$G$40,$C$266,'ABT Transactions'!$F$9:$F$40,$C$148,'ABT Transactions'!$C$9:$C$40,E268,'ABT Transactions'!$D$9:$D$40,$B$152)","v":0},{"$f":"SUMIFS('ABT Transactions'!$B$9:$B$40,'ABT Transactions'!$G$9:$G$40,$C$266,'ABT Transactions'!$F$9:$F$40,$F$148,'ABT Transactions'!$C$9:$C$40,F268,'ABT Transactions'!$D$9:$D$40,$B$152)","v":0},{"$f":"SUMIFS('ABT Transactions'!$B$9:$B$40,'ABT Transactions'!$G$9:$G$40,$C$266,'ABT Transactions'!$F$9:$F$40,$F$148,'ABT Transactions'!$C$9:$C$40,G268,'ABT Transactions'!$D$9:$D$40,$B$152)","v":0},{"$f":"SUMIFS('ABT Transactions'!$B$9:$B$40,'ABT Transactions'!$G$9:$G$40,$C$266,'ABT Transactions'!$F$9:$F$40,$F$148,'ABT Transactions'!$C$9:$C$40,H268,'ABT Transactions'!$D$9:$D$40,$B$152)","v":0},{"$f":"SUMIFS('ABT Transactions'!$B$9:$B$40,'ABT Transactions'!$G$9:$G$40,$C$266,'ABT Transactions'!$F$9:$F$40,$I$148,'ABT Transactions'!$C$9:$C$40,I268,'ABT Transactions'!$D$9:$D$40,$B$152)","v":0},{"$f":"SUMIFS('ABT Transactions'!$B$9:$B$40,'ABT Transactions'!$G$9:$G$40,$C$266,'ABT Transactions'!$F$9:$F$40,$I$148,'ABT Transactions'!$C$9:$C$40,J268,'ABT Transactions'!$D$9:$D$40,$B$152)","v":0},{"$f":"SUMIFS('ABT Transactions'!$B$9:$B$40,'ABT Transactions'!$G$9:$G$40,$C$266,'ABT Transactions'!$F$9:$F$40,$I$148,'ABT Transactions'!$C$9:$C$40,K268,'ABT Transactions'!$D$9:$D$40,$B$152)","v":0},{"$f":"SUMIFS('ABT Transactions'!$B$9:$B$40,'ABT Transactions'!$G$9:$G$40,$C$266,'ABT Transactions'!$F$9:$F$40,$L$148,'ABT Transactions'!$C$9:$C$40,L268,'ABT Transactions'!$D$9:$D$40,$B$152)","v":0},{"$f":"SUMIFS('ABT Transactions'!$B$9:$B$40,'ABT Transactions'!$G$9:$G$40,$C$266,'ABT Transactions'!$F$9:$F$40,$L$148,'ABT Transactions'!$C$9:$C$40,M268,'ABT Transactions'!$D$9:$D$40,$B$152)","v":0},{"$f":"SUMIFS('ABT Transactions'!$B$9:$B$40,'ABT Transactions'!$G$9:$G$40,$C$266,'ABT Transactions'!$F$9:$F$40,$L$148,'ABT Transactions'!$C$9:$C$40,N268,'ABT Transactions'!$D$9:$D$40,$B$152)","v":0},{"$f":"SUMIFS('ABT Transactions'!$B$9:$B$40,'ABT Transactions'!$G$9:$G$40,$C$266,'ABT Transactions'!$F$9:$F$40,$O$148,'ABT Transactions'!$C$9:$C$40,O268,'ABT Transactions'!$D$9:$D$40,$B$152)","v":0},{"$f":"SUMIFS('ABT Transactions'!$B$9:$B$40,'ABT Transactions'!$G$9:$G$40,$C$266,'ABT Transactions'!$F$9:$F$40,$O$148,'ABT Transactions'!$C$9:$C$40,P268,'ABT Transactions'!$D$9:$D$40,$B$152)","v":0},{"$f":"SUMIFS('ABT Transactions'!$B$9:$B$40,'ABT Transactions'!$G$9:$G$40,$C$266,'ABT Transactions'!$F$9:$F$40,$O$148,'ABT Transactions'!$C$9:$C$40,Q268,'ABT Transactions'!$D$9:$D$40,$B$152)","v":0},{"$f":"SUMIFS('ABT Transactions'!$B$9:$B$40,'ABT Transactions'!$G$9:$G$40,$C$266,'ABT Transactions'!$F$9:$F$40,$R$148,'ABT Transactions'!$C$9:$C$40,R268,'ABT Transactions'!$D$9:$D$40,$B$152)","v":0},{"$f":"SUMIFS('ABT Transactions'!$B$9:$B$40,'ABT Transactions'!$G$9:$G$40,$C$266,'ABT Transactions'!$F$9:$F$40,$R$148,'ABT Transactions'!$C$9:$C$40,S268,'ABT Transactions'!$D$9:$D$40,$B$152)","v":0},{"$f":"SUMIFS('ABT Transactions'!$B$9:$B$40,'ABT Transactions'!$G$9:$G$40,$C$266,'ABT Transactions'!$F$9:$F$40,$R$148,'ABT Transactions'!$C$9:$C$40,T268,'ABT Transactions'!$D$9:$D$40,$B$152)","v":0},{"$f":"SUMIFS('ABT Transactions'!$B$9:$B$40,'ABT Transactions'!$G$9:$G$40,$C$266,'ABT Transactions'!$F$9:$F$40,$U$148,'ABT Transactions'!$C$9:$C$40,U268,'ABT Transactions'!$D$9:$D$40,$B$152)","v":0},{"$f":"SUMIFS('ABT Transactions'!$B$9:$B$40,'ABT Transactions'!$G$9:$G$40,$C$266,'ABT Transactions'!$F$9:$F$40,$U$148,'ABT Transactions'!$C$9:$C$40,V268,'ABT Transactions'!$D$9:$D$40,$B$152)","v":0},{"$f":"SUMIFS('ABT Transactions'!$B$9:$B$40,'ABT Transactions'!$G$9:$G$40,$C$266,'ABT Transactions'!$F$9:$F$40,U$148,'ABT Transactions'!$C$9:$C$40,W268,'ABT Transactions'!$D$9:$D$40,$B$152)","v":0},{"$f":"SUMIFS('ABT Transactions'!$B$9:$B$40,'ABT Transactions'!$G$9:$G$40,$C$266,'ABT Transactions'!$F$9:$F$40,$X$148,'ABT Transactions'!$C$9:$C$40,X268,'ABT Transactions'!$D$9:$D$40,$B$152)","v":0},{"$f":"SUMIFS('ABT Transactions'!$B$9:$B$40,'ABT Transactions'!$G$9:$G$40,$C$266,'ABT Transactions'!$F$9:$F$40,$X$148,'ABT Transactions'!$C$9:$C$40,Y268,'ABT Transactions'!$D$9:$D$40,$B$152)","v":0},{"$f":"SUMIFS('ABT Transactions'!$B$9:$B$40,'ABT Transactions'!$G$9:$G$40,$C$266,'ABT Transactions'!$F$9:$F$40,$X$148,'ABT Transactions'!$C$9:$C$40,Z268,'ABT Transactions'!$D$9:$D$40,$B$152)","v":0},{"$f":"SUMIFS('ABT Transactions'!$B$9:$B$40,'ABT Transactions'!$G$9:$G$40,$C$266,'ABT Transactions'!$F$9:$F$40,$AA$148,'ABT Transactions'!$C$9:$C$40,AA268,'ABT Transactions'!$D$9:$D$40,$B$152)","v":0},{"$f":"SUMIFS('ABT Transactions'!$B$9:$B$40,'ABT Transactions'!$G$9:$G$40,$C$266,'ABT Transactions'!$F$9:$F$40,$AA$148,'ABT Transactions'!$C$9:$C$40,AB268,'ABT Transactions'!$D$9:$D$40,$B$152)","v":0},{"$f":"SUMIFS('ABT Transactions'!$B$9:$B$40,'ABT Transactions'!$G$9:$G$40,$C$266,'ABT Transactions'!$F$9:$F$40,$AA$148,'ABT Transactions'!$C$9:$C$40,AC268,'ABT Transactions'!$D$9:$D$40,$B$152)","v":0},{"$f":"SUMIFS('ABT Transactions'!$B$9:$B$40,'ABT Transactions'!$G$9:$G$40,$C$266,'ABT Transactions'!$F$9:$F$40,$AD$148,'ABT Transactions'!$C$9:$C$40,AD268,'ABT Transactions'!$D$9:$D$40,$B$152)","v":0},{"$f":"SUMIFS('ABT Transactions'!$B$9:$B$40,'ABT Transactions'!$G$9:$G$40,$C$266,'ABT Transactions'!$F$9:$F$40,$AD$148,'ABT Transactions'!$C$9:$C$40,AE268,'ABT Transactions'!$D$9:$D$40,$B$152)","v":0},{"$f":"SUMIFS('ABT Transactions'!$B$9:$B$40,'ABT Transactions'!$G$9:$G$40,$C$266,'ABT Transactions'!$F$9:$F$40,$AD$148,'ABT Transactions'!$C$9:$C$40,AF268,'ABT Transactions'!$D$9:$D$40,$B$152)","v":0},{"$f":"SUMIFS('ABT Transactions'!$B$9:$B$40,'ABT Transactions'!$G$9:$G$40,$C$266,'ABT Transactions'!$F$9:$F$40,$AG$148,'ABT Transactions'!$C$9:$C$40,AG268,'ABT Transactions'!$D$9:$D$40,$B$152)","v":0},{"$f":"SUMIFS('ABT Transactions'!$B$9:$B$40,'ABT Transactions'!$G$9:$G$40,$C$266,'ABT Transactions'!$F$9:$F$40,$AG$148,'ABT Transactions'!$C$9:$C$40,AH268,'ABT Transactions'!$D$9:$D$40,$B$152)","v":0},{"$f":"SUMIFS('ABT Transactions'!$B$9:$B$40,'ABT Transactions'!$G$9:$G$40,$C$266,'ABT Transactions'!$F$9:$F$40,$AG$148,'ABT Transactions'!$C$9:$C$40,AI268,'ABT Transactions'!$D$9:$D$40,$B$152)","v":0},{"$f":"SUMIFS('ABT Transactions'!$B$9:$B$40,'ABT Transactions'!$G$9:$G$40,$C$266,'ABT Transactions'!$F$9:$F$40,$AJ$148,'ABT Transactions'!$C$9:$C$40,AJ268,'ABT Transactions'!$D$9:$D$40,$B$152)","v":0},{"$f":"SUMIFS('ABT Transactions'!$B$9:$B$40,'ABT Transactions'!$G$9:$G$40,$C$266,'ABT Transactions'!$F$9:$F$40,$AJ$148,'ABT Transactions'!$C$9:$C$40,AK268,'ABT Transactions'!$D$9:$D$40,$B$152)","v":0},{"$f":"SUMIFS('ABT Transactions'!$B$9:$B$40,'ABT Transactions'!$G$9:$G$40,$C$266,'ABT Transactions'!$F$9:$F$40,$AJ$148,'ABT Transactions'!$C$9:$C$40,AL268,'ABT Transactions'!$D$9:$D$40,$B$152)","v":0},{"$f":"SUMIFS('ABT Transactions'!$B$9:$B$40,'ABT Transactions'!$G$9:$G$40,$C$266,'ABT Transactions'!$F$9:$F$40,$AM$148,'ABT Transactions'!$C$9:$C$40,AM268,'ABT Transactions'!$D$9:$D$40,$B$152)","v":0},{"$f":"SUMIFS('ABT Transactions'!$B$9:$B$40,'ABT Transactions'!$G$9:$G$40,$C$266,'ABT Transactions'!$F$9:$F$40,$AM$148,'ABT Transactions'!$C$9:$C$40,AN268,'ABT Transactions'!$D$9:$D$40,$B$152)","v":0},{"$f":"SUMIFS('ABT Transactions'!$B$9:$B$40,'ABT Transactions'!$G$9:$G$40,$C$266,'ABT Transactions'!$F$9:$F$40,$AM$148,'ABT Transactions'!$C$9:$C$40,AO268,'ABT Transactions'!$D$9:$D$40,$B$152)","v":0},{"$f":"SUMIFS('ABT Transactions'!$B$9:$B$40,'ABT Transactions'!$G$9:$G$40,$C$266,'ABT Transactions'!$F$9:$F$40,$AP$148,'ABT Transactions'!$C$9:$C$40,AP268,'ABT Transactions'!$D$9:$D$40,$B$152)","v":0},{"$f":"SUMIFS('ABT Transactions'!$B$9:$B$40,'ABT Transactions'!$G$9:$G$40,$C$266,'ABT Transactions'!$F$9:$F$40,$AP$148,'ABT Transactions'!$C$9:$C$40,AQ268,'ABT Transactions'!$D$9:$D$40,$B$152)","v":0},{"$f":"SUMIFS('ABT Transactions'!$B$9:$B$40,'ABT Transactions'!$G$9:$G$40,$C$266,'ABT Transactions'!$F$9:$F$40,$AP$148,'ABT Transactions'!$C$9:$C$40,AR268,'ABT Transactions'!$D$9:$D$40,$B$152)","v":0},{"$f":"SUMIFS('ABT Transactions'!$B$9:$B$40,'ABT Transactions'!$G$9:$G$40,$C$266,'ABT Transactions'!$F$9:$F$40,$AS$148,'ABT Transactions'!$C$9:$C$40,AS268,'ABT Transactions'!$D$9:$D$40,$B$152)","v":0},{"$f":"SUMIFS('ABT Transactions'!$B$9:$B$40,'ABT Transactions'!$G$9:$G$40,$C$266,'ABT Transactions'!$F$9:$F$40,$AS$148,'ABT Transactions'!$C$9:$C$40,AT268,'ABT Transactions'!$D$9:$D$40,$B$152)","v":0},{"$f":"SUMIFS('ABT Transactions'!$B$9:$B$40,'ABT Transactions'!$G$9:$G$40,$C$266,'ABT Transactions'!$F$9:$F$40,$AS$148,'ABT Transactions'!$C$9:$C$40,AU268,'ABT Transactions'!$D$9:$D$40,$B$152)","v":0}]
[null,"Applied Banked Credits (in)",{"$f":"SUMIFS('ABT Transactions'!$B$9:$B$40,'ABT Transactions'!$J$9:$J$40,$C$266,'ABT Transactions'!$I$9:$I$40,$C$148,'ABT Transactions'!$C$9:$C$40,C268,'ABT Transactions'!$D$9:$D$40,$B$153)","v":0},{"$f":"SUMIFS('ABT Transactions'!$B$9:$B$40,'ABT Transactions'!$J$9:$J$40,$C$266,'ABT Transactions'!$I$9:$I$40,$C$148,'ABT Transactions'!$C$9:$C$40,D268,'ABT Transactions'!$D$9:$D$40,$B$153)","v":0},{"$f":"SUMIFS('ABT Transactions'!$B$9:$B$40,'ABT Transactions'!$J$9:$J$40,$C$266,'ABT Transactions'!$I$9:$I$40,$C$148,'ABT Transactions'!$C$9:$C$40,E268,'ABT Transactions'!$D$9:$D$40,$B$153)","v":0},{"$f":"SUMIFS('ABT Transactions'!$B$9:$B$40,'ABT Transactions'!$J$9:$J$40,$C$266,'ABT Transactions'!$I$9:$I$40,$F$148,'ABT Transactions'!$C$9:$C$40,F268,'ABT Transactions'!$D$9:$D$40,$B$153)","v":0},{"$f":"SUMIFS('ABT Transactions'!$B$9:$B$40,'ABT Transactions'!$J$9:$J$40,$C$266,'ABT Transactions'!$I$9:$I$40,$F$148,'ABT Transactions'!$C$9:$C$40,G268,'ABT Transactions'!$D$9:$D$40,$B$153)","v":0},{"$f":"SUMIFS('ABT Transactions'!$B$9:$B$40,'ABT Transactions'!$J$9:$J$40,$C$266,'ABT Transactions'!$I$9:$I$40,$F$148,'ABT Transactions'!$C$9:$C$40,H268,'ABT Transactions'!$D$9:$D$40,$B$153)","v":0},{"$f":"SUMIFS('ABT Transactions'!$B$9:$B$40,'ABT Transactions'!$J$9:$J$40,$C$266,'ABT Transactions'!$I$9:$I$40,$I$148,'ABT Transactions'!$C$9:$C$40,I268,'ABT Transactions'!$D$9:$D$40,$B$153)","v":0},{"$f":"SUMIFS('ABT Transactions'!$B$9:$B$40,'ABT Transactions'!$J$9:$J$40,$C$266,'ABT Transactions'!$I$9:$I$40,$I$148,'ABT Transactions'!$C$9:$C$40,J268,'ABT Transactions'!$D$9:$D$40,$B$153)","v":0},{"$f":"SUMIFS('ABT Transactions'!$B$9:$B$40,'ABT Transactions'!$J$9:$J$40,$C$266,'ABT Transactions'!$I$9:$I$40,$I$148,'ABT Transactions'!$C$9:$C$40,K268,'ABT Transactions'!$D$9:$D$40,$B$153)","v":0},{"$f":"SUMIFS('ABT Transactions'!$B$9:$B$40,'ABT Transactions'!$J$9:$J$40,$C$266,'ABT Transactions'!$I$9:$I$40,$L$148,'ABT Transactions'!$C$9:$C$40,L268,'ABT Transactions'!$D$9:$D$40,$B$153)","v":0},{"$f":"SUMIFS('ABT Transactions'!$B$9:$B$40,'ABT Transactions'!$J$9:$J$40,$C$266,'ABT Transactions'!$I$9:$I$40,$L$148,'ABT Transactions'!$C$9:$C$40,M268,'ABT Transactions'!$D$9:$D$40,$B$153)","v":0},{"$f":"SUMIFS('ABT Transactions'!$B$9:$B$40,'ABT Transactions'!$J$9:$J$40,$C$266,'ABT Transactions'!$I$9:$I$40,$L$148,'ABT Transactions'!$C$9:$C$40,N268,'ABT Transactions'!$D$9:$D$40,$B$153)","v":0},{"$f":"SUMIFS('ABT Transactions'!$B$9:$B$40,'ABT Transactions'!$J$9:$J$40,$C$266,'ABT Transactions'!$I$9:$I$40,$O$148,'ABT Transactions'!$C$9:$C$40,O268,'ABT Transactions'!$D$9:$D$40,$B$153)","v":0},{"$f":"SUMIFS('ABT Transactions'!$B$9:$B$40,'ABT Transactions'!$J$9:$J$40,$C$266,'ABT Transactions'!$I$9:$I$40,$O$148,'ABT Transactions'!$C$9:$C$40,P268,'ABT Transactions'!$D$9:$D$40,$B$153)","v":0},{"$f":"SUMIFS('ABT Transactions'!$B$9:$B$40,'ABT Transactions'!$J$9:$J$40,$C$266,'ABT Transactions'!$I$9:$I$40,$O$148,'ABT Transactions'!$C$9:$C$40,Q268,'ABT Transactions'!$D$9:$D$40,$B$153)","v":0},{"$f":"SUMIFS('ABT Transactions'!$B$9:$B$40,'ABT Transactions'!$J$9:$J$40,$C$266,'ABT Transactions'!$I$9:$I$40,$R$148,'ABT Transactions'!$C$9:$C$40,R268,'ABT Transactions'!$D$9:$D$40,$B$153)","v":0},{"$f":"SUMIFS('ABT Transactions'!$B$9:$B$40,'ABT Transactions'!$J$9:$J$40,$C$266,'ABT Transactions'!$I$9:$I$40,$R$148,'ABT Transactions'!$C$9:$C$40,S268,'ABT Transactions'!$D$9:$D$40,$B$153)","v":0},{"$f":"SUMIFS('ABT Transactions'!$B$9:$B$40,'ABT Transactions'!$J$9:$J$40,$C$266,'ABT Transactions'!$I$9:$I$40,$R$148,'ABT Transactions'!$C$9:$C$40,T268,'ABT Transactions'!$D$9:$D$40,$B$153)","v":0},{"$f":"SUMIFS('ABT Transactions'!$B$9:$B$40,'ABT Transactions'!$J$9:$J$40,$C$266,'ABT Transactions'!$I$9:$I$40,$U$148,'ABT Transactions'!$C$9:$C$40,U268,'ABT Transactions'!$D$9:$D$40,$B$153)","v":0},{"$f":"SUMIFS('ABT Transactions'!$B$9:$B$40,'ABT Transactions'!$J$9:$J$40,$C$266,'ABT Transactions'!$I$9:$I$40,$U$148,'ABT Transactions'!$C$9:$C$40,V268,'ABT Transactions'!$D$9:$D$40,$B$153)","v":0},{"$f":"SUMIFS('ABT Transactions'!$B$9:$B$40,'ABT Transactions'!$J$9:$J$40,$C$266,'ABT Transactions'!$I$9:$I$40,U$148,'ABT Transactions'!$C$9:$C$40,W268,'ABT Transactions'!$D$9:$D$40,$B$153)","v":0},{"$f":"SUMIFS('ABT Transactions'!$B$9:$B$40,'ABT Transactions'!$J$9:$J$40,$C$266,'ABT Transactions'!$I$9:$I$40,$X$148,'ABT Transactions'!$C$9:$C$40,X268,'ABT Transactions'!$D$9:$D$40,$B$153)","v":0},{"$f":"SUMIFS('ABT Transactions'!$B$9:$B$40,'ABT Transactions'!$J$9:$J$40,$C$266,'ABT Transactions'!$I$9:$I$40,$X$148,'ABT Transactions'!$C$9:$C$40,Y268,'ABT Transactions'!$D$9:$D$40,$B$153)","v":0},{"$f":"SUMIFS('ABT Transactions'!$B$9:$B$40,'ABT Transactions'!$J$9:$J$40,$C$266,'ABT Transactions'!$I$9:$I$40,$X$148,'ABT Transactions'!$C$9:$C$40,Z268,'ABT Transactions'!$D$9:$D$40,$B$153)","v":0},{"$f":"SUMIFS('ABT Transactions'!$B$9:$B$40,'ABT Transactions'!$J$9:$J$40,$C$266,'ABT Transactions'!$I$9:$I$40,$AA$148,'ABT Transactions'!$C$9:$C$40,AA268,'ABT Transactions'!$D$9:$D$40,$B$153)","v":0},{"$f":"SUMIFS('ABT Transactions'!$B$9:$B$40,'ABT Transactions'!$J$9:$J$40,$C$266,'ABT Transactions'!$I$9:$I$40,$AA$148,'ABT Transactions'!$C$9:$C$40,AB268,'ABT Transactions'!$D$9:$D$40,$B$153)","v":0},{"$f":"SUMIFS('ABT Transactions'!$B$9:$B$40,'ABT Transactions'!$J$9:$J$40,$C$266,'ABT Transactions'!$I$9:$I$40,$AA$148,'ABT Transactions'!$C$9:$C$40,AC268,'ABT Transactions'!$D$9:$D$40,$B$153)","v":0},{"$f":"SUMIFS('ABT Transactions'!$B$9:$B$40,'ABT Transactions'!$J$9:$J$40,$C$266,'ABT Transactions'!$I$9:$I$40,$AD$148,'ABT Transactions'!$C$9:$C$40,AD268,'ABT Transactions'!$D$9:$D$40,$B$153)","v":0},{"$f":"SUMIFS('ABT Transactions'!$B$9:$B$40,'ABT Transactions'!$J$9:$J$40,$C$266,'ABT Transactions'!$I$9:$I$40,$AD$148,'ABT Transactions'!$C$9:$C$40,AE268,'ABT Transactions'!$D$9:$D$40,$B$153)","v":0},{"$f":"SUMIFS('ABT Transactions'!$B$9:$B$40,'ABT Transactions'!$J$9:$J$40,$C$266,'ABT Transactions'!$I$9:$I$40,$AD$148,'ABT Transactions'!$C$9:$C$40,AF268,'ABT Transactions'!$D$9:$D$40,$B$153)","v":0},{"$f":"SUMIFS('ABT Transactions'!$B$9:$B$40,'ABT Transactions'!$J$9:$J$40,$C$266,'ABT Transactions'!$I$9:$I$40,$AG$148,'ABT Transactions'!$C$9:$C$40,AG268,'ABT Transactions'!$D$9:$D$40,$B$153)","v":0},{"$f":"SUMIFS('ABT Transactions'!$B$9:$B$40,'ABT Transactions'!$J$9:$J$40,$C$266,'ABT Transactions'!$I$9:$I$40,$AG$148,'ABT Transactions'!$C$9:$C$40,AH268,'ABT Transactions'!$D$9:$D$40,$B$153)","v":0},{"$f":"SUMIFS('ABT Transactions'!$B$9:$B$40,'ABT Transactions'!$J$9:$J$40,$C$266,'ABT Transactions'!$I$9:$I$40,$AG$148,'ABT Transactions'!$C$9:$C$40,AI268,'ABT Transactions'!$D$9:$D$40,$B$153)","v":0},{"$f":"SUMIFS('ABT Transactions'!$B$9:$B$40,'ABT Transactions'!$J$9:$J$40,$C$266,'ABT Transactions'!$I$9:$I$40,$AJ$148,'ABT Transactions'!$C$9:$C$40,AJ268,'ABT Transactions'!$D$9:$D$40,$B$153)","v":0},{"$f":"SUMIFS('ABT Transactions'!$B$9:$B$40,'ABT Transactions'!$J$9:$J$40,$C$266,'ABT Transactions'!$I$9:$I$40,$AJ$148,'ABT Transactions'!$C$9:$C$40,AK268,'ABT Transactions'!$D$9:$D$40,$B$153)","v":0},{"$f":"SUMIFS('ABT Transactions'!$B$9:$B$40,'ABT Transactions'!$J$9:$J$40,$C$266,'ABT Transactions'!$I$9:$I$40,$AJ$148,'ABT Transactions'!$C$9:$C$40,AL268,'ABT Transactions'!$D$9:$D$40,$B$153)","v":0},{"$f":"SUMIFS('ABT Transactions'!$B$9:$B$40,'ABT Transactions'!$J$9:$J$40,$C$266,'ABT Transactions'!$I$9:$I$40,$AM$148,'ABT Transactions'!$C$9:$C$40,AM268,'ABT Transactions'!$D$9:$D$40,$B$153)","v":0},{"$f":"SUMIFS('ABT Transactions'!$B$9:$B$40,'ABT Transactions'!$J$9:$J$40,$C$266,'ABT Transactions'!$I$9:$I$40,$AM$148,'ABT Transactions'!$C$9:$C$40,AN268,'ABT Transactions'!$D$9:$D$40,$B$153)","v":0},{"$f":"SUMIFS('ABT Transactions'!$B$9:$B$40,'ABT Transactions'!$J$9:$J$40,$C$266,'ABT Transactions'!$I$9:$I$40,$AM$148,'ABT Transactions'!$C$9:$C$40,AO268,'ABT Transactions'!$D$9:$D$40,$B$153)","v":0},{"$f":"SUMIFS('ABT Transactions'!$B$9:$B$40,'ABT Transactions'!$J$9:$J$40,$C$266,'ABT Transactions'!$I$9:$I$40,$AP$148,'ABT Transactions'!$C$9:$C$40,AP268,'ABT Transactions'!$D$9:$D$40,$B$153)","v":0},{"$f":"SUMIFS('ABT Transactions'!$B$9:$B$40,'ABT Transactions'!$J$9:$J$40,$C$266,'ABT Transactions'!$I$9:$I$40,$AP$148,'ABT Transactions'!$C$9:$C$40,AQ268,'ABT Transactions'!$D$9:$D$40,$B$153)","v":0},{"$f":"SUMIFS('ABT Transactions'!$B$9:$B$40,'ABT Transactions'!$J$9:$J$40,$C$266,'ABT Transactions'!$I$9:$I$40,$AP$148,'ABT Transactions'!$C$9:$C$40,AR268,'ABT Transactions'!$D$9:$D$40,$B$153)","v":0},{"$f":"SUMIFS('ABT Transactions'!$B$9:$B$40,'ABT Transactions'!$J$9:$J$40,$C$266,'ABT Transactions'!$I$9:$I$40,$AS$148,'ABT Transactions'!$C$9:$C$40,AS268,'ABT Transactions'!$D$9:$D$40,$B$153)","v":0},{"$f":"SUMIFS('ABT Transactions'!$B$9:$B$40,'ABT Transactions'!$J$9:$J$40,$C$266,'ABT Transactions'!$I$9:$I$40,$AS$148,'ABT Transactions'!$C$9:$C$40,AT268,'ABT Transactions'!$D$9:$D$40,$B$153)","v":0},{"$f":"SUMIFS('ABT Transactions'!$B$9:$B$40,'ABT Transactions'!$J$9:$J$40,$C$266,'ABT Transactions'!$I$9:$I$40,$AS$148,'ABT Transactions'!$C$9:$C$40,AU268,'ABT Transactions'!$D$9:$D$40,$B$153)","v":0}]
[null,"Trade Out",{"$f":"SUMIFS('ABT Transactions'!$B$9:$B$40,'ABT Transactions'!$G$9:$G$40,$C$266,'ABT Transactions'!$F$9:$F$40,$C$148,'ABT Transactions'!$C$9:$C$40,C268,'ABT Transactions'!$D$9:$D$40,$B$154)","v":0},{"$f":"SUMIFS('ABT Transactions'!$B$9:$B$40,'ABT Transactions'!$G$9:$G$40,$C$266,'ABT Transactions'!$F$9:$F$40,$C$148,'ABT Transactions'!$C$9:$C$40,D268,'ABT Transactions'!$D$9:$D$40,$B$154)","v":0},{"$f":"SUMIFS('ABT Transactions'!$B$9:$B$40,'ABT Transactions'!$G$9:$G$40,$C$266,'ABT Transactions'!$F$9:$F$40,$C$148,'ABT Transactions'!$C$9:$C$40,E268,'ABT Transactions'!$D$9:$D$40,$B$154)","v":0},{"$f":"SUMIFS('ABT Transactions'!$B$9:$B$40,'ABT Transactions'!$G$9:$G$40,$C$266,'ABT Transactions'!$F$9:$F$40,$F$148,'ABT Transactions'!$C$9:$C$40,F268,'ABT Transactions'!$D$9:$D$40,$B$154)","v":0},{"$f":"SUMIFS('ABT Transactions'!$B$9:$B$40,'ABT Transactions'!$G$9:$G$40,$C$266,'ABT Transactions'!$F$9:$F$40,$F$148,'ABT Transactions'!$C$9:$C$40,G268,'ABT Transactions'!$D$9:$D$40,$B$154)","v":0},{"$f":"SUMIFS('ABT Transactions'!$B$9:$B$40,'ABT Transactions'!$G$9:$G$40,$C$266,'ABT Transactions'!$F$9:$F$40,$F$148,'ABT Transactions'!$C$9:$C$40,H268,'ABT Transactions'!$D$9:$D$40,$B$154)","v":0},{"$f":"SUMIFS('ABT Transactions'!$B$9:$B$40,'ABT Transactions'!$G$9:$G$40,$C$266,'ABT Transactions'!$F$9:$F$40,$I$148,'ABT Transactions'!$C$9:$C$40,I268,'ABT Transactions'!$D$9:$D$40,$B$154)","v":0},{"$f":"SUMIFS('ABT Transactions'!$B$9:$B$40,'ABT Transactions'!$G$9:$G$40,$C$266,'ABT Transactions'!$F$9:$F$40,$I$148,'ABT Transactions'!$C$9:$C$40,J268,'ABT Transactions'!$D$9:$D$40,$B$154)","v":0},{"$f":"SUMIFS('ABT Transactions'!$B$9:$B$40,'ABT Transactions'!$G$9:$G$40,$C$266,'ABT Transactions'!$F$9:$F$40,$I$148,'ABT Transactions'!$C$9:$C$40,K268,'ABT Transactions'!$D$9:$D$40,$B$154)","v":0},{"$f":"SUMIFS('ABT Transactions'!$B$9:$B$40,'ABT Transactions'!$G$9:$G$40,$C$266,'ABT Transactions'!$F$9:$F$40,$L$148,'ABT Transactions'!$C$9:$C$40,L268,'ABT Transactions'!$D$9:$D$40,$B$154)","v":0},{"$f":"SUMIFS('ABT Transactions'!$B$9:$B$40,'ABT Transactions'!$G$9:$G$40,$C$266,'ABT Transactions'!$F$9:$F$40,$L$148,'ABT Transactions'!$C$9:$C$40,M268,'ABT Transactions'!$D$9:$D$40,$B$154)","v":0},{"$f":"SUMIFS('ABT Transactions'!$B$9:$B$40,'ABT Transactions'!$G$9:$G$40,$C$266,'ABT Transactions'!$F$9:$F$40,$L$148,'ABT Transactions'!$C$9:$C$40,N268,'ABT Transactions'!$D$9:$D$40,$B$154)","v":0},{"$f":"SUMIFS('ABT Transactions'!$B$9:$B$40,'ABT Transactions'!$G$9:$G$40,$C$266,'ABT Transactions'!$F$9:$F$40,$O$148,'ABT Transactions'!$C$9:$C$40,O268,'ABT Transactions'!$D$9:$D$40,$B$154)","v":0},{"$f":"SUMIFS('ABT Transactions'!$B$9:$B$40,'ABT Transactions'!$G$9:$G$40,$C$266,'ABT Transactions'!$F$9:$F$40,$O$148,'ABT Transactions'!$C$9:$C$40,P268,'ABT Transactions'!$D$9:$D$40,$B$154)","v":0},{"$f":"SUMIFS('ABT Transactions'!$B$9:$B$40,'ABT Transactions'!$G$9:$G$40,$C$266,'ABT Transactions'!$F$9:$F$40,$O$148,'ABT Transactions'!$C$9:$C$40,Q268,'ABT Transactions'!$D$9:$D$40,$B$154)","v":0},{"$f":"SUMIFS('ABT Transactions'!$B$9:$B$40,'ABT Transactions'!$G$9:$G$40,$C$266,'ABT Transactions'!$F$9:$F$40,$R$148,'ABT Transactions'!$C$9:$C$40,R268,'ABT Transactions'!$D$9:$D$40,$B$154)","v":0},{"$f":"SUMIFS('ABT Transactions'!$B$9:$B$40,'ABT Transactions'!$G$9:$G$40,$C$266,'ABT Transactions'!$F$9:$F$40,$R$148,'ABT Transactions'!$C$9:$C$40,S268,'ABT Transactions'!$D$9:$D$40,$B$154)","v":0},{"$f":"SUMIFS('ABT Transactions'!$B$9:$B$40,'ABT Transactions'!$G$9:$G$40,$C$266,'ABT Transactions'!$F$9:$F$40,$R$148,'ABT Transactions'!$C$9:$C$40,T268,'ABT Transactions'!$D$9:$D$40,$B$154)","v":0},{"$f":"SUMIFS('ABT Transactions'!$B$9:$B$40,'ABT Transactions'!$G$9:$G$40,$C$266,'ABT Transactions'!$F$9:$F$40,$U$148,'ABT Transactions'!$C$9:$C$40,U268,'ABT Transactions'!$D$9:$D$40,$B$154)","v":0},{"$f":"SUMIFS('ABT Transactions'!$B$9:$B$40,'ABT Transactions'!$G$9:$G$40,$C$266,'ABT Transactions'!$F$9:$F$40,$U$148,'ABT Transactions'!$C$9:$C$40,V268,'ABT Transactions'!$D$9:$D$40,$B$154)","v":0},{"$f":"SUMIFS('ABT Transactions'!$B$9:$B$40,'ABT Transactions'!$G$9:$G$40,$C$266,'ABT Transactions'!$F$9:$F$40,U$148,'ABT Transactions'!$C$9:$C$40,W268,'ABT Transactions'!$D$9:$D$40,$B$154)","v":0},{"$f":"SUMIFS('ABT Transactions'!$B$9:$B$40,'ABT Transactions'!$G$9:$G$40,$C$266,'ABT Transactions'!$F$9:$F$40,$X$148,'ABT Transactions'!$C$9:$C$40,X268,'ABT Transactions'!$D$9:$D$40,$B$154)","v":0},{"$f":"SUMIFS('ABT Transactions'!$B$9:$B$40,'ABT Transactions'!$G$9:$G$40,$C$266,'ABT Transactions'!$F$9:$F$40,$X$148,'ABT Transactions'!$C$9:$C$40,Y268,'ABT Transactions'!$D$9:$D$40,$B$154)","v":0},{"$f":"SUMIFS('ABT Transactions'!$B$9:$B$40,'ABT Transactions'!$G$9:$G$40,$C$266,'ABT Transactions'!$F$9:$F$40,$X$148,'ABT Transactions'!$C$9:$C$40,Z268,'ABT Transactions'!$D$9:$D$40,$B$154)","v":0},{"$f":"SUMIFS('ABT Transactions'!$B$9:$B$40,'ABT Transactions'!$G$9:$G$40,$C$266,'ABT Transactions'!$F$9:$F$40,$AA$148,'ABT Transactions'!$C$9:$C$40,AA268,'ABT Transactions'!$D$9:$D$40,$B$154)","v":0},{"$f":"SUMIFS('ABT Transactions'!$B$9:$B$40,'ABT Transactions'!$G$9:$G$40,$C$266,'ABT Transactions'!$F$9:$F$40,$AA$148,'ABT Transactions'!$C$9:$C$40,AB268,'ABT Transactions'!$D$9:$D$40,$B$154)","v":0},{"$f":"SUMIFS('ABT Transactions'!$B$9:$B$40,'ABT Transactions'!$G$9:$G$40,$C$266,'ABT Transactions'!$F$9:$F$40,$AA$148,'ABT Transactions'!$C$9:$C$40,AC268,'ABT Transactions'!$D$9:$D$40,$B$154)","v":0},{"$f":"SUMIFS('ABT Transactions'!$B$9:$B$40,'ABT Transactions'!$G$9:$G$40,$C$266,'ABT Transactions'!$F$9:$F$40,$AD$148,'ABT Transactions'!$C$9:$C$40,AD268,'ABT Transactions'!$D$9:$D$40,$B$154)","v":0},{"$f":"SUMIFS('ABT Transactions'!$B$9:$B$40,'ABT Transactions'!$G$9:$G$40,$C$266,'ABT Transactions'!$F$9:$F$40,$AD$148,'ABT Transactions'!$C$9:$C$40,AE268,'ABT Transactions'!$D$9:$D$40,$B$154)","v":0},{"$f":"SUMIFS('ABT Transactions'!$B$9:$B$40,'ABT Transactions'!$G$9:$G$40,$C$266,'ABT Transactions'!$F$9:$F$40,$AD$148,'ABT Transactions'!$C$9:$C$40,AF268,'ABT Transactions'!$D$9:$D$40,$B$154)","v":0},{"$f":"SUMIFS('ABT Transactions'!$B$9:$B$40,'ABT Transactions'!$G$9:$G$40,$C$266,'ABT Transactions'!$F$9:$F$40,$AG$148,'ABT Transactions'!$C$9:$C$40,AG268,'ABT Transactions'!$D$9:$D$40,$B$154)","v":0},{"$f":"SUMIFS('ABT Transactions'!$B$9:$B$40,'ABT Transactions'!$G$9:$G$40,$C$266,'ABT Transactions'!$F$9:$F$40,$AG$148,'ABT Transactions'!$C$9:$C$40,AH268,'ABT Transactions'!$D$9:$D$40,$B$154)","v":0},{"$f":"SUMIFS('ABT Transactions'!$B$9:$B$40,'ABT Transactions'!$G$9:$G$40,$C$266,'ABT Transactions'!$F$9:$F$40,$AG$148,'ABT Transactions'!$C$9:$C$40,AI268,'ABT Transactions'!$D$9:$D$40,$B$154)","v":0},{"$f":"SUMIFS('ABT Transactions'!$B$9:$B$40,'ABT Transactions'!$G$9:$G$40,$C$266,'ABT Transactions'!$F$9:$F$40,$AJ$148,'ABT Transactions'!$C$9:$C$40,AJ268,'ABT Transactions'!$D$9:$D$40,$B$154)","v":0},{"$f":"SUMIFS('ABT Transactions'!$B$9:$B$40,'ABT Transactions'!$G$9:$G$40,$C$266,'ABT Transactions'!$F$9:$F$40,$AJ$148,'ABT Transactions'!$C$9:$C$40,AK268,'ABT Transactions'!$D$9:$D$40,$B$154)","v":0},{"$f":"SUMIFS('ABT Transactions'!$B$9:$B$40,'ABT Transactions'!$G$9:$G$40,$C$266,'ABT Transactions'!$F$9:$F$40,$AJ$148,'ABT Transactions'!$C$9:$C$40,AL268,'ABT Transactions'!$D$9:$D$40,$B$154)","v":0},{"$f":"SUMIFS('ABT Transactions'!$B$9:$B$40,'ABT Transactions'!$G$9:$G$40,$C$266,'ABT Transactions'!$F$9:$F$40,$AM$148,'ABT Transactions'!$C$9:$C$40,AM268,'ABT Transactions'!$D$9:$D$40,$B$154)","v":0},{"$f":"SUMIFS('ABT Transactions'!$B$9:$B$40,'ABT Transactions'!$G$9:$G$40,$C$266,'ABT Transactions'!$F$9:$F$40,$AM$148,'ABT Transactions'!$C$9:$C$40,AN268,'ABT Transactions'!$D$9:$D$40,$B$154)","v":0},{"$f":"SUMIFS('ABT Transactions'!$B$9:$B$40,'ABT Transactions'!$G$9:$G$40,$C$266,'ABT Transactions'!$F$9:$F$40,$AM$148,'ABT Transactions'!$C$9:$C$40,AO268,'ABT Transactions'!$D$9:$D$40,$B$154)","v":0},{"$f":"SUMIFS('ABT Transactions'!$B$9:$B$40,'ABT Transactions'!$G$9:$G$40,$C$266,'ABT Transactions'!$F$9:$F$40,$AP$148,'ABT Transactions'!$C$9:$C$40,AP268,'ABT Transactions'!$D$9:$D$40,$B$154)","v":0},{"$f":"SUMIFS('ABT Transactions'!$B$9:$B$40,'ABT Transactions'!$G$9:$G$40,$C$266,'ABT Transactions'!$F$9:$F$40,$AP$148,'ABT Transactions'!$C$9:$C$40,AQ268,'ABT Transactions'!$D$9:$D$40,$B$154)","v":0},{"$f":"SUMIFS('ABT Transactions'!$B$9:$B$40,'ABT Transactions'!$G$9:$G$40,$C$266,'ABT Transactions'!$F$9:$F$40,$AP$148,'ABT Transactions'!$C$9:$C$40,AR268,'ABT Transactions'!$D$9:$D$40,$B$154)","v":0},{"$f":"SUMIFS('ABT Transactions'!$B$9:$B$40,'ABT Transactions'!$G$9:$G$40,$C$266,'ABT Transactions'!$F$9:$F$40,$AS$148,'ABT Transactions'!$C$9:$C$40,AS268,'ABT Transactions'!$D$9:$D$40,$B$154)","v":0},{"$f":"SUMIFS('ABT Transactions'!$B$9:$B$40,'ABT Transactions'!$G$9:$G$40,$C$266,'ABT Transactions'!$F$9:$F$40,$AS$148,'ABT Transactions'!$C$9:$C$40,AT268,'ABT Transactions'!$D$9:$D$40,$B$154)","v":0},{"$f":"SUMIFS('ABT Transactions'!$B$9:$B$40,'ABT Transactions'!$G$9:$G$40,$C$266,'ABT Transactions'!$F$9:$F$40,$AS$148,'ABT Transactions'!$C$9:$C$40,AU268,'ABT Transactions'!$D$9:$D$40,$B$154)","v":0}]
[null,"Trade In",{"$f":"SUMIFS('ABT Transactions'!$B$9:$B$40,'ABT Transactions'!$J$9:$J$40,$C$266,'ABT Transactions'!$I$9:$I$40,$C$148,'ABT Transactions'!$C$9:$C$40,C268,'ABT Transactions'!$D$9:$D$40,$B$155)","v":0},{"$f":"SUMIFS('ABT Transactions'!$B$9:$B$40,'ABT Transactions'!$J$9:$J$40,$C$266,'ABT Transactions'!$I$9:$I$40,$C$148,'ABT Transactions'!$C$9:$C$40,D268,'ABT Transactions'!$D$9:$D$40,$B$155)","v":0},{"$f":"SUMIFS('ABT Transactions'!$B$9:$B$40,'ABT Transactions'!$J$9:$J$40,$C$266,'ABT Transactions'!$I$9:$I$40,$C$148,'ABT Transactions'!$C$9:$C$40,E268,'ABT Transactions'!$D$9:$D$40,$B$155)","v":0},{"$f":"SUMIFS('ABT Transactions'!$B$9:$B$40,'ABT Transactions'!$J$9:$J$40,$C$266,'ABT Transactions'!$I$9:$I$40,$F$148,'ABT Transactions'!$C$9:$C$40,F268,'ABT Transactions'!$D$9:$D$40,$B$155)","v":0},{"$f":"SUMIFS('ABT Transactions'!$B$9:$B$40,'ABT Transactions'!$J$9:$J$40,$C$266,'ABT Transactions'!$I$9:$I$40,$F$148,'ABT Transactions'!$C$9:$C$40,G268,'ABT Transactions'!$D$9:$D$40,$B$155)","v":0},{"$f":"SUMIFS('ABT Transactions'!$B$9:$B$40,'ABT Transactions'!$J$9:$J$40,$C$266,'ABT Transactions'!$I$9:$I$40,$F$148,'ABT Transactions'!$C$9:$C$40,H268,'ABT Transactions'!$D$9:$D$40,$B$155)","v":0},{"$f":"SUMIFS('ABT Transactions'!$B$9:$B$40,'ABT Transactions'!$J$9:$J$40,$C$266,'ABT Transactions'!$I$9:$I$40,$I$148,'ABT Transactions'!$C$9:$C$40,I268,'ABT Transactions'!$D$9:$D$40,$B$155)","v":0},{"$f":"SUMIFS('ABT Transactions'!$B$9:$B$40,'ABT Transactions'!$J$9:$J$40,$C$266,'ABT Transactions'!$I$9:$I$40,$I$148,'ABT Transactions'!$C$9:$C$40,J268,'ABT Transactions'!$D$9:$D$40,$B$155)","v":0},{"$f":"SUMIFS('ABT Transactions'!$B$9:$B$40,'ABT Transactions'!$J$9:$J$40,$C$266,'ABT Transactions'!$I$9:$I$40,$I$148,'ABT Transactions'!$C$9:$C$40,K268,'ABT Transactions'!$D$9:$D$40,$B$155)","v":0},{"$f":"SUMIFS('ABT Transactions'!$B$9:$B$40,'ABT Transactions'!$J$9:$J$40,$C$266,'ABT Transactions'!$I$9:$I$40,$L$148,'ABT Transactions'!$C$9:$C$40,L268,'ABT Transactions'!$D$9:$D$40,$B$155)","v":0},{"$f":"SUMIFS('ABT Transactions'!$B$9:$B$40,'ABT Transactions'!$J$9:$J$40,$C$266,'ABT Transactions'!$I$9:$I$40,$L$148,'ABT Transactions'!$C$9:$C$40,M268,'ABT Transactions'!$D$9:$D$40,$B$155)","v":0},{"$f":"SUMIFS('ABT Transactions'!$B$9:$B$40,'ABT Transactions'!$J$9:$J$40,$C$266,'ABT Transactions'!$I$9:$I$40,$L$148,'ABT Transactions'!$C$9:$C$40,N268,'ABT Transactions'!$D$9:$D$40,$B$155)","v":0},{"$f":"SUMIFS('ABT Transactions'!$B$9:$B$40,'ABT Transactions'!$J$9:$J$40,$C$266,'ABT Transactions'!$I$9:$I$40,$O$148,'ABT Transactions'!$C$9:$C$40,O268,'ABT Transactions'!$D$9:$D$40,$B$155)","v":0},{"$f":"SUMIFS('ABT Transactions'!$B$9:$B$40,'ABT Transactions'!$J$9:$J$40,$C$266,'ABT Transactions'!$I$9:$I$40,$O$148,'ABT Transactions'!$C$9:$C$40,P268,'ABT Transactions'!$D$9:$D$40,$B$155)","v":0},{"$f":"SUMIFS('ABT Transactions'!$B$9:$B$40,'ABT Transactions'!$J$9:$J$40,$C$266,'ABT Transactions'!$I$9:$I$40,$O$148,'ABT Transactions'!$C$9:$C$40,Q268,'ABT Transactions'!$D$9:$D$40,$B$155)","v":0},{"$f":"SUMIFS('ABT Transactions'!$B$9:$B$40,'ABT Transactions'!$J$9:$J$40,$C$266,'ABT Transactions'!$I$9:$I$40,$R$148,'ABT Transactions'!$C$9:$C$40,R268,'ABT Transactions'!$D$9:$D$40,$B$155)","v":0},{"$f":"SUMIFS('ABT Transactions'!$B$9:$B$40,'ABT Transactions'!$J$9:$J$40,$C$266,'ABT Transactions'!$I$9:$I$40,$R$148,'ABT Transactions'!$C$9:$C$40,S268,'ABT Transactions'!$D$9:$D$40,$B$155)","v":0},{"$f":"SUMIFS('ABT Transactions'!$B$9:$B$40,'ABT Transactions'!$J$9:$J$40,$C$266,'ABT Transactions'!$I$9:$I$40,$R$148,'ABT Transactions'!$C$9:$C$40,T268,'ABT Transactions'!$D$9:$D$40,$B$155)","v":0},{"$f":"SUMIFS('ABT Transactions'!$B$9:$B$40,'ABT Transactions'!$J$9:$J$40,$C$266,'ABT Transactions'!$I$9:$I$40,$U$148,'ABT Transactions'!$C$9:$C$40,U268,'ABT Transactions'!$D$9:$D$40,$B$155)","v":0},{"$f":"SUMIFS('ABT Transactions'!$B$9:$B$40,'ABT Transactions'!$J$9:$J$40,$C$266,'ABT Transactions'!$I$9:$I$40,$U$148,'ABT Transactions'!$C$9:$C$40,V268,'ABT Transactions'!$D$9:$D$40,$B$155)","v":0},{"$f":"SUMIFS('ABT Transactions'!$B$9:$B$40,'ABT Transactions'!$J$9:$J$40,$C$266,'ABT Transactions'!$I$9:$I$40,U$148,'ABT Transactions'!$C$9:$C$40,W268,'ABT Transactions'!$D$9:$D$40,$B$155)","v":0},{"$f":"SUMIFS('ABT Transactions'!$B$9:$B$40,'ABT Transactions'!$J$9:$J$40,$C$266,'ABT Transactions'!$I$9:$I$40,$X$148,'ABT Transactions'!$C$9:$C$40,X268,'ABT Transactions'!$D$9:$D$40,$B$155)","v":0},{"$f":"SUMIFS('ABT Transactions'!$B$9:$B$40,'ABT Transactions'!$J$9:$J$40,$C$266,'ABT Transactions'!$I$9:$I$40,$X$148,'ABT Transactions'!$C$9:$C$40,Y268,'ABT Transactions'!$D$9:$D$40,$B$155)","v":0},{"$f":"SUMIFS('ABT Transactions'!$B$9:$B$40,'ABT Transactions'!$J$9:$J$40,$C$266,'ABT Transactions'!$I$9:$I$40,$X$148,'ABT Transactions'!$C$9:$C$40,Z268,'ABT Transactions'!$D$9:$D$40,$B$155)","v":0},{"$f":"SUMIFS('ABT Transactions'!$B$9:$B$40,'ABT Transactions'!$J$9:$J$40,$C$266,'ABT Transactions'!$I$9:$I$40,$AA$148,'ABT Transactions'!$C$9:$C$40,AA268,'ABT Transactions'!$D$9:$D$40,$B$155)","v":0},{"$f":"SUMIFS('ABT Transactions'!$B$9:$B$40,'ABT Transactions'!$J$9:$J$40,$C$266,'ABT Transactions'!$I$9:$I$40,$AA$148,'ABT Transactions'!$C$9:$C$40,AB268,'ABT Transactions'!$D$9:$D$40,$B$155)","v":0},{"$f":"SUMIFS('ABT Transactions'!$B$9:$B$40,'ABT Transactions'!$J$9:$J$40,$C$266,'ABT Transactions'!$I$9:$I$40,$AA$148,'ABT Transactions'!$C$9:$C$40,AC268,'ABT Transactions'!$D$9:$D$40,$B$155)","v":0},{"$f":"SUMIFS('ABT Transactions'!$B$9:$B$40,'ABT Transactions'!$J$9:$J$40,$C$266,'ABT Transactions'!$I$9:$I$40,$AD$148,'ABT Transactions'!$C$9:$C$40,AD268,'ABT Transactions'!$D$9:$D$40,$B$155)","v":0},{"$f":"SUMIFS('ABT Transactions'!$B$9:$B$40,'ABT Transactions'!$J$9:$J$40,$C$266,'ABT Transactions'!$I$9:$I$40,$AD$148,'ABT Transactions'!$C$9:$C$40,AE268,'ABT Transactions'!$D$9:$D$40,$B$155)","v":0},{"$f":"SUMIFS('ABT Transactions'!$B$9:$B$40,'ABT Transactions'!$J$9:$J$40,$C$266,'ABT Transactions'!$I$9:$I$40,$AD$148,'ABT Transactions'!$C$9:$C$40,AF268,'ABT Transactions'!$D$9:$D$40,$B$155)","v":0},{"$f":"SUMIFS('ABT Transactions'!$B$9:$B$40,'ABT Transactions'!$J$9:$J$40,$C$266,'ABT Transactions'!$I$9:$I$40,$AG$148,'ABT Transactions'!$C$9:$C$40,AG268,'ABT Transactions'!$D$9:$D$40,$B$155)","v":0},{"$f":"SUMIFS('ABT Transactions'!$B$9:$B$40,'ABT Transactions'!$J$9:$J$40,$C$266,'ABT Transactions'!$I$9:$I$40,$AG$148,'ABT Transactions'!$C$9:$C$40,AH268,'ABT Transactions'!$D$9:$D$40,$B$155)","v":0},{"$f":"SUMIFS('ABT Transactions'!$B$9:$B$40,'ABT Transactions'!$J$9:$J$40,$C$266,'ABT Transactions'!$I$9:$I$40,$AG$148,'ABT Transactions'!$C$9:$C$40,AI268,'ABT Transactions'!$D$9:$D$40,$B$155)","v":0},{"$f":"SUMIFS('ABT Transactions'!$B$9:$B$40,'ABT Transactions'!$J$9:$J$40,$C$266,'ABT Transactions'!$I$9:$I$40,$AJ$148,'ABT Transactions'!$C$9:$C$40,AJ268,'ABT Transactions'!$D$9:$D$40,$B$155)","v":0},{"$f":"SUMIFS('ABT Transactions'!$B$9:$B$40,'ABT Transactions'!$J$9:$J$40,$C$266,'ABT Transactions'!$I$9:$I$40,$AJ$148,'ABT Transactions'!$C$9:$C$40,AK268,'ABT Transactions'!$D$9:$D$40,$B$155)","v":0},{"$f":"SUMIFS('ABT Transactions'!$B$9:$B$40,'ABT Transactions'!$J$9:$J$40,$C$266,'ABT Transactions'!$I$9:$I$40,$AJ$148,'ABT Transactions'!$C$9:$C$40,AL268,'ABT Transactions'!$D$9:$D$40,$B$155)","v":0},{"$f":"SUMIFS('ABT Transactions'!$B$9:$B$40,'ABT Transactions'!$J$9:$J$40,$C$266,'ABT Transactions'!$I$9:$I$40,$AM$148,'ABT Transactions'!$C$9:$C$40,AM268,'ABT Transactions'!$D$9:$D$40,$B$155)","v":0},{"$f":"SUMIFS('ABT Transactions'!$B$9:$B$40,'ABT Transactions'!$J$9:$J$40,$C$266,'ABT Transactions'!$I$9:$I$40,$AM$148,'ABT Transactions'!$C$9:$C$40,AN268,'ABT Transactions'!$D$9:$D$40,$B$155)","v":0},{"$f":"SUMIFS('ABT Transactions'!$B$9:$B$40,'ABT Transactions'!$J$9:$J$40,$C$266,'ABT Transactions'!$I$9:$I$40,$AM$148,'ABT Transactions'!$C$9:$C$40,AO268,'ABT Transactions'!$D$9:$D$40,$B$155)","v":0},{"$f":"SUMIFS('ABT Transactions'!$B$9:$B$40,'ABT Transactions'!$J$9:$J$40,$C$266,'ABT Transactions'!$I$9:$I$40,$AP$148,'ABT Transactions'!$C$9:$C$40,AP268,'ABT Transactions'!$D$9:$D$40,$B$155)","v":0},{"$f":"SUMIFS('ABT Transactions'!$B$9:$B$40,'ABT Transactions'!$J$9:$J$40,$C$266,'ABT Transactions'!$I$9:$I$40,$AP$148,'ABT Transactions'!$C$9:$C$40,AQ268,'ABT Transactions'!$D$9:$D$40,$B$155)","v":0},{"$f":"SUMIFS('ABT Transactions'!$B$9:$B$40,'ABT Transactions'!$J$9:$J$40,$C$266,'ABT Transactions'!$I$9:$I$40,$AP$148,'ABT Transactions'!$C$9:$C$40,AR268,'ABT Transactions'!$D$9:$D$40,$B$155)","v":0},{"$f":"SUMIFS('ABT Transactions'!$B$9:$B$40,'ABT Transactions'!$J$9:$J$40,$C$266,'ABT Transactions'!$I$9:$I$40,$AS$148,'ABT Transactions'!$C$9:$C$40,AS268,'ABT Transactions'!$D$9:$D$40,$B$155)","v":0},{"$f":"SUMIFS('ABT Transactions'!$B$9:$B$40,'ABT Transactions'!$J$9:$J$40,$C$266,'ABT Transactions'!$I$9:$I$40,$AS$148,'ABT Transactions'!$C$9:$C$40,AT268,'ABT Transactions'!$D$9:$D$40,$B$155)","v":0},{"$f":"SUMIFS('ABT Transactions'!$B$9:$B$40,'ABT Transactions'!$J$9:$J$40,$C$266,'ABT Transactions'!$I$9:$I$40,$AS$148,'ABT Transactions'!$C$9:$C$40,AU268,'ABT Transactions'!$D$9:$D$40,$B$155)","v":0}]
[null,"Transfer ADV Credits (out)",{"$f":"SUMIFS('ABT Transactions'!$B$9:$B$40,'ABT Transactions'!$G$9:$G$40,$C$266,'ABT Transactions'!$F$9:$F$40,$C$148,'ABT Transactions'!$C$9:$C$40,C268,'ABT Transactions'!$D$9:$D$40,$B$156)","v":0},{"$f":"SUMIFS('ABT Transactions'!$B$9:$B$40,'ABT Transactions'!$G$9:$G$40,$C$266,'ABT Transactions'!$F$9:$F$40,$C$148,'ABT Transactions'!$C$9:$C$40,D268,'ABT Transactions'!$D$9:$D$40,$B$156)","v":0},{"$f":"SUMIFS('ABT Transactions'!$B$9:$B$40,'ABT Transactions'!$G$9:$G$40,$C$266,'ABT Transactions'!$F$9:$F$40,$C$148,'ABT Transactions'!$C$9:$C$40,E268,'ABT Transactions'!$D$9:$D$40,$B$156)","v":0},{"$f":"SUMIFS('ABT Transactions'!$B$9:$B$40,'ABT Transactions'!$G$9:$G$40,$C$266,'ABT Transactions'!$F$9:$F$40,$F$148,'ABT Transactions'!$C$9:$C$40,F268,'ABT Transactions'!$D$9:$D$40,$B$156)","v":0},{"$f":"SUMIFS('ABT Transactions'!$B$9:$B$40,'ABT Transactions'!$G$9:$G$40,$C$266,'ABT Transactions'!$F$9:$F$40,$F$148,'ABT Transactions'!$C$9:$C$40,G268,'ABT Transactions'!$D$9:$D$40,$B$156)","v":0},{"$f":"SUMIFS('ABT Transactions'!$B$9:$B$40,'ABT Transactions'!$G$9:$G$40,$C$266,'ABT Transactions'!$F$9:$F$40,$F$148,'ABT Transactions'!$C$9:$C$40,H268,'ABT Transactions'!$D$9:$D$40,$B$156)","v":0},{"$f":"SUMIFS('ABT Transactions'!$B$9:$B$40,'ABT Transactions'!$G$9:$G$40,$C$266,'ABT Transactions'!$F$9:$F$40,$I$148,'ABT Transactions'!$C$9:$C$40,I268,'ABT Transactions'!$D$9:$D$40,$B$156)","v":0},{"$f":"SUMIFS('ABT Transactions'!$B$9:$B$40,'ABT Transactions'!$G$9:$G$40,$C$266,'ABT Transactions'!$F$9:$F$40,$I$148,'ABT Transactions'!$C$9:$C$40,J268,'ABT Transactions'!$D$9:$D$40,$B$156)","v":0},{"$f":"SUMIFS('ABT Transactions'!$B$9:$B$40,'ABT Transactions'!$G$9:$G$40,$C$266,'ABT Transactions'!$F$9:$F$40,$I$148,'ABT Transactions'!$C$9:$C$40,K268,'ABT Transactions'!$D$9:$D$40,$B$156)","v":0},{"$f":"SUMIFS('ABT Transactions'!$B$9:$B$40,'ABT Transactions'!$G$9:$G$40,$C$266,'ABT Transactions'!$F$9:$F$40,$L$148,'ABT Transactions'!$C$9:$C$40,L268,'ABT Transactions'!$D$9:$D$40,$B$156)","v":0},{"$f":"SUMIFS('ABT Transactions'!$B$9:$B$40,'ABT Transactions'!$G$9:$G$40,$C$266,'ABT Transactions'!$F$9:$F$40,$L$148,'ABT Transactions'!$C$9:$C$40,M268,'ABT Transactions'!$D$9:$D$40,$B$156)","v":0},{"$f":"SUMIFS('ABT Transactions'!$B$9:$B$40,'ABT Transactions'!$G$9:$G$40,$C$266,'ABT Transactions'!$F$9:$F$40,$L$148,'ABT Transactions'!$C$9:$C$40,N268,'ABT Transactions'!$D$9:$D$40,$B$156)","v":0},{"$f":"SUMIFS('ABT Transactions'!$B$9:$B$40,'ABT Transactions'!$G$9:$G$40,$C$266,'ABT Transactions'!$F$9:$F$40,$O$148,'ABT Transactions'!$C$9:$C$40,O268,'ABT Transactions'!$D$9:$D$40,$B$156)","v":0},{"$f":"SUMIFS('ABT Transactions'!$B$9:$B$40,'ABT Transactions'!$G$9:$G$40,$C$266,'ABT Transactions'!$F$9:$F$40,$O$148,'ABT Transactions'!$C$9:$C$40,P268,'ABT Transactions'!$D$9:$D$40,$B$156)","v":0},{"$f":"SUMIFS('ABT Transactions'!$B$9:$B$40,'ABT Transactions'!$G$9:$G$40,$C$266,'ABT Transactions'!$F$9:$F$40,$O$148,'ABT Transactions'!$C$9:$C$40,Q268,'ABT Transactions'!$D$9:$D$40,$B$156)","v":0},{"$f":"SUMIFS('ABT Transactions'!$B$9:$B$40,'ABT Transactions'!$G$9:$G$40,$C$266,'ABT Transactions'!$F$9:$F$40,$R$148,'ABT Transactions'!$C$9:$C$40,R268,'ABT Transactions'!$D$9:$D$40,$B$156)","v":0},{"$f":"SUMIFS('ABT Transactions'!$B$9:$B$40,'ABT Transactions'!$G$9:$G$40,$C$266,'ABT Transactions'!$F$9:$F$40,$R$148,'ABT Transactions'!$C$9:$C$40,S268,'ABT Transactions'!$D$9:$D$40,$B$156)","v":0},{"$f":"SUMIFS('ABT Transactions'!$B$9:$B$40,'ABT Transactions'!$G$9:$G$40,$C$266,'ABT Transactions'!$F$9:$F$40,$R$148,'ABT Transactions'!$C$9:$C$40,T268,'ABT Transactions'!$D$9:$D$40,$B$156)","v":0},{"$f":"SUMIFS('ABT Transactions'!$B$9:$B$40,'ABT Transactions'!$G$9:$G$40,$C$266,'ABT Transactions'!$F$9:$F$40,$U$148,'ABT Transactions'!$C$9:$C$40,U268,'ABT Transactions'!$D$9:$D$40,$B$156)","v":0},{"$f":"SUMIFS('ABT Transactions'!$B$9:$B$40,'ABT Transactions'!$G$9:$G$40,$C$266,'ABT Transactions'!$F$9:$F$40,$U$148,'ABT Transactions'!$C$9:$C$40,V268,'ABT Transactions'!$D$9:$D$40,$B$156)","v":0},{"$f":"SUMIFS('ABT Transactions'!$B$9:$B$40,'ABT Transactions'!$G$9:$G$40,$C$266,'ABT Transactions'!$F$9:$F$40,U$148,'ABT Transactions'!$C$9:$C$40,W268,'ABT Transactions'!$D$9:$D$40,$B$156)","v":0},{"$f":"SUMIFS('ABT Transactions'!$B$9:$B$40,'ABT Transactions'!$G$9:$G$40,$C$266,'ABT Transactions'!$F$9:$F$40,$X$148,'ABT Transactions'!$C$9:$C$40,X268,'ABT Transactions'!$D$9:$D$40,$B$156)","v":0},{"$f":"SUMIFS('ABT Transactions'!$B$9:$B$40,'ABT Transactions'!$G$9:$G$40,$C$266,'ABT Transactions'!$F$9:$F$40,$X$148,'ABT Transactions'!$C$9:$C$40,Y268,'ABT Transactions'!$D$9:$D$40,$B$156)","v":0},{"$f":"SUMIFS('ABT Transactions'!$B$9:$B$40,'ABT Transactions'!$G$9:$G$40,$C$266,'ABT Transactions'!$F$9:$F$40,$X$148,'ABT Transactions'!$C$9:$C$40,Z268,'ABT Transactions'!$D$9:$D$40,$B$156)","v":0},{"$f":"SUMIFS('ABT Transactions'!$B$9:$B$40,'ABT Transactions'!$G$9:$G$40,$C$266,'ABT Transactions'!$F$9:$F$40,$AA$148,'ABT Transactions'!$C$9:$C$40,AA268,'ABT Transactions'!$D$9:$D$40,$B$156)","v":0},{"$f":"SUMIFS('ABT Transactions'!$B$9:$B$40,'ABT Transactions'!$G$9:$G$40,$C$266,'ABT Transactions'!$F$9:$F$40,$AA$148,'ABT Transactions'!$C$9:$C$40,AB268,'ABT Transactions'!$D$9:$D$40,$B$156)","v":0},{"$f":"SUMIFS('ABT Transactions'!$B$9:$B$40,'ABT Transactions'!$G$9:$G$40,$C$266,'ABT Transactions'!$F$9:$F$40,$AA$148,'ABT Transactions'!$C$9:$C$40,AC268,'ABT Transactions'!$D$9:$D$40,$B$156)","v":0},{"$f":"SUMIFS('ABT Transactions'!$B$9:$B$40,'ABT Transactions'!$G$9:$G$40,$C$266,'ABT Transactions'!$F$9:$F$40,$AD$148,'ABT Transactions'!$C$9:$C$40,AD268,'ABT Transactions'!$D$9:$D$40,$B$156)","v":0},{"$f":"SUMIFS('ABT Transactions'!$B$9:$B$40,'ABT Transactions'!$G$9:$G$40,$C$266,'ABT Transactions'!$F$9:$F$40,$AD$148,'ABT Transactions'!$C$9:$C$40,AE268,'ABT Transactions'!$D$9:$D$40,$B$156)","v":0},{"$f":"SUMIFS('ABT Transactions'!$B$9:$B$40,'ABT Transactions'!$G$9:$G$40,$C$266,'ABT Transactions'!$F$9:$F$40,$AD$148,'ABT Transactions'!$C$9:$C$40,AF268,'ABT Transactions'!$D$9:$D$40,$B$156)","v":0},{"$f":"SUMIFS('ABT Transactions'!$B$9:$B$40,'ABT Transactions'!$G$9:$G$40,$C$266,'ABT Transactions'!$F$9:$F$40,$AG$148,'ABT Transactions'!$C$9:$C$40,AG268,'ABT Transactions'!$D$9:$D$40,$B$156)","v":0},{"$f":"SUMIFS('ABT Transactions'!$B$9:$B$40,'ABT Transactions'!$G$9:$G$40,$C$266,'ABT Transactions'!$F$9:$F$40,$AG$148,'ABT Transactions'!$C$9:$C$40,AH268,'ABT Transactions'!$D$9:$D$40,$B$156)","v":0},{"$f":"SUMIFS('ABT Transactions'!$B$9:$B$40,'ABT Transactions'!$G$9:$G$40,$C$266,'ABT Transactions'!$F$9:$F$40,$AG$148,'ABT Transactions'!$C$9:$C$40,AI268,'ABT Transactions'!$D$9:$D$40,$B$156)","v":0},{"$f":"SUMIFS('ABT Transactions'!$B$9:$B$40,'ABT Transactions'!$G$9:$G$40,$C$266,'ABT Transactions'!$F$9:$F$40,$AJ$148,'ABT Transactions'!$C$9:$C$40,AJ268,'ABT Transactions'!$D$9:$D$40,$B$156)","v":0},{"$f":"SUMIFS('ABT Transactions'!$B$9:$B$40,'ABT Transactions'!$G$9:$G$40,$C$266,'ABT Transactions'!$F$9:$F$40,$AJ$148,'ABT Transactions'!$C$9:$C$40,AK268,'ABT Transactions'!$D$9:$D$40,$B$156)","v":0},{"$f":"SUMIFS('ABT Transactions'!$B$9:$B$40,'ABT Transactions'!$G$9:$G$40,$C$266,'ABT Transactions'!$F$9:$F$40,$AJ$148,'ABT Transactions'!$C$9:$C$40,AL268,'ABT Transactions'!$D$9:$D$40,$B$156)","v":0},{"$f":"SUMIFS('ABT Transactions'!$B$9:$B$40,'ABT Transactions'!$G$9:$G$40,$C$266,'ABT Transactions'!$F$9:$F$40,$AM$148,'ABT Transactions'!$C$9:$C$40,AM268,'ABT Transactions'!$D$9:$D$40,$B$156)","v":0},{"$f":"SUMIFS('ABT Transactions'!$B$9:$B$40,'ABT Transactions'!$G$9:$G$40,$C$266,'ABT Transactions'!$F$9:$F$40,$AM$148,'ABT Transactions'!$C$9:$C$40,AN268,'ABT Transactions'!$D$9:$D$40,$B$156)","v":0},{"$f":"SUMIFS('ABT Transactions'!$B$9:$B$40,'ABT Transactions'!$G$9:$G$40,$C$266,'ABT Transactions'!$F$9:$F$40,$AM$148,'ABT Transactions'!$C$9:$C$40,AO268,'ABT Transactions'!$D$9:$D$40,$B$156)","v":0},{"$f":"SUMIFS('ABT Transactions'!$B$9:$B$40,'ABT Transactions'!$G$9:$G$40,$C$266,'ABT Transactions'!$F$9:$F$40,$AP$148,'ABT Transactions'!$C$9:$C$40,AP268,'ABT Transactions'!$D$9:$D$40,$B$156)","v":0},{"$f":"SUMIFS('ABT Transactions'!$B$9:$B$40,'ABT Transactions'!$G$9:$G$40,$C$266,'ABT Transactions'!$F$9:$F$40,$AP$148,'ABT Transactions'!$C$9:$C$40,AQ268,'ABT Transactions'!$D$9:$D$40,$B$156)","v":0},{"$f":"SUMIFS('ABT Transactions'!$B$9:$B$40,'ABT Transactions'!$G$9:$G$40,$C$266,'ABT Transactions'!$F$9:$F$40,$AP$148,'ABT Transactions'!$C$9:$C$40,AR268,'ABT Transactions'!$D$9:$D$40,$B$156)","v":0},{"$f":"SUMIFS('ABT Transactions'!$B$9:$B$40,'ABT Transactions'!$G$9:$G$40,$C$266,'ABT Transactions'!$F$9:$F$40,$AS$148,'ABT Transactions'!$C$9:$C$40,AS268,'ABT Transactions'!$D$9:$D$40,$B$156)","v":0},{"$f":"SUMIFS('ABT Transactions'!$B$9:$B$40,'ABT Transactions'!$G$9:$G$40,$C$266,'ABT Transactions'!$F$9:$F$40,$AS$148,'ABT Transactions'!$C$9:$C$40,AT268,'ABT Transactions'!$D$9:$D$40,$B$156)","v":0},{"$f":"SUMIFS('ABT Transactions'!$B$9:$B$40,'ABT Transactions'!$G$9:$G$40,$C$266,'ABT Transactions'!$F$9:$F$40,$AS$148,'ABT Transactions'!$C$9:$C$40,AU268,'ABT Transactions'!$D$9:$D$40,$B$156)","v":0}]
[null,"Transfer ADV Credits (in)",{"$f":"SUMIFS('ABT Transactions'!$B$9:$B$40,'ABT Transactions'!$J$9:$J$40,$C$266,'ABT Transactions'!$I$9:$I$40,$C$148,'ABT Transactions'!$C$9:$C$40,C268,'ABT Transactions'!$D$9:$D$40,$B$157)","v":0},{"$f":"SUMIFS('ABT Transactions'!$B$9:$B$40,'ABT Transactions'!$J$9:$J$40,$C$266,'ABT Transactions'!$I$9:$I$40,$C$148,'ABT Transactions'!$C$9:$C$40,D268,'ABT Transactions'!$D$9:$D$40,$B$157)","v":0},{"$f":"SUMIFS('ABT Transactions'!$B$9:$B$40,'ABT Transactions'!$J$9:$J$40,$C$266,'ABT Transactions'!$I$9:$I$40,$C$148,'ABT Transactions'!$C$9:$C$40,E268,'ABT Transactions'!$D$9:$D$40,$B$157)","v":0},{"$f":"SUMIFS('ABT Transactions'!$B$9:$B$40,'ABT Transactions'!$J$9:$J$40,$C$266,'ABT Transactions'!$I$9:$I$40,$F$148,'ABT Transactions'!$C$9:$C$40,F268,'ABT Transactions'!$D$9:$D$40,$B$157)","v":0},{"$f":"SUMIFS('ABT Transactions'!$B$9:$B$40,'ABT Transactions'!$J$9:$J$40,$C$266,'ABT Transactions'!$I$9:$I$40,$F$148,'ABT Transactions'!$C$9:$C$40,G268,'ABT Transactions'!$D$9:$D$40,$B$157)","v":0},{"$f":"SUMIFS('ABT Transactions'!$B$9:$B$40,'ABT Transactions'!$J$9:$J$40,$C$266,'ABT Transactions'!$I$9:$I$40,$F$148,'ABT Transactions'!$C$9:$C$40,H268,'ABT Transactions'!$D$9:$D$40,$B$157)","v":0},{"$f":"SUMIFS('ABT Transactions'!$B$9:$B$40,'ABT Transactions'!$J$9:$J$40,$C$266,'ABT Transactions'!$I$9:$I$40,$I$148,'ABT Transactions'!$C$9:$C$40,I268,'ABT Transactions'!$D$9:$D$40,$B$157)","v":0},{"$f":"SUMIFS('ABT Transactions'!$B$9:$B$40,'ABT Transactions'!$J$9:$J$40,$C$266,'ABT Transactions'!$I$9:$I$40,$I$148,'ABT Transactions'!$C$9:$C$40,J268,'ABT Transactions'!$D$9:$D$40,$B$157)","v":0},{"$f":"SUMIFS('ABT Transactions'!$B$9:$B$40,'ABT Transactions'!$J$9:$J$40,$C$266,'ABT Transactions'!$I$9:$I$40,$I$148,'ABT Transactions'!$C$9:$C$40,K268,'ABT Transactions'!$D$9:$D$40,$B$157)","v":0},{"$f":"SUMIFS('ABT Transactions'!$B$9:$B$40,'ABT Transactions'!$J$9:$J$40,$C$266,'ABT Transactions'!$I$9:$I$40,$L$148,'ABT Transactions'!$C$9:$C$40,L268,'ABT Transactions'!$D$9:$D$40,$B$157)","v":0},{"$f":"SUMIFS('ABT Transactions'!$B$9:$B$40,'ABT Transactions'!$J$9:$J$40,$C$266,'ABT Transactions'!$I$9:$I$40,$L$148,'ABT Transactions'!$C$9:$C$40,M268,'ABT Transactions'!$D$9:$D$40,$B$157)","v":0},{"$f":"SUMIFS('ABT Transactions'!$B$9:$B$40,'ABT Transactions'!$J$9:$J$40,$C$266,'ABT Transactions'!$I$9:$I$40,$L$148,'ABT Transactions'!$C$9:$C$40,N268,'ABT Transactions'!$D$9:$D$40,$B$157)","v":0},{"$f":"SUMIFS('ABT Transactions'!$B$9:$B$40,'ABT Transactions'!$J$9:$J$40,$C$266,'ABT Transactions'!$I$9:$I$40,$O$148,'ABT Transactions'!$C$9:$C$40,O268,'ABT Transactions'!$D$9:$D$40,$B$157)","v":0},{"$f":"SUMIFS('ABT Transactions'!$B$9:$B$40,'ABT Transactions'!$J$9:$J$40,$C$266,'ABT Transactions'!$I$9:$I$40,$O$148,'ABT Transactions'!$C$9:$C$40,P268,'ABT Transactions'!$D$9:$D$40,$B$157)","v":0},{"$f":"SUMIFS('ABT Transactions'!$B$9:$B$40,'ABT Transactions'!$J$9:$J$40,$C$266,'ABT Transactions'!$I$9:$I$40,$O$148,'ABT Transactions'!$C$9:$C$40,Q268,'ABT Transactions'!$D$9:$D$40,$B$157)","v":0},{"$f":"SUMIFS('ABT Transactions'!$B$9:$B$40,'ABT Transactions'!$J$9:$J$40,$C$266,'ABT Transactions'!$I$9:$I$40,$R$148,'ABT Transactions'!$C$9:$C$40,R268,'ABT Transactions'!$D$9:$D$40,$B$157)","v":0},{"$f":"SUMIFS('ABT Transactions'!$B$9:$B$40,'ABT Transactions'!$J$9:$J$40,$C$266,'ABT Transactions'!$I$9:$I$40,$R$148,'ABT Transactions'!$C$9:$C$40,S268,'ABT Transactions'!$D$9:$D$40,$B$157)","v":0},{"$f":"SUMIFS('ABT Transactions'!$B$9:$B$40,'ABT Transactions'!$J$9:$J$40,$C$266,'ABT Transactions'!$I$9:$I$40,$R$148,'ABT Transactions'!$C$9:$C$40,T268,'ABT Transactions'!$D$9:$D$40,$B$157)","v":0},{"$f":"SUMIFS('ABT Transactions'!$B$9:$B$40,'ABT Transactions'!$J$9:$J$40,$C$266,'ABT Transactions'!$I$9:$I$40,$U$148,'ABT Transactions'!$C$9:$C$40,U268,'ABT Transactions'!$D$9:$D$40,$B$157)","v":0},{"$f":"SUMIFS('ABT Transactions'!$B$9:$B$40,'ABT Transactions'!$J$9:$J$40,$C$266,'ABT Transactions'!$I$9:$I$40,$U$148,'ABT Transactions'!$C$9:$C$40,V268,'ABT Transactions'!$D$9:$D$40,$B$157)","v":0},{"$f":"SUMIFS('ABT Transactions'!$B$9:$B$40,'ABT Transactions'!$J$9:$J$40,$C$266,'ABT Transactions'!$I$9:$I$40,U$148,'ABT Transactions'!$C$9:$C$40,W268,'ABT Transactions'!$D$9:$D$40,$B$157)","v":0},{"$f":"SUMIFS('ABT Transactions'!$B$9:$B$40,'ABT Transactions'!$J$9:$J$40,$C$266,'ABT Transactions'!$I$9:$I$40,$X$148,'ABT Transactions'!$C$9:$C$40,X268,'ABT Transactions'!$D$9:$D$40,$B$157)","v":0},{"$f":"SUMIFS('ABT Transactions'!$B$9:$B$40,'ABT Transactions'!$J$9:$J$40,$C$266,'ABT Transactions'!$I$9:$I$40,$X$148,'ABT Transactions'!$C$9:$C$40,Y268,'ABT Transactions'!$D$9:$D$40,$B$157)","v":0},{"$f":"SUMIFS('ABT Transactions'!$B$9:$B$40,'ABT Transactions'!$J$9:$J$40,$C$266,'ABT Transactions'!$I$9:$I$40,$X$148,'ABT Transactions'!$C$9:$C$40,Z268,'ABT Transactions'!$D$9:$D$40,$B$157)","v":0},{"$f":"SUMIFS('ABT Transactions'!$B$9:$B$40,'ABT Transactions'!$J$9:$J$40,$C$266,'ABT Transactions'!$I$9:$I$40,$AA$148,'ABT Transactions'!$C$9:$C$40,AA268,'ABT Transactions'!$D$9:$D$40,$B$157)","v":0},{"$f":"SUMIFS('ABT Transactions'!$B$9:$B$40,'ABT Transactions'!$J$9:$J$40,$C$266,'ABT Transactions'!$I$9:$I$40,$AA$148,'ABT Transactions'!$C$9:$C$40,AB268,'ABT Transactions'!$D$9:$D$40,$B$157)","v":0},{"$f":"SUMIFS('ABT Transactions'!$B$9:$B$40,'ABT Transactions'!$J$9:$J$40,$C$266,'ABT Transactions'!$I$9:$I$40,$AA$148,'ABT Transactions'!$C$9:$C$40,AC268,'ABT Transactions'!$D$9:$D$40,$B$157)","v":0},{"$f":"SUMIFS('ABT Transactions'!$B$9:$B$40,'ABT Transactions'!$J$9:$J$40,$C$266,'ABT Transactions'!$I$9:$I$40,$AD$148,'ABT Transactions'!$C$9:$C$40,AD268,'ABT Transactions'!$D$9:$D$40,$B$157)","v":0},{"$f":"SUMIFS('ABT Transactions'!$B$9:$B$40,'ABT Transactions'!$J$9:$J$40,$C$266,'ABT Transactions'!$I$9:$I$40,$AD$148,'ABT Transactions'!$C$9:$C$40,AE268,'ABT Transactions'!$D$9:$D$40,$B$157)","v":0},{"$f":"SUMIFS('ABT Transactions'!$B$9:$B$40,'ABT Transactions'!$J$9:$J$40,$C$266,'ABT Transactions'!$I$9:$I$40,$AD$148,'ABT Transactions'!$C$9:$C$40,AF268,'ABT Transactions'!$D$9:$D$40,$B$157)","v":0},{"$f":"SUMIFS('ABT Transactions'!$B$9:$B$40,'ABT Transactions'!$J$9:$J$40,$C$266,'ABT Transactions'!$I$9:$I$40,$AG$148,'ABT Transactions'!$C$9:$C$40,AG268,'ABT Transactions'!$D$9:$D$40,$B$157)","v":0},{"$f":"SUMIFS('ABT Transactions'!$B$9:$B$40,'ABT Transactions'!$J$9:$J$40,$C$266,'ABT Transactions'!$I$9:$I$40,$AG$148,'ABT Transactions'!$C$9:$C$40,AH268,'ABT Transactions'!$D$9:$D$40,$B$157)","v":0},{"$f":"SUMIFS('ABT Transactions'!$B$9:$B$40,'ABT Transactions'!$J$9:$J$40,$C$266,'ABT Transactions'!$I$9:$I$40,$AG$148,'ABT Transactions'!$C$9:$C$40,AI268,'ABT Transactions'!$D$9:$D$40,$B$157)","v":0},{"$f":"SUMIFS('ABT Transactions'!$B$9:$B$40,'ABT Transactions'!$J$9:$J$40,$C$266,'ABT Transactions'!$I$9:$I$40,$AJ$148,'ABT Transactions'!$C$9:$C$40,AJ268,'ABT Transactions'!$D$9:$D$40,$B$157)","v":0},{"$f":"SUMIFS('ABT Transactions'!$B$9:$B$40,'ABT Transactions'!$J$9:$J$40,$C$266,'ABT Transactions'!$I$9:$I$40,$AJ$148,'ABT Transactions'!$C$9:$C$40,AK268,'ABT Transactions'!$D$9:$D$40,$B$157)","v":0},{"$f":"SUMIFS('ABT Transactions'!$B$9:$B$40,'ABT Transactions'!$J$9:$J$40,$C$266,'ABT Transactions'!$I$9:$I$40,$AJ$148,'ABT Transactions'!$C$9:$C$40,AL268,'ABT Transactions'!$D$9:$D$40,$B$157)","v":0},{"$f":"SUMIFS('ABT Transactions'!$B$9:$B$40,'ABT Transactions'!$J$9:$J$40,$C$266,'ABT Transactions'!$I$9:$I$40,$AM$148,'ABT Transactions'!$C$9:$C$40,AM268,'ABT Transactions'!$D$9:$D$40,$B$157)","v":0},{"$f":"SUMIFS('ABT Transactions'!$B$9:$B$40,'ABT Transactions'!$J$9:$J$40,$C$266,'ABT Transactions'!$I$9:$I$40,$AM$148,'ABT Transactions'!$C$9:$C$40,AN268,'ABT Transactions'!$D$9:$D$40,$B$157)","v":0},{"$f":"SUMIFS('ABT Transactions'!$B$9:$B$40,'ABT Transactions'!$J$9:$J$40,$C$266,'ABT Transactions'!$I$9:$I$40,$AM$148,'ABT Transactions'!$C$9:$C$40,AO268,'ABT Transactions'!$D$9:$D$40,$B$157)","v":0},{"$f":"SUMIFS('ABT Transactions'!$B$9:$B$40,'ABT Transactions'!$J$9:$J$40,$C$266,'ABT Transactions'!$I$9:$I$40,$AP$148,'ABT Transactions'!$C$9:$C$40,AP268,'ABT Transactions'!$D$9:$D$40,$B$157)","v":0},{"$f":"SUMIFS('ABT Transactions'!$B$9:$B$40,'ABT Transactions'!$J$9:$J$40,$C$266,'ABT Transactions'!$I$9:$I$40,$AP$148,'ABT Transactions'!$C$9:$C$40,AQ268,'ABT Transactions'!$D$9:$D$40,$B$157)","v":0},{"$f":"SUMIFS('ABT Transactions'!$B$9:$B$40,'ABT Transactions'!$J$9:$J$40,$C$266,'ABT Transactions'!$I$9:$I$40,$AP$148,'ABT Transactions'!$C$9:$C$40,AR268,'ABT Transactions'!$D$9:$D$40,$B$157)","v":0},{"$f":"SUMIFS('ABT Transactions'!$B$9:$B$40,'ABT Transactions'!$J$9:$J$40,$C$266,'ABT Transactions'!$I$9:$I$40,$AS$148,'ABT Transactions'!$C$9:$C$40,AS268,'ABT Transactions'!$D$9:$D$40,$B$157)","v":0},{"$f":"SUMIFS('ABT Transactions'!$B$9:$B$40,'ABT Transactions'!$J$9:$J$40,$C$266,'ABT Transactions'!$I$9:$I$40,$AS$148,'ABT Transactions'!$C$9:$C$40,AT268,'ABT Transactions'!$D$9:$D$40,$B$157)","v":0},{"$f":"SUMIFS('ABT Transactions'!$B$9:$B$40,'ABT Transactions'!$J$9:$J$40,$C$266,'ABT Transactions'!$I$9:$I$40,$AS$148,'ABT Transactions'!$C$9:$C$40,AU268,'ABT Transactions'!$D$9:$D$40,$B$157)","v":0}]
[null,"Retired Credits",{"$f":"SUMIFS('ABT Transactions'!$B$9:$B$40,'ABT Transactions'!$G$9:$G$40,$C$266,'ABT Transactions'!$F$9:$F$40,$C$148,'ABT Transactions'!$C$9:$C$40,C268,'ABT Transactions'!$D$9:$D$40,$B$158)","v":0},{"$f":"SUMIFS('ABT Transactions'!$B$9:$B$40,'ABT Transactions'!$G$9:$G$40,$C$266,'ABT Transactions'!$F$9:$F$40,$C$148,'ABT Transactions'!$C$9:$C$40,D268,'ABT Transactions'!$D$9:$D$40,$B$158)","v":0},{"$f":"SUMIFS('ABT Transactions'!$B$9:$B$40,'ABT Transactions'!$G$9:$G$40,$C$266,'ABT Transactions'!$F$9:$F$40,$C$148,'ABT Transactions'!$C$9:$C$40,E268,'ABT Transactions'!$D$9:$D$40,$B$158)","v":0},{"$f":"SUMIFS('ABT Transactions'!$B$9:$B$40,'ABT Transactions'!$G$9:$G$40,$C$266,'ABT Transactions'!$F$9:$F$40,$F$148,'ABT Transactions'!$C$9:$C$40,F268,'ABT Transactions'!$D$9:$D$40,$B$158)","v":0},{"$f":"SUMIFS('ABT Transactions'!$B$9:$B$40,'ABT Transactions'!$G$9:$G$40,$C$266,'ABT Transactions'!$F$9:$F$40,$F$148,'ABT Transactions'!$C$9:$C$40,G268,'ABT Transactions'!$D$9:$D$40,$B$158)","v":0},{"$f":"SUMIFS('ABT Transactions'!$B$9:$B$40,'ABT Transactions'!$G$9:$G$40,$C$266,'ABT Transactions'!$F$9:$F$40,$F$148,'ABT Transactions'!$C$9:$C$40,H268,'ABT Transactions'!$D$9:$D$40,$B$158)","v":0},{"$f":"SUMIFS('ABT Transactions'!$B$9:$B$40,'ABT Transactions'!$G$9:$G$40,$C$266,'ABT Transactions'!$F$9:$F$40,$I$148,'ABT Transactions'!$C$9:$C$40,I268,'ABT Transactions'!$D$9:$D$40,$B$158)","v":0},{"$f":"SUMIFS('ABT Transactions'!$B$9:$B$40,'ABT Transactions'!$G$9:$G$40,$C$266,'ABT Transactions'!$F$9:$F$40,$I$148,'ABT Transactions'!$C$9:$C$40,J268,'ABT Transactions'!$D$9:$D$40,$B$158)","v":0},{"$f":"SUMIFS('ABT Transactions'!$B$9:$B$40,'ABT Transactions'!$G$9:$G$40,$C$266,'ABT Transactions'!$F$9:$F$40,$I$148,'ABT Transactions'!$C$9:$C$40,K268,'ABT Transactions'!$D$9:$D$40,$B$158)","v":0},{"$f":"SUMIFS('ABT Transactions'!$B$9:$B$40,'ABT Transactions'!$G$9:$G$40,$C$266,'ABT Transactions'!$F$9:$F$40,$L$148,'ABT Transactions'!$C$9:$C$40,L268,'ABT Transactions'!$D$9:$D$40,$B$158)","v":0},{"$f":"SUMIFS('ABT Transactions'!$B$9:$B$40,'ABT Transactions'!$G$9:$G$40,$C$266,'ABT Transactions'!$F$9:$F$40,$L$148,'ABT Transactions'!$C$9:$C$40,M268,'ABT Transactions'!$D$9:$D$40,$B$158)","v":0},{"$f":"SUMIFS('ABT Transactions'!$B$9:$B$40,'ABT Transactions'!$G$9:$G$40,$C$266,'ABT Transactions'!$F$9:$F$40,$L$148,'ABT Transactions'!$C$9:$C$40,N268,'ABT Transactions'!$D$9:$D$40,$B$158)","v":0},{"$f":"SUMIFS('ABT Transactions'!$B$9:$B$40,'ABT Transactions'!$G$9:$G$40,$C$266,'ABT Transactions'!$F$9:$F$40,$O$148,'ABT Transactions'!$C$9:$C$40,O268,'ABT Transactions'!$D$9:$D$40,$B$158)","v":0},{"$f":"SUMIFS('ABT Transactions'!$B$9:$B$40,'ABT Transactions'!$G$9:$G$40,$C$266,'ABT Transactions'!$F$9:$F$40,$O$148,'ABT Transactions'!$C$9:$C$40,P268,'ABT Transactions'!$D$9:$D$40,$B$158)","v":0},{"$f":"SUMIFS('ABT Transactions'!$B$9:$B$40,'ABT Transactions'!$G$9:$G$40,$C$266,'ABT Transactions'!$F$9:$F$40,$O$148,'ABT Transactions'!$C$9:$C$40,Q268,'ABT Transactions'!$D$9:$D$40,$B$158)","v":0},{"$f":"SUMIFS('ABT Transactions'!$B$9:$B$40,'ABT Transactions'!$G$9:$G$40,$C$266,'ABT Transactions'!$F$9:$F$40,$R$148,'ABT Transactions'!$C$9:$C$40,R268,'ABT Transactions'!$D$9:$D$40,$B$158)","v":0},{"$f":"SUMIFS('ABT Transactions'!$B$9:$B$40,'ABT Transactions'!$G$9:$G$40,$C$266,'ABT Transactions'!$F$9:$F$40,$R$148,'ABT Transactions'!$C$9:$C$40,S268,'ABT Transactions'!$D$9:$D$40,$B$158)","v":0},{"$f":"SUMIFS('ABT Transactions'!$B$9:$B$40,'ABT Transactions'!$G$9:$G$40,$C$266,'ABT Transactions'!$F$9:$F$40,$R$148,'ABT Transactions'!$C$9:$C$40,T268,'ABT Transactions'!$D$9:$D$40,$B$158)","v":0},{"$f":"SUMIFS('ABT Transactions'!$B$9:$B$40,'ABT Transactions'!$G$9:$G$40,$C$266,'ABT Transactions'!$F$9:$F$40,$U$148,'ABT Transactions'!$C$9:$C$40,U268,'ABT Transactions'!$D$9:$D$40,$B$158)","v":0},{"$f":"SUMIFS('ABT Transactions'!$B$9:$B$40,'ABT Transactions'!$G$9:$G$40,$C$266,'ABT Transactions'!$F$9:$F$40,$U$148,'ABT Transactions'!$C$9:$C$40,V268,'ABT Transactions'!$D$9:$D$40,$B$158)","v":0},{"$f":"SUMIFS('ABT Transactions'!$B$9:$B$40,'ABT Transactions'!$G$9:$G$40,$C$266,'ABT Transactions'!$F$9:$F$40,U$148,'ABT Transactions'!$C$9:$C$40,W268,'ABT Transactions'!$D$9:$D$40,$B$158)","v":0},{"$f":"SUMIFS('ABT Transactions'!$B$9:$B$40,'ABT Transactions'!$G$9:$G$40,$C$266,'ABT Transactions'!$F$9:$F$40,$X$148,'ABT Transactions'!$C$9:$C$40,X268,'ABT Transactions'!$D$9:$D$40,$B$158)","v":0},{"$f":"SUMIFS('ABT Transactions'!$B$9:$B$40,'ABT Transactions'!$G$9:$G$40,$C$266,'ABT Transactions'!$F$9:$F$40,$X$148,'ABT Transactions'!$C$9:$C$40,Y268,'ABT Transactions'!$D$9:$D$40,$B$158)","v":0},{"$f":"SUMIFS('ABT Transactions'!$B$9:$B$40,'ABT Transactions'!$G$9:$G$40,$C$266,'ABT Transactions'!$F$9:$F$40,$X$148,'ABT Transactions'!$C$9:$C$40,Z268,'ABT Transactions'!$D$9:$D$40,$B$158)","v":0},{"$f":"SUMIFS('ABT Transactions'!$B$9:$B$40,'ABT Transactions'!$G$9:$G$40,$C$266,'ABT Transactions'!$F$9:$F$40,$AA$148,'ABT Transactions'!$C$9:$C$40,AA268,'ABT Transactions'!$D$9:$D$40,$B$158)","v":0},{"$f":"SUMIFS('ABT Transactions'!$B$9:$B$40,'ABT Transactions'!$G$9:$G$40,$C$266,'ABT Transactions'!$F$9:$F$40,$AA$148,'ABT Transactions'!$C$9:$C$40,AB268,'ABT Transactions'!$D$9:$D$40,$B$158)","v":0},{"$f":"SUMIFS('ABT Transactions'!$B$9:$B$40,'ABT Transactions'!$G$9:$G$40,$C$266,'ABT Transactions'!$F$9:$F$40,$AA$148,'ABT Transactions'!$C$9:$C$40,AC268,'ABT Transactions'!$D$9:$D$40,$B$158)","v":0},{"$f":"SUMIFS('ABT Transactions'!$B$9:$B$40,'ABT Transactions'!$G$9:$G$40,$C$266,'ABT Transactions'!$F$9:$F$40,$AD$148,'ABT Transactions'!$C$9:$C$40,AD268,'ABT Transactions'!$D$9:$D$40,$B$158)","v":0},{"$f":"SUMIFS('ABT Transactions'!$B$9:$B$40,'ABT Transactions'!$G$9:$G$40,$C$266,'ABT Transactions'!$F$9:$F$40,$AD$148,'ABT Transactions'!$C$9:$C$40,AE268,'ABT Transactions'!$D$9:$D$40,$B$158)","v":0},{"$f":"SUMIFS('ABT Transactions'!$B$9:$B$40,'ABT Transactions'!$G$9:$G$40,$C$266,'ABT Transactions'!$F$9:$F$40,$AD$148,'ABT Transactions'!$C$9:$C$40,AF268,'ABT Transactions'!$D$9:$D$40,$B$158)","v":0},{"$f":"SUMIFS('ABT Transactions'!$B$9:$B$40,'ABT Transactions'!$G$9:$G$40,$C$266,'ABT Transactions'!$F$9:$F$40,$AG$148,'ABT Transactions'!$C$9:$C$40,AG268,'ABT Transactions'!$D$9:$D$40,$B$158)","v":0},{"$f":"SUMIFS('ABT Transactions'!$B$9:$B$40,'ABT Transactions'!$G$9:$G$40,$C$266,'ABT Transactions'!$F$9:$F$40,$AG$148,'ABT Transactions'!$C$9:$C$40,AH268,'ABT Transactions'!$D$9:$D$40,$B$158)","v":0},{"$f":"SUMIFS('ABT Transactions'!$B$9:$B$40,'ABT Transactions'!$G$9:$G$40,$C$266,'ABT Transactions'!$F$9:$F$40,$AG$148,'ABT Transactions'!$C$9:$C$40,AI268,'ABT Transactions'!$D$9:$D$40,$B$158)","v":0},{"$f":"SUMIFS('ABT Transactions'!$B$9:$B$40,'ABT Transactions'!$G$9:$G$40,$C$266,'ABT Transactions'!$F$9:$F$40,$AJ$148,'ABT Transactions'!$C$9:$C$40,AJ268,'ABT Transactions'!$D$9:$D$40,$B$158)","v":0},{"$f":"SUMIFS('ABT Transactions'!$B$9:$B$40,'ABT Transactions'!$G$9:$G$40,$C$266,'ABT Transactions'!$F$9:$F$40,$AJ$148,'ABT Transactions'!$C$9:$C$40,AK268,'ABT Transactions'!$D$9:$D$40,$B$158)","v":0},{"$f":"SUMIFS('ABT Transactions'!$B$9:$B$40,'ABT Transactions'!$G$9:$G$40,$C$266,'ABT Transactions'!$F$9:$F$40,$AJ$148,'ABT Transactions'!$C$9:$C$40,AL268,'ABT Transactions'!$D$9:$D$40,$B$158)","v":0},{"$f":"SUMIFS('ABT Transactions'!$B$9:$B$40,'ABT Transactions'!$G$9:$G$40,$C$266,'ABT Transactions'!$F$9:$F$40,$AM$148,'ABT Transactions'!$C$9:$C$40,AM268,'ABT Transactions'!$D$9:$D$40,$B$158)","v":0},{"$f":"SUMIFS('ABT Transactions'!$B$9:$B$40,'ABT Transactions'!$G$9:$G$40,$C$266,'ABT Transactions'!$F$9:$F$40,$AM$148,'ABT Transactions'!$C$9:$C$40,AN268,'ABT Transactions'!$D$9:$D$40,$B$158)","v":0},{"$f":"SUMIFS('ABT Transactions'!$B$9:$B$40,'ABT Transactions'!$G$9:$G$40,$C$266,'ABT Transactions'!$F$9:$F$40,$AM$148,'ABT Transactions'!$C$9:$C$40,AO268,'ABT Transactions'!$D$9:$D$40,$B$158)","v":0},{"$f":"SUMIFS('ABT Transactions'!$B$9:$B$40,'ABT Transactions'!$G$9:$G$40,$C$266,'ABT Transactions'!$F$9:$F$40,$AP$148,'ABT Transactions'!$C$9:$C$40,AP268,'ABT Transactions'!$D$9:$D$40,$B$158)","v":0},{"$f":"SUMIFS('ABT Transactions'!$B$9:$B$40,'ABT Transactions'!$G$9:$G$40,$C$266,'ABT Transactions'!$F$9:$F$40,$AP$148,'ABT Transactions'!$C$9:$C$40,AQ268,'ABT Transactions'!$D$9:$D$40,$B$158)","v":0},{"$f":"SUMIFS('ABT Transactions'!$B$9:$B$40,'ABT Transactions'!$G$9:$G$40,$C$266,'ABT Transactions'!$F$9:$F$40,$AP$148,'ABT Transactions'!$C$9:$C$40,AR268,'ABT Transactions'!$D$9:$D$40,$B$158)","v":0},{"$f":"SUMIFS('ABT Transactions'!$B$9:$B$40,'ABT Transactions'!$G$9:$G$40,$C$266,'ABT Transactions'!$F$9:$F$40,$AS$148,'ABT Transactions'!$C$9:$C$40,AS268,'ABT Transactions'!$D$9:$D$40,$B$158)","v":0},{"$f":"SUMIFS('ABT Transactions'!$B$9:$B$40,'ABT Transactions'!$G$9:$G$40,$C$266,'ABT Transactions'!$F$9:$F$40,$AS$148,'ABT Transactions'!$C$9:$C$40,AT268,'ABT Transactions'!$D$9:$D$40,$B$158)","v":0},{"$f":"SUMIFS('ABT Transactions'!$B$9:$B$40,'ABT Transactions'!$G$9:$G$40,$C$266,'ABT Transactions'!$F$9:$F$40,$AS$148,'ABT Transactions'!$C$9:$C$40,AU268,'ABT Transactions'!$D$9:$D$40,$B$158)","v":0}]
[null,"Expired Credits",{"$f":"SUMIFS('ABT Transactions'!$B$9:$B$40,'ABT Transactions'!$G$9:$G$40,$C$266,'ABT Transactions'!$F$9:$F$40,$C$148,'ABT Transactions'!$C$9:$C$40,C268,'ABT Transactions'!$D$9:$D$40,$B$159)","v":0},{"$f":"SUMIFS('ABT Transactions'!$B$9:$B$40,'ABT Transactions'!$G$9:$G$40,$C$266,'ABT Transactions'!$F$9:$F$40,$C$148,'ABT Transactions'!$C$9:$C$40,D268,'ABT Transactions'!$D$9:$D$40,$B$159)","v":0},{"$f":"SUMIFS('ABT Transactions'!$B$9:$B$40,'ABT Transactions'!$G$9:$G$40,$C$266,'ABT Transactions'!$F$9:$F$40,$C$148,'ABT Transactions'!$C$9:$C$40,E268,'ABT Transactions'!$D$9:$D$40,$B$159)","v":0},{"$f":"SUMIFS('ABT Transactions'!$B$9:$B$40,'ABT Transactions'!$G$9:$G$40,$C$266,'ABT Transactions'!$F$9:$F$40,$F$148,'ABT Transactions'!$C$9:$C$40,F268,'ABT Transactions'!$D$9:$D$40,$B$159)","v":0},{"$f":"SUMIFS('ABT Transactions'!$B$9:$B$40,'ABT Transactions'!$G$9:$G$40,$C$266,'ABT Transactions'!$F$9:$F$40,$F$148,'ABT Transactions'!$C$9:$C$40,G268,'ABT Transactions'!$D$9:$D$40,$B$159)","v":0},{"$f":"SUMIFS('ABT Transactions'!$B$9:$B$40,'ABT Transactions'!$G$9:$G$40,$C$266,'ABT Transactions'!$F$9:$F$40,$F$148,'ABT Transactions'!$C$9:$C$40,H268,'ABT Transactions'!$D$9:$D$40,$B$159)","v":0},{"$f":"SUMIFS('ABT Transactions'!$B$9:$B$40,'ABT Transactions'!$G$9:$G$40,$C$266,'ABT Transactions'!$F$9:$F$40,$I$148,'ABT Transactions'!$C$9:$C$40,I268,'ABT Transactions'!$D$9:$D$40,$B$159)","v":0},{"$f":"SUMIFS('ABT Transactions'!$B$9:$B$40,'ABT Transactions'!$G$9:$G$40,$C$266,'ABT Transactions'!$F$9:$F$40,$I$148,'ABT Transactions'!$C$9:$C$40,J268,'ABT Transactions'!$D$9:$D$40,$B$159)","v":0},{"$f":"SUMIFS('ABT Transactions'!$B$9:$B$40,'ABT Transactions'!$G$9:$G$40,$C$266,'ABT Transactions'!$F$9:$F$40,$I$148,'ABT Transactions'!$C$9:$C$40,K268,'ABT Transactions'!$D$9:$D$40,$B$159)","v":0},{"$f":"SUMIFS('ABT Transactions'!$B$9:$B$40,'ABT Transactions'!$G$9:$G$40,$C$266,'ABT Transactions'!$F$9:$F$40,$L$148,'ABT Transactions'!$C$9:$C$40,L268,'ABT Transactions'!$D$9:$D$40,$B$159)","v":0},{"$f":"SUMIFS('ABT Transactions'!$B$9:$B$40,'ABT Transactions'!$G$9:$G$40,$C$266,'ABT Transactions'!$F$9:$F$40,$L$148,'ABT Transactions'!$C$9:$C$40,M268,'ABT Transactions'!$D$9:$D$40,$B$159)","v":0},{"$f":"SUMIFS('ABT Transactions'!$B$9:$B$40,'ABT Transactions'!$G$9:$G$40,$C$266,'ABT Transactions'!$F$9:$F$40,$L$148,'ABT Transactions'!$C$9:$C$40,N268,'ABT Transactions'!$D$9:$D$40,$B$159)","v":0},{"$f":"SUMIFS('ABT Transactions'!$B$9:$B$40,'ABT Transactions'!$G$9:$G$40,$C$266,'ABT Transactions'!$F$9:$F$40,$O$148,'ABT Transactions'!$C$9:$C$40,O268,'ABT Transactions'!$D$9:$D$40,$B$159)","v":0},{"$f":"SUMIFS('ABT Transactions'!$B$9:$B$40,'ABT Transactions'!$G$9:$G$40,$C$266,'ABT Transactions'!$F$9:$F$40,$O$148,'ABT Transactions'!$C$9:$C$40,P268,'ABT Transactions'!$D$9:$D$40,$B$159)","v":0},{"$f":"SUMIFS('ABT Transactions'!$B$9:$B$40,'ABT Transactions'!$G$9:$G$40,$C$266,'ABT Transactions'!$F$9:$F$40,$O$148,'ABT Transactions'!$C$9:$C$40,Q268,'ABT Transactions'!$D$9:$D$40,$B$159)","v":0},{"$f":"SUMIFS('ABT Transactions'!$B$9:$B$40,'ABT Transactions'!$G$9:$G$40,$C$266,'ABT Transactions'!$F$9:$F$40,$R$148,'ABT Transactions'!$C$9:$C$40,R268,'ABT Transactions'!$D$9:$D$40,$B$159)","v":0},{"$f":"SUMIFS('ABT Transactions'!$B$9:$B$40,'ABT Transactions'!$G$9:$G$40,$C$266,'ABT Transactions'!$F$9:$F$40,$R$148,'ABT Transactions'!$C$9:$C$40,S268,'ABT Transactions'!$D$9:$D$40,$B$159)","v":0},{"$f":"SUMIFS('ABT Transactions'!$B$9:$B$40,'ABT Transactions'!$G$9:$G$40,$C$266,'ABT Transactions'!$F$9:$F$40,$R$148,'ABT Transactions'!$C$9:$C$40,T268,'ABT Transactions'!$D$9:$D$40,$B$159)","v":0},{"$f":"SUMIFS('ABT Transactions'!$B$9:$B$40,'ABT Transactions'!$G$9:$G$40,$C$266,'ABT Transactions'!$F$9:$F$40,$U$148,'ABT Transactions'!$C$9:$C$40,U268,'ABT Transactions'!$D$9:$D$40,$B$159)","v":0},{"$f":"SUMIFS('ABT Transactions'!$B$9:$B$40,'ABT Transactions'!$G$9:$G$40,$C$266,'ABT Transactions'!$F$9:$F$40,$U$148,'ABT Transactions'!$C$9:$C$40,V268,'ABT Transactions'!$D$9:$D$40,$B$159)","v":0},{"$f":"SUMIFS('ABT Transactions'!$B$9:$B$40,'ABT Transactions'!$G$9:$G$40,$C$266,'ABT Transactions'!$F$9:$F$40,U$148,'ABT Transactions'!$C$9:$C$40,W268,'ABT Transactions'!$D$9:$D$40,$B$159)","v":0},{"$f":"SUMIFS('ABT Transactions'!$B$9:$B$40,'ABT Transactions'!$G$9:$G$40,$C$266,'ABT Transactions'!$F$9:$F$40,$X$148,'ABT Transactions'!$C$9:$C$40,X268,'ABT Transactions'!$D$9:$D$40,$B$159)","v":0},{"$f":"SUMIFS('ABT Transactions'!$B$9:$B$40,'ABT Transactions'!$G$9:$G$40,$C$266,'ABT Transactions'!$F$9:$F$40,$X$148,'ABT Transactions'!$C$9:$C$40,Y268,'ABT Transactions'!$D$9:$D$40,$B$159)","v":0},{"$f":"SUMIFS('ABT Transactions'!$B$9:$B$40,'ABT Transactions'!$G$9:$G$40,$C$266,'ABT Transactions'!$F$9:$F$40,$X$148,'ABT Transactions'!$C$9:$C$40,Z268,'ABT Transactions'!$D$9:$D$40,$B$159)","v":0},{"$f":"SUMIFS('ABT Transactions'!$B$9:$B$40,'ABT Transactions'!$G$9:$G$40,$C$266,'ABT Transactions'!$F$9:$F$40,$AA$148,'ABT Transactions'!$C$9:$C$40,AA268,'ABT Transactions'!$D$9:$D$40,$B$159)","v":0},{"$f":"SUMIFS('ABT Transactions'!$B$9:$B$40,'ABT Transactions'!$G$9:$G$40,$C$266,'ABT Transactions'!$F$9:$F$40,$AA$148,'ABT Transactions'!$C$9:$C$40,AB268,'ABT Transactions'!$D$9:$D$40,$B$159)","v":0},{"$f":"SUMIFS('ABT Transactions'!$B$9:$B$40,'ABT Transactions'!$G$9:$G$40,$C$266,'ABT Transactions'!$F$9:$F$40,$AA$148,'ABT Transactions'!$C$9:$C$40,AC268,'ABT Transactions'!$D$9:$D$40,$B$159)","v":0},{"$f":"SUMIFS('ABT Transactions'!$B$9:$B$40,'ABT Transactions'!$G$9:$G$40,$C$266,'ABT Transactions'!$F$9:$F$40,$AD$148,'ABT Transactions'!$C$9:$C$40,AD268,'ABT Transactions'!$D$9:$D$40,$B$159)","v":0},{"$f":"SUMIFS('ABT Transactions'!$B$9:$B$40,'ABT Transactions'!$G$9:$G$40,$C$266,'ABT Transactions'!$F$9:$F$40,$AD$148,'ABT Transactions'!$C$9:$C$40,AE268,'ABT Transactions'!$D$9:$D$40,$B$159)","v":0},{"$f":"SUMIFS('ABT Transactions'!$B$9:$B$40,'ABT Transactions'!$G$9:$G$40,$C$266,'ABT Transactions'!$F$9:$F$40,$AD$148,'ABT Transactions'!$C$9:$C$40,AF268,'ABT Transactions'!$D$9:$D$40,$B$159)","v":0},{"$f":"SUMIFS('ABT Transactions'!$B$9:$B$40,'ABT Transactions'!$G$9:$G$40,$C$266,'ABT Transactions'!$F$9:$F$40,$AG$148,'ABT Transactions'!$C$9:$C$40,AG268,'ABT Transactions'!$D$9:$D$40,$B$159)","v":0},{"$f":"SUMIFS('ABT Transactions'!$B$9:$B$40,'ABT Transactions'!$G$9:$G$40,$C$266,'ABT Transactions'!$F$9:$F$40,$AG$148,'ABT Transactions'!$C$9:$C$40,AH268,'ABT Transactions'!$D$9:$D$40,$B$159)","v":0},{"$f":"SUMIFS('ABT Transactions'!$B$9:$B$40,'ABT Transactions'!$G$9:$G$40,$C$266,'ABT Transactions'!$F$9:$F$40,$AG$148,'ABT Transactions'!$C$9:$C$40,AI268,'ABT Transactions'!$D$9:$D$40,$B$159)","v":0},{"$f":"SUMIFS('ABT Transactions'!$B$9:$B$40,'ABT Transactions'!$G$9:$G$40,$C$266,'ABT Transactions'!$F$9:$F$40,$AJ$148,'ABT Transactions'!$C$9:$C$40,AJ268,'ABT Transactions'!$D$9:$D$40,$B$159)","v":0},{"$f":"SUMIFS('ABT Transactions'!$B$9:$B$40,'ABT Transactions'!$G$9:$G$40,$C$266,'ABT Transactions'!$F$9:$F$40,$AJ$148,'ABT Transactions'!$C$9:$C$40,AK268,'ABT Transactions'!$D$9:$D$40,$B$159)","v":0},{"$f":"SUMIFS('ABT Transactions'!$B$9:$B$40,'ABT Transactions'!$G$9:$G$40,$C$266,'ABT Transactions'!$F$9:$F$40,$AJ$148,'ABT Transactions'!$C$9:$C$40,AL268,'ABT Transactions'!$D$9:$D$40,$B$159)","v":0},{"$f":"SUMIFS('ABT Transactions'!$B$9:$B$40,'ABT Transactions'!$G$9:$G$40,$C$266,'ABT Transactions'!$F$9:$F$40,$AM$148,'ABT Transactions'!$C$9:$C$40,AM268,'ABT Transactions'!$D$9:$D$40,$B$159)","v":0},{"$f":"SUMIFS('ABT Transactions'!$B$9:$B$40,'ABT Transactions'!$G$9:$G$40,$C$266,'ABT Transactions'!$F$9:$F$40,$AM$148,'ABT Transactions'!$C$9:$C$40,AN268,'ABT Transactions'!$D$9:$D$40,$B$159)","v":0},{"$f":"SUMIFS('ABT Transactions'!$B$9:$B$40,'ABT Transactions'!$G$9:$G$40,$C$266,'ABT Transactions'!$F$9:$F$40,$AM$148,'ABT Transactions'!$C$9:$C$40,AO268,'ABT Transactions'!$D$9:$D$40,$B$159)","v":0},{"$f":"SUMIFS('ABT Transactions'!$B$9:$B$40,'ABT Transactions'!$G$9:$G$40,$C$266,'ABT Transactions'!$F$9:$F$40,$AP$148,'ABT Transactions'!$C$9:$C$40,AP268,'ABT Transactions'!$D$9:$D$40,$B$159)","v":0},{"$f":"SUMIFS('ABT Transactions'!$B$9:$B$40,'ABT Transactions'!$G$9:$G$40,$C$266,'ABT Transactions'!$F$9:$F$40,$AP$148,'ABT Transactions'!$C$9:$C$40,AQ268,'ABT Transactions'!$D$9:$D$40,$B$159)","v":0},{"$f":"SUMIFS('ABT Transactions'!$B$9:$B$40,'ABT Transactions'!$G$9:$G$40,$C$266,'ABT Transactions'!$F$9:$F$40,$AP$148,'ABT Transactions'!$C$9:$C$40,AR268,'ABT Transactions'!$D$9:$D$40,$B$159)","v":0},{"$f":"SUMIFS('ABT Transactions'!$B$9:$B$40,'ABT Transactions'!$G$9:$G$40,$C$266,'ABT Transactions'!$F$9:$F$40,$AS$148,'ABT Transactions'!$C$9:$C$40,AS268,'ABT Transactions'!$D$9:$D$40,$B$159)","v":0},{"$f":"SUMIFS('ABT Transactions'!$B$9:$B$40,'ABT Transactions'!$G$9:$G$40,$C$266,'ABT Transactions'!$F$9:$F$40,$AS$148,'ABT Transactions'!$C$9:$C$40,AT268,'ABT Transactions'!$D$9:$D$40,$B$159)","v":0},{"$f":"SUMIFS('ABT Transactions'!$B$9:$B$40,'ABT Transactions'!$G$9:$G$40,$C$266,'ABT Transactions'!$F$9:$F$40,$AS$148,'ABT Transactions'!$C$9:$C$40,AU268,'ABT Transactions'!$D$9:$D$40,$B$159)","v":0}]
[null,"Final Credit Balance",{"$f":"(C269+C270+C272+C274+C276+C277+C278)-(C271+C273+C275)","v":0},{"$f":"(D269+D270+D272+D274+D276+D277+D278)-(D271+D273+D275)","v":0},{"$f":"(E269+E270+E272+E274+E276+E277+E278)-(E271+E273+E275)","v":0},{"$f":"(F269+F270+F272+F274+F276+F277+F278)-(F271+F273+F275)","v":0},{"$f":"(G269+G270+G272+G274+G276+G277+G278)-(G271+G273+G275)","v":0},{"$f":"(H269+H270+H272+H274+H276+H277+H278)-(H271+H273+H275)","v":0},{"$f":"(I269+I270+I272+I274+I276+I277+I278)-(I271+I273+I275)","v":0},{"$f":"(J269+J270+J272+J274+J276+J277+J278)-(J271+J273+J275)","v":0},{"$f":"(K269+K270+K272+K274+K276+K277+K278)-(K271+K273+K275)","v":0},{"$f":"(L269+L270+L272+L274+L276+L277+L278)-(L271+L273+L275)","v":0},{"$f":"(M269+M270+M272+M274+M276+M277+M278)-(M271+M273+M275)","v":0},{"$f":"(N269+N270+N272+N274+N276+N277+N278)-(N271+N273+N275)","v":0},{"$f":"(O269+O270+O272+O274+O276+O277+O278)-(O271+O273+O275)","v":0},{"$f":"(P269+P270+P272+P274+P276+P277+P278)-(P271+P273+P275)","v":0},{"$f":"(Q269+Q270+Q272+Q274+Q276+Q277+Q278)-(Q271+Q273+Q275)","v":0},{"$f":"(R269+R270+R272+R274+R276+R277+R278)-(R271+R273+R275)","v":0},{"$f":"(S269+S270+S272+S274+S276+S277+S278)-(S271+S273+S275)","v":0},{"$f":"(T269+T270+T272+T274+T276+T277+T278)-(T271+T273+T275)","v":0},{"$f":"(U269+U270+U272+U274+U276+U277+U278)-(U271+U273+U275)","v":0},{"$f":"(V269+V270+V272+V274+V276+V277+V278)-(V271+V273+V275)","v":0},{"$f":"(W269+W270+W272+W274+W276+W277+W278)-(W271+W273+W275)","v":0},{"$f":"(X269+X270+X272+X274+X276+X277+X278)-(X271+X273+X275)","v":0},{"$f":"(Y269+Y270+Y272+Y274+Y276+Y277+Y278)-(Y271+Y273+Y275)","v":0},{"$f":"(Z269+Z270+Z272+Z274+Z276+Z277+Z278)-(Z271+Z273+Z275)","v":0},{"$f":"(AA269+AA270+AA272+AA274+AA276+AA277+AA278)-(AA271+AA273+AA275)","v":0},{"$f":"(AB269+AB270+AB272+AB274+AB276+AB277+AB278)-(AB271+AB273+AB275)","v":0},{"$f":"(AC269+AC270+AC272+AC274+AC276+AC277+AC278)-(AC271+AC273+AC275)","v":0},{"$f":"(AD269+AD270+AD272+AD274+AD276+AD277+AD278)-(AD271+AD273+AD275)","v":0},{"$f":"(AE269+AE270+AE272+AE274+AE276+AE277+AE278)-(AE271+AE273+AE275)","v":0},{"$f":"(AF269+AF270+AF272+AF274+AF276+AF277+AF278)-(AF271+AF273+AF275)","v":0},{"$f":"(AG269+AG270+AG272+AG274+AG276+AG277+AG278)-(AG271+AG273+AG275)","v":0},{"$f":"(AH269+AH270+AH272+AH274+AH276+AH277+AH278)-(AH271+AH273+AH275)","v":0},{"$f":"(AI269+AI270+AI272+AI274+AI276+AI277+AI278)-(AI271+AI273+AI275)","v":0},{"$f":"(AJ269+AJ270+AJ272+AJ274+AJ276+AJ277+AJ278)-(AJ271+AJ273+AJ275)","v":0},{"$f":"(AK269+AK270+AK272+AK274+AK276+AK277+AK278)-(AK271+AK273+AK275)","v":0},{"$f":"(AL269+AL270+AL272+AL274+AL276+AL277+AL278)-(AL271+AL273+AL275)","v":0},{"$f":"(AM269+AM270+AM272+AM274+AM276+AM277+AM278)-(AM271+AM273+AM275)","v":0},{"$f":"(AN269+AN270+AN272+AN274+AN276+AN277+AN278)-(AN271+AN273+AN275)","v":0},{"$f":"(AO269+AO270+AO272+AO274+AO276+AO277+AO278)-(AO271+AO273+AO275)","v":0},{"$f":"(AP269+AP270+AP272+AP274+AP276+AP277+AP278)-(AP271+AP273+AP275)","v":0},{"$f":"(AQ269+AQ270+AQ272+AQ274+AQ276+AQ277+AQ278)-(AQ271+AQ273+AQ275)","v":0},{"$f":"(AR269+AR270+AR272+AR274+AR276+AR277+AR278)-(AR271+AR273+AR275)","v":0},{"$f":"(AS269+AS270+AS272+AS274+AS276+AS277+AS278)-(AS271+AS273+AS275)","v":0},{"$f":"(AT269+AT270+AT272+AT274+AT276+AT277+AT278)-(AT271+AT273+AT275)","v":0},{"$f":"(AU269+AU270+AU272+AU274+AU276+AU277+AU278)-(AU271+AU273+AU275)","v":0}]
[null,"Averaging Set Credit Balance",{"$f":"SUM(C279:E279)","v":0},null,null,{"$f":"SUM(F279:H279)","v":0},null,null,{"$f":"SUM(I279:K279)","v":0},null,null,{"$f":"SUM(L279:N279)","v":0},null,null,{"$f":"SUM(O279:Q279)","v":0},null,null,{"$f":"SUM(R279:T279)","v":0},null,null,{"$f":"SUM(U279:W279)","v":0},null,null,{"$f":"SUM(X279:Z279)","v":0},null,null,{"$f":"SUM(AA279:AC279)","v":0},null,null,{"$f":"SUM(AD279:AF279)","v":0},null,null,{"$f":"SUM(AG279:AI279)","v":0},null,null,{"$f":"SUM(AJ279:AL279)","v":0},null,null,{"$f":"SUM(AM279:AO279)","v":0},null,null,{"$f":"SUM(AP279:AR279)","v":0},null,null,{"$f":"SUM(AS279:AU279)","v":0}]

{"sheet":"Supporting","index":5,"n_rows":52,"n_cols":12,"rows_kept":52,"cut":false,"hidden":false,"merged":[[0,0,0,12]]}
[{"$f":"Header","v":"United States\nDepartment of Transportation\nNational Highway Traffic Safety Administration\nMDHD Credit Plan and Transaction Template\n\nManufacturer Averaging, Banking, and Trading Report for Heavy-Duty Engines (49 CFR Part 535)\nLast Revision: June 2024    Version Number 2.1"}]
[]
[null,"Model Year",null,"Averaging Set",null,"Credit Type",null,"Transaction Type",null,"Regulatory Subcategory",null,"Manufacturer"]
[null,"(select Model Year)",null,"(Select Averaging Set)",null,"(Select Credit Type)",null,"(select Transaction Type)",null,"(Select Regulatory Subcategory)",null,"(Select Manufacturer)"]
[null,2013,null,"HD PUV",null,"Conventional Credit",null,"Trade In",null,"CI LHD Vocational - Urban",null,"Agility Fuel Systems"]
[null,2014,null,"LHDV (Cl 2b-5)",null,"Innovative Technology Credit",null,"Trade Out",null,"CI LHD Vocational - Multipurpose",null,"Alexander Dennis Limited"]
[null,2015,null,"MHDV (Cl 6-7)",null,"Advanced Technology Credit",null,"Transfer ADV Credits (in)",null,"CI LHD Vocational - Regional",null,"ARBOC Specialty Vehicles LLC"]
[null,2016,null,"HHDV (Cl 8)",null,null,null,"Transfer ADV Credits (out)",null,"SI LHD Vocational - Urban",null,"Autocar Company Inc."]
[null,2017,null,"CI - LHDE (Cl 2b-5)",null,"Credit Status",null,"Applied Banked Credits (in)",null,"SI LHD Vocational - Multipurpose",null,"Battle Motors"]
[null,2018,null,"CI - MHDE (Cl 6-7)",null,"(Select Credit Status)",null,"Applied Banked Credits (out)",null,"SI LHD Vocational - Regional",null,"Blue Bird Body Company"]
[null,2019,null,"CI - HHDE (Cl 8)",null,"Earned Credits",null,"Retired Credits",null,"CI MHD Vocational - Urban",null,"BYD Motors"]
[null,2020,null,"SI - HDE (Cl 2b-8)",null,"Projected Credits",null,"Expired Credits",null,"CI MHD Vocational - Multipurpose",null,"Capacity of Texas Inc."]
[null,2021,null,"Coach Bus",null,null,null,"Fine Payment(s)",null,"CI MHD Vocational - Regional",null,"Chanje Energy, Inc."]
[null,2022,null,"Motor Home",null,null,null,null,null,"SI MHD Vocational - Urban",null,"Cummins Inc."]
[null,2023,null,"School Bus",null,"Conventional Credit / Innovative Technology Credit",null,"Advanced Technology Credit",null,"SI MHD Vocational - Multipurpose",null,"Daimler Trucks North America"]
[null,2024,null,"Other bus",null,"(select Transaction Type)",null,"(select Transaction Type)",null,"SI MHD Vocational - Regional",null,"Dennis Eagle Inc"]
[null,2025,null,"Refuse hauler",null,"Trade In",null,"Trade In",null,"CI HHD Vocational - Urban",null,"Detroit Diesel Corporation"]
[null,2026,null,"Concrete mixer",null,"Trade Out",null,"Trade Out",null,"CI HHD Vocational - Multipurpose",null,"Eldorado National-California Inc."]
[null,2027,null,"Mixed-use vehicle",null,"Applied Banked Credits (in)",null,"Transfer ADV Credits (in)",null,"CI HHD Vocational - Regional",null,"E-ONE, INC."]
[null,2028,null,"Emergency Vehicle",null,"Retired Credits",null,"Retired Credits",null,"CI Class 7 Vocational Tractor - Urban",null,"EvoBus GmbH"]
[null,2029,null,null,null,"Expired Credits",null,"Expired Credits",null,"CI Class 7 Vocational Tractor - Multipurpose",null,"Ferrara Fire Apparatus, Inc."]
[null,2030,null,null,null,"Fine Payment(s)",null,"Fine Payment(s)",null,"CI Class 7 Vocational Tractor - Regional",null,"Fiat Chrysler"]
[null,2031,null,null,null,null,null,null,null,"Class 8 Vocational Tractor - Urban",null,"Ford"]
[null,2032,null,null,null,null,null,null,null,"Class 8 Vocational Tractor - Multipurpose",null,"FPT Industrial S.p.A."]
[null,2033,null,null,null,null,null,null,null,"Class 8 Vocational Tractor - Regional",null,"General Motors"]
[null,2034,null,null,null,null,null,null,null,"Class 7 Tractor All Cabs Low-Roof",null,"GILLIG LLC"]
[null,2035,null,null,null,null,null,null,null,"Class 7 Tractor All Cabs Mid-Roof",null,"Hino Motors Manufacturing U.S.A., Inc."]
[null,2036,null,null,null,null,null,null,null,"Class 7 Tractor All Cabs High-Roof",null,"Hino Motors, Ltd"]
[null,2037,null,null,null,null,null,null,null,"Class 8 Tractor Day Cab Low-Roof",null,"Isuzu"]
[null,2038,null,null,null,null,null,null,null,"Class 8 Tractor Day Cab Mid-Roof",null,"Kalmar Solutions LLC"]
[null,2039,null,null,null,null,null,null,null,"Class 8 Tractor Day Cab High-Roof",null,"Kovatch Mobile Equipment Corporation"]
[null,2040,null,null,null,null,null,null,null,"Class 8 Tractor Sleeper Cab Low-Roof",null,"Mitsubishi Fuso Truck of America, Inc."]
[null,2041,null,null,null,null,null,null,null,"Class 8 Tractor Sleeper Cab Mid-Roof",null,"Motor Coach Industries"]
[null,2042,null,null,null,null,null,null,null,"Class 8 Tractor Sleeper Cab High-Roof",null,"Navistar, Inc."]
[null,2043,null,null,null,null,null,null,null,"Heavy-Haul All Cabs (Part 1037.106)",null,"New Flyer of America Inc."]
[null,2044,null,null,null,null,null,null,null,"Coach Bus",null,"Nikola Corp"]
[null,2045,null,null,null,null,null,null,null,"Motor Home",null,"Oshkosh Corporation"]
[null,null,null,null,null,null,null,null,null,"School Bus",null,"PACCAR Inc"]
[null,null,null,null,null,null,null,null,null,"Transit and other bus",null,"Power Solutions"]
[null,null,null,null,null,null,null,null,null,"Refuse hauler",null,"Proterra Operating Company, Inc."]
[null,null,null,null,null,null,null,null,null,"Concrete mixer",null,"REV Coach"]
[null,null,null,null,null,null,null,null,null,"Mixed-use vehicle",null,"Rosenbauer"]
[null,null,null,null,null,null,null,null,null,"Emergency Vehicle",null,"Roush"]
[null,null,null,null,null,null,null,null,null,"CI - LHDE (Cl 2b-5)",null,"SEA Electric"]
[null,null,null,null,null,null,null,null,null,"CI - MHDE (Cl 6-7)",null,"Spartan Fire"]
[null,null,null,null,null,null,null,null,null,"CI - HHDE (Cl 8)",null,"Terex Corporation"]
[null,null,null,null,null,null,null,null,null,"SI HDE",null,"Tiffin Motor Homes, Inc."]
[null,null,null,null,null,null,null,null,null,null,null,"Van Hool N.V."]
[null,null,null,null,null,null,null,null,null,null,null,"Vicinity Motor (Bus) Corp"]
[null,null,null,null,null,null,null,null,null,null,null,"Volvo Powertrain North America"]
[null,null,null,null,null,null,null,null,null,null,null,"Xos (formerly Thor Trucks)"]
[null,null,null,null,null,null,null,null,null,null,null,"Zeus Electric Chassis, Inc"]